{"text_format":"1","workbook":"xlsx","n_sheets":13,"sheets":["Important Fixtures","WARNING","Terms & Conditions","3rd Party Release Form","Customer Information","Project Information","Project  Summary","Fixture Legend","Help","Factors","CWT","Tool Information","Log"],"not_rendered":{"charts":3,"images":13,"macros":1,"external_links":0,"defined_names":67,"comments":2,"pivot_tables":0},"unopened":[],"bounds":{"document_bytes":16777216,"sheet_cells":100000,"rows_first":2000,"rows_last":500,"rows_between":2000,"halvings":0,"cell_chars":16384,"cell_head_chars":4096},"cells_cut":0,"cells_raw":0,"read":"whole","date_system":"1900"}

{"sheet":"Important Fixtures","index":0,"n_rows":102,"n_cols":9,"rows_kept":102,"cut":false,"hidden":true,"merged":[]}
[null,null,null,{"$f":"COUNTIFS(B:B,C1)","v":0},"Total Fixtures Over Program Life","% of Total Program Usage"," ","Fixture Type","Iterations"]
["FCEPWP-26W","FCEPWP","FCEPWP",{"$f":"COUNTIFS(B:B,C2)","v":1},2498,8.2286632869194559E-3,null,"FLT8",13]
["FCM-13W","FCM","",null,1156,3.8079802881020382E-3,null,"LEDIDL",11]
["FCM-14W","FCM","",null,724,2.3849288309566396E-3,null,"FLT12",10]
["FCM-20W","FCM","FCM",{"$f":"COUNTIFS(B:B,C5)","v":5},1830,6.0282040892964787E-3,null,"ICMB",9]
["FCM-23W","FCM","",null,1024,3.3731590095298332E-3,null,"ICH",7]
["FCM-27W","FCM","",null,396,1.3044638357166151E-3,null,"LEDISI",7]
["FCMG-150W","FCMG","FCMG",{"$f":"COUNTIFS(B:B,C8)","v":1},502,1.6536384988124768E-3,null,"LEDIHB",6]
["FCP-26W x 2L","FCP","",null,1236,4.0715083357215562E-3,null,"FCM",5]
["FCP-32W","FCP","",null,1725,5.6823235267958617E-3,null,"FCP",5]
["FCP-40W x 2L","FCP","FCP",{"$f":"COUNTIFS(B:B,C11)","v":5},7884,2.597068909290352E-2,null,"MH",5]
["FCP-40W x 3L","FCP","",null,454,1.4955216702407658E-3,null,"FLT8CEE",3]
["FCP-42W","FCP","",null,2818,9.2827754773975295E-3,null,"FLT12HO",2]
["FLT12-34W x 2L x 4'","FLT12","",null,4670,1.5383449779789376E-2,null,"FUT12",2]
["FLT12-34W x 3L x 4'","FLT12","",null,885,2.91527902679092E-3,null,"FCEPWP",1]
["FLT12-34W x 4'","FLT12","",null,394,1.2978756345261272E-3,null,"FCMG",1]
["FLT12-34W x 4L x 4'","FLT12","",null,5400,1.778814321431748E-2,null,"FLT12VHO",1]
["FLT12-40W x 2L x 4'","FLT12","",null,6396,2.1069067407180481E-2,null,"FLT5",1]
["FLT12-40W x 3L x 4'","FLT12","",null,295,9.7175967559697343E-4,null,"FLT5HO",1]
["FLT12-40W x 4L x 4'","FLT12","",null,5469,1.8015436155389312E-2,null,"FLT8CEEHB",1]
["FLT12-60W x 2L x 8'","FLT12","",null,4403,1.4503924920859234E-2,null,"FUT8",1]
["FLT12-75W x 2L x 8'","FLT12","FLT12",{"$f":"COUNTIFS(B:B,C22)","v":10},13900,4.5787998273891288E-2,null,"ICHLV",1]
["FLT12-75W x 8'","FLT12","",null,385,1.2682287291689313E-3,null,"INE",1]
["FLT12HO-110W x 2L x 8'","FLT12HO","FLT12HO",{"$f":"COUNTIFS(B:B,C24)","v":2},414,1.3637576464310068E-3,null,"INERB",1]
["FLT12HO-95W x 2L x 8'","FLT12HO","",null,369,1.2155231196450276E-3,null,"LEDEPM",1]
["FLT12VHO-110W x 2L x 4'","FLT12VHO","FLT12VHO",{"$f":"COUNTIFS(B:B,C26)","v":1},405,1.3341107410738109E-3,null,"LEDIE",1]
["FLT5-28W x 2L x 4'","FLT5","FLT5",{"$f":"COUNTIFS(B:B,C27)","v":1},4196,1.3822046097643729E-2,null,"LEDIGU24",1]
["FLT5HO-54W x 6L x 4'","FLT5HO","FLT5HO",{"$f":"COUNTIFS(B:B,C28)","v":1},3322,1.0943002177400494E-2,null,"LEDIPG",1]
["FLT8-25W x 2L x 4'","FLT8","",null,604,1.9896367595273624E-3,null,"LEDIWP",1]
["FLT8-25W x 4L x 4'","FLT8","",null,382,1.2583464273831994E-3,null,"MHPS",1]
["FLT8-28W x 2L x 4'","FLT8","",null,7424,2.4455402819091289E-2]
["FLT8-28W x 3L x 4'","FLT8","",null,2849,9.3848925958500921E-3]
["FLT8-28W x 4'","FLT8","",null,3578,1.1786291929782951E-2]
["FLT8-28W x 4L x 4'","FLT8","",null,14162,4.6651052629845209E-2]
["FLT8-32W x 2L x 4'","FLT8","FLT8",{"$f":"COUNTIFS(B:B,C35)","v":13},24087,7.9345001037641694E-2]
["FLT8-32W x 3L x 4'","FLT8","",null,14016,4.6170113942939586E-2]
["FLT8-32W x 4'","FLT8","",null,4697,1.5472390495860962E-2]
["FLT8-32W x 4L x 4'","FLT8","",null,21156,6.9689992192981595E-2]
["FLT8-32W x 6L x 4'","FLT8","",null,298,9.8164197738270526E-4]
["FLT8-32W x 8L x 4'","FLT8","",null,438,1.4428160607168621E-3]
["FLT8-59W x 2L x 8'","FLT8","",null,2374,7.8201948131092023E-3]
["FLT8CEE-28W x 4L x 4'","FLT8CEE","",null,297,9.7834787678746128E-4]
["FLT8CEE-32W x 3L x 4'","FLT8CEE","",null,300,9.8823017857319322E-4]
["FLT8CEE-32W x 4L x 4'","FLT8CEE","FLT8CEE",{"$f":"COUNTIFS(B:B,C44)","v":3},382,1.2583464273831994E-3]
["FLT8CEEHB-28W x 6L x 4'","FLT8CEEHB","FLT8CEEHB",{"$f":"COUNTIFS(B:B,C45)","v":1},326,1.0738767940495367E-3]
["FUT12-34W x 2L x 2'","FUT12","FUT12",{"$f":"COUNTIFS(B:B,C46)","v":2},664,2.1872827952420012E-3]
["FUT12-40W x 2L","FUT12","",null,365,1.2023467172640517E-3]
["FUT8-32W x 2L x 2'","FUT8","FUT8",{"$f":"COUNTIFS(B:B,C48)","v":1},3641,1.1993820267283323E-2]
["ICH-100W","ICH","",null,297,9.7834787678746128E-4]
["ICH-250W","ICH","",null,412,1.3571694452405188E-3]
["ICH-35W","ICH","",null,724,2.3849288309566396E-3]
["ICH-50W","ICH","",null,1660,5.468206988105003E-3]
["ICH-60W","ICH","",null,1023,3.3698649089345892E-3]
["ICH-75W","ICH","",null,2034,6.7002006107262507E-3]
["ICH-90W","ICH","ICH",{"$f":"COUNTIFS(B:B,C55)","v":7},2330,7.675254386918468E-3]
["ICHLV-50W","ICHLV","ICHLV",{"$f":"COUNTIFS(B:B,C56)","v":1},345,1.1364647053591723E-3]
["ICMB-100W","ICMB","",null,2322,7.6489015821565162E-3]
["ICMB-150W","ICMB","",null,938,3.0898663583388509E-3]
["ICMB-25W","ICMB","",null,352,1.1595234095258802E-3]
["ICMB-40W","ICMB","",null,3656,1.2043231776211982E-2]
["ICMB-50W","ICMB","",null,552,1.8183435285746756E-3]
["ICMB-60W","ICMB","",null,8946,2.9469023925052622E-2]
["ICMB-65W","ICMB","ICMB",{"$f":"COUNTIFS(B:B,C63)","v":9},11026,3.6320753163160094E-2]
["ICMB-75W","ICMB","",null,5392,1.7761790409555528E-2]
["ICMB-80W","ICMB","",null,409,1.3472871434547869E-3]
["INE-11W","INE","INE",{"$f":"COUNTIFS(B:B,C66)","v":1},362,1.1924644154783198E-3]
["INERB-300W","INERB","INERB",{"$f":"COUNTIFS(B:B,C67)","v":1},521,1.7162264101221122E-3]
["LEDEPM-60W","LEDEPM","LEDEPM",{"$f":"COUNTIFS(B:B,C68)","v":1},341,1.1232883029781964E-3]
["LEDIDL-10W","LEDIDL","LEDIDL",{"$f":"COUNTIFS(B:B,C69)","v":11},12268,4.0412026102453119E-2]
["LEDIDL-11W","LEDIDL","",null,2225,7.3293738244178501E-3]
["LEDIDL-12W","LEDIDL","",null,592,1.9501075523844348E-3]
["LEDIDL-13W","LEDIDL","",null,359,1.1825821136925878E-3]
["LEDIDL-14W","LEDIDL","",null,6917,2.2785293817302592E-2]
["LEDIDL-18W","LEDIDL","",null,1879,6.1896150184634338E-3]
["LEDIDL-20W","LEDIDL","",null,3108,1.0238064650018282E-2]
["LEDIDL-35W","LEDIDL","",null,2942,9.6912439512077814E-3]
["LEDIDL-36W","LEDIDL","",null,4191,1.380557559466751E-2]
["LEDIDL-54W","LEDIDL","",null,2005,6.6046716934641753E-3]
["LEDIDL-6W","LEDIDL","",null,599,1.9731662565511425E-3]
["LEDIE-3W","LEDIE","LEDIE",{"$f":"COUNTIFS(B:B,C80)","v":1},672,2.213635600003953E-3]
["LEDIGU24-5W","LEDIGU24","LEDIGU24",{"$f":"COUNTIFS(B:B,C81)","v":1},753,2.480457748218715E-3]
["LEDIHB-15W","LEDIHB","",null,333,1.0969354982162446E-3]
["LEDIHB-15W x 2L","LEDIHB","LEDIHB",{"$f":"COUNTIFS(B:B,C83)","v":6},2066,6.8056118297740572E-3]
["LEDIHB-15W x 3L","LEDIHB","",null,899,2.9613964351243357E-3]
["LEDIHB-15W x 4L","LEDIHB","",null,1820,5.9952630833440389E-3]
["LEDIHB-18W x 2L","LEDIHB","",null,1602,5.2771491535808521E-3]
["LEDIHB-18W x 3L","LEDIHB","",null,836,2.7538680976239654E-3]
["LEDIPG-72W","LEDIPG","LEDIPG",{"$f":"COUNTIFS(B:B,C88)","v":1},1683,5.5439713017956145E-3]
["LEDISI-13W","LEDISI","",null,1888,6.2192619238206296E-3]
["LEDISI-15W","LEDISI","LEDISI",{"$f":"COUNTIFS(B:B,C90)","v":7},3532,1.1634763302401728E-2]
["LEDISI-18W","LEDISI","",null,944,3.1096309619103148E-3]
["LEDISI-19W","LEDISI","",null,940,3.0964545595293389E-3]
["LEDISI-4W","LEDISI","",null,773,2.5463397601235946E-3]
["LEDISI-6W","LEDISI","",null,1793,5.9063223672724515E-3]
["LEDISI-8W","LEDISI","",null,1603,5.2804432541760961E-3]
["LEDIWP-2W","LEDIWP","LEDIWP",{"$f":"COUNTIFS(B:B,C96)","v":1},362,1.1924644154783198E-3]
["MH-1000W","MH","",null,535,1.7623438184555279E-3]
["MH-100W","MH","",null,345,1.1364647053591723E-3]
["MH-175W","MH","MH",{"$f":"COUNTIFS(B:B,C99)","v":5},2108,6.9439640547743044E-3]
["MH-250W","MH","",null,816,2.6879860857190858E-3]
["MH-400W","MH","",null,1950,6.4234961607257564E-3]
["MHPS-400W-LR","MHPS","MHPS",{"$f":"COUNTIFS(B:B,C102)","v":1},1342,4.4206829988174181E-3]

{"sheet":"WARNING","index":1,"n_rows":24,"n_cols":5,"rows_kept":24,"cut":false,"hidden":true,"merged":[[0,0,0,2],[1,0,4,0]]}
["You must enable macros."]
["If you just opened this workbook, you must enable macros and re-open this file.",null,"If you just saved this workbook, click here to continue."]
[null,null,"3rd Party Release Form"]
[]
[]
[]
[]
[]
[]
[]
[]
[]
[]
[]
[]
[]
[]
[]
[]
[]
[]
[]
[]
[null,null,null,"yyy","hh"]

{"sheet":"Terms & Conditions","index":2,"n_rows":0,"n_cols":0,"rows_kept":0,"cut":false,"hidden":false,"merged":[]}

{"sheet":"3rd Party Release Form","index":3,"n_rows":0,"n_cols":0,"rows_kept":0,"cut":false,"hidden":false,"merged":[]}

{"sheet":"Customer Information","index":4,"n_rows":42,"n_cols":31,"rows_kept":42,"cut":false,"hidden":false,"merged":[[20,8,20,11],[13,4,13,6],[14,3,14,4],[12,3,12,4],[14,12,15,13],[18,8,19,11],[17,8,17,13],[16,12,16,13],[16,10,16,11],[16,8,16,9],[17,2,17,6],[15,5,15,6],[12,8,12,10],[12,11,12,13],[15,8,15,9],[14,8,14,9],[13,8,13,13],[15,10,15,11],[14,10,14,11],[29,3,29,4],[18,3,18,6],[26,3,26,6],[16,5,16,6],[22,4,22,6],[25,3,25,6],[23,4,23,6],[19,3,19,6],[28,3,28,6],[27,3,27,6],[24,2,24,6],[20,3,20,6],[21,3,21,4],[11,3,11,6],[1,4,1,13],[7,3,7,6],[5,2,5,6],[6,5,6,6],[10,3,10,6],[5,8,5,13],[4,12,4,13],[8,2,8,3],[9,3,9,6],[10,9,10,13],[9,8,9,13],[2,8,2,13],[3,10,3,12],[11,8,11,10],[11,11,11,13],[0,1,0,14],[7,8,7,9],[6,10,6,11],[6,8,6,9],[7,10,7,11]]}
[null,{"$f":"IF(MIN($R$4:$R$19)=MAX($R$4:$R$19),$S$19,OFFSET(S3,MIN($R$4:$R$19)-ROW(S3),0))","v":"Please Enter A Business Name"}]
[null,null,null,null,"Commercial Prescriptive Rebate Program",null,null,null,null,null,null,null,null,null,null,null,null,false,false]
[null,null,null,null,null,null,null,null,"Lighting Savings Calculator",null,null,null,null,null,null,null,null,1,2,{"$f":"IF(ConstType=1,\"R\",\"NC\")","v":"R"}]
[null,null,null,null,null,null,null,null,null,null,"Developed By:"]
[null,null,null,null,null,null,null,null,null,null,null,null,{"$f":"'Tool Information'!C5","v":"10.02.2024"}]
[null,null,"Processing Information",null,null,null,null,null,"Estimated Savings",null,null,null,null,null,null,null,null,{"$f":"IF(D11=\"\",ROW(),\"\")","v":6},"Please Enter A Business Name"]
[null,null,"Project Status",null,"Project No.",null,null,null,"Rebate",null,"Annual Savings",null,"kW",{"$f":"'Project  Summary'!F14","v":0},null,null,null,{"$f":"IF(D12=\"\",ROW(),\"\")","v":7},"Please Enter An Installation Address"]
[null,null,"Coordinator",null,null,null,null,null,{"$f":"'Project  Summary'!O15","v":0},null,{"$f":"'Project  Summary'!F16","v":0},null,"kWh",{"$f":"'Project  Summary'!F15","v":0},null,null,null,{"$f":"IF(D13=\"\",ROW(),\"\")","v":8},"Please Enter An Installation City"]
[null,null,"Project Site Information",null,null,null,null,null,null,null,null,null,null,null,null,null,null,{"$f":"IF(G13=\"\",ROW(),\"\")","v":9},"Please Enter An Installation Zip code"]
[null,null,"Project Name",null,null,null,null,null,"Building Type and Size",null,null,null,null,null,null,null,null,{"$f":"IF(G15=\"\",ROW(),\"\")","v":10},"Please Enter A Rate Schedule"]
[null,null,"Business Name",null,null,null,null,null,"Type",null,null,null,null,null,null,null,null,{"$f":"IF(F16=\"\",ROW(),\"\")","v":11},"Please Enter An Account Number"]
[null,null,"Install Address",null,null,null,null,null,"Total Building SQFT",null,null,null,null,null,null,null,null,{"$f":"IF(F17=\"\",ROW(),\"\")","v":12},"Please Enter A Meter Number"]
[null,null,"City, State, Zip",null,null,null,null,null,"New Construction",null,null,"Retrofit",null,null,null,null,null,{"$f":"IF(J11=\"\",ROW(),\"\")","v":13},"Please Enter The Building Type"]
[null,null,"Contact,  Title",null,null,null,null,null,"Estimated Project Cost",null,null,null,null,null,null,null,null,{"$f":"IF(L12=\"\",ROW(),\"\")","v":14},"Please Enter The Space Type Square Footage"]
[null,null,"Email",null,null,"Rate",null,null,"Material",null,null,null,"Total Project Cost",null,null,null,null,{"$f":"IF((K15=\"\"),ROW(),\"\")","v":15},"Please Enter Estimated Material Costs"]
[null,null,"Phone",null,"Account #",null,null,null,"Labor",null,null,null,null,null,null,null,null,{"$f":"IF((K16=\"\"),ROW(),\"\")","v":16},"Please Enter Estimated Installation Labor Costs"]
[null,null,null,null,"Meter #",null,null,null,"Other",null,null,null,{"$f":"SUM(K15:L17)","v":0},null,null,null,null,{"$f":"IF((K17=\"\"),ROW(),\"\")","v":17},"Please Enter Other Estimated Costs"]
[null,null,"Contractor Information",null,null,null,null,null,"Lighting Operation Schedule",null,null,null,null,null,null,null,null,{"$f":"IF(COUNT($J$30:$N$30)=0,ROW(),\"\")","v":18},"Please Enter At Least One Lighting Operation Schedule"]
[null,null,"Self Install","Is the Contractor a Trade Ally?",null,null,null,null,"Do the Lights Operate During Federal Holidays?",null,null,null,"Yes",null,null,null,null,19,"You Can Now Access The Project Information Tab."]
[null,null,"Contractor Name",null,null,null,null,null,null,null,null,null,"No"]
[null,null,"Address",null,null,null,null,null,"Operation Weeks Per Year"]
[null,null,"City, State, Zip",null,null,null,null,null,null,"A","B","C","D","E"]
[null,null,"Contact, Title",null,null,null,null,null,"Mon"]
[null,null,"Phone, Email",null,null,null,null,null,"Tue"]
[null,null,"Prescriptive Rebate Payee information",null,null,null,null,null,"Wed"]
[null,null,"3rd Party","(Only If Different From Installation Information)",null,null,null,null,"Thu"]
[null,null,"Attention",null,null,null,null,null,"Fri"]
[null,null,"Business Name",null,null,null,null,null,"Sat"]
[null,null,"Address",null,null,null,null,null,"Sun"]
[null,null,"City, State, Zip",null,null,null,null,null,"Annual",{"$f":"IF(OR($M$21=\"\",SUM(J$23:J$29)=0),\"\",SUM(J$23:J$29)*IF($M$21=52,52.14285714,$M$21)*IF($S$3=1,0.9726,1))","v":""},{"$f":"IF(OR($M$21=\"\",SUM(K$23:K$29)=0),\"\",SUM(K$23:K$29)*IF($M$21=52,52.14285714,$M$21)*IF($S$3=1,0.9726,1))","v":""},{"$f":"IF(OR($M$21=\"\",SUM(L$23:L$29)=0),\"\",SUM(L$23:L$29)*IF($M$21=52,52.14285714,$M$21)*IF($S$3=1,0.9726,1))","v":""},{"$f":"IF(OR($M$21=\"\",SUM(M$23:M$29)=0),\"\",SUM(M$23:M$29)*IF($M$21=52,52.14285714,$M$21)*IF($S$3=1,0.9726,1))","v":""},{"$f":"IF(OR($M$21=\"\",SUM(N$23:N$29)=0),\"\",SUM(N$23:N$29)*IF($M$21=52,52.14285714,$M$21)*IF($S$3=1,0.9726,1))","v":""}]
[]
[]
[]
[]
[]
[]
[]
[]
[]
[]
[null,null,null,null,null,null,null,null,null,null,null,null,null,null,null,null,null,null,null,null,null,null,null,null,null,null,null,null,null,null,{"$f":"COUNT(#REF!)","v":0}]
[null,null,null,null,null,null,null,null,null,null,null,null,null,null,null,null,null,null,null,null,null,null,null,null,null,null,null,null,null,null,{"$f":"COUNT(#REF!)","v":0}]

{"sheet":"Project Information","index":5,"n_rows":273,"n_cols":46,"rows_kept":273,"cut":false,"hidden":true,"merged":[[14,34,14,36],[9,18,9,21],[3,1,3,3],[5,15,5,16],[3,7,3,12],[14,24,14,26],[14,27,14,29],[14,30,14,32],[6,30,6,34],[17,7,19,7],[2,1,2,11],[2,12,2,16],[12,1,12,2],[11,1,11,3],[10,15,11,16],[15,4,15,15],[17,9,19,9],[17,10,19,10],[5,3,6,3],[5,1,6,2],[5,4,10,8],[8,1,9,2],[8,3,9,3],[14,38,14,40],[16,1,19,1],[12,15,14,15],[12,4,12,14],[13,4,14,14],[14,1,14,2],[13,1,13,2],[18,14,19,14],[15,1,15,3],[16,2,19,2],[18,3,19,3],[18,11,19,11],[17,4,19,4],[18,8,19,8],[17,13,19,13],[18,5,19,5]]}
[null,null,null,null,null,null,null,null,null,null,null,null,null,null,null,null,null,null,null,null,null,null,null,null,null,null,null,null,null,null,null,null,null,null,null,null,null,null,null,null,null,null,"  "]
[null,null,null,null,null,null,null,null,null,null,null,null,null,null,null,null,null,null,null,null,null,null,null,null,null,null,null,null,null,null,null,null,null,null,"Lamp Wattage"]
[null,{"$f":"'Customer Information'!D10&\" \"&'Customer Information'!$F$7","v":" "},null,null,null,null,null,null,null,null,null,null,{"$f":"'Customer Information'!E2","v":"Commercial Prescriptive Rebate Program"},null,null,null,null,null,null,null,null,null,null,null,null,null,null,null,null,null,null,null,null,null,5]
[null,"Fixture Selection",null,null,null,null,null,null,null,null,null,null,null,null,null,null,null,null,null,null,null,null,null,null,null,null,null,null,null,null,null,null,null,null,"Lamp Qty"]
[null,null,null,null,null,null,null,null,null,null,null,null,null,null,null,null,null,null,null,null,null,null,null,null,null,null,null,null,null,null,null,null,null,null,3]
[null,"Lamp Wattage",null,null,null,null,null,null,null,null,null,null,null,null,null,{"$f":"\"Lighting Calculator \"  & 'Tool Information'!C5","v":"Lighting Calculator 10.02.2024"}]
[]
[]
[null,"Lamp Qty"]
[null,null,null,null,null,null,null,null,null,null,null,null,null,null,null,null,null,null,"Shopping List"]
[null,null,null,null,null,null,null,null,null,null,null,null,null,null,null,null,null,null,1,{"$f":"IF($S11>COUNT($S$22:$S$273),\"\",SUMIF(T$22:T$273,VLOOKUP(SMALL($S$22:$S$273,$S11),$S$22:$T$273,2,0),$F$22:$F$273) & \"  \"& VLOOKUP(SMALL($S$22:$S$273,$S11),$S$22:$T$273,2,0))","v":""},1,{"$f":"IF($U11>COUNT($U$22:$U$273),\"\",SUMIF(V$22:V$273,VLOOKUP(SMALL($U$22:$U$273,$U11),$U$22:$V$273,2,0),$L$22:$L$273) & \"  \"& VLOOKUP(SMALL($U$22:$U$273,$U11),$U$22:$V$273,2,0))","v":""},"A","B","C","D","E","X"]
[null,null,null,null,null,null,null,null,null,null,null,null,null,null,null,null,null,null,2,{"$f":"IF($S12>COUNT($S$22:$S$273),\"\",SUMIF(T$22:T$273,VLOOKUP(SMALL($S$22:$S$273,$S12),$S$22:$T$273,2,0),$F$22:$F$273) & \"   \"& VLOOKUP(SMALL($S$22:$S$273,$S12),$S$22:$T$273,2,0))","v":""},2,{"$f":"IF($S12>COUNT($U$22:$U$273),\"\",SUMIF(V$22:V$273,VLOOKUP(SMALL($U$22:$U$273,$S12),$U$22:$V$273,2,0),$L$22:$L$273) & \"   \"& VLOOKUP(SMALL($U$22:$U$273,$S12),$U$22:$V$273,2,0))","v":""},{"$f":"'Customer Information'!J30","v":""},{"$f":"'Customer Information'!K30","v":""},{"$f":"'Customer Information'!L30","v":""},{"$f":"'Customer Information'!M30","v":""},{"$f":"'Customer Information'!N30","v":""},8760]
[null,"Rebate",null,{"$f":"SUM($AO$17:$AO$18)","v":0},"60W-  NCLED-15W x 4L",null,null,null,null,null,null,null,null,null,null,{"$f":"IF(W19=0,IF(SUM(AB19:AD19)=0,\"Please Enter Lighting Details Below\",IF(D14<0,\"Negative Savings!\",ROUND('Project  Summary'!O15/'Project  Summary'!O14*100,0)&\"% Of Cost Paid By Rebate\")),\"Missing or Incorrect Information On Line \"&W19)","v":"Please Enter Lighting Details Below"},null,null,3,"",3,"",1,2,3,4,5,6,"CUSTOMLPD"]
[null,"kW",null,{"$f":"SUM(AE17:AE18)","v":0},{"$f":"IF(FixActive=\"\",\"\",GetFixtureDescription(FixActive))","v":"60W LED Non Certified"},null,null,null,null,null,null,null,null,null,null,null,null,null,4,"",4,"",{"$f":"IF(W13>COUNT($W$12:$AB$12),\"\",INDEX( $W$11:$AB$11,1,SMALL((( $W$12:$AB$12<>\"\")*($W$13:$AB$13)),COLUMNS($W$14:W$14)+COUNTBLANK( $W$12:$AB$12))))","v":"X"},{"$f":"IF(X13>COUNT($W$12:$AB$12),\"\",INDEX( $W$11:$AB$11,1,SMALL((( $W$12:$AB$12<>\"\")*($W$13:$AB$13)),COLUMNS($W$14:X$14)+COUNTBLANK( $W$12:$AB$12))))","v":""},{"$f":"IF(Y13>COUNT($W$12:$AB$12),\"\",INDEX( $W$11:$AB$11,1,SMALL((( $W$12:$AB$12<>\"\")*($W$13:$AB$13)),COLUMNS($W$14:Y$14)+COUNTBLANK( $W$12:$AB$12))))","v":""},{"$f":"IF(Z13>COUNT($W$12:$AB$12),\"\",INDEX( $W$11:$AB$11,1,SMALL((( $W$12:$AB$12<>\"\")*($W$13:$AB$13)),COLUMNS($W$14:Z$14)+COUNTBLANK( $W$12:$AB$12))))","v":""},{"$f":"IF(AA13>COUNT($W$12:$AB$12),\"\",INDEX( $W$11:$AB$11,1,SMALL((( $W$12:$AB$12<>\"\")*($W$13:$AB$13)),COLUMNS($W$14:AA$14)+COUNTBLANK( $W$12:$AB$12))))","v":""},{"$f":"IF(AB13>COUNT($W$12:$AB$12),\"\",INDEX( $W$11:$AB$11,1,SMALL((( $W$12:$AB$12<>\"\")*($W$13:$AB$13)),COLUMNS($W$14:AB$14)+COUNTBLANK( $W$12:$AB$12))))","v":""},{"$f":"AND(BType=Factors!A3,CType=\"NC\")","v":false}]
[null,"kWh",null,{"$f":"SUM(AF17:AG18)","v":0},null,null,null,null,null,null,null,null,null,null,null,null,null,null,5,"",5,"",{"$f":"AND(Program=\"Direct Install Rebate Program\", OR(Rate= \"GA\",Rate= \"TA\"), CType=\"R\")","v":false},null,"Existing",null,null,"Proposed",null,null,"Savings",null,null,null,"Possible Incentive",null,null,null,"Final Incentives"]
[null,"Preliminary",null,null,null,null,null,null,null,null,null,null,null,null,null,null,null,null,6,"",6,"",{"$f":"ROUNDUP(MAX(MATCH(\"*\",$C$17:$C$273,-1)/27,1),0)","v":1},null,"kW","kWh","kWhCTRL","kW","kWh","kWhCTRL","kW","kWh","kWhCTRL",null,"Lt Incentives","CTRL Incentives","Total Incentives",null,"No Savings","Caps","Incentives"]
[null,{"$f":"B21-2 & \" Lines\"","v":"250 Lines"},"Schedule",{"$f":" COUNTA($C$22:$C$273) &\" Spaces\"","v":"0 Spaces"},"Existing Equipment",null,null,null,null,"Proposed Equipment",null,null,null,null,null,{"$f":"TEXT('Project  Summary'!F16/12,\"$0\")& \" Estimated Monthly Savings\"","v":"$0 Estimated Monthly Savings"},null,null,7,"",7,"",null,"Prescriptive",{"$f":"Y19-Y18","v":0},0,0,0,0,0,{"$f":"Y17-AB17","v":0},{"$f":"Z17-AC17","v":0},0,null,{"$f":"IF(AND(CUSTOMLPD,CType=\"NC\"),AE17*0.1*1000,MAX(0,SUM(AJ22:AJ273)))","v":0},{"$f":"SUM(AN22:AN273)","v":0},{"$f":"AI17+AJ17","v":0},null,{"$f":"IF(AND(CType=\"NC\",AE17<0.1*Y17),0,IF(AND(AF17<0,AG17=0),0,\"\"))","v":""},{"$f":"MIN(200000,Cost*0.5)","v":0},{"$f":"MIN(PCap,AM17,AK17, Cost-AO18)","v":0}]
[null,null,null,null,"Fixture",{"$f":"SUM(F22:F273)","v":0},{"$f":"COUNTA($G$22:$G$273)-COUNTIF(G22:G273,\"Duplicate\")-COUNTIF($G$22:$G$273,\"Int. DL\")-COUNTIF($G$22:$G$273,\"Int. Ceiling\")+SUMIF($G$22:$G$273,\"Int. Ceiling\",$F$22:$F$273)+SUMIF($G$22:$G$273,\"Int. DL\",$F$22:$F$273)","v":0},"Watts Per Fixture",{"$f":"SUM(I22:I273)","v":0},"Fixture","New",{"$f":"SUM(L22:L273)","v":0},{"$f":"COUNTA($M$22:$M$273)-COUNTIF($M$22:$M$273,\"Int. DL\")-COUNTIF($M$22:$M$273,\"Int. Ceiling\")+SUMIF($M$22:$M$273,\"Int. Ceiling\",$L$22:$L$273)+SUMIF($M$22:$M$273,\"Int. DL\",$L$22:$L$273)-COUNTIF($M$22:$M$273,\"Duplicate\")","v":0},"Watts Per Fixture",{"$f":"SUM(O22:O273)","v":0},{"$f":"TEXT('Project  Summary'!U4,\"0.0\") & \" Year Payback\"","v":"0.0 Year Payback"},null,null,8,"",8,"",null,"Direct",{"$f":"SUMPRODUCT(Y$22:Y$273,$AH$22:$AH$273)","v":0},{"$f":"SUMPRODUCT(Z$22:Z$273,$AH$22:$AH$273)","v":0},{"$f":"SUMPRODUCT(AA$22:AA$273,$AL$22:$AL$273)","v":0},{"$f":"SUMPRODUCT(AB$22:AB$273,$AH$22:$AH$273)","v":0},{"$f":"SUMPRODUCT(AC$22:AC$273,$AH$22:$AH$273)","v":0},{"$f":"SUMPRODUCT(AD$22:AD$273,$AL$22:$AL$273)","v":0},0,0,0,null,{"$f":"SUM(AI22:AI273)","v":0},{"$f":"SUM(AM22:AM273)","v":0},{"$f":"SUM(AI18:AJ18)","v":0},null,{"$f":"IF(SUM(AF17:AG18)<=0,0,\"\")","v":0},{"$f":"MIN(10000,Cost)","v":0},{"$f":"MIN(DICap,AK18,AM18)","v":0}]
[null,null,null,"Space Name or Room Number",null,"Qty","Control",null,"Space Wattage",null,null,"Qty","Control",null,"Space Wattage","Blue Cells Indicate Ineligible Wattage",null,null,9,"",9,"",{"$f":"MIN(W22:W273)","v":0},"Total",{"$f":"IF(CUSTOMLPD,SQFT*BaselineLPD/1000,SUM(Y23:Y1020))","v":0},{"$f":"IFERROR(IF(CUSTOMLPD,$Y$19*'Customer Information'!$J$30,SUM(Z22:Z1020)),0)","v":0},{"$f":"IF(CUSTOMLPD,0,SUM(AA22:AA273))","v":0},{"$f":"IF(CUSTOMLPD,SQFT*ProposedLPD/1000,SUM(AB22:AB1020))","v":0},{"$f":"IFERROR(IF(CUSTOMLPD,AB19*'Customer Information'!J30,SUM(AC22:AC1020)),0)","v":0},{"$f":"IF(CUSTOMLPD,0,SUM(AD22:AD273))","v":0},{"$f":"Y19-AB19","v":0},{"$f":"Z19-AC19","v":0},{"$f":"SUM(AG22:AG273)","v":0},null,{"$f":"SUM(AI17:AI18)","v":0},{"$f":"SUM(AJ17:AJ18)","v":0},{"$f":"SUM(AK17:AK18)","v":0},null,null,null,{"$f":"SUM(AO17:AO18)","v":0},"Immediate workaround"]
[null,null,null,null,null,null,"(Optional)",null,null,null,null,null,"(Optional)",null,null,"Line Item Notes",null,null,10,"",10,"","Error","OpHr","kW","kWh","kWhCTRL","kW","kWh","kWhCTRL","kW","kWh","kWhCTRL","% DI","Direct LT $","Prescriptive LT $","Total $","% DI","Direct CTRL $","Prescriptive CTRL $","Total $","Eligible","kW_base","kWh_base","kW_ee","kWh_ee"]
[null,{"$f":"B273+1","v":252}]
[null,{"$f":"ROWS($B$22:B22)-1","v":0},null,null,null,null,null,{"$f":"IF(CType=\"NC\",0,IF($E22=\"\",\"\",WattsPerFixture(E22)))","v":""},{"$f":"IF(CType=\"NC\",IF(OR(O22=\"\",$O$18=0),\"\",O22/$O$18*AllowedWatts),IF(OR(F22=\"\",H22=\"\"),\"\",H22*F22))","v":""},null,null,null,null,{"$f":"IF($J22=\"\",\"\",WattsPerFixture(J22))","v":""},{"$f":"IF(ISERROR(N22),\"\",IF(OR(L22=\"\",N22=\"\",),\"\",L22*N22))","v":""},null,null,null,{"$f":"IF(OR(T22=\"\",COUNTIF($T$21:T22,T22)>1),\"\",ROW())","v":""},{"$f":"IF(E22=\"\",\"\",IF(ISERROR(MID(E22,1,FIND(\"-\",E22,FIND(\"-\",E22)+1)-1)),E22,MID(E22,1,FIND(\"-\",E22,FIND(\"-\",E22)+1)-1)))","v":""},{"$f":"IF(OR(V22=\"\",COUNTIF($V$21:V22,V22)>1),\"\",ROW())","v":""},{"$f":"IF(J22=\"\",\"\",IF(ISERROR(MID(J22,1,FIND(\"-\",J22,FIND(\"-\",J22)+1)-1)),J22,MID(J22,1,FIND(\"-\",J22,FIND(\"-\",J22)+1)-1)))","v":""},{"$f":"IF(OR(I22=0,O22=0,AND(COUNTA($C22)+COUNT($I22,$O22)>0,COUNTA($C22)+COUNT($I22,$O22)<>3),ISERROR(I22),ISERROR(O22),IF(C22<>\"\",ISERROR(MATCH(C22,OpSchedules,0)),)),B22,IF(OR(I22<0,O22<0),B22,\"\"))","v":""},{"$f":"IF(OR($C22=\"\",$W$19=\"\"),0,HLOOKUP($C22,$W$11:$AB$12,2,0))","v":0},{"$f":"IF($I22=\"\",0,$I22/1000)","v":0},{"$f":"$X22*$Y22","v":0},{"$f":"IF(AND(CType=\"R\",G22<>\"\"),-0.31*Z22,0)","v":0},{"$f":"IF($O22=\"\",0,$O22/1000)","v":0},{"$f":"$X22*$AB22","v":0},{"$f":"IF(M22<>\"\",-0.31*AC22,0)","v":0},{"$f":"$Y22-$AB22","v":0},{"$f":"$Z22-$AC22","v":0},{"$f":"AA22-AD22","v":0},{"$f":"IF(AK22=0,\"\",IF(AK22=\"X\",1,PercentDI(AK22)))","v":""},{"$f":"IF(AK22=0,\"\",DIDECODE(AK22))","v":""},{"$f":"IF(AK22=0,\"\",PDECODE(AK22))","v":""},{"$f":"IF(OR(W22<>\"\",AND(Y22=0,AB22=0)),0,LtIncentive(E22,F22,J22,L22,N22,K22,AE22,SUM($AI$21:AI21,$AM$21:AM21),SUM($AJ$21:AJ21,$AN$21:AN21),DIEligibility))","v":0},{"$f":"IF(AO22=0,\"\",PercentDI(AO22))","v":""},{"$f":"IF(AO22=0,\"\",DIDECODE(AO22))","v":""},{"$f":"IF(AO22=0,\"\",PDECODE(AO22))","v":""},{"$f":"IF(OR(W22<>\"\",AC22=0),0,LtCTRLIncentive(M22,L22,O22,G22,F22,E22,J22,SUM($AI$21:AI22,$AM$21:AM21),SUM($AJ$21:AJ22,$AN$21:AN21),DIEligibility))","v":0}]
[null,{"$f":"ROWS($B$22:B23)-1","v":1},null,null,null,null,null,{"$f":"IF(CType=\"NC\",0,IF($E23=\"\",\"\",WattsPerFixture(E23)))","v":""},{"$f":"IF(CType=\"NC\",IF(OR(O23=\"\",$O$18=0),\"\",O23/$O$18*AllowedWatts),IF(OR(F23=\"\",H23=\"\"),\"\",H23*F23))","v":""},null,null,null,null,{"$f":"IF($J23=\"\",\"\",WattsPerFixture(J23))","v":""},{"$f":"IF(ISERROR(N23),\"\",IF(OR(L23=\"\",N23=\"\",),\"\",L23*N23))","v":""},null,null,null,{"$f":"IF(OR(T23=\"\",COUNTIF($T$21:T23,T23)>1),\"\",ROW())","v":""},{"$f":"IF(E23=\"\",\"\",IF(ISERROR(MID(E23,1,FIND(\"-\",E23,FIND(\"-\",E23)+1)-1)),E23,MID(E23,1,FIND(\"-\",E23,FIND(\"-\",E23)+1)-1)))","v":""},{"$f":"IF(OR(V23=\"\",COUNTIF($V$21:V23,V23)>1),\"\",ROW())","v":""},{"$f":"IF(J23=\"\",\"\",IF(ISERROR(MID(J23,1,FIND(\"-\",J23,FIND(\"-\",J23)+1)-1)),J23,MID(J23,1,FIND(\"-\",J23,FIND(\"-\",J23)+1)-1)))","v":""},{"$f":"IF(OR(I23=0,O23=0,AND(COUNTA($C23)+COUNT($I23,$O23)>0,COUNTA($C23)+COUNT($I23,$O23)<>3),ISERROR(I23),ISERROR(O23),IF(C23<>\"\",ISERROR(MATCH(C23,OpSchedules,0)),)),B23,IF(OR(I23<0,O23<0),B23,\"\"))","v":""},0,{"$f":"IF($I23=\"\",0,$I23/1000)","v":0},0,{"$f":"IF(AND(CType=\"R\",G23<>\"\"),-0.31*Z23,0)","v":0},{"$f":"IF($O23=\"\",0,$O23/1000)","v":0},0,{"$f":"IF(M23<>\"\",-0.31*AC23,0)","v":0},{"$f":"$Y23-$AB23","v":0},0,{"$f":"AA23-AD23","v":0},{"$f":"IF(AK23=0,\"\",IF(AK23=\"X\",1,PercentDI(AK23)))","v":""},{"$f":"IF(AK23=0,\"\",DIDECODE(AK23))","v":""},{"$f":"IF(AK23=0,\"\",PDECODE(AK23))","v":""},{"$f":"IF(OR(W23<>\"\",AND(Y23=0,AB23=0)),0,LtIncentive(E23,F23,J23,L23,N23,K23,AE23,SUM($AI$21:AI22,$AM$21:AM22),SUM($AJ$21:AJ22,$AN$21:AN22),DIEligibility))","v":0},{"$f":"IF(AO23=0,\"\",PercentDI(AO23))","v":""},{"$f":"IF(AO23=0,\"\",DIDECODE(AO23))","v":""},{"$f":"IF(AO23=0,\"\",PDECODE(AO23))","v":""},{"$f":"IF(OR(W23<>\"\",AC23=0),0,LtCTRLIncentive(M23,L23,O23,G23,F23,E23,J23,SUM($AI$21:AI23,$AM$21:AM22),SUM($AJ$21:AJ23,$AN$21:AN22),DIEligibility))","v":0},{"$f":"IF(SUM(AI23:AK23,AM23:AO23)<=0,0,1)","v":0},{"$f":"$AP23*Y23","v":0},{"$f":"$AP23*Z23","v":0},{"$f":"$AP23*AB23","v":0},{"$f":"$AP23*AC23","v":0}]
[null,{"$f":"ROWS($B$22:B24)-1","v":2},null,null,null,null,null,{"$f":"IF(CType=\"NC\",0,IF($E24=\"\",\"\",WattsPerFixture(E24)))","v":""},"",null,null,null,null,{"$f":"IF($J24=\"\",\"\",WattsPerFixture(J24))","v":""},"",null,null,null,{"$f":"IF(OR(T24=\"\",COUNTIF($T$21:T24,T24)>1),\"\",ROW())","v":""},"",{"$f":"IF(OR(V24=\"\",COUNTIF($V$21:V24,V24)>1),\"\",ROW())","v":""},"",{"$f":"IF(OR(I24=0,O24=0,AND(COUNTA($C24)+COUNT($I24,$O24)>0,COUNTA($C24)+COUNT($I24,$O24)<>3),ISERROR(I24),ISERROR(O24),IF(C24<>\"\",ISERROR(MATCH(C24,OpSchedules,0)),)),B24,IF(OR(I24<0,O24<0),B24,\"\"))","v":""},0,0,0,0,0,0,0,0,0,0,{"$f":"IF(AK24=0,\"\",IF(AK24=\"X\",1,PercentDI(AK24)))","v":""},{"$f":"IF(AK24=0,\"\",DIDECODE(AK24))","v":""},{"$f":"IF(AK24=0,\"\",PDECODE(AK24))","v":""},{"$f":"IF(OR(W24<>\"\",AND(Y24=0,AB24=0)),0,LtIncentive(E24,F24,J24,L24,N24,K24,AE24,SUM($AI$21:AI23,$AM$21:AM23),SUM($AJ$21:AJ23,$AN$21:AN23),DIEligibility))","v":0},{"$f":"IF(AO24=0,\"\",PercentDI(AO24))","v":""},{"$f":"IF(AO24=0,\"\",DIDECODE(AO24))","v":""},{"$f":"IF(AO24=0,\"\",PDECODE(AO24))","v":""},{"$f":"IF(OR(W24<>\"\",AC24=0),0,LtCTRLIncentive(M24,L24,O24,G24,F24,E24,J24,SUM($AI$21:AI24,$AM$21:AM23),SUM($AJ$21:AJ24,$AN$21:AN23),DIEligibility))","v":0},0,0,0,0,0]
[null,{"$f":"ROWS($B$22:B25)-1","v":3},null,null,null,null,null,{"$f":"IF(CType=\"NC\",0,IF($E25=\"\",\"\",WattsPerFixture(E25)))","v":""},"",null,null,null,null,{"$f":"IF($J25=\"\",\"\",WattsPerFixture(J25))","v":""},"",null,null,null,{"$f":"IF(OR(T25=\"\",COUNTIF($T$21:T25,T25)>1),\"\",ROW())","v":""},"",{"$f":"IF(OR(V25=\"\",COUNTIF($V$21:V25,V25)>1),\"\",ROW())","v":""},"",{"$f":"IF(OR(I25=0,O25=0,AND(COUNTA($C25)+COUNT($I25,$O25)>0,COUNTA($C25)+COUNT($I25,$O25)<>3),ISERROR(I25),ISERROR(O25),IF(C25<>\"\",ISERROR(MATCH(C25,OpSchedules,0)),)),B25,IF(OR(I25<0,O25<0),B25,\"\"))","v":""},0,0,0,0,0,0,0,0,0,0,{"$f":"IF(AK25=0,\"\",IF(AK25=\"X\",1,PercentDI(AK25)))","v":""},{"$f":"IF(AK25=0,\"\",DIDECODE(AK25))","v":""},{"$f":"IF(AK25=0,\"\",PDECODE(AK25))","v":""},{"$f":"IF(OR(W25<>\"\",AND(Y25=0,AB25=0)),0,LtIncentive(E25,F25,J25,L25,N25,K25,AE25,SUM($AI$21:AI24,$AM$21:AM24),SUM($AJ$21:AJ24,$AN$21:AN24),DIEligibility))","v":0},{"$f":"IF(AO25=0,\"\",PercentDI(AO25))","v":""},{"$f":"IF(AO25=0,\"\",DIDECODE(AO25))","v":""},{"$f":"IF(AO25=0,\"\",PDECODE(AO25))","v":""},{"$f":"IF(OR(W25<>\"\",AC25=0),0,LtCTRLIncentive(M25,L25,O25,G25,F25,E25,J25,SUM($AI$21:AI25,$AM$21:AM24),SUM($AJ$21:AJ25,$AN$21:AN24),DIEligibility))","v":0},0,0,0,0,0]
[null,{"$f":"ROWS($B$22:B26)-1","v":4},null,null,null,null,null,{"$f":"IF(CType=\"NC\",0,IF($E26=\"\",\"\",WattsPerFixture(E26)))","v":""},"",null,null,null,null,{"$f":"IF($J26=\"\",\"\",WattsPerFixture(J26))","v":""},"",null,null,null,{"$f":"IF(OR(T26=\"\",COUNTIF($T$21:T26,T26)>1),\"\",ROW())","v":""},"",{"$f":"IF(OR(V26=\"\",COUNTIF($V$21:V26,V26)>1),\"\",ROW())","v":""},"","",0,0,0,0,0,0,0,0,0,0,{"$f":"IF(AK26=0,\"\",IF(AK26=\"X\",1,PercentDI(AK26)))","v":""},{"$f":"IF(AK26=0,\"\",DIDECODE(AK26))","v":""},{"$f":"IF(AK26=0,\"\",PDECODE(AK26))","v":""},{"$f":"IF(OR(W26<>\"\",AND(Y26=0,AB26=0)),0,LtIncentive(E26,F26,J26,L26,N26,K26,AE26,SUM($AI$21:AI25,$AM$21:AM25),SUM($AJ$21:AJ25,$AN$21:AN25),DIEligibility))","v":0},{"$f":"IF(AO26=0,\"\",PercentDI(AO26))","v":""},{"$f":"IF(AO26=0,\"\",DIDECODE(AO26))","v":""},{"$f":"IF(AO26=0,\"\",PDECODE(AO26))","v":""},{"$f":"IF(OR(W26<>\"\",AC26=0),0,LtCTRLIncentive(M26,L26,O26,G26,F26,E26,J26,SUM($AI$21:AI26,$AM$21:AM25),SUM($AJ$21:AJ26,$AN$21:AN25),DIEligibility))","v":0},0,0,0,0,0]
[null,{"$f":"ROWS($B$22:B27)-1","v":5},null,null,null,null,null,{"$f":"IF(CType=\"NC\",0,IF($E27=\"\",\"\",WattsPerFixture(E27)))","v":""},"",null,null,null,null,{"$f":"IF($J27=\"\",\"\",WattsPerFixture(J27))","v":""},"",null,null,null,{"$f":"IF(OR(T27=\"\",COUNTIF($T$21:T27,T27)>1),\"\",ROW())","v":""},"",{"$f":"IF(OR(V27=\"\",COUNTIF($V$21:V27,V27)>1),\"\",ROW())","v":""},"","",0,0,0,0,0,0,0,0,0,0,{"$f":"IF(AK27=0,\"\",IF(AK27=\"X\",1,PercentDI(AK27)))","v":""},{"$f":"IF(AK27=0,\"\",DIDECODE(AK27))","v":""},{"$f":"IF(AK27=0,\"\",PDECODE(AK27))","v":""},{"$f":"IF(OR(W27<>\"\",AND(Y27=0,AB27=0)),0,LtIncentive(E27,F27,J27,L27,N27,K27,AE27,SUM($AI$21:AI26,$AM$21:AM26),SUM($AJ$21:AJ26,$AN$21:AN26),DIEligibility))","v":0},{"$f":"IF(AO27=0,\"\",PercentDI(AO27))","v":""},{"$f":"IF(AO27=0,\"\",DIDECODE(AO27))","v":""},{"$f":"IF(AO27=0,\"\",PDECODE(AO27))","v":""},{"$f":"IF(OR(W27<>\"\",AC27=0),0,LtCTRLIncentive(M27,L27,O27,G27,F27,E27,J27,SUM($AI$21:AI27,$AM$21:AM26),SUM($AJ$21:AJ27,$AN$21:AN26),DIEligibility))","v":0},0,0,0,0,0]
[null,{"$f":"ROWS($B$22:B28)-1","v":6},null,null,null,null,null,{"$f":"IF(CType=\"NC\",0,IF($E28=\"\",\"\",WattsPerFixture(E28)))","v":""},"",null,null,null,null,{"$f":"IF($J28=\"\",\"\",WattsPerFixture(J28))","v":""},"",null,null,null,{"$f":"IF(OR(T28=\"\",COUNTIF($T$21:T28,T28)>1),\"\",ROW())","v":""},"",{"$f":"IF(OR(V28=\"\",COUNTIF($V$21:V28,V28)>1),\"\",ROW())","v":""},"","",0,0,0,0,0,0,0,0,0,0,{"$f":"IF(AK28=0,\"\",IF(AK28=\"X\",1,PercentDI(AK28)))","v":""},{"$f":"IF(AK28=0,\"\",DIDECODE(AK28))","v":""},{"$f":"IF(AK28=0,\"\",PDECODE(AK28))","v":""},{"$f":"IF(OR(W28<>\"\",AND(Y28=0,AB28=0)),0,LtIncentive(E28,F28,J28,L28,N28,K28,AE28,SUM($AI$21:AI27,$AM$21:AM27),SUM($AJ$21:AJ27,$AN$21:AN27),DIEligibility))","v":0},{"$f":"IF(AO28=0,\"\",PercentDI(AO28))","v":""},{"$f":"IF(AO28=0,\"\",DIDECODE(AO28))","v":""},{"$f":"IF(AO28=0,\"\",PDECODE(AO28))","v":""},{"$f":"IF(OR(W28<>\"\",AC28=0),0,LtCTRLIncentive(M28,L28,O28,G28,F28,E28,J28,SUM($AI$21:AI28,$AM$21:AM27),SUM($AJ$21:AJ28,$AN$21:AN27),DIEligibility))","v":0},0,0,0,0,0]
[null,{"$f":"ROWS($B$22:B29)-1","v":7},null,null,null,null,null,{"$f":"IF(CType=\"NC\",0,IF($E29=\"\",\"\",WattsPerFixture(E29)))","v":""},"",null,null,null,null,{"$f":"IF($J29=\"\",\"\",WattsPerFixture(J29))","v":""},"",null,null,null,{"$f":"IF(OR(T29=\"\",COUNTIF($T$21:T29,T29)>1),\"\",ROW())","v":""},"",{"$f":"IF(OR(V29=\"\",COUNTIF($V$21:V29,V29)>1),\"\",ROW())","v":""},"","",0,0,0,0,0,0,0,0,0,0,{"$f":"IF(AK29=0,\"\",IF(AK29=\"X\",1,PercentDI(AK29)))","v":""},{"$f":"IF(AK29=0,\"\",DIDECODE(AK29))","v":""},{"$f":"IF(AK29=0,\"\",PDECODE(AK29))","v":""},{"$f":"IF(OR(W29<>\"\",AND(Y29=0,AB29=0)),0,LtIncentive(E29,F29,J29,L29,N29,K29,AE29,SUM($AI$21:AI28,$AM$21:AM28),SUM($AJ$21:AJ28,$AN$21:AN28),DIEligibility))","v":0},{"$f":"IF(AO29=0,\"\",PercentDI(AO29))","v":""},{"$f":"IF(AO29=0,\"\",DIDECODE(AO29))","v":""},{"$f":"IF(AO29=0,\"\",PDECODE(AO29))","v":""},{"$f":"IF(OR(W29<>\"\",AC29=0),0,LtCTRLIncentive(M29,L29,O29,G29,F29,E29,J29,SUM($AI$21:AI29,$AM$21:AM28),SUM($AJ$21:AJ29,$AN$21:AN28),DIEligibility))","v":0},0,0,0,0,0]
[null,{"$f":"ROWS($B$22:B30)-1","v":8},null,null,null,null,null,{"$f":"IF(CType=\"NC\",0,IF($E30=\"\",\"\",WattsPerFixture(E30)))","v":""},"",null,null,null,null,{"$f":"IF($J30=\"\",\"\",WattsPerFixture(J30))","v":""},"",null,null,null,{"$f":"IF(OR(T30=\"\",COUNTIF($T$21:T30,T30)>1),\"\",ROW())","v":""},"",{"$f":"IF(OR(V30=\"\",COUNTIF($V$21:V30,V30)>1),\"\",ROW())","v":""},"","",0,0,0,0,0,0,0,0,0,0,{"$f":"IF(AK30=0,\"\",IF(AK30=\"X\",1,PercentDI(AK30)))","v":""},{"$f":"IF(AK30=0,\"\",DIDECODE(AK30))","v":""},{"$f":"IF(AK30=0,\"\",PDECODE(AK30))","v":""},{"$f":"IF(OR(W30<>\"\",AND(Y30=0,AB30=0)),0,LtIncentive(E30,F30,J30,L30,N30,K30,AE30,SUM($AI$21:AI29,$AM$21:AM29),SUM($AJ$21:AJ29,$AN$21:AN29),DIEligibility))","v":0},{"$f":"IF(AO30=0,\"\",PercentDI(AO30))","v":""},{"$f":"IF(AO30=0,\"\",DIDECODE(AO30))","v":""},{"$f":"IF(AO30=0,\"\",PDECODE(AO30))","v":""},{"$f":"IF(OR(W30<>\"\",AC30=0),0,LtCTRLIncentive(M30,L30,O30,G30,F30,E30,J30,SUM($AI$21:AI30,$AM$21:AM29),SUM($AJ$21:AJ30,$AN$21:AN29),DIEligibility))","v":0},0,0,0,0,0]
[null,{"$f":"ROWS($B$22:B31)-1","v":9},null,null,null,null,null,{"$f":"IF(CType=\"NC\",0,IF($E31=\"\",\"\",WattsPerFixture(E31)))","v":""},"",null,null,null,null,{"$f":"IF($J31=\"\",\"\",WattsPerFixture(J31))","v":""},"",null,null,null,{"$f":"IF(OR(T31=\"\",COUNTIF($T$21:T31,T31)>1),\"\",ROW())","v":""},"",{"$f":"IF(OR(V31=\"\",COUNTIF($V$21:V31,V31)>1),\"\",ROW())","v":""},"","",0,0,0,0,0,0,0,0,0,0,{"$f":"IF(AK31=0,\"\",IF(AK31=\"X\",1,PercentDI(AK31)))","v":""},{"$f":"IF(AK31=0,\"\",DIDECODE(AK31))","v":""},{"$f":"IF(AK31=0,\"\",PDECODE(AK31))","v":""},{"$f":"IF(OR(W31<>\"\",AND(Y31=0,AB31=0)),0,LtIncentive(E31,F31,J31,L31,N31,K31,AE31,SUM($AI$21:AI30,$AM$21:AM30),SUM($AJ$21:AJ30,$AN$21:AN30),DIEligibility))","v":0},{"$f":"IF(AO31=0,\"\",PercentDI(AO31))","v":""},{"$f":"IF(AO31=0,\"\",DIDECODE(AO31))","v":""},{"$f":"IF(AO31=0,\"\",PDECODE(AO31))","v":""},{"$f":"IF(OR(W31<>\"\",AC31=0),0,LtCTRLIncentive(M31,L31,O31,G31,F31,E31,J31,SUM($AI$21:AI31,$AM$21:AM30),SUM($AJ$21:AJ31,$AN$21:AN30),DIEligibility))","v":0},0,0,0,0,0]
[null,{"$f":"ROWS($B$22:B32)-1","v":10},null,null,null,null,null,{"$f":"IF(CType=\"NC\",0,IF($E32=\"\",\"\",WattsPerFixture(E32)))","v":""},"",null,null,null,null,{"$f":"IF($J32=\"\",\"\",WattsPerFixture(J32))","v":""},"",null,null,null,{"$f":"IF(OR(T32=\"\",COUNTIF($T$21:T32,T32)>1),\"\",ROW())","v":""},"",{"$f":"IF(OR(V32=\"\",COUNTIF($V$21:V32,V32)>1),\"\",ROW())","v":""},"","",0,0,0,0,0,0,0,0,0,0,{"$f":"IF(AK32=0,\"\",IF(AK32=\"X\",1,PercentDI(AK32)))","v":""},{"$f":"IF(AK32=0,\"\",DIDECODE(AK32))","v":""},{"$f":"IF(AK32=0,\"\",PDECODE(AK32))","v":""},{"$f":"IF(OR(W32<>\"\",AND(Y32=0,AB32=0)),0,LtIncentive(E32,F32,J32,L32,N32,K32,AE32,SUM($AI$21:AI31,$AM$21:AM31),SUM($AJ$21:AJ31,$AN$21:AN31),DIEligibility))","v":0},{"$f":"IF(AO32=0,\"\",PercentDI(AO32))","v":""},{"$f":"IF(AO32=0,\"\",DIDECODE(AO32))","v":""},{"$f":"IF(AO32=0,\"\",PDECODE(AO32))","v":""},{"$f":"IF(OR(W32<>\"\",AC32=0),0,LtCTRLIncentive(M32,L32,O32,G32,F32,E32,J32,SUM($AI$21:AI32,$AM$21:AM31),SUM($AJ$21:AJ32,$AN$21:AN31),DIEligibility))","v":0},0,0,0,0,0]
[null,{"$f":"ROWS($B$22:B33)-1","v":11},null,null,null,null,null,{"$f":"IF(CType=\"NC\",0,IF($E33=\"\",\"\",WattsPerFixture(E33)))","v":""},"",null,null,null,null,{"$f":"IF($J33=\"\",\"\",WattsPerFixture(J33))","v":""},"",null,null,null,{"$f":"IF(OR(T33=\"\",COUNTIF($T$21:T33,T33)>1),\"\",ROW())","v":""},"",{"$f":"IF(OR(V33=\"\",COUNTIF($V$21:V33,V33)>1),\"\",ROW())","v":""},"","",0,0,0,0,0,0,0,0,0,0,{"$f":"IF(AK33=0,\"\",IF(AK33=\"X\",1,PercentDI(AK33)))","v":""},{"$f":"IF(AK33=0,\"\",DIDECODE(AK33))","v":""},{"$f":"IF(AK33=0,\"\",PDECODE(AK33))","v":""},{"$f":"IF(OR(W33<>\"\",AND(Y33=0,AB33=0)),0,LtIncentive(E33,F33,J33,L33,N33,K33,AE33,SUM($AI$21:AI32,$AM$21:AM32),SUM($AJ$21:AJ32,$AN$21:AN32),DIEligibility))","v":0},{"$f":"IF(AO33=0,\"\",PercentDI(AO33))","v":""},{"$f":"IF(AO33=0,\"\",DIDECODE(AO33))","v":""},{"$f":"IF(AO33=0,\"\",PDECODE(AO33))","v":""},{"$f":"IF(OR(W33<>\"\",AC33=0),0,LtCTRLIncentive(M33,L33,O33,G33,F33,E33,J33,SUM($AI$21:AI33,$AM$21:AM32),SUM($AJ$21:AJ33,$AN$21:AN32),DIEligibility))","v":0},0,0,0,0,0]
[null,{"$f":"ROWS($B$22:B34)-1","v":12},null,null,null,null,null,{"$f":"IF(CType=\"NC\",0,IF($E34=\"\",\"\",WattsPerFixture(E34)))","v":""},"",null,null,null,null,{"$f":"IF($J34=\"\",\"\",WattsPerFixture(J34))","v":""},"",null,null,null,{"$f":"IF(OR(T34=\"\",COUNTIF($T$21:T34,T34)>1),\"\",ROW())","v":""},"",{"$f":"IF(OR(V34=\"\",COUNTIF($V$21:V34,V34)>1),\"\",ROW())","v":""},"","",0,0,0,0,0,0,0,0,0,0,{"$f":"IF(AK34=0,\"\",IF(AK34=\"X\",1,PercentDI(AK34)))","v":""},{"$f":"IF(AK34=0,\"\",DIDECODE(AK34))","v":""},{"$f":"IF(AK34=0,\"\",PDECODE(AK34))","v":""},{"$f":"IF(OR(W34<>\"\",AND(Y34=0,AB34=0)),0,LtIncentive(E34,F34,J34,L34,N34,K34,AE34,SUM($AI$21:AI33,$AM$21:AM33),SUM($AJ$21:AJ33,$AN$21:AN33),DIEligibility))","v":0},{"$f":"IF(AO34=0,\"\",PercentDI(AO34))","v":""},{"$f":"IF(AO34=0,\"\",DIDECODE(AO34))","v":""},{"$f":"IF(AO34=0,\"\",PDECODE(AO34))","v":""},{"$f":"IF(OR(W34<>\"\",AC34=0),0,LtCTRLIncentive(M34,L34,O34,G34,F34,E34,J34,SUM($AI$21:AI34,$AM$21:AM33),SUM($AJ$21:AJ34,$AN$21:AN33),DIEligibility))","v":0},0,0,0,0,0]
[null,{"$f":"ROWS($B$22:B35)-1","v":13},null,null,null,null,null,{"$f":"IF(CType=\"NC\",0,IF($E35=\"\",\"\",WattsPerFixture(E35)))","v":""},"",null,null,null,null,{"$f":"IF($J35=\"\",\"\",WattsPerFixture(J35))","v":""},"",null,null,null,{"$f":"IF(OR(T35=\"\",COUNTIF($T$21:T35,T35)>1),\"\",ROW())","v":""},"",{"$f":"IF(OR(V35=\"\",COUNTIF($V$21:V35,V35)>1),\"\",ROW())","v":""},"","",0,0,0,0,0,0,0,0,0,0,{"$f":"IF(AK35=0,\"\",IF(AK35=\"X\",1,PercentDI(AK35)))","v":""},{"$f":"IF(AK35=0,\"\",DIDECODE(AK35))","v":""},{"$f":"IF(AK35=0,\"\",PDECODE(AK35))","v":""},{"$f":"IF(OR(W35<>\"\",AND(Y35=0,AB35=0)),0,LtIncentive(E35,F35,J35,L35,N35,K35,AE35,SUM($AI$21:AI34,$AM$21:AM34),SUM($AJ$21:AJ34,$AN$21:AN34),DIEligibility))","v":0},{"$f":"IF(AO35=0,\"\",PercentDI(AO35))","v":""},{"$f":"IF(AO35=0,\"\",DIDECODE(AO35))","v":""},{"$f":"IF(AO35=0,\"\",PDECODE(AO35))","v":""},{"$f":"IF(OR(W35<>\"\",AC35=0),0,LtCTRLIncentive(M35,L35,O35,G35,F35,E35,J35,SUM($AI$21:AI35,$AM$21:AM34),SUM($AJ$21:AJ35,$AN$21:AN34),DIEligibility))","v":0},0,0,0,0,0]
[null,{"$f":"ROWS($B$22:B36)-1","v":14},null,null,null,null,null,{"$f":"IF(CType=\"NC\",0,IF($E36=\"\",\"\",WattsPerFixture(E36)))","v":""},"",null,null,null,null,{"$f":"IF($J36=\"\",\"\",WattsPerFixture(J36))","v":""},"",null,null,null,{"$f":"IF(OR(T36=\"\",COUNTIF($T$21:T36,T36)>1),\"\",ROW())","v":""},"",{"$f":"IF(OR(V36=\"\",COUNTIF($V$21:V36,V36)>1),\"\",ROW())","v":""},"","",0,0,0,0,0,0,0,0,0,0,{"$f":"IF(AK36=0,\"\",IF(AK36=\"X\",1,PercentDI(AK36)))","v":""},{"$f":"IF(AK36=0,\"\",DIDECODE(AK36))","v":""},{"$f":"IF(AK36=0,\"\",PDECODE(AK36))","v":""},{"$f":"IF(OR(W36<>\"\",AND(Y36=0,AB36=0)),0,LtIncentive(E36,F36,J36,L36,N36,K36,AE36,SUM($AI$21:AI35,$AM$21:AM35),SUM($AJ$21:AJ35,$AN$21:AN35),DIEligibility))","v":0},{"$f":"IF(AO36=0,\"\",PercentDI(AO36))","v":""},{"$f":"IF(AO36=0,\"\",DIDECODE(AO36))","v":""},{"$f":"IF(AO36=0,\"\",PDECODE(AO36))","v":""},{"$f":"IF(OR(W36<>\"\",AC36=0),0,LtCTRLIncentive(M36,L36,O36,G36,F36,E36,J36,SUM($AI$21:AI36,$AM$21:AM35),SUM($AJ$21:AJ36,$AN$21:AN35),DIEligibility))","v":0},0,0,0,0,0]
[null,{"$f":"ROWS($B$22:B37)-1","v":15},null,null,null,null,null,{"$f":"IF(CType=\"NC\",0,IF($E37=\"\",\"\",WattsPerFixture(E37)))","v":""},"",null,null,null,null,{"$f":"IF($J37=\"\",\"\",WattsPerFixture(J37))","v":""},"",null,null,null,{"$f":"IF(OR(T37=\"\",COUNTIF($T$21:T37,T37)>1),\"\",ROW())","v":""},"",{"$f":"IF(OR(V37=\"\",COUNTIF($V$21:V37,V37)>1),\"\",ROW())","v":""},"","",0,0,0,0,0,0,0,0,0,0,{"$f":"IF(AK37=0,\"\",IF(AK37=\"X\",1,PercentDI(AK37)))","v":""},{"$f":"IF(AK37=0,\"\",DIDECODE(AK37))","v":""},{"$f":"IF(AK37=0,\"\",PDECODE(AK37))","v":""},{"$f":"IF(OR(W37<>\"\",AND(Y37=0,AB37=0)),0,LtIncentive(E37,F37,J37,L37,N37,K37,AE37,SUM($AI$21:AI36,$AM$21:AM36),SUM($AJ$21:AJ36,$AN$21:AN36),DIEligibility))","v":0},{"$f":"IF(AO37=0,\"\",PercentDI(AO37))","v":""},{"$f":"IF(AO37=0,\"\",DIDECODE(AO37))","v":""},{"$f":"IF(AO37=0,\"\",PDECODE(AO37))","v":""},{"$f":"IF(OR(W37<>\"\",AC37=0),0,LtCTRLIncentive(M37,L37,O37,G37,F37,E37,J37,SUM($AI$21:AI37,$AM$21:AM36),SUM($AJ$21:AJ37,$AN$21:AN36),DIEligibility))","v":0},0,0,0,0,0]
[null,{"$f":"ROWS($B$22:B38)-1","v":16},null,null,null,null,null,{"$f":"IF(CType=\"NC\",0,IF($E38=\"\",\"\",WattsPerFixture(E38)))","v":""},"",null,null,null,null,{"$f":"IF($J38=\"\",\"\",WattsPerFixture(J38))","v":""},"",null,null,null,{"$f":"IF(OR(T38=\"\",COUNTIF($T$21:T38,T38)>1),\"\",ROW())","v":""},"",{"$f":"IF(OR(V38=\"\",COUNTIF($V$21:V38,V38)>1),\"\",ROW())","v":""},"","",0,0,0,0,0,0,0,0,0,0,{"$f":"IF(AK38=0,\"\",IF(AK38=\"X\",1,PercentDI(AK38)))","v":""},{"$f":"IF(AK38=0,\"\",DIDECODE(AK38))","v":""},{"$f":"IF(AK38=0,\"\",PDECODE(AK38))","v":""},{"$f":"IF(OR(W38<>\"\",AND(Y38=0,AB38=0)),0,LtIncentive(E38,F38,J38,L38,N38,K38,AE38,SUM($AI$21:AI37,$AM$21:AM37),SUM($AJ$21:AJ37,$AN$21:AN37),DIEligibility))","v":0},{"$f":"IF(AO38=0,\"\",PercentDI(AO38))","v":""},{"$f":"IF(AO38=0,\"\",DIDECODE(AO38))","v":""},{"$f":"IF(AO38=0,\"\",PDECODE(AO38))","v":""},{"$f":"IF(OR(W38<>\"\",AC38=0),0,LtCTRLIncentive(M38,L38,O38,G38,F38,E38,J38,SUM($AI$21:AI38,$AM$21:AM37),SUM($AJ$21:AJ38,$AN$21:AN37),DIEligibility))","v":0},0,0,0,0,0]
[null,{"$f":"ROWS($B$22:B39)-1","v":17},null,null,null,null,null,{"$f":"IF(CType=\"NC\",0,IF($E39=\"\",\"\",WattsPerFixture(E39)))","v":""},"",null,null,null,null,{"$f":"IF($J39=\"\",\"\",WattsPerFixture(J39))","v":""},"",null,null,null,{"$f":"IF(OR(T39=\"\",COUNTIF($T$21:T39,T39)>1),\"\",ROW())","v":""},"",{"$f":"IF(OR(V39=\"\",COUNTIF($V$21:V39,V39)>1),\"\",ROW())","v":""},"","",0,0,0,0,0,0,0,0,0,0,{"$f":"IF(AK39=0,\"\",IF(AK39=\"X\",1,PercentDI(AK39)))","v":""},{"$f":"IF(AK39=0,\"\",DIDECODE(AK39))","v":""},{"$f":"IF(AK39=0,\"\",PDECODE(AK39))","v":""},{"$f":"IF(OR(W39<>\"\",AND(Y39=0,AB39=0)),0,LtIncentive(E39,F39,J39,L39,N39,K39,AE39,SUM($AI$21:AI38,$AM$21:AM38),SUM($AJ$21:AJ38,$AN$21:AN38),DIEligibility))","v":0},{"$f":"IF(AO39=0,\"\",PercentDI(AO39))","v":""},{"$f":"IF(AO39=0,\"\",DIDECODE(AO39))","v":""},{"$f":"IF(AO39=0,\"\",PDECODE(AO39))","v":""},{"$f":"IF(OR(W39<>\"\",AC39=0),0,LtCTRLIncentive(M39,L39,O39,G39,F39,E39,J39,SUM($AI$21:AI39,$AM$21:AM38),SUM($AJ$21:AJ39,$AN$21:AN38),DIEligibility))","v":0},0,0,0,0,0]
[null,{"$f":"ROWS($B$22:B40)-1","v":18},null,null,null,null,null,{"$f":"IF(CType=\"NC\",0,IF($E40=\"\",\"\",WattsPerFixture(E40)))","v":""},"",null,null,null,null,{"$f":"IF($J40=\"\",\"\",WattsPerFixture(J40))","v":""},"",null,null,null,{"$f":"IF(OR(T40=\"\",COUNTIF($T$21:T40,T40)>1),\"\",ROW())","v":""},"",{"$f":"IF(OR(V40=\"\",COUNTIF($V$21:V40,V40)>1),\"\",ROW())","v":""},"","",0,0,0,0,0,0,0,0,0,0,{"$f":"IF(AK40=0,\"\",IF(AK40=\"X\",1,PercentDI(AK40)))","v":""},{"$f":"IF(AK40=0,\"\",DIDECODE(AK40))","v":""},{"$f":"IF(AK40=0,\"\",PDECODE(AK40))","v":""},{"$f":"IF(OR(W40<>\"\",AND(Y40=0,AB40=0)),0,LtIncentive(E40,F40,J40,L40,N40,K40,AE40,SUM($AI$21:AI39,$AM$21:AM39),SUM($AJ$21:AJ39,$AN$21:AN39),DIEligibility))","v":0},{"$f":"IF(AO40=0,\"\",PercentDI(AO40))","v":""},{"$f":"IF(AO40=0,\"\",DIDECODE(AO40))","v":""},{"$f":"IF(AO40=0,\"\",PDECODE(AO40))","v":""},{"$f":"IF(OR(W40<>\"\",AC40=0),0,LtCTRLIncentive(M40,L40,O40,G40,F40,E40,J40,SUM($AI$21:AI40,$AM$21:AM39),SUM($AJ$21:AJ40,$AN$21:AN39),DIEligibility))","v":0},0,0,0,0,0]
[null,{"$f":"ROWS($B$22:B41)-1","v":19},null,null,null,null,null,{"$f":"IF(CType=\"NC\",0,IF($E41=\"\",\"\",WattsPerFixture(E41)))","v":""},"",null,null,null,null,{"$f":"IF($J41=\"\",\"\",WattsPerFixture(J41))","v":""},"",null,null,null,{"$f":"IF(OR(T41=\"\",COUNTIF($T$21:T41,T41)>1),\"\",ROW())","v":""},"",{"$f":"IF(OR(V41=\"\",COUNTIF($V$21:V41,V41)>1),\"\",ROW())","v":""},"","",0,0,0,0,0,0,0,0,0,0,{"$f":"IF(AK41=0,\"\",IF(AK41=\"X\",1,PercentDI(AK41)))","v":""},{"$f":"IF(AK41=0,\"\",DIDECODE(AK41))","v":""},{"$f":"IF(AK41=0,\"\",PDECODE(AK41))","v":""},{"$f":"IF(OR(W41<>\"\",AND(Y41=0,AB41=0)),0,LtIncentive(E41,F41,J41,L41,N41,K41,AE41,SUM($AI$21:AI40,$AM$21:AM40),SUM($AJ$21:AJ40,$AN$21:AN40),DIEligibility))","v":0},{"$f":"IF(AO41=0,\"\",PercentDI(AO41))","v":""},{"$f":"IF(AO41=0,\"\",DIDECODE(AO41))","v":""},{"$f":"IF(AO41=0,\"\",PDECODE(AO41))","v":""},{"$f":"IF(OR(W41<>\"\",AC41=0),0,LtCTRLIncentive(M41,L41,O41,G41,F41,E41,J41,SUM($AI$21:AI41,$AM$21:AM40),SUM($AJ$21:AJ41,$AN$21:AN40),DIEligibility))","v":0},0,0,0,0,0]
[null,{"$f":"ROWS($B$22:B42)-1","v":20},null,null,null,null,null,{"$f":"IF(CType=\"NC\",0,IF($E42=\"\",\"\",WattsPerFixture(E42)))","v":""},"",null,null,null,null,{"$f":"IF($J42=\"\",\"\",WattsPerFixture(J42))","v":""},"",null,null,null,{"$f":"IF(OR(T42=\"\",COUNTIF($T$21:T42,T42)>1),\"\",ROW())","v":""},"",{"$f":"IF(OR(V42=\"\",COUNTIF($V$21:V42,V42)>1),\"\",ROW())","v":""},"","",0,0,0,0,0,0,0,0,0,0,{"$f":"IF(AK42=0,\"\",IF(AK42=\"X\",1,PercentDI(AK42)))","v":""},{"$f":"IF(AK42=0,\"\",DIDECODE(AK42))","v":""},{"$f":"IF(AK42=0,\"\",PDECODE(AK42))","v":""},{"$f":"IF(OR(W42<>\"\",AND(Y42=0,AB42=0)),0,LtIncentive(E42,F42,J42,L42,N42,K42,AE42,SUM($AI$21:AI41,$AM$21:AM41),SUM($AJ$21:AJ41,$AN$21:AN41),DIEligibility))","v":0},{"$f":"IF(AO42=0,\"\",PercentDI(AO42))","v":""},{"$f":"IF(AO42=0,\"\",DIDECODE(AO42))","v":""},{"$f":"IF(AO42=0,\"\",PDECODE(AO42))","v":""},{"$f":"IF(OR(W42<>\"\",AC42=0),0,LtCTRLIncentive(M42,L42,O42,G42,F42,E42,J42,SUM($AI$21:AI42,$AM$21:AM41),SUM($AJ$21:AJ42,$AN$21:AN41),DIEligibility))","v":0},0,0,0,0,0]
[null,{"$f":"ROWS($B$22:B43)-1","v":21},null,null,null,null,null,{"$f":"IF(CType=\"NC\",0,IF($E43=\"\",\"\",WattsPerFixture(E43)))","v":""},"",null,null,null,null,{"$f":"IF($J43=\"\",\"\",WattsPerFixture(J43))","v":""},"",null,null,null,{"$f":"IF(OR(T43=\"\",COUNTIF($T$21:T43,T43)>1),\"\",ROW())","v":""},"",{"$f":"IF(OR(V43=\"\",COUNTIF($V$21:V43,V43)>1),\"\",ROW())","v":""},"","",0,0,0,0,0,0,0,0,0,0,{"$f":"IF(AK43=0,\"\",IF(AK43=\"X\",1,PercentDI(AK43)))","v":""},{"$f":"IF(AK43=0,\"\",DIDECODE(AK43))","v":""},{"$f":"IF(AK43=0,\"\",PDECODE(AK43))","v":""},{"$f":"IF(OR(W43<>\"\",AND(Y43=0,AB43=0)),0,LtIncentive(E43,F43,J43,L43,N43,K43,AE43,SUM($AI$21:AI42,$AM$21:AM42),SUM($AJ$21:AJ42,$AN$21:AN42),DIEligibility))","v":0},{"$f":"IF(AO43=0,\"\",PercentDI(AO43))","v":""},{"$f":"IF(AO43=0,\"\",DIDECODE(AO43))","v":""},{"$f":"IF(AO43=0,\"\",PDECODE(AO43))","v":""},{"$f":"IF(OR(W43<>\"\",AC43=0),0,LtCTRLIncentive(M43,L43,O43,G43,F43,E43,J43,SUM($AI$21:AI43,$AM$21:AM42),SUM($AJ$21:AJ43,$AN$21:AN42),DIEligibility))","v":0},0,0,0,0,0]
[null,{"$f":"ROWS($B$22:B44)-1","v":22},null,null,null,null,null,{"$f":"IF(CType=\"NC\",0,IF($E44=\"\",\"\",WattsPerFixture(E44)))","v":""},"",null,null,null,null,{"$f":"IF($J44=\"\",\"\",WattsPerFixture(J44))","v":""},"",null,null,null,{"$f":"IF(OR(T44=\"\",COUNTIF($T$21:T44,T44)>1),\"\",ROW())","v":""},"",{"$f":"IF(OR(V44=\"\",COUNTIF($V$21:V44,V44)>1),\"\",ROW())","v":""},"","",0,0,0,0,0,0,0,0,0,0,{"$f":"IF(AK44=0,\"\",IF(AK44=\"X\",1,PercentDI(AK44)))","v":""},{"$f":"IF(AK44=0,\"\",DIDECODE(AK44))","v":""},{"$f":"IF(AK44=0,\"\",PDECODE(AK44))","v":""},{"$f":"IF(OR(W44<>\"\",AND(Y44=0,AB44=0)),0,LtIncentive(E44,F44,J44,L44,N44,K44,AE44,SUM($AI$21:AI43,$AM$21:AM43),SUM($AJ$21:AJ43,$AN$21:AN43),DIEligibility))","v":0},{"$f":"IF(AO44=0,\"\",PercentDI(AO44))","v":""},{"$f":"IF(AO44=0,\"\",DIDECODE(AO44))","v":""},{"$f":"IF(AO44=0,\"\",PDECODE(AO44))","v":""},{"$f":"IF(OR(W44<>\"\",AC44=0),0,LtCTRLIncentive(M44,L44,O44,G44,F44,E44,J44,SUM($AI$21:AI44,$AM$21:AM43),SUM($AJ$21:AJ44,$AN$21:AN43),DIEligibility))","v":0},0,0,0,0,0]
[null,{"$f":"ROWS($B$22:B45)-1","v":23},null,null,null,null,null,{"$f":"IF(CType=\"NC\",0,IF($E45=\"\",\"\",WattsPerFixture(E45)))","v":""},"",null,null,null,null,{"$f":"IF($J45=\"\",\"\",WattsPerFixture(J45))","v":""},"",null,null,null,{"$f":"IF(OR(T45=\"\",COUNTIF($T$21:T45,T45)>1),\"\",ROW())","v":""},"",{"$f":"IF(OR(V45=\"\",COUNTIF($V$21:V45,V45)>1),\"\",ROW())","v":""},"","",0,0,0,0,0,0,0,0,0,0,{"$f":"IF(AK45=0,\"\",IF(AK45=\"X\",1,PercentDI(AK45)))","v":""},{"$f":"IF(AK45=0,\"\",DIDECODE(AK45))","v":""},{"$f":"IF(AK45=0,\"\",PDECODE(AK45))","v":""},{"$f":"IF(OR(W45<>\"\",AND(Y45=0,AB45=0)),0,LtIncentive(E45,F45,J45,L45,N45,K45,AE45,SUM($AI$21:AI44,$AM$21:AM44),SUM($AJ$21:AJ44,$AN$21:AN44),DIEligibility))","v":0},{"$f":"IF(AO45=0,\"\",PercentDI(AO45))","v":""},{"$f":"IF(AO45=0,\"\",DIDECODE(AO45))","v":""},{"$f":"IF(AO45=0,\"\",PDECODE(AO45))","v":""},{"$f":"IF(OR(W45<>\"\",AC45=0),0,LtCTRLIncentive(M45,L45,O45,G45,F45,E45,J45,SUM($AI$21:AI45,$AM$21:AM44),SUM($AJ$21:AJ45,$AN$21:AN44),DIEligibility))","v":0},0,0,0,0,0]
[null,{"$f":"ROWS($B$22:B46)-1","v":24},null,null,null,null,null,{"$f":"IF(CType=\"NC\",0,IF($E46=\"\",\"\",WattsPerFixture(E46)))","v":""},"",null,null,null,null,{"$f":"IF($J46=\"\",\"\",WattsPerFixture(J46))","v":""},"",null,null,null,{"$f":"IF(OR(T46=\"\",COUNTIF($T$21:T46,T46)>1),\"\",ROW())","v":""},"",{"$f":"IF(OR(V46=\"\",COUNTIF($V$21:V46,V46)>1),\"\",ROW())","v":""},"","",0,0,0,0,0,0,0,0,0,0,{"$f":"IF(AK46=0,\"\",IF(AK46=\"X\",1,PercentDI(AK46)))","v":""},{"$f":"IF(AK46=0,\"\",DIDECODE(AK46))","v":""},{"$f":"IF(AK46=0,\"\",PDECODE(AK46))","v":""},{"$f":"IF(OR(W46<>\"\",AND(Y46=0,AB46=0)),0,LtIncentive(E46,F46,J46,L46,N46,K46,AE46,SUM($AI$21:AI45,$AM$21:AM45),SUM($AJ$21:AJ45,$AN$21:AN45),DIEligibility))","v":0},{"$f":"IF(AO46=0,\"\",PercentDI(AO46))","v":""},{"$f":"IF(AO46=0,\"\",DIDECODE(AO46))","v":""},{"$f":"IF(AO46=0,\"\",PDECODE(AO46))","v":""},{"$f":"IF(OR(W46<>\"\",AC46=0),0,LtCTRLIncentive(M46,L46,O46,G46,F46,E46,J46,SUM($AI$21:AI46,$AM$21:AM45),SUM($AJ$21:AJ46,$AN$21:AN45),DIEligibility))","v":0},0,0,0,0,0]
[null,{"$f":"ROWS($B$22:B47)-1","v":25},null,null,null,null,null,{"$f":"IF(CType=\"NC\",0,IF($E47=\"\",\"\",WattsPerFixture(E47)))","v":""},"",null,null,null,null,{"$f":"IF($J47=\"\",\"\",WattsPerFixture(J47))","v":""},"",null,null,null,{"$f":"IF(OR(T47=\"\",COUNTIF($T$21:T47,T47)>1),\"\",ROW())","v":""},"",{"$f":"IF(OR(V47=\"\",COUNTIF($V$21:V47,V47)>1),\"\",ROW())","v":""},"","",0,0,0,0,0,0,0,0,0,0,{"$f":"IF(AK47=0,\"\",IF(AK47=\"X\",1,PercentDI(AK47)))","v":""},{"$f":"IF(AK47=0,\"\",DIDECODE(AK47))","v":""},{"$f":"IF(AK47=0,\"\",PDECODE(AK47))","v":""},{"$f":"IF(OR(W47<>\"\",AND(Y47=0,AB47=0)),0,LtIncentive(E47,F47,J47,L47,N47,K47,AE47,SUM($AI$21:AI46,$AM$21:AM46),SUM($AJ$21:AJ46,$AN$21:AN46),DIEligibility))","v":0},{"$f":"IF(AO47=0,\"\",PercentDI(AO47))","v":""},{"$f":"IF(AO47=0,\"\",DIDECODE(AO47))","v":""},{"$f":"IF(AO47=0,\"\",PDECODE(AO47))","v":""},{"$f":"IF(OR(W47<>\"\",AC47=0),0,LtCTRLIncentive(M47,L47,O47,G47,F47,E47,J47,SUM($AI$21:AI47,$AM$21:AM46),SUM($AJ$21:AJ47,$AN$21:AN46),DIEligibility))","v":0},0,0,0,0,0]
[null,{"$f":"ROWS($B$22:B48)-1","v":26},null,null,null,null,null,{"$f":"IF(CType=\"NC\",0,IF($E48=\"\",\"\",WattsPerFixture(E48)))","v":""},"",null,null,null,null,{"$f":"IF($J48=\"\",\"\",WattsPerFixture(J48))","v":""},"",null,null,null,{"$f":"IF(OR(T48=\"\",COUNTIF($T$21:T48,T48)>1),\"\",ROW())","v":""},"",{"$f":"IF(OR(V48=\"\",COUNTIF($V$21:V48,V48)>1),\"\",ROW())","v":""},"","",0,0,0,0,0,0,0,0,0,0,{"$f":"IF(AK48=0,\"\",IF(AK48=\"X\",1,PercentDI(AK48)))","v":""},{"$f":"IF(AK48=0,\"\",DIDECODE(AK48))","v":""},{"$f":"IF(AK48=0,\"\",PDECODE(AK48))","v":""},{"$f":"IF(OR(W48<>\"\",AND(Y48=0,AB48=0)),0,LtIncentive(E48,F48,J48,L48,N48,K48,AE48,SUM($AI$21:AI47,$AM$21:AM47),SUM($AJ$21:AJ47,$AN$21:AN47),DIEligibility))","v":0},{"$f":"IF(AO48=0,\"\",PercentDI(AO48))","v":""},{"$f":"IF(AO48=0,\"\",DIDECODE(AO48))","v":""},{"$f":"IF(AO48=0,\"\",PDECODE(AO48))","v":""},{"$f":"IF(OR(W48<>\"\",AC48=0),0,LtCTRLIncentive(M48,L48,O48,G48,F48,E48,J48,SUM($AI$21:AI48,$AM$21:AM47),SUM($AJ$21:AJ48,$AN$21:AN47),DIEligibility))","v":0},0,0,0,0,0]
[null,{"$f":"ROWS($B$22:B49)-1","v":27},null,null,null,null,null,{"$f":"IF(CType=\"NC\",0,IF($E49=\"\",\"\",WattsPerFixture(E49)))","v":""},"",null,null,null,null,{"$f":"IF($J49=\"\",\"\",WattsPerFixture(J49))","v":""},"",null,null,null,{"$f":"IF(OR(T49=\"\",COUNTIF($T$21:T49,T49)>1),\"\",ROW())","v":""},"",{"$f":"IF(OR(V49=\"\",COUNTIF($V$21:V49,V49)>1),\"\",ROW())","v":""},"","",0,0,0,0,0,0,0,0,0,0,{"$f":"IF(AK49=0,\"\",IF(AK49=\"X\",1,PercentDI(AK49)))","v":""},{"$f":"IF(AK49=0,\"\",DIDECODE(AK49))","v":""},{"$f":"IF(AK49=0,\"\",PDECODE(AK49))","v":""},{"$f":"IF(OR(W49<>\"\",AND(Y49=0,AB49=0)),0,LtIncentive(E49,F49,J49,L49,N49,K49,AE49,SUM($AI$21:AI48,$AM$21:AM48),SUM($AJ$21:AJ48,$AN$21:AN48),DIEligibility))","v":0},{"$f":"IF(AO49=0,\"\",PercentDI(AO49))","v":""},{"$f":"IF(AO49=0,\"\",DIDECODE(AO49))","v":""},{"$f":"IF(AO49=0,\"\",PDECODE(AO49))","v":""},{"$f":"IF(OR(W49<>\"\",AC49=0),0,LtCTRLIncentive(M49,L49,O49,G49,F49,E49,J49,SUM($AI$21:AI49,$AM$21:AM48),SUM($AJ$21:AJ49,$AN$21:AN48),DIEligibility))","v":0},0,0,0,0,0]
[null,{"$f":"ROWS($B$22:B50)-1","v":28},null,null,null,null,null,{"$f":"IF(CType=\"NC\",0,IF($E50=\"\",\"\",WattsPerFixture(E50)))","v":""},"",null,null,null,null,{"$f":"IF($J50=\"\",\"\",WattsPerFixture(J50))","v":""},"",null,null,null,{"$f":"IF(OR(T50=\"\",COUNTIF($T$21:T50,T50)>1),\"\",ROW())","v":""},"",{"$f":"IF(OR(V50=\"\",COUNTIF($V$21:V50,V50)>1),\"\",ROW())","v":""},"","",0,0,0,0,0,0,0,0,0,0,{"$f":"IF(AK50=0,\"\",IF(AK50=\"X\",1,PercentDI(AK50)))","v":""},{"$f":"IF(AK50=0,\"\",DIDECODE(AK50))","v":""},{"$f":"IF(AK50=0,\"\",PDECODE(AK50))","v":""},{"$f":"IF(OR(W50<>\"\",AND(Y50=0,AB50=0)),0,LtIncentive(E50,F50,J50,L50,N50,K50,AE50,SUM($AI$21:AI49,$AM$21:AM49),SUM($AJ$21:AJ49,$AN$21:AN49),DIEligibility))","v":0},{"$f":"IF(AO50=0,\"\",PercentDI(AO50))","v":""},{"$f":"IF(AO50=0,\"\",DIDECODE(AO50))","v":""},{"$f":"IF(AO50=0,\"\",PDECODE(AO50))","v":""},{"$f":"IF(OR(W50<>\"\",AC50=0),0,LtCTRLIncentive(M50,L50,O50,G50,F50,E50,J50,SUM($AI$21:AI50,$AM$21:AM49),SUM($AJ$21:AJ50,$AN$21:AN49),DIEligibility))","v":0},0,0,0,0,0]
[null,{"$f":"ROWS($B$22:B51)-1","v":29},null,null,null,null,null,{"$f":"IF(CType=\"NC\",0,IF($E51=\"\",\"\",WattsPerFixture(E51)))","v":""},"",null,null,null,null,{"$f":"IF($J51=\"\",\"\",WattsPerFixture(J51))","v":""},"",null,null,null,{"$f":"IF(OR(T51=\"\",COUNTIF($T$21:T51,T51)>1),\"\",ROW())","v":""},"",{"$f":"IF(OR(V51=\"\",COUNTIF($V$21:V51,V51)>1),\"\",ROW())","v":""},"","",0,0,0,0,0,0,0,0,0,0,{"$f":"IF(AK51=0,\"\",IF(AK51=\"X\",1,PercentDI(AK51)))","v":""},{"$f":"IF(AK51=0,\"\",DIDECODE(AK51))","v":""},{"$f":"IF(AK51=0,\"\",PDECODE(AK51))","v":""},{"$f":"IF(OR(W51<>\"\",AND(Y51=0,AB51=0)),0,LtIncentive(E51,F51,J51,L51,N51,K51,AE51,SUM($AI$21:AI50,$AM$21:AM50),SUM($AJ$21:AJ50,$AN$21:AN50),DIEligibility))","v":0},{"$f":"IF(AO51=0,\"\",PercentDI(AO51))","v":""},{"$f":"IF(AO51=0,\"\",DIDECODE(AO51))","v":""},{"$f":"IF(AO51=0,\"\",PDECODE(AO51))","v":""},{"$f":"IF(OR(W51<>\"\",AC51=0),0,LtCTRLIncentive(M51,L51,O51,G51,F51,E51,J51,SUM($AI$21:AI51,$AM$21:AM50),SUM($AJ$21:AJ51,$AN$21:AN50),DIEligibility))","v":0},0,0,0,0,0]
[null,{"$f":"ROWS($B$22:B52)-1","v":30},null,null,null,null,null,{"$f":"IF(CType=\"NC\",0,IF($E52=\"\",\"\",WattsPerFixture(E52)))","v":""},"",null,null,null,null,{"$f":"IF($J52=\"\",\"\",WattsPerFixture(J52))","v":""},"",null,null,null,{"$f":"IF(OR(T52=\"\",COUNTIF($T$21:T52,T52)>1),\"\",ROW())","v":""},"",{"$f":"IF(OR(V52=\"\",COUNTIF($V$21:V52,V52)>1),\"\",ROW())","v":""},"","",0,0,0,0,0,0,0,0,0,0,{"$f":"IF(AK52=0,\"\",IF(AK52=\"X\",1,PercentDI(AK52)))","v":""},{"$f":"IF(AK52=0,\"\",DIDECODE(AK52))","v":""},{"$f":"IF(AK52=0,\"\",PDECODE(AK52))","v":""},{"$f":"IF(OR(W52<>\"\",AND(Y52=0,AB52=0)),0,LtIncentive(E52,F52,J52,L52,N52,K52,AE52,SUM($AI$21:AI51,$AM$21:AM51),SUM($AJ$21:AJ51,$AN$21:AN51),DIEligibility))","v":0},{"$f":"IF(AO52=0,\"\",PercentDI(AO52))","v":""},{"$f":"IF(AO52=0,\"\",DIDECODE(AO52))","v":""},{"$f":"IF(AO52=0,\"\",PDECODE(AO52))","v":""},{"$f":"IF(OR(W52<>\"\",AC52=0),0,LtCTRLIncentive(M52,L52,O52,G52,F52,E52,J52,SUM($AI$21:AI52,$AM$21:AM51),SUM($AJ$21:AJ52,$AN$21:AN51),DIEligibility))","v":0},0,0,0,0,0]
[null,{"$f":"ROWS($B$22:B53)-1","v":31},null,null,null,null,null,{"$f":"IF(CType=\"NC\",0,IF($E53=\"\",\"\",WattsPerFixture(E53)))","v":""},"",null,null,null,null,{"$f":"IF($J53=\"\",\"\",WattsPerFixture(J53))","v":""},"",null,null,null,{"$f":"IF(OR(T53=\"\",COUNTIF($T$21:T53,T53)>1),\"\",ROW())","v":""},"",{"$f":"IF(OR(V53=\"\",COUNTIF($V$21:V53,V53)>1),\"\",ROW())","v":""},"","",0,0,0,0,0,0,0,0,0,0,{"$f":"IF(AK53=0,\"\",IF(AK53=\"X\",1,PercentDI(AK53)))","v":""},{"$f":"IF(AK53=0,\"\",DIDECODE(AK53))","v":""},{"$f":"IF(AK53=0,\"\",PDECODE(AK53))","v":""},{"$f":"IF(OR(W53<>\"\",AND(Y53=0,AB53=0)),0,LtIncentive(E53,F53,J53,L53,N53,K53,AE53,SUM($AI$21:AI52,$AM$21:AM52),SUM($AJ$21:AJ52,$AN$21:AN52),DIEligibility))","v":0},{"$f":"IF(AO53=0,\"\",PercentDI(AO53))","v":""},{"$f":"IF(AO53=0,\"\",DIDECODE(AO53))","v":""},{"$f":"IF(AO53=0,\"\",PDECODE(AO53))","v":""},{"$f":"IF(OR(W53<>\"\",AC53=0),0,LtCTRLIncentive(M53,L53,O53,G53,F53,E53,J53,SUM($AI$21:AI53,$AM$21:AM52),SUM($AJ$21:AJ53,$AN$21:AN52),DIEligibility))","v":0},0,0,0,0,0]
[null,{"$f":"ROWS($B$22:B54)-1","v":32},null,null,null,null,null,{"$f":"IF(CType=\"NC\",0,IF($E54=\"\",\"\",WattsPerFixture(E54)))","v":""},"",null,null,null,null,{"$f":"IF($J54=\"\",\"\",WattsPerFixture(J54))","v":""},"",null,null,null,{"$f":"IF(OR(T54=\"\",COUNTIF($T$21:T54,T54)>1),\"\",ROW())","v":""},"",{"$f":"IF(OR(V54=\"\",COUNTIF($V$21:V54,V54)>1),\"\",ROW())","v":""},"","",0,0,0,0,0,0,0,0,0,0,{"$f":"IF(AK54=0,\"\",IF(AK54=\"X\",1,PercentDI(AK54)))","v":""},{"$f":"IF(AK54=0,\"\",DIDECODE(AK54))","v":""},{"$f":"IF(AK54=0,\"\",PDECODE(AK54))","v":""},{"$f":"IF(OR(W54<>\"\",AND(Y54=0,AB54=0)),0,LtIncentive(E54,F54,J54,L54,N54,K54,AE54,SUM($AI$21:AI53,$AM$21:AM53),SUM($AJ$21:AJ53,$AN$21:AN53),DIEligibility))","v":0},{"$f":"IF(AO54=0,\"\",PercentDI(AO54))","v":""},{"$f":"IF(AO54=0,\"\",DIDECODE(AO54))","v":""},{"$f":"IF(AO54=0,\"\",PDECODE(AO54))","v":""},{"$f":"IF(OR(W54<>\"\",AC54=0),0,LtCTRLIncentive(M54,L54,O54,G54,F54,E54,J54,SUM($AI$21:AI54,$AM$21:AM53),SUM($AJ$21:AJ54,$AN$21:AN53),DIEligibility))","v":0},0,0,0,0,0]
[null,{"$f":"ROWS($B$22:B55)-1","v":33},null,null,null,null,null,{"$f":"IF(CType=\"NC\",0,IF($E55=\"\",\"\",WattsPerFixture(E55)))","v":""},"",null,null,null,null,{"$f":"IF($J55=\"\",\"\",WattsPerFixture(J55))","v":""},"",null,null,null,{"$f":"IF(OR(T55=\"\",COUNTIF($T$21:T55,T55)>1),\"\",ROW())","v":""},"",{"$f":"IF(OR(V55=\"\",COUNTIF($V$21:V55,V55)>1),\"\",ROW())","v":""},"","",0,0,0,0,0,0,0,0,0,0,{"$f":"IF(AK55=0,\"\",IF(AK55=\"X\",1,PercentDI(AK55)))","v":""},{"$f":"IF(AK55=0,\"\",DIDECODE(AK55))","v":""},{"$f":"IF(AK55=0,\"\",PDECODE(AK55))","v":""},{"$f":"IF(OR(W55<>\"\",AND(Y55=0,AB55=0)),0,LtIncentive(E55,F55,J55,L55,N55,K55,AE55,SUM($AI$21:AI54,$AM$21:AM54),SUM($AJ$21:AJ54,$AN$21:AN54),DIEligibility))","v":0},{"$f":"IF(AO55=0,\"\",PercentDI(AO55))","v":""},{"$f":"IF(AO55=0,\"\",DIDECODE(AO55))","v":""},{"$f":"IF(AO55=0,\"\",PDECODE(AO55))","v":""},{"$f":"IF(OR(W55<>\"\",AC55=0),0,LtCTRLIncentive(M55,L55,O55,G55,F55,E55,J55,SUM($AI$21:AI55,$AM$21:AM54),SUM($AJ$21:AJ55,$AN$21:AN54),DIEligibility))","v":0},0,0,0,0,0]
[null,{"$f":"ROWS($B$22:B56)-1","v":34},null,null,null,null,null,{"$f":"IF(CType=\"NC\",0,IF($E56=\"\",\"\",WattsPerFixture(E56)))","v":""},"",null,null,null,null,{"$f":"IF($J56=\"\",\"\",WattsPerFixture(J56))","v":""},"",null,null,null,{"$f":"IF(OR(T56=\"\",COUNTIF($T$21:T56,T56)>1),\"\",ROW())","v":""},"",{"$f":"IF(OR(V56=\"\",COUNTIF($V$21:V56,V56)>1),\"\",ROW())","v":""},"","",0,0,0,0,0,0,0,0,0,0,{"$f":"IF(AK56=0,\"\",IF(AK56=\"X\",1,PercentDI(AK56)))","v":""},{"$f":"IF(AK56=0,\"\",DIDECODE(AK56))","v":""},{"$f":"IF(AK56=0,\"\",PDECODE(AK56))","v":""},{"$f":"IF(OR(W56<>\"\",AND(Y56=0,AB56=0)),0,LtIncentive(E56,F56,J56,L56,N56,K56,AE56,SUM($AI$21:AI55,$AM$21:AM55),SUM($AJ$21:AJ55,$AN$21:AN55),DIEligibility))","v":0},{"$f":"IF(AO56=0,\"\",PercentDI(AO56))","v":""},{"$f":"IF(AO56=0,\"\",DIDECODE(AO56))","v":""},{"$f":"IF(AO56=0,\"\",PDECODE(AO56))","v":""},{"$f":"IF(OR(W56<>\"\",AC56=0),0,LtCTRLIncentive(M56,L56,O56,G56,F56,E56,J56,SUM($AI$21:AI56,$AM$21:AM55),SUM($AJ$21:AJ56,$AN$21:AN55),DIEligibility))","v":0},0,0,0,0,0]
[null,{"$f":"ROWS($B$22:B57)-1","v":35},null,null,null,null,null,{"$f":"IF(CType=\"NC\",0,IF($E57=\"\",\"\",WattsPerFixture(E57)))","v":""},"",null,null,null,null,{"$f":"IF($J57=\"\",\"\",WattsPerFixture(J57))","v":""},"",null,null,null,{"$f":"IF(OR(T57=\"\",COUNTIF($T$21:T57,T57)>1),\"\",ROW())","v":""},"",{"$f":"IF(OR(V57=\"\",COUNTIF($V$21:V57,V57)>1),\"\",ROW())","v":""},"","",0,0,0,0,0,0,0,0,0,0,{"$f":"IF(AK57=0,\"\",IF(AK57=\"X\",1,PercentDI(AK57)))","v":""},{"$f":"IF(AK57=0,\"\",DIDECODE(AK57))","v":""},{"$f":"IF(AK57=0,\"\",PDECODE(AK57))","v":""},{"$f":"IF(OR(W57<>\"\",AND(Y57=0,AB57=0)),0,LtIncentive(E57,F57,J57,L57,N57,K57,AE57,SUM($AI$21:AI56,$AM$21:AM56),SUM($AJ$21:AJ56,$AN$21:AN56),DIEligibility))","v":0},{"$f":"IF(AO57=0,\"\",PercentDI(AO57))","v":""},{"$f":"IF(AO57=0,\"\",DIDECODE(AO57))","v":""},{"$f":"IF(AO57=0,\"\",PDECODE(AO57))","v":""},{"$f":"IF(OR(W57<>\"\",AC57=0),0,LtCTRLIncentive(M57,L57,O57,G57,F57,E57,J57,SUM($AI$21:AI57,$AM$21:AM56),SUM($AJ$21:AJ57,$AN$21:AN56),DIEligibility))","v":0},0,0,0,0,0]
[null,{"$f":"ROWS($B$22:B58)-1","v":36},null,null,null,null,null,{"$f":"IF(CType=\"NC\",0,IF($E58=\"\",\"\",WattsPerFixture(E58)))","v":""},"",null,null,null,null,{"$f":"IF($J58=\"\",\"\",WattsPerFixture(J58))","v":""},"",null,null,null,{"$f":"IF(OR(T58=\"\",COUNTIF($T$21:T58,T58)>1),\"\",ROW())","v":""},"",{"$f":"IF(OR(V58=\"\",COUNTIF($V$21:V58,V58)>1),\"\",ROW())","v":""},"","",0,0,0,0,0,0,0,0,0,0,{"$f":"IF(AK58=0,\"\",IF(AK58=\"X\",1,PercentDI(AK58)))","v":""},{"$f":"IF(AK58=0,\"\",DIDECODE(AK58))","v":""},{"$f":"IF(AK58=0,\"\",PDECODE(AK58))","v":""},{"$f":"IF(OR(W58<>\"\",AND(Y58=0,AB58=0)),0,LtIncentive(E58,F58,J58,L58,N58,K58,AE58,SUM($AI$21:AI57,$AM$21:AM57),SUM($AJ$21:AJ57,$AN$21:AN57),DIEligibility))","v":0},{"$f":"IF(AO58=0,\"\",PercentDI(AO58))","v":""},{"$f":"IF(AO58=0,\"\",DIDECODE(AO58))","v":""},{"$f":"IF(AO58=0,\"\",PDECODE(AO58))","v":""},{"$f":"IF(OR(W58<>\"\",AC58=0),0,LtCTRLIncentive(M58,L58,O58,G58,F58,E58,J58,SUM($AI$21:AI58,$AM$21:AM57),SUM($AJ$21:AJ58,$AN$21:AN57),DIEligibility))","v":0},0,0,0,0,0]
[null,{"$f":"ROWS($B$22:B59)-1","v":37},null,null,null,null,null,{"$f":"IF(CType=\"NC\",0,IF($E59=\"\",\"\",WattsPerFixture(E59)))","v":""},"",null,null,null,null,{"$f":"IF($J59=\"\",\"\",WattsPerFixture(J59))","v":""},"",null,null,null,{"$f":"IF(OR(T59=\"\",COUNTIF($T$21:T59,T59)>1),\"\",ROW())","v":""},"",{"$f":"IF(OR(V59=\"\",COUNTIF($V$21:V59,V59)>1),\"\",ROW())","v":""},"","",0,0,0,0,0,0,0,0,0,0,{"$f":"IF(AK59=0,\"\",IF(AK59=\"X\",1,PercentDI(AK59)))","v":""},{"$f":"IF(AK59=0,\"\",DIDECODE(AK59))","v":""},{"$f":"IF(AK59=0,\"\",PDECODE(AK59))","v":""},{"$f":"IF(OR(W59<>\"\",AND(Y59=0,AB59=0)),0,LtIncentive(E59,F59,J59,L59,N59,K59,AE59,SUM($AI$21:AI58,$AM$21:AM58),SUM($AJ$21:AJ58,$AN$21:AN58),DIEligibility))","v":0},{"$f":"IF(AO59=0,\"\",PercentDI(AO59))","v":""},{"$f":"IF(AO59=0,\"\",DIDECODE(AO59))","v":""},{"$f":"IF(AO59=0,\"\",PDECODE(AO59))","v":""},{"$f":"IF(OR(W59<>\"\",AC59=0),0,LtCTRLIncentive(M59,L59,O59,G59,F59,E59,J59,SUM($AI$21:AI59,$AM$21:AM58),SUM($AJ$21:AJ59,$AN$21:AN58),DIEligibility))","v":0},0,0,0,0,0]
[null,{"$f":"ROWS($B$22:B60)-1","v":38},null,null,null,null,null,{"$f":"IF(CType=\"NC\",0,IF($E60=\"\",\"\",WattsPerFixture(E60)))","v":""},"",null,null,null,null,{"$f":"IF($J60=\"\",\"\",WattsPerFixture(J60))","v":""},"",null,null,null,{"$f":"IF(OR(T60=\"\",COUNTIF($T$21:T60,T60)>1),\"\",ROW())","v":""},"",{"$f":"IF(OR(V60=\"\",COUNTIF($V$21:V60,V60)>1),\"\",ROW())","v":""},"","",0,0,0,0,0,0,0,0,0,0,{"$f":"IF(AK60=0,\"\",IF(AK60=\"X\",1,PercentDI(AK60)))","v":""},{"$f":"IF(AK60=0,\"\",DIDECODE(AK60))","v":""},{"$f":"IF(AK60=0,\"\",PDECODE(AK60))","v":""},{"$f":"IF(OR(W60<>\"\",AND(Y60=0,AB60=0)),0,LtIncentive(E60,F60,J60,L60,N60,K60,AE60,SUM($AI$21:AI59,$AM$21:AM59),SUM($AJ$21:AJ59,$AN$21:AN59),DIEligibility))","v":0},{"$f":"IF(AO60=0,\"\",PercentDI(AO60))","v":""},{"$f":"IF(AO60=0,\"\",DIDECODE(AO60))","v":""},{"$f":"IF(AO60=0,\"\",PDECODE(AO60))","v":""},{"$f":"IF(OR(W60<>\"\",AC60=0),0,LtCTRLIncentive(M60,L60,O60,G60,F60,E60,J60,SUM($AI$21:AI60,$AM$21:AM59),SUM($AJ$21:AJ60,$AN$21:AN59),DIEligibility))","v":0},0,0,0,0,0]
[null,{"$f":"ROWS($B$22:B61)-1","v":39},null,null,null,null,null,{"$f":"IF(CType=\"NC\",0,IF($E61=\"\",\"\",WattsPerFixture(E61)))","v":""},"",null,null,null,null,{"$f":"IF($J61=\"\",\"\",WattsPerFixture(J61))","v":""},"",null,null,null,{"$f":"IF(OR(T61=\"\",COUNTIF($T$21:T61,T61)>1),\"\",ROW())","v":""},"",{"$f":"IF(OR(V61=\"\",COUNTIF($V$21:V61,V61)>1),\"\",ROW())","v":""},"","",0,0,0,0,0,0,0,0,0,0,{"$f":"IF(AK61=0,\"\",IF(AK61=\"X\",1,PercentDI(AK61)))","v":""},{"$f":"IF(AK61=0,\"\",DIDECODE(AK61))","v":""},{"$f":"IF(AK61=0,\"\",PDECODE(AK61))","v":""},{"$f":"IF(OR(W61<>\"\",AND(Y61=0,AB61=0)),0,LtIncentive(E61,F61,J61,L61,N61,K61,AE61,SUM($AI$21:AI60,$AM$21:AM60),SUM($AJ$21:AJ60,$AN$21:AN60),DIEligibility))","v":0},{"$f":"IF(AO61=0,\"\",PercentDI(AO61))","v":""},{"$f":"IF(AO61=0,\"\",DIDECODE(AO61))","v":""},{"$f":"IF(AO61=0,\"\",PDECODE(AO61))","v":""},{"$f":"IF(OR(W61<>\"\",AC61=0),0,LtCTRLIncentive(M61,L61,O61,G61,F61,E61,J61,SUM($AI$21:AI61,$AM$21:AM60),SUM($AJ$21:AJ61,$AN$21:AN60),DIEligibility))","v":0},0,0,0,0,0]
[null,{"$f":"ROWS($B$22:B62)-1","v":40},null,null,null,null,null,{"$f":"IF(CType=\"NC\",0,IF($E62=\"\",\"\",WattsPerFixture(E62)))","v":""},"",null,null,null,null,{"$f":"IF($J62=\"\",\"\",WattsPerFixture(J62))","v":""},"",null,null,null,{"$f":"IF(OR(T62=\"\",COUNTIF($T$21:T62,T62)>1),\"\",ROW())","v":""},"",{"$f":"IF(OR(V62=\"\",COUNTIF($V$21:V62,V62)>1),\"\",ROW())","v":""},"","",0,0,0,0,0,0,0,0,0,0,{"$f":"IF(AK62=0,\"\",IF(AK62=\"X\",1,PercentDI(AK62)))","v":""},{"$f":"IF(AK62=0,\"\",DIDECODE(AK62))","v":""},{"$f":"IF(AK62=0,\"\",PDECODE(AK62))","v":""},{"$f":"IF(OR(W62<>\"\",AND(Y62=0,AB62=0)),0,LtIncentive(E62,F62,J62,L62,N62,K62,AE62,SUM($AI$21:AI61,$AM$21:AM61),SUM($AJ$21:AJ61,$AN$21:AN61),DIEligibility))","v":0},{"$f":"IF(AO62=0,\"\",PercentDI(AO62))","v":""},{"$f":"IF(AO62=0,\"\",DIDECODE(AO62))","v":""},{"$f":"IF(AO62=0,\"\",PDECODE(AO62))","v":""},{"$f":"IF(OR(W62<>\"\",AC62=0),0,LtCTRLIncentive(M62,L62,O62,G62,F62,E62,J62,SUM($AI$21:AI62,$AM$21:AM61),SUM($AJ$21:AJ62,$AN$21:AN61),DIEligibility))","v":0},0,0,0,0,0]
[null,{"$f":"ROWS($B$22:B63)-1","v":41},null,null,null,null,null,{"$f":"IF(CType=\"NC\",0,IF($E63=\"\",\"\",WattsPerFixture(E63)))","v":""},"",null,null,null,null,{"$f":"IF($J63=\"\",\"\",WattsPerFixture(J63))","v":""},"",null,null,null,{"$f":"IF(OR(T63=\"\",COUNTIF($T$21:T63,T63)>1),\"\",ROW())","v":""},"",{"$f":"IF(OR(V63=\"\",COUNTIF($V$21:V63,V63)>1),\"\",ROW())","v":""},"","",0,0,0,0,0,0,0,0,0,0,{"$f":"IF(AK63=0,\"\",IF(AK63=\"X\",1,PercentDI(AK63)))","v":""},{"$f":"IF(AK63=0,\"\",DIDECODE(AK63))","v":""},{"$f":"IF(AK63=0,\"\",PDECODE(AK63))","v":""},{"$f":"IF(OR(W63<>\"\",AND(Y63=0,AB63=0)),0,LtIncentive(E63,F63,J63,L63,N63,K63,AE63,SUM($AI$21:AI62,$AM$21:AM62),SUM($AJ$21:AJ62,$AN$21:AN62),DIEligibility))","v":0},{"$f":"IF(AO63=0,\"\",PercentDI(AO63))","v":""},{"$f":"IF(AO63=0,\"\",DIDECODE(AO63))","v":""},{"$f":"IF(AO63=0,\"\",PDECODE(AO63))","v":""},{"$f":"IF(OR(W63<>\"\",AC63=0),0,LtCTRLIncentive(M63,L63,O63,G63,F63,E63,J63,SUM($AI$21:AI63,$AM$21:AM62),SUM($AJ$21:AJ63,$AN$21:AN62),DIEligibility))","v":0},0,0,0,0,0]
[null,{"$f":"ROWS($B$22:B64)-1","v":42},null,null,null,null,null,{"$f":"IF(CType=\"NC\",0,IF($E64=\"\",\"\",WattsPerFixture(E64)))","v":""},"",null,null,null,null,{"$f":"IF($J64=\"\",\"\",WattsPerFixture(J64))","v":""},"",null,null,null,{"$f":"IF(OR(T64=\"\",COUNTIF($T$21:T64,T64)>1),\"\",ROW())","v":""},"",{"$f":"IF(OR(V64=\"\",COUNTIF($V$21:V64,V64)>1),\"\",ROW())","v":""},"","",0,0,0,0,0,0,0,0,0,0,{"$f":"IF(AK64=0,\"\",IF(AK64=\"X\",1,PercentDI(AK64)))","v":""},{"$f":"IF(AK64=0,\"\",DIDECODE(AK64))","v":""},{"$f":"IF(AK64=0,\"\",PDECODE(AK64))","v":""},{"$f":"IF(OR(W64<>\"\",AND(Y64=0,AB64=0)),0,LtIncentive(E64,F64,J64,L64,N64,K64,AE64,SUM($AI$21:AI63,$AM$21:AM63),SUM($AJ$21:AJ63,$AN$21:AN63),DIEligibility))","v":0},{"$f":"IF(AO64=0,\"\",PercentDI(AO64))","v":""},{"$f":"IF(AO64=0,\"\",DIDECODE(AO64))","v":""},{"$f":"IF(AO64=0,\"\",PDECODE(AO64))","v":""},{"$f":"IF(OR(W64<>\"\",AC64=0),0,LtCTRLIncentive(M64,L64,O64,G64,F64,E64,J64,SUM($AI$21:AI64,$AM$21:AM63),SUM($AJ$21:AJ64,$AN$21:AN63),DIEligibility))","v":0},0,0,0,0,0]
[null,{"$f":"ROWS($B$22:B65)-1","v":43},null,null,null,null,null,{"$f":"IF(CType=\"NC\",0,IF($E65=\"\",\"\",WattsPerFixture(E65)))","v":""},"",null,null,null,null,{"$f":"IF($J65=\"\",\"\",WattsPerFixture(J65))","v":""},"",null,null,null,{"$f":"IF(OR(T65=\"\",COUNTIF($T$21:T65,T65)>1),\"\",ROW())","v":""},"",{"$f":"IF(OR(V65=\"\",COUNTIF($V$21:V65,V65)>1),\"\",ROW())","v":""},"","",0,0,0,0,0,0,0,0,0,0,{"$f":"IF(AK65=0,\"\",IF(AK65=\"X\",1,PercentDI(AK65)))","v":""},{"$f":"IF(AK65=0,\"\",DIDECODE(AK65))","v":""},{"$f":"IF(AK65=0,\"\",PDECODE(AK65))","v":""},{"$f":"IF(OR(W65<>\"\",AND(Y65=0,AB65=0)),0,LtIncentive(E65,F65,J65,L65,N65,K65,AE65,SUM($AI$21:AI64,$AM$21:AM64),SUM($AJ$21:AJ64,$AN$21:AN64),DIEligibility))","v":0},{"$f":"IF(AO65=0,\"\",PercentDI(AO65))","v":""},{"$f":"IF(AO65=0,\"\",DIDECODE(AO65))","v":""},{"$f":"IF(AO65=0,\"\",PDECODE(AO65))","v":""},{"$f":"IF(OR(W65<>\"\",AC65=0),0,LtCTRLIncentive(M65,L65,O65,G65,F65,E65,J65,SUM($AI$21:AI65,$AM$21:AM64),SUM($AJ$21:AJ65,$AN$21:AN64),DIEligibility))","v":0},0,0,0,0,0]
[null,{"$f":"ROWS($B$22:B66)-1","v":44},null,null,null,null,null,{"$f":"IF(CType=\"NC\",0,IF($E66=\"\",\"\",WattsPerFixture(E66)))","v":""},"",null,null,null,null,{"$f":"IF($J66=\"\",\"\",WattsPerFixture(J66))","v":""},"",null,null,null,{"$f":"IF(OR(T66=\"\",COUNTIF($T$21:T66,T66)>1),\"\",ROW())","v":""},"",{"$f":"IF(OR(V66=\"\",COUNTIF($V$21:V66,V66)>1),\"\",ROW())","v":""},"","",0,0,0,0,0,0,0,0,0,0,{"$f":"IF(AK66=0,\"\",IF(AK66=\"X\",1,PercentDI(AK66)))","v":""},{"$f":"IF(AK66=0,\"\",DIDECODE(AK66))","v":""},{"$f":"IF(AK66=0,\"\",PDECODE(AK66))","v":""},{"$f":"IF(OR(W66<>\"\",AND(Y66=0,AB66=0)),0,LtIncentive(E66,F66,J66,L66,N66,K66,AE66,SUM($AI$21:AI65,$AM$21:AM65),SUM($AJ$21:AJ65,$AN$21:AN65),DIEligibility))","v":0},{"$f":"IF(AO66=0,\"\",PercentDI(AO66))","v":""},{"$f":"IF(AO66=0,\"\",DIDECODE(AO66))","v":""},{"$f":"IF(AO66=0,\"\",PDECODE(AO66))","v":""},{"$f":"IF(OR(W66<>\"\",AC66=0),0,LtCTRLIncentive(M66,L66,O66,G66,F66,E66,J66,SUM($AI$21:AI66,$AM$21:AM65),SUM($AJ$21:AJ66,$AN$21:AN65),DIEligibility))","v":0},0,0,0,0,0]
[null,{"$f":"ROWS($B$22:B67)-1","v":45},null,null,null,null,null,{"$f":"IF(CType=\"NC\",0,IF($E67=\"\",\"\",WattsPerFixture(E67)))","v":""},"",null,null,null,null,{"$f":"IF($J67=\"\",\"\",WattsPerFixture(J67))","v":""},"",null,null,null,{"$f":"IF(OR(T67=\"\",COUNTIF($T$21:T67,T67)>1),\"\",ROW())","v":""},"",{"$f":"IF(OR(V67=\"\",COUNTIF($V$21:V67,V67)>1),\"\",ROW())","v":""},"","",0,0,0,0,0,0,0,0,0,0,{"$f":"IF(AK67=0,\"\",IF(AK67=\"X\",1,PercentDI(AK67)))","v":""},{"$f":"IF(AK67=0,\"\",DIDECODE(AK67))","v":""},{"$f":"IF(AK67=0,\"\",PDECODE(AK67))","v":""},{"$f":"IF(OR(W67<>\"\",AND(Y67=0,AB67=0)),0,LtIncentive(E67,F67,J67,L67,N67,K67,AE67,SUM($AI$21:AI66,$AM$21:AM66),SUM($AJ$21:AJ66,$AN$21:AN66),DIEligibility))","v":0},{"$f":"IF(AO67=0,\"\",PercentDI(AO67))","v":""},{"$f":"IF(AO67=0,\"\",DIDECODE(AO67))","v":""},{"$f":"IF(AO67=0,\"\",PDECODE(AO67))","v":""},{"$f":"IF(OR(W67<>\"\",AC67=0),0,LtCTRLIncentive(M67,L67,O67,G67,F67,E67,J67,SUM($AI$21:AI67,$AM$21:AM66),SUM($AJ$21:AJ67,$AN$21:AN66),DIEligibility))","v":0},0,0,0,0,0]
[null,{"$f":"ROWS($B$22:B68)-1","v":46},null,null,null,null,null,{"$f":"IF(CType=\"NC\",0,IF($E68=\"\",\"\",WattsPerFixture(E68)))","v":""},"",null,null,null,null,{"$f":"IF($J68=\"\",\"\",WattsPerFixture(J68))","v":""},"",null,null,null,{"$f":"IF(OR(T68=\"\",COUNTIF($T$21:T68,T68)>1),\"\",ROW())","v":""},"",{"$f":"IF(OR(V68=\"\",COUNTIF($V$21:V68,V68)>1),\"\",ROW())","v":""},"","",0,0,0,0,0,0,0,0,0,0,{"$f":"IF(AK68=0,\"\",IF(AK68=\"X\",1,PercentDI(AK68)))","v":""},{"$f":"IF(AK68=0,\"\",DIDECODE(AK68))","v":""},{"$f":"IF(AK68=0,\"\",PDECODE(AK68))","v":""},{"$f":"IF(OR(W68<>\"\",AND(Y68=0,AB68=0)),0,LtIncentive(E68,F68,J68,L68,N68,K68,AE68,SUM($AI$21:AI67,$AM$21:AM67),SUM($AJ$21:AJ67,$AN$21:AN67),DIEligibility))","v":0},{"$f":"IF(AO68=0,\"\",PercentDI(AO68))","v":""},{"$f":"IF(AO68=0,\"\",DIDECODE(AO68))","v":""},{"$f":"IF(AO68=0,\"\",PDECODE(AO68))","v":""},{"$f":"IF(OR(W68<>\"\",AC68=0),0,LtCTRLIncentive(M68,L68,O68,G68,F68,E68,J68,SUM($AI$21:AI68,$AM$21:AM67),SUM($AJ$21:AJ68,$AN$21:AN67),DIEligibility))","v":0},0,0,0,0,0]
[null,{"$f":"ROWS($B$22:B69)-1","v":47},null,null,null,null,null,{"$f":"IF(CType=\"NC\",0,IF($E69=\"\",\"\",WattsPerFixture(E69)))","v":""},"",null,null,null,null,{"$f":"IF($J69=\"\",\"\",WattsPerFixture(J69))","v":""},"",null,null,null,{"$f":"IF(OR(T69=\"\",COUNTIF($T$21:T69,T69)>1),\"\",ROW())","v":""},"",{"$f":"IF(OR(V69=\"\",COUNTIF($V$21:V69,V69)>1),\"\",ROW())","v":""},"","",0,0,0,0,0,0,0,0,0,0,{"$f":"IF(AK69=0,\"\",IF(AK69=\"X\",1,PercentDI(AK69)))","v":""},{"$f":"IF(AK69=0,\"\",DIDECODE(AK69))","v":""},{"$f":"IF(AK69=0,\"\",PDECODE(AK69))","v":""},{"$f":"IF(OR(W69<>\"\",AND(Y69=0,AB69=0)),0,LtIncentive(E69,F69,J69,L69,N69,K69,AE69,SUM($AI$21:AI68,$AM$21:AM68),SUM($AJ$21:AJ68,$AN$21:AN68),DIEligibility))","v":0},{"$f":"IF(AO69=0,\"\",PercentDI(AO69))","v":""},{"$f":"IF(AO69=0,\"\",DIDECODE(AO69))","v":""},{"$f":"IF(AO69=0,\"\",PDECODE(AO69))","v":""},{"$f":"IF(OR(W69<>\"\",AC69=0),0,LtCTRLIncentive(M69,L69,O69,G69,F69,E69,J69,SUM($AI$21:AI69,$AM$21:AM68),SUM($AJ$21:AJ69,$AN$21:AN68),DIEligibility))","v":0},0,0,0,0,0]
[null,{"$f":"ROWS($B$22:B70)-1","v":48},null,null,null,null,null,{"$f":"IF(CType=\"NC\",0,IF($E70=\"\",\"\",WattsPerFixture(E70)))","v":""},"",null,null,null,null,{"$f":"IF($J70=\"\",\"\",WattsPerFixture(J70))","v":""},"",null,null,null,{"$f":"IF(OR(T70=\"\",COUNTIF($T$21:T70,T70)>1),\"\",ROW())","v":""},"",{"$f":"IF(OR(V70=\"\",COUNTIF($V$21:V70,V70)>1),\"\",ROW())","v":""},"","",0,0,0,0,0,0,0,0,0,0,{"$f":"IF(AK70=0,\"\",IF(AK70=\"X\",1,PercentDI(AK70)))","v":""},{"$f":"IF(AK70=0,\"\",DIDECODE(AK70))","v":""},{"$f":"IF(AK70=0,\"\",PDECODE(AK70))","v":""},{"$f":"IF(OR(W70<>\"\",AND(Y70=0,AB70=0)),0,LtIncentive(E70,F70,J70,L70,N70,K70,AE70,SUM($AI$21:AI69,$AM$21:AM69),SUM($AJ$21:AJ69,$AN$21:AN69),DIEligibility))","v":0},{"$f":"IF(AO70=0,\"\",PercentDI(AO70))","v":""},{"$f":"IF(AO70=0,\"\",DIDECODE(AO70))","v":""},{"$f":"IF(AO70=0,\"\",PDECODE(AO70))","v":""},{"$f":"IF(OR(W70<>\"\",AC70=0),0,LtCTRLIncentive(M70,L70,O70,G70,F70,E70,J70,SUM($AI$21:AI70,$AM$21:AM69),SUM($AJ$21:AJ70,$AN$21:AN69),DIEligibility))","v":0},0,0,0,0,0]
[null,{"$f":"ROWS($B$22:B71)-1","v":49},null,null,null,null,null,{"$f":"IF(CType=\"NC\",0,IF($E71=\"\",\"\",WattsPerFixture(E71)))","v":""},"",null,null,null,null,{"$f":"IF($J71=\"\",\"\",WattsPerFixture(J71))","v":""},"",null,null,null,{"$f":"IF(OR(T71=\"\",COUNTIF($T$21:T71,T71)>1),\"\",ROW())","v":""},"",{"$f":"IF(OR(V71=\"\",COUNTIF($V$21:V71,V71)>1),\"\",ROW())","v":""},"","",0,0,0,0,0,0,0,0,0,0,{"$f":"IF(AK71=0,\"\",IF(AK71=\"X\",1,PercentDI(AK71)))","v":""},{"$f":"IF(AK71=0,\"\",DIDECODE(AK71))","v":""},{"$f":"IF(AK71=0,\"\",PDECODE(AK71))","v":""},{"$f":"IF(OR(W71<>\"\",AND(Y71=0,AB71=0)),0,LtIncentive(E71,F71,J71,L71,N71,K71,AE71,SUM($AI$21:AI70,$AM$21:AM70),SUM($AJ$21:AJ70,$AN$21:AN70),DIEligibility))","v":0},{"$f":"IF(AO71=0,\"\",PercentDI(AO71))","v":""},{"$f":"IF(AO71=0,\"\",DIDECODE(AO71))","v":""},{"$f":"IF(AO71=0,\"\",PDECODE(AO71))","v":""},{"$f":"IF(OR(W71<>\"\",AC71=0),0,LtCTRLIncentive(M71,L71,O71,G71,F71,E71,J71,SUM($AI$21:AI71,$AM$21:AM70),SUM($AJ$21:AJ71,$AN$21:AN70),DIEligibility))","v":0},0,0,0,0,0]
[null,{"$f":"ROWS($B$22:B72)-1","v":50},null,null,null,null,null,{"$f":"IF(CType=\"NC\",0,IF($E72=\"\",\"\",WattsPerFixture(E72)))","v":""},"",null,null,null,null,{"$f":"IF($J72=\"\",\"\",WattsPerFixture(J72))","v":""},"",null,null,null,{"$f":"IF(OR(T72=\"\",COUNTIF($T$21:T72,T72)>1),\"\",ROW())","v":""},"",{"$f":"IF(OR(V72=\"\",COUNTIF($V$21:V72,V72)>1),\"\",ROW())","v":""},"","",0,0,0,0,0,0,0,0,0,0,{"$f":"IF(AK72=0,\"\",IF(AK72=\"X\",1,PercentDI(AK72)))","v":""},{"$f":"IF(AK72=0,\"\",DIDECODE(AK72))","v":""},{"$f":"IF(AK72=0,\"\",PDECODE(AK72))","v":""},{"$f":"IF(OR(W72<>\"\",AND(Y72=0,AB72=0)),0,LtIncentive(E72,F72,J72,L72,N72,K72,AE72,SUM($AI$21:AI71,$AM$21:AM71),SUM($AJ$21:AJ71,$AN$21:AN71),DIEligibility))","v":0},{"$f":"IF(AO72=0,\"\",PercentDI(AO72))","v":""},{"$f":"IF(AO72=0,\"\",DIDECODE(AO72))","v":""},{"$f":"IF(AO72=0,\"\",PDECODE(AO72))","v":""},{"$f":"IF(OR(W72<>\"\",AC72=0),0,LtCTRLIncentive(M72,L72,O72,G72,F72,E72,J72,SUM($AI$21:AI72,$AM$21:AM71),SUM($AJ$21:AJ72,$AN$21:AN71),DIEligibility))","v":0},0,0,0,0,0]
[null,{"$f":"ROWS($B$22:B73)-1","v":51},null,null,null,null,null,{"$f":"IF(CType=\"NC\",0,IF($E73=\"\",\"\",WattsPerFixture(E73)))","v":""},"",null,null,null,null,{"$f":"IF($J73=\"\",\"\",WattsPerFixture(J73))","v":""},"",null,null,null,null,"",{"$f":"IF(OR(V73=\"\",COUNTIF($V$21:V73,V73)>1),\"\",ROW())","v":""},"","",0,0,0,0,0,0,0,0,0,0,{"$f":"IF(AK73=0,\"\",IF(AK73=\"X\",1,PercentDI(AK73)))","v":""},{"$f":"IF(AK73=0,\"\",DIDECODE(AK73))","v":""},{"$f":"IF(AK73=0,\"\",PDECODE(AK73))","v":""},{"$f":"IF(OR(W73<>\"\",AND(Y73=0,AB73=0)),0,LtIncentive(E73,F73,J73,L73,N73,K73,AE73,SUM($AI$21:AI72,$AM$21:AM72),SUM($AJ$21:AJ72,$AN$21:AN72),DIEligibility))","v":0},{"$f":"IF(AO73=0,\"\",PercentDI(AO73))","v":""},{"$f":"IF(AO73=0,\"\",DIDECODE(AO73))","v":""},{"$f":"IF(AO73=0,\"\",PDECODE(AO73))","v":""},{"$f":"IF(OR(W73<>\"\",AC73=0),0,LtCTRLIncentive(M73,L73,O73,G73,F73,E73,J73,SUM($AI$21:AI73,$AM$21:AM72),SUM($AJ$21:AJ73,$AN$21:AN72),DIEligibility))","v":0},0,0,0,0,0]
[null,{"$f":"ROWS($B$22:B74)-1","v":52},null,null,null,null,null,{"$f":"IF(CType=\"NC\",0,IF($E74=\"\",\"\",WattsPerFixture(E74)))","v":""},"",null,null,null,null,{"$f":"IF($J74=\"\",\"\",WattsPerFixture(J74))","v":""},"",null,null,null,null,"",{"$f":"IF(OR(V74=\"\",COUNTIF($V$21:V74,V74)>1),\"\",ROW())","v":""},"","",0,0,0,0,0,0,0,0,0,0,{"$f":"IF(AK74=0,\"\",IF(AK74=\"X\",1,PercentDI(AK74)))","v":""},{"$f":"IF(AK74=0,\"\",DIDECODE(AK74))","v":""},{"$f":"IF(AK74=0,\"\",PDECODE(AK74))","v":""},{"$f":"IF(OR(W74<>\"\",AND(Y74=0,AB74=0)),0,LtIncentive(E74,F74,J74,L74,N74,K74,AE74,SUM($AI$21:AI73,$AM$21:AM73),SUM($AJ$21:AJ73,$AN$21:AN73),DIEligibility))","v":0},{"$f":"IF(AO74=0,\"\",PercentDI(AO74))","v":""},{"$f":"IF(AO74=0,\"\",DIDECODE(AO74))","v":""},{"$f":"IF(AO74=0,\"\",PDECODE(AO74))","v":""},{"$f":"IF(OR(W74<>\"\",AC74=0),0,LtCTRLIncentive(M74,L74,O74,G74,F74,E74,J74,SUM($AI$21:AI74,$AM$21:AM73),SUM($AJ$21:AJ74,$AN$21:AN73),DIEligibility))","v":0},0,0,0,0,0]
[null,{"$f":"ROWS($B$22:B75)-1","v":53},null,null,null,null,null,{"$f":"IF(CType=\"NC\",0,IF($E75=\"\",\"\",WattsPerFixture(E75)))","v":""},"",null,null,null,null,{"$f":"IF($J75=\"\",\"\",WattsPerFixture(J75))","v":""},"",null,null,null,null,"",{"$f":"IF(OR(V75=\"\",COUNTIF($V$21:V75,V75)>1),\"\",ROW())","v":""},"","",0,0,0,0,0,0,0,0,0,0,{"$f":"IF(AK75=0,\"\",IF(AK75=\"X\",1,PercentDI(AK75)))","v":""},{"$f":"IF(AK75=0,\"\",DIDECODE(AK75))","v":""},{"$f":"IF(AK75=0,\"\",PDECODE(AK75))","v":""},{"$f":"IF(OR(W75<>\"\",AND(Y75=0,AB75=0)),0,LtIncentive(E75,F75,J75,L75,N75,K75,AE75,SUM($AI$21:AI74,$AM$21:AM74),SUM($AJ$21:AJ74,$AN$21:AN74),DIEligibility))","v":0},{"$f":"IF(AO75=0,\"\",PercentDI(AO75))","v":""},{"$f":"IF(AO75=0,\"\",DIDECODE(AO75))","v":""},{"$f":"IF(AO75=0,\"\",PDECODE(AO75))","v":""},{"$f":"IF(OR(W75<>\"\",AC75=0),0,LtCTRLIncentive(M75,L75,O75,G75,F75,E75,J75,SUM($AI$21:AI75,$AM$21:AM74),SUM($AJ$21:AJ75,$AN$21:AN74),DIEligibility))","v":0},0,0,0,0,0]
[null,{"$f":"ROWS($B$22:B76)-1","v":54},null,null,null,null,null,{"$f":"IF(CType=\"NC\",0,IF($E76=\"\",\"\",WattsPerFixture(E76)))","v":""},"",null,null,null,null,{"$f":"IF($J76=\"\",\"\",WattsPerFixture(J76))","v":""},"",null,null,null,null,"",{"$f":"IF(OR(V76=\"\",COUNTIF($V$21:V76,V76)>1),\"\",ROW())","v":""},"","",0,0,0,0,0,0,0,0,0,0,{"$f":"IF(AK76=0,\"\",IF(AK76=\"X\",1,PercentDI(AK76)))","v":""},{"$f":"IF(AK76=0,\"\",DIDECODE(AK76))","v":""},{"$f":"IF(AK76=0,\"\",PDECODE(AK76))","v":""},{"$f":"IF(OR(W76<>\"\",AND(Y76=0,AB76=0)),0,LtIncentive(E76,F76,J76,L76,N76,K76,AE76,SUM($AI$21:AI75,$AM$21:AM75),SUM($AJ$21:AJ75,$AN$21:AN75),DIEligibility))","v":0},{"$f":"IF(AO76=0,\"\",PercentDI(AO76))","v":""},{"$f":"IF(AO76=0,\"\",DIDECODE(AO76))","v":""},{"$f":"IF(AO76=0,\"\",PDECODE(AO76))","v":""},{"$f":"IF(OR(W76<>\"\",AC76=0),0,LtCTRLIncentive(M76,L76,O76,G76,F76,E76,J76,SUM($AI$21:AI76,$AM$21:AM75),SUM($AJ$21:AJ76,$AN$21:AN75),DIEligibility))","v":0},0,0,0,0,0]
[null,{"$f":"ROWS($B$22:B77)-1","v":55},null,null,null,null,null,{"$f":"IF(CType=\"NC\",0,IF($E77=\"\",\"\",WattsPerFixture(E77)))","v":""},"",null,null,null,null,{"$f":"IF($J77=\"\",\"\",WattsPerFixture(J77))","v":""},"",null,null,null,null,"",{"$f":"IF(OR(V77=\"\",COUNTIF($V$21:V77,V77)>1),\"\",ROW())","v":""},"","",0,0,0,0,0,0,0,0,0,0,{"$f":"IF(AK77=0,\"\",IF(AK77=\"X\",1,PercentDI(AK77)))","v":""},{"$f":"IF(AK77=0,\"\",DIDECODE(AK77))","v":""},{"$f":"IF(AK77=0,\"\",PDECODE(AK77))","v":""},{"$f":"IF(OR(W77<>\"\",AND(Y77=0,AB77=0)),0,LtIncentive(E77,F77,J77,L77,N77,K77,AE77,SUM($AI$21:AI76,$AM$21:AM76),SUM($AJ$21:AJ76,$AN$21:AN76),DIEligibility))","v":0},{"$f":"IF(AO77=0,\"\",PercentDI(AO77))","v":""},{"$f":"IF(AO77=0,\"\",DIDECODE(AO77))","v":""},{"$f":"IF(AO77=0,\"\",PDECODE(AO77))","v":""},{"$f":"IF(OR(W77<>\"\",AC77=0),0,LtCTRLIncentive(M77,L77,O77,G77,F77,E77,J77,SUM($AI$21:AI77,$AM$21:AM76),SUM($AJ$21:AJ77,$AN$21:AN76),DIEligibility))","v":0},0,0,0,0,0]
[null,{"$f":"ROWS($B$22:B78)-1","v":56},null,null,null,null,null,{"$f":"IF(CType=\"NC\",0,IF($E78=\"\",\"\",WattsPerFixture(E78)))","v":""},"",null,null,null,null,{"$f":"IF($J78=\"\",\"\",WattsPerFixture(J78))","v":""},"",null,null,null,null,"",{"$f":"IF(OR(V78=\"\",COUNTIF($V$21:V78,V78)>1),\"\",ROW())","v":""},"","",0,0,0,0,0,0,0,0,0,0,{"$f":"IF(AK78=0,\"\",IF(AK78=\"X\",1,PercentDI(AK78)))","v":""},{"$f":"IF(AK78=0,\"\",DIDECODE(AK78))","v":""},{"$f":"IF(AK78=0,\"\",PDECODE(AK78))","v":""},{"$f":"IF(OR(W78<>\"\",AND(Y78=0,AB78=0)),0,LtIncentive(E78,F78,J78,L78,N78,K78,AE78,SUM($AI$21:AI77,$AM$21:AM77),SUM($AJ$21:AJ77,$AN$21:AN77),DIEligibility))","v":0},{"$f":"IF(AO78=0,\"\",PercentDI(AO78))","v":""},{"$f":"IF(AO78=0,\"\",DIDECODE(AO78))","v":""},{"$f":"IF(AO78=0,\"\",PDECODE(AO78))","v":""},{"$f":"IF(OR(W78<>\"\",AC78=0),0,LtCTRLIncentive(M78,L78,O78,G78,F78,E78,J78,SUM($AI$21:AI78,$AM$21:AM77),SUM($AJ$21:AJ78,$AN$21:AN77),DIEligibility))","v":0},0,0,0,0,0]
[null,{"$f":"ROWS($B$22:B79)-1","v":57},null,null,null,null,null,{"$f":"IF(CType=\"NC\",0,IF($E79=\"\",\"\",WattsPerFixture(E79)))","v":""},"",null,null,null,null,{"$f":"IF($J79=\"\",\"\",WattsPerFixture(J79))","v":""},"",null,null,null,null,"",{"$f":"IF(OR(V79=\"\",COUNTIF($V$21:V79,V79)>1),\"\",ROW())","v":""},"","",0,0,0,0,0,0,0,0,0,0,{"$f":"IF(AK79=0,\"\",IF(AK79=\"X\",1,PercentDI(AK79)))","v":""},{"$f":"IF(AK79=0,\"\",DIDECODE(AK79))","v":""},{"$f":"IF(AK79=0,\"\",PDECODE(AK79))","v":""},{"$f":"IF(OR(W79<>\"\",AND(Y79=0,AB79=0)),0,LtIncentive(E79,F79,J79,L79,N79,K79,AE79,SUM($AI$21:AI78,$AM$21:AM78),SUM($AJ$21:AJ78,$AN$21:AN78),DIEligibility))","v":0},{"$f":"IF(AO79=0,\"\",PercentDI(AO79))","v":""},{"$f":"IF(AO79=0,\"\",DIDECODE(AO79))","v":""},{"$f":"IF(AO79=0,\"\",PDECODE(AO79))","v":""},{"$f":"IF(OR(W79<>\"\",AC79=0),0,LtCTRLIncentive(M79,L79,O79,G79,F79,E79,J79,SUM($AI$21:AI79,$AM$21:AM78),SUM($AJ$21:AJ79,$AN$21:AN78),DIEligibility))","v":0},0,0,0,0,0]
[null,{"$f":"ROWS($B$22:B80)-1","v":58},null,null,null,null,null,{"$f":"IF(CType=\"NC\",0,IF($E80=\"\",\"\",WattsPerFixture(E80)))","v":""},"",null,null,null,null,{"$f":"IF($J80=\"\",\"\",WattsPerFixture(J80))","v":""},"",null,null,null,null,"",{"$f":"IF(OR(V80=\"\",COUNTIF($V$21:V80,V80)>1),\"\",ROW())","v":""},"","",0,0,0,0,0,0,0,0,0,0,{"$f":"IF(AK80=0,\"\",IF(AK80=\"X\",1,PercentDI(AK80)))","v":""},{"$f":"IF(AK80=0,\"\",DIDECODE(AK80))","v":""},{"$f":"IF(AK80=0,\"\",PDECODE(AK80))","v":""},{"$f":"IF(OR(W80<>\"\",AND(Y80=0,AB80=0)),0,LtIncentive(E80,F80,J80,L80,N80,K80,AE80,SUM($AI$21:AI79,$AM$21:AM79),SUM($AJ$21:AJ79,$AN$21:AN79),DIEligibility))","v":0},{"$f":"IF(AO80=0,\"\",PercentDI(AO80))","v":""},{"$f":"IF(AO80=0,\"\",DIDECODE(AO80))","v":""},{"$f":"IF(AO80=0,\"\",PDECODE(AO80))","v":""},{"$f":"IF(OR(W80<>\"\",AC80=0),0,LtCTRLIncentive(M80,L80,O80,G80,F80,E80,J80,SUM($AI$21:AI80,$AM$21:AM79),SUM($AJ$21:AJ80,$AN$21:AN79),DIEligibility))","v":0},0,0,0,0,0]
[null,{"$f":"ROWS($B$22:B81)-1","v":59},null,null,null,null,null,{"$f":"IF(CType=\"NC\",0,IF($E81=\"\",\"\",WattsPerFixture(E81)))","v":""},"",null,null,null,null,{"$f":"IF($J81=\"\",\"\",WattsPerFixture(J81))","v":""},"",null,null,null,null,"",{"$f":"IF(OR(V81=\"\",COUNTIF($V$21:V81,V81)>1),\"\",ROW())","v":""},"","",0,0,0,0,0,0,0,0,0,0,{"$f":"IF(AK81=0,\"\",IF(AK81=\"X\",1,PercentDI(AK81)))","v":""},{"$f":"IF(AK81=0,\"\",DIDECODE(AK81))","v":""},{"$f":"IF(AK81=0,\"\",PDECODE(AK81))","v":""},{"$f":"IF(OR(W81<>\"\",AND(Y81=0,AB81=0)),0,LtIncentive(E81,F81,J81,L81,N81,K81,AE81,SUM($AI$21:AI80,$AM$21:AM80),SUM($AJ$21:AJ80,$AN$21:AN80),DIEligibility))","v":0},{"$f":"IF(AO81=0,\"\",PercentDI(AO81))","v":""},{"$f":"IF(AO81=0,\"\",DIDECODE(AO81))","v":""},{"$f":"IF(AO81=0,\"\",PDECODE(AO81))","v":""},{"$f":"IF(OR(W81<>\"\",AC81=0),0,LtCTRLIncentive(M81,L81,O81,G81,F81,E81,J81,SUM($AI$21:AI81,$AM$21:AM80),SUM($AJ$21:AJ81,$AN$21:AN80),DIEligibility))","v":0},0,0,0,0,0]
[null,{"$f":"ROWS($B$22:B82)-1","v":60},null,null,null,null,null,{"$f":"IF(CType=\"NC\",0,IF($E82=\"\",\"\",WattsPerFixture(E82)))","v":""},"",null,null,null,null,{"$f":"IF($J82=\"\",\"\",WattsPerFixture(J82))","v":""},"",null,null,null,null,"",{"$f":"IF(OR(V82=\"\",COUNTIF($V$21:V82,V82)>1),\"\",ROW())","v":""},"","",0,0,0,0,0,0,0,0,0,0,{"$f":"IF(AK82=0,\"\",IF(AK82=\"X\",1,PercentDI(AK82)))","v":""},{"$f":"IF(AK82=0,\"\",DIDECODE(AK82))","v":""},{"$f":"IF(AK82=0,\"\",PDECODE(AK82))","v":""},{"$f":"IF(OR(W82<>\"\",AND(Y82=0,AB82=0)),0,LtIncentive(E82,F82,J82,L82,N82,K82,AE82,SUM($AI$21:AI81,$AM$21:AM81),SUM($AJ$21:AJ81,$AN$21:AN81),DIEligibility))","v":0},{"$f":"IF(AO82=0,\"\",PercentDI(AO82))","v":""},{"$f":"IF(AO82=0,\"\",DIDECODE(AO82))","v":""},{"$f":"IF(AO82=0,\"\",PDECODE(AO82))","v":""},{"$f":"IF(OR(W82<>\"\",AC82=0),0,LtCTRLIncentive(M82,L82,O82,G82,F82,E82,J82,SUM($AI$21:AI82,$AM$21:AM81),SUM($AJ$21:AJ82,$AN$21:AN81),DIEligibility))","v":0},0,0,0,0,0]
[null,{"$f":"ROWS($B$22:B83)-1","v":61},null,null,null,null,null,{"$f":"IF(CType=\"NC\",0,IF($E83=\"\",\"\",WattsPerFixture(E83)))","v":""},"",null,null,null,null,{"$f":"IF($J83=\"\",\"\",WattsPerFixture(J83))","v":""},"",null,null,null,null,"",{"$f":"IF(OR(V83=\"\",COUNTIF($V$21:V83,V83)>1),\"\",ROW())","v":""},"","",0,0,0,0,0,0,0,0,0,0,{"$f":"IF(AK83=0,\"\",IF(AK83=\"X\",1,PercentDI(AK83)))","v":""},{"$f":"IF(AK83=0,\"\",DIDECODE(AK83))","v":""},{"$f":"IF(AK83=0,\"\",PDECODE(AK83))","v":""},{"$f":"IF(OR(W83<>\"\",AND(Y83=0,AB83=0)),0,LtIncentive(E83,F83,J83,L83,N83,K83,AE83,SUM($AI$21:AI82,$AM$21:AM82),SUM($AJ$21:AJ82,$AN$21:AN82),DIEligibility))","v":0},{"$f":"IF(AO83=0,\"\",PercentDI(AO83))","v":""},{"$f":"IF(AO83=0,\"\",DIDECODE(AO83))","v":""},{"$f":"IF(AO83=0,\"\",PDECODE(AO83))","v":""},{"$f":"IF(OR(W83<>\"\",AC83=0),0,LtCTRLIncentive(M83,L83,O83,G83,F83,E83,J83,SUM($AI$21:AI83,$AM$21:AM82),SUM($AJ$21:AJ83,$AN$21:AN82),DIEligibility))","v":0},0,0,0,0,0]
[null,{"$f":"ROWS($B$22:B84)-1","v":62},null,null,null,null,null,{"$f":"IF(CType=\"NC\",0,IF($E84=\"\",\"\",WattsPerFixture(E84)))","v":""},"",null,null,null,null,{"$f":"IF($J84=\"\",\"\",WattsPerFixture(J84))","v":""},"",null,null,null,null,"",{"$f":"IF(OR(V84=\"\",COUNTIF($V$21:V84,V84)>1),\"\",ROW())","v":""},"","",0,0,0,0,0,0,0,0,0,0,{"$f":"IF(AK84=0,\"\",IF(AK84=\"X\",1,PercentDI(AK84)))","v":""},{"$f":"IF(AK84=0,\"\",DIDECODE(AK84))","v":""},{"$f":"IF(AK84=0,\"\",PDECODE(AK84))","v":""},{"$f":"IF(OR(W84<>\"\",AND(Y84=0,AB84=0)),0,LtIncentive(E84,F84,J84,L84,N84,K84,AE84,SUM($AI$21:AI83,$AM$21:AM83),SUM($AJ$21:AJ83,$AN$21:AN83),DIEligibility))","v":0},{"$f":"IF(AO84=0,\"\",PercentDI(AO84))","v":""},{"$f":"IF(AO84=0,\"\",DIDECODE(AO84))","v":""},{"$f":"IF(AO84=0,\"\",PDECODE(AO84))","v":""},{"$f":"IF(OR(W84<>\"\",AC84=0),0,LtCTRLIncentive(M84,L84,O84,G84,F84,E84,J84,SUM($AI$21:AI84,$AM$21:AM83),SUM($AJ$21:AJ84,$AN$21:AN83),DIEligibility))","v":0},0,0,0,0,0]
[null,{"$f":"ROWS($B$22:B85)-1","v":63},null,null,null,null,null,{"$f":"IF(CType=\"NC\",0,IF($E85=\"\",\"\",WattsPerFixture(E85)))","v":""},"",null,null,null,null,{"$f":"IF($J85=\"\",\"\",WattsPerFixture(J85))","v":""},"",null,null,null,null,"",{"$f":"IF(OR(V85=\"\",COUNTIF($V$21:V85,V85)>1),\"\",ROW())","v":""},"","",0,0,0,0,0,0,0,0,0,0,{"$f":"IF(AK85=0,\"\",IF(AK85=\"X\",1,PercentDI(AK85)))","v":""},{"$f":"IF(AK85=0,\"\",DIDECODE(AK85))","v":""},{"$f":"IF(AK85=0,\"\",PDECODE(AK85))","v":""},{"$f":"IF(OR(W85<>\"\",AND(Y85=0,AB85=0)),0,LtIncentive(E85,F85,J85,L85,N85,K85,AE85,SUM($AI$21:AI84,$AM$21:AM84),SUM($AJ$21:AJ84,$AN$21:AN84),DIEligibility))","v":0},{"$f":"IF(AO85=0,\"\",PercentDI(AO85))","v":""},{"$f":"IF(AO85=0,\"\",DIDECODE(AO85))","v":""},{"$f":"IF(AO85=0,\"\",PDECODE(AO85))","v":""},{"$f":"IF(OR(W85<>\"\",AC85=0),0,LtCTRLIncentive(M85,L85,O85,G85,F85,E85,J85,SUM($AI$21:AI85,$AM$21:AM84),SUM($AJ$21:AJ85,$AN$21:AN84),DIEligibility))","v":0},0,0,0,0,0]
[null,{"$f":"ROWS($B$22:B86)-1","v":64},null,null,null,null,null,{"$f":"IF(CType=\"NC\",0,IF($E86=\"\",\"\",WattsPerFixture(E86)))","v":""},"",null,null,null,null,{"$f":"IF($J86=\"\",\"\",WattsPerFixture(J86))","v":""},"",null,null,null,null,"",{"$f":"IF(OR(V86=\"\",COUNTIF($V$21:V86,V86)>1),\"\",ROW())","v":""},"","",{"$f":"IF(OR($C86=\"\",$W$19=\"\"),0,HLOOKUP($C86,$W$11:$AB$12,2,0))","v":0},0,{"$f":"$X86*$Y86","v":0},0,0,{"$f":"$X86*$AB86","v":0},0,0,{"$f":"$Z86-$AC86","v":0},0,{"$f":"IF(AK86=0,\"\",IF(AK86=\"X\",1,PercentDI(AK86)))","v":""},{"$f":"IF(AK86=0,\"\",DIDECODE(AK86))","v":""},{"$f":"IF(AK86=0,\"\",PDECODE(AK86))","v":""},{"$f":"IF(OR(W86<>\"\",AND(Y86=0,AB86=0)),0,LtIncentive(E86,F86,J86,L86,N86,K86,AE86,SUM($AI$21:AI85,$AM$21:AM85),SUM($AJ$21:AJ85,$AN$21:AN85),DIEligibility))","v":0},{"$f":"IF(AO86=0,\"\",PercentDI(AO86))","v":""},{"$f":"IF(AO86=0,\"\",DIDECODE(AO86))","v":""},{"$f":"IF(AO86=0,\"\",PDECODE(AO86))","v":""},{"$f":"IF(OR(W86<>\"\",AC86=0),0,LtCTRLIncentive(M86,L86,O86,G86,F86,E86,J86,SUM($AI$21:AI86,$AM$21:AM85),SUM($AJ$21:AJ86,$AN$21:AN85),DIEligibility))","v":0},0,0,0,0,0]
[null,{"$f":"ROWS($B$22:B87)-1","v":65},null,null,null,null,null,{"$f":"IF(CType=\"NC\",0,IF($E87=\"\",\"\",WattsPerFixture(E87)))","v":""},{"$f":"IF(CType=\"NC\",IF(OR(O87=\"\",$O$18=0),\"\",O87/$O$18*AllowedWatts),IF(OR(F87=\"\",H87=\"\"),\"\",H87*F87))","v":""},null,null,null,null,{"$f":"IF($J87=\"\",\"\",WattsPerFixture(J87))","v":""},{"$f":"IF(ISERROR(N87),\"\",IF(OR(L87=\"\",N87=\"\",),\"\",L87*N87))","v":""},null,null,null,null,{"$f":"IF(E87=\"\",\"\",IF(ISERROR(MID(E87,1,FIND(\"-\",E87,FIND(\"-\",E87)+1)-1)),E87,MID(E87,1,FIND(\"-\",E87,FIND(\"-\",E87)+1)-1)))","v":""},{"$f":"IF(OR(V87=\"\",COUNTIF($V$21:V87,V87)>1),\"\",ROW())","v":""},{"$f":"IF(J87=\"\",\"\",IF(ISERROR(MID(J87,1,FIND(\"-\",J87,FIND(\"-\",J87)+1)-1)),J87,MID(J87,1,FIND(\"-\",J87,FIND(\"-\",J87)+1)-1)))","v":""},{"$f":"IF(OR(I87=0,O87=0,AND(COUNTA($C87)+COUNT($I87,$O87)>0,COUNTA($C87)+COUNT($I87,$O87)<>3),ISERROR(I87),ISERROR(O87),IF(C87<>\"\",ISERROR(MATCH(C87,OpSchedules,0)),)),B87,IF(OR(I87<0,O87<0),B87,\"\"))","v":""},0,{"$f":"IF($I87=\"\",0,$I87/1000)","v":0},0,{"$f":"IF(AND(CType=\"R\",G87<>\"\"),-0.31*Z87,0)","v":0},{"$f":"IF($O87=\"\",0,$O87/1000)","v":0},0,{"$f":"IF(M87<>\"\",-0.31*AC87,0)","v":0},{"$f":"$Y87-$AB87","v":0},0,{"$f":"AA87-AD87","v":0},{"$f":"IF(AK87=0,\"\",IF(AK87=\"X\",1,PercentDI(AK87)))","v":""},{"$f":"IF(AK87=0,\"\",DIDECODE(AK87))","v":""},{"$f":"IF(AK87=0,\"\",PDECODE(AK87))","v":""},{"$f":"IF(OR(W87<>\"\",AND(Y87=0,AB87=0)),0,LtIncentive(E87,F87,J87,L87,N87,K87,AE87,SUM($AI$21:AI86,$AM$21:AM86),SUM($AJ$21:AJ86,$AN$21:AN86),DIEligibility))","v":0},{"$f":"IF(AO87=0,\"\",PercentDI(AO87))","v":""},{"$f":"IF(AO87=0,\"\",DIDECODE(AO87))","v":""},{"$f":"IF(AO87=0,\"\",PDECODE(AO87))","v":""},{"$f":"IF(OR(W87<>\"\",AC87=0),0,LtCTRLIncentive(M87,L87,O87,G87,F87,E87,J87,SUM($AI$21:AI87,$AM$21:AM86),SUM($AJ$21:AJ87,$AN$21:AN86),DIEligibility))","v":0},{"$f":"IF(SUM(AI87:AK87,AM87:AO87)<=0,0,1)","v":0},{"$f":"$AP87*Y87","v":0},{"$f":"$AP87*Z87","v":0},{"$f":"$AP87*AB87","v":0},{"$f":"$AP87*AC87","v":0}]
[null,{"$f":"ROWS($B$22:B88)-1","v":66},null,null,null,null,null,{"$f":"IF(CType=\"NC\",0,IF($E88=\"\",\"\",WattsPerFixture(E88)))","v":""},"",null,null,null,null,{"$f":"IF($J88=\"\",\"\",WattsPerFixture(J88))","v":""},"",null,null,null,null,"",{"$f":"IF(OR(V88=\"\",COUNTIF($V$21:V88,V88)>1),\"\",ROW())","v":""},"","",0,0,0,0,0,0,0,0,0,0,{"$f":"IF(AK88=0,\"\",IF(AK88=\"X\",1,PercentDI(AK88)))","v":""},{"$f":"IF(AK88=0,\"\",DIDECODE(AK88))","v":""},{"$f":"IF(AK88=0,\"\",PDECODE(AK88))","v":""},{"$f":"IF(OR(W88<>\"\",AND(Y88=0,AB88=0)),0,LtIncentive(E88,F88,J88,L88,N88,K88,AE88,SUM($AI$21:AI87,$AM$21:AM87),SUM($AJ$21:AJ87,$AN$21:AN87),DIEligibility))","v":0},{"$f":"IF(AO88=0,\"\",PercentDI(AO88))","v":""},{"$f":"IF(AO88=0,\"\",DIDECODE(AO88))","v":""},{"$f":"IF(AO88=0,\"\",PDECODE(AO88))","v":""},{"$f":"IF(OR(W88<>\"\",AC88=0),0,LtCTRLIncentive(M88,L88,O88,G88,F88,E88,J88,SUM($AI$21:AI88,$AM$21:AM87),SUM($AJ$21:AJ88,$AN$21:AN87),DIEligibility))","v":0},0,0,0,0,0]
[null,{"$f":"ROWS($B$22:B89)-1","v":67},null,null,null,null,null,{"$f":"IF(CType=\"NC\",0,IF($E89=\"\",\"\",WattsPerFixture(E89)))","v":""},"",null,null,null,null,{"$f":"IF($J89=\"\",\"\",WattsPerFixture(J89))","v":""},"",null,null,null,null,"",{"$f":"IF(OR(V89=\"\",COUNTIF($V$21:V89,V89)>1),\"\",ROW())","v":""},"","",0,0,0,0,0,0,0,0,0,0,{"$f":"IF(AK89=0,\"\",IF(AK89=\"X\",1,PercentDI(AK89)))","v":""},{"$f":"IF(AK89=0,\"\",DIDECODE(AK89))","v":""},{"$f":"IF(AK89=0,\"\",PDECODE(AK89))","v":""},{"$f":"IF(OR(W89<>\"\",AND(Y89=0,AB89=0)),0,LtIncentive(E89,F89,J89,L89,N89,K89,AE89,SUM($AI$21:AI88,$AM$21:AM88),SUM($AJ$21:AJ88,$AN$21:AN88),DIEligibility))","v":0},{"$f":"IF(AO89=0,\"\",PercentDI(AO89))","v":""},{"$f":"IF(AO89=0,\"\",DIDECODE(AO89))","v":""},{"$f":"IF(AO89=0,\"\",PDECODE(AO89))","v":""},{"$f":"IF(OR(W89<>\"\",AC89=0),0,LtCTRLIncentive(M89,L89,O89,G89,F89,E89,J89,SUM($AI$21:AI89,$AM$21:AM88),SUM($AJ$21:AJ89,$AN$21:AN88),DIEligibility))","v":0},0,0,0,0,0]
[null,{"$f":"ROWS($B$22:B90)-1","v":68},null,null,null,null,null,{"$f":"IF(CType=\"NC\",0,IF($E90=\"\",\"\",WattsPerFixture(E90)))","v":""},"",null,null,null,null,{"$f":"IF($J90=\"\",\"\",WattsPerFixture(J90))","v":""},"",null,null,null,null,"",{"$f":"IF(OR(V90=\"\",COUNTIF($V$21:V90,V90)>1),\"\",ROW())","v":""},"","",0,0,0,0,0,0,0,0,0,0,{"$f":"IF(AK90=0,\"\",IF(AK90=\"X\",1,PercentDI(AK90)))","v":""},{"$f":"IF(AK90=0,\"\",DIDECODE(AK90))","v":""},{"$f":"IF(AK90=0,\"\",PDECODE(AK90))","v":""},{"$f":"IF(OR(W90<>\"\",AND(Y90=0,AB90=0)),0,LtIncentive(E90,F90,J90,L90,N90,K90,AE90,SUM($AI$21:AI89,$AM$21:AM89),SUM($AJ$21:AJ89,$AN$21:AN89),DIEligibility))","v":0},{"$f":"IF(AO90=0,\"\",PercentDI(AO90))","v":""},{"$f":"IF(AO90=0,\"\",DIDECODE(AO90))","v":""},{"$f":"IF(AO90=0,\"\",PDECODE(AO90))","v":""},{"$f":"IF(OR(W90<>\"\",AC90=0),0,LtCTRLIncentive(M90,L90,O90,G90,F90,E90,J90,SUM($AI$21:AI90,$AM$21:AM89),SUM($AJ$21:AJ90,$AN$21:AN89),DIEligibility))","v":0},0,0,0,0,0]
[null,{"$f":"ROWS($B$22:B91)-1","v":69},null,null,null,null,null,{"$f":"IF(CType=\"NC\",0,IF($E91=\"\",\"\",WattsPerFixture(E91)))","v":""},"",null,null,null,null,{"$f":"IF($J91=\"\",\"\",WattsPerFixture(J91))","v":""},"",null,null,null,null,"",{"$f":"IF(OR(V91=\"\",COUNTIF($V$21:V91,V91)>1),\"\",ROW())","v":""},"","",0,0,0,0,0,0,0,0,0,0,{"$f":"IF(AK91=0,\"\",IF(AK91=\"X\",1,PercentDI(AK91)))","v":""},{"$f":"IF(AK91=0,\"\",DIDECODE(AK91))","v":""},{"$f":"IF(AK91=0,\"\",PDECODE(AK91))","v":""},{"$f":"IF(OR(W91<>\"\",AND(Y91=0,AB91=0)),0,LtIncentive(E91,F91,J91,L91,N91,K91,AE91,SUM($AI$21:AI90,$AM$21:AM90),SUM($AJ$21:AJ90,$AN$21:AN90),DIEligibility))","v":0},{"$f":"IF(AO91=0,\"\",PercentDI(AO91))","v":""},{"$f":"IF(AO91=0,\"\",DIDECODE(AO91))","v":""},{"$f":"IF(AO91=0,\"\",PDECODE(AO91))","v":""},{"$f":"IF(OR(W91<>\"\",AC91=0),0,LtCTRLIncentive(M91,L91,O91,G91,F91,E91,J91,SUM($AI$21:AI91,$AM$21:AM90),SUM($AJ$21:AJ91,$AN$21:AN90),DIEligibility))","v":0},0,0,0,0,0]
[null,{"$f":"ROWS($B$22:B92)-1","v":70},null,null,null,null,null,{"$f":"IF(CType=\"NC\",0,IF($E92=\"\",\"\",WattsPerFixture(E92)))","v":""},"",null,null,null,null,{"$f":"IF($J92=\"\",\"\",WattsPerFixture(J92))","v":""},"",null,null,null,null,"",{"$f":"IF(OR(V92=\"\",COUNTIF($V$21:V92,V92)>1),\"\",ROW())","v":""},"","",0,0,0,0,0,0,0,0,0,0,{"$f":"IF(AK92=0,\"\",IF(AK92=\"X\",1,PercentDI(AK92)))","v":""},{"$f":"IF(AK92=0,\"\",DIDECODE(AK92))","v":""},{"$f":"IF(AK92=0,\"\",PDECODE(AK92))","v":""},{"$f":"IF(OR(W92<>\"\",AND(Y92=0,AB92=0)),0,LtIncentive(E92,F92,J92,L92,N92,K92,AE92,SUM($AI$21:AI91,$AM$21:AM91),SUM($AJ$21:AJ91,$AN$21:AN91),DIEligibility))","v":0},{"$f":"IF(AO92=0,\"\",PercentDI(AO92))","v":""},{"$f":"IF(AO92=0,\"\",DIDECODE(AO92))","v":""},{"$f":"IF(AO92=0,\"\",PDECODE(AO92))","v":""},{"$f":"IF(OR(W92<>\"\",AC92=0),0,LtCTRLIncentive(M92,L92,O92,G92,F92,E92,J92,SUM($AI$21:AI92,$AM$21:AM91),SUM($AJ$21:AJ92,$AN$21:AN91),DIEligibility))","v":0},0,0,0,0,0]
[null,{"$f":"ROWS($B$22:B93)-1","v":71},null,null,null,null,null,{"$f":"IF(CType=\"NC\",0,IF($E93=\"\",\"\",WattsPerFixture(E93)))","v":""},"",null,null,null,null,{"$f":"IF($J93=\"\",\"\",WattsPerFixture(J93))","v":""},"",null,null,null,null,"",{"$f":"IF(OR(V93=\"\",COUNTIF($V$21:V93,V93)>1),\"\",ROW())","v":""},"","",0,0,0,0,0,0,0,0,0,0,{"$f":"IF(AK93=0,\"\",IF(AK93=\"X\",1,PercentDI(AK93)))","v":""},{"$f":"IF(AK93=0,\"\",DIDECODE(AK93))","v":""},{"$f":"IF(AK93=0,\"\",PDECODE(AK93))","v":""},{"$f":"IF(OR(W93<>\"\",AND(Y93=0,AB93=0)),0,LtIncentive(E93,F93,J93,L93,N93,K93,AE93,SUM($AI$21:AI92,$AM$21:AM92),SUM($AJ$21:AJ92,$AN$21:AN92),DIEligibility))","v":0},{"$f":"IF(AO93=0,\"\",PercentDI(AO93))","v":""},{"$f":"IF(AO93=0,\"\",DIDECODE(AO93))","v":""},{"$f":"IF(AO93=0,\"\",PDECODE(AO93))","v":""},{"$f":"IF(OR(W93<>\"\",AC93=0),0,LtCTRLIncentive(M93,L93,O93,G93,F93,E93,J93,SUM($AI$21:AI93,$AM$21:AM92),SUM($AJ$21:AJ93,$AN$21:AN92),DIEligibility))","v":0},0,0,0,0,0]
[null,{"$f":"ROWS($B$22:B94)-1","v":72},null,null,null,null,null,{"$f":"IF(CType=\"NC\",0,IF($E94=\"\",\"\",WattsPerFixture(E94)))","v":""},"",null,null,null,null,{"$f":"IF($J94=\"\",\"\",WattsPerFixture(J94))","v":""},"",null,null,null,null,"",{"$f":"IF(OR(V94=\"\",COUNTIF($V$21:V94,V94)>1),\"\",ROW())","v":""},"","",0,0,0,0,0,0,0,0,0,0,{"$f":"IF(AK94=0,\"\",IF(AK94=\"X\",1,PercentDI(AK94)))","v":""},{"$f":"IF(AK94=0,\"\",DIDECODE(AK94))","v":""},{"$f":"IF(AK94=0,\"\",PDECODE(AK94))","v":""},{"$f":"IF(OR(W94<>\"\",AND(Y94=0,AB94=0)),0,LtIncentive(E94,F94,J94,L94,N94,K94,AE94,SUM($AI$21:AI93,$AM$21:AM93),SUM($AJ$21:AJ93,$AN$21:AN93),DIEligibility))","v":0},{"$f":"IF(AO94=0,\"\",PercentDI(AO94))","v":""},{"$f":"IF(AO94=0,\"\",DIDECODE(AO94))","v":""},{"$f":"IF(AO94=0,\"\",PDECODE(AO94))","v":""},{"$f":"IF(OR(W94<>\"\",AC94=0),0,LtCTRLIncentive(M94,L94,O94,G94,F94,E94,J94,SUM($AI$21:AI94,$AM$21:AM93),SUM($AJ$21:AJ94,$AN$21:AN93),DIEligibility))","v":0},0,0,0,0,0]
[null,{"$f":"ROWS($B$22:B95)-1","v":73},null,null,null,null,null,{"$f":"IF(CType=\"NC\",0,IF($E95=\"\",\"\",WattsPerFixture(E95)))","v":""},"",null,null,null,null,{"$f":"IF($J95=\"\",\"\",WattsPerFixture(J95))","v":""},"",null,null,null,null,"",{"$f":"IF(OR(V95=\"\",COUNTIF($V$21:V95,V95)>1),\"\",ROW())","v":""},"","",0,0,0,0,0,0,0,0,0,0,{"$f":"IF(AK95=0,\"\",IF(AK95=\"X\",1,PercentDI(AK95)))","v":""},{"$f":"IF(AK95=0,\"\",DIDECODE(AK95))","v":""},{"$f":"IF(AK95=0,\"\",PDECODE(AK95))","v":""},{"$f":"IF(OR(W95<>\"\",AND(Y95=0,AB95=0)),0,LtIncentive(E95,F95,J95,L95,N95,K95,AE95,SUM($AI$21:AI94,$AM$21:AM94),SUM($AJ$21:AJ94,$AN$21:AN94),DIEligibility))","v":0},{"$f":"IF(AO95=0,\"\",PercentDI(AO95))","v":""},{"$f":"IF(AO95=0,\"\",DIDECODE(AO95))","v":""},{"$f":"IF(AO95=0,\"\",PDECODE(AO95))","v":""},{"$f":"IF(OR(W95<>\"\",AC95=0),0,LtCTRLIncentive(M95,L95,O95,G95,F95,E95,J95,SUM($AI$21:AI95,$AM$21:AM94),SUM($AJ$21:AJ95,$AN$21:AN94),DIEligibility))","v":0},0,0,0,0,0]
[null,{"$f":"ROWS($B$22:B96)-1","v":74},null,null,null,null,null,{"$f":"IF(CType=\"NC\",0,IF($E96=\"\",\"\",WattsPerFixture(E96)))","v":""},"",null,null,null,null,{"$f":"IF($J96=\"\",\"\",WattsPerFixture(J96))","v":""},"",null,null,null,null,"",{"$f":"IF(OR(V96=\"\",COUNTIF($V$21:V96,V96)>1),\"\",ROW())","v":""},"","",0,0,0,0,0,0,0,0,0,0,{"$f":"IF(AK96=0,\"\",IF(AK96=\"X\",1,PercentDI(AK96)))","v":""},{"$f":"IF(AK96=0,\"\",DIDECODE(AK96))","v":""},{"$f":"IF(AK96=0,\"\",PDECODE(AK96))","v":""},{"$f":"IF(OR(W96<>\"\",AND(Y96=0,AB96=0)),0,LtIncentive(E96,F96,J96,L96,N96,K96,AE96,SUM($AI$21:AI95,$AM$21:AM95),SUM($AJ$21:AJ95,$AN$21:AN95),DIEligibility))","v":0},{"$f":"IF(AO96=0,\"\",PercentDI(AO96))","v":""},{"$f":"IF(AO96=0,\"\",DIDECODE(AO96))","v":""},{"$f":"IF(AO96=0,\"\",PDECODE(AO96))","v":""},{"$f":"IF(OR(W96<>\"\",AC96=0),0,LtCTRLIncentive(M96,L96,O96,G96,F96,E96,J96,SUM($AI$21:AI96,$AM$21:AM95),SUM($AJ$21:AJ96,$AN$21:AN95),DIEligibility))","v":0},0,0,0,0,0]
[null,{"$f":"ROWS($B$22:B97)-1","v":75},null,null,null,null,null,{"$f":"IF(CType=\"NC\",0,IF($E97=\"\",\"\",WattsPerFixture(E97)))","v":""},"",null,null,null,null,{"$f":"IF($J97=\"\",\"\",WattsPerFixture(J97))","v":""},"",null,null,null,null,"",{"$f":"IF(OR(V97=\"\",COUNTIF($V$21:V97,V97)>1),\"\",ROW())","v":""},"","",0,0,0,0,0,0,0,0,0,0,{"$f":"IF(AK97=0,\"\",IF(AK97=\"X\",1,PercentDI(AK97)))","v":""},{"$f":"IF(AK97=0,\"\",DIDECODE(AK97))","v":""},{"$f":"IF(AK97=0,\"\",PDECODE(AK97))","v":""},{"$f":"IF(OR(W97<>\"\",AND(Y97=0,AB97=0)),0,LtIncentive(E97,F97,J97,L97,N97,K97,AE97,SUM($AI$21:AI96,$AM$21:AM96),SUM($AJ$21:AJ96,$AN$21:AN96),DIEligibility))","v":0},{"$f":"IF(AO97=0,\"\",PercentDI(AO97))","v":""},{"$f":"IF(AO97=0,\"\",DIDECODE(AO97))","v":""},{"$f":"IF(AO97=0,\"\",PDECODE(AO97))","v":""},{"$f":"IF(OR(W97<>\"\",AC97=0),0,LtCTRLIncentive(M97,L97,O97,G97,F97,E97,J97,SUM($AI$21:AI97,$AM$21:AM96),SUM($AJ$21:AJ97,$AN$21:AN96),DIEligibility))","v":0},0,0,0,0,0]
[null,{"$f":"ROWS($B$22:B98)-1","v":76},null,null,null,null,null,{"$f":"IF(CType=\"NC\",0,IF($E98=\"\",\"\",WattsPerFixture(E98)))","v":""},"",null,null,null,null,{"$f":"IF($J98=\"\",\"\",WattsPerFixture(J98))","v":""},"",null,null,null,null,"",{"$f":"IF(OR(V98=\"\",COUNTIF($V$21:V98,V98)>1),\"\",ROW())","v":""},"","",0,0,0,0,0,0,0,0,0,0,{"$f":"IF(AK98=0,\"\",IF(AK98=\"X\",1,PercentDI(AK98)))","v":""},{"$f":"IF(AK98=0,\"\",DIDECODE(AK98))","v":""},{"$f":"IF(AK98=0,\"\",PDECODE(AK98))","v":""},{"$f":"IF(OR(W98<>\"\",AND(Y98=0,AB98=0)),0,LtIncentive(E98,F98,J98,L98,N98,K98,AE98,SUM($AI$21:AI97,$AM$21:AM97),SUM($AJ$21:AJ97,$AN$21:AN97),DIEligibility))","v":0},{"$f":"IF(AO98=0,\"\",PercentDI(AO98))","v":""},{"$f":"IF(AO98=0,\"\",DIDECODE(AO98))","v":""},{"$f":"IF(AO98=0,\"\",PDECODE(AO98))","v":""},{"$f":"IF(OR(W98<>\"\",AC98=0),0,LtCTRLIncentive(M98,L98,O98,G98,F98,E98,J98,SUM($AI$21:AI98,$AM$21:AM97),SUM($AJ$21:AJ98,$AN$21:AN97),DIEligibility))","v":0},0,0,0,0,0]
[null,{"$f":"ROWS($B$22:B99)-1","v":77},null,null,null,null,null,{"$f":"IF(CType=\"NC\",0,IF($E99=\"\",\"\",WattsPerFixture(E99)))","v":""},"",null,null,null,null,{"$f":"IF($J99=\"\",\"\",WattsPerFixture(J99))","v":""},"",null,null,null,null,"",{"$f":"IF(OR(V99=\"\",COUNTIF($V$21:V99,V99)>1),\"\",ROW())","v":""},"","",0,0,0,0,0,0,0,0,0,0,{"$f":"IF(AK99=0,\"\",IF(AK99=\"X\",1,PercentDI(AK99)))","v":""},{"$f":"IF(AK99=0,\"\",DIDECODE(AK99))","v":""},{"$f":"IF(AK99=0,\"\",PDECODE(AK99))","v":""},{"$f":"IF(OR(W99<>\"\",AND(Y99=0,AB99=0)),0,LtIncentive(E99,F99,J99,L99,N99,K99,AE99,SUM($AI$21:AI98,$AM$21:AM98),SUM($AJ$21:AJ98,$AN$21:AN98),DIEligibility))","v":0},{"$f":"IF(AO99=0,\"\",PercentDI(AO99))","v":""},{"$f":"IF(AO99=0,\"\",DIDECODE(AO99))","v":""},{"$f":"IF(AO99=0,\"\",PDECODE(AO99))","v":""},{"$f":"IF(OR(W99<>\"\",AC99=0),0,LtCTRLIncentive(M99,L99,O99,G99,F99,E99,J99,SUM($AI$21:AI99,$AM$21:AM98),SUM($AJ$21:AJ99,$AN$21:AN98),DIEligibility))","v":0},0,0,0,0,0]
[null,{"$f":"ROWS($B$22:B100)-1","v":78},null,null,null,null,null,{"$f":"IF(CType=\"NC\",0,IF($E100=\"\",\"\",WattsPerFixture(E100)))","v":""},"",null,null,null,null,{"$f":"IF($J100=\"\",\"\",WattsPerFixture(J100))","v":""},"",null,null,null,null,"",{"$f":"IF(OR(V100=\"\",COUNTIF($V$21:V100,V100)>1),\"\",ROW())","v":""},"","",0,0,0,0,0,0,0,0,0,0,{"$f":"IF(AK100=0,\"\",IF(AK100=\"X\",1,PercentDI(AK100)))","v":""},{"$f":"IF(AK100=0,\"\",DIDECODE(AK100))","v":""},{"$f":"IF(AK100=0,\"\",PDECODE(AK100))","v":""},{"$f":"IF(OR(W100<>\"\",AND(Y100=0,AB100=0)),0,LtIncentive(E100,F100,J100,L100,N100,K100,AE100,SUM($AI$21:AI99,$AM$21:AM99),SUM($AJ$21:AJ99,$AN$21:AN99),DIEligibility))","v":0},{"$f":"IF(AO100=0,\"\",PercentDI(AO100))","v":""},{"$f":"IF(AO100=0,\"\",DIDECODE(AO100))","v":""},{"$f":"IF(AO100=0,\"\",PDECODE(AO100))","v":""},{"$f":"IF(OR(W100<>\"\",AC100=0),0,LtCTRLIncentive(M100,L100,O100,G100,F100,E100,J100,SUM($AI$21:AI100,$AM$21:AM99),SUM($AJ$21:AJ100,$AN$21:AN99),DIEligibility))","v":0},0,0,0,0,0]
[null,{"$f":"ROWS($B$22:B101)-1","v":79},null,null,null,null,null,{"$f":"IF(CType=\"NC\",0,IF($E101=\"\",\"\",WattsPerFixture(E101)))","v":""},"",null,null,null,null,{"$f":"IF($J101=\"\",\"\",WattsPerFixture(J101))","v":""},"",null,null,null,null,"",{"$f":"IF(OR(V101=\"\",COUNTIF($V$21:V101,V101)>1),\"\",ROW())","v":""},"","",0,0,0,0,0,0,0,0,0,0,{"$f":"IF(AK101=0,\"\",IF(AK101=\"X\",1,PercentDI(AK101)))","v":""},{"$f":"IF(AK101=0,\"\",DIDECODE(AK101))","v":""},{"$f":"IF(AK101=0,\"\",PDECODE(AK101))","v":""},{"$f":"IF(OR(W101<>\"\",AND(Y101=0,AB101=0)),0,LtIncentive(E101,F101,J101,L101,N101,K101,AE101,SUM($AI$21:AI100,$AM$21:AM100),SUM($AJ$21:AJ100,$AN$21:AN100),DIEligibility))","v":0},{"$f":"IF(AO101=0,\"\",PercentDI(AO101))","v":""},{"$f":"IF(AO101=0,\"\",DIDECODE(AO101))","v":""},{"$f":"IF(AO101=0,\"\",PDECODE(AO101))","v":""},{"$f":"IF(OR(W101<>\"\",AC101=0),0,LtCTRLIncentive(M101,L101,O101,G101,F101,E101,J101,SUM($AI$21:AI101,$AM$21:AM100),SUM($AJ$21:AJ101,$AN$21:AN100),DIEligibility))","v":0},0,0,0,0,0]
[null,{"$f":"ROWS($B$22:B102)-1","v":80},null,null,null,null,null,{"$f":"IF(CType=\"NC\",0,IF($E102=\"\",\"\",WattsPerFixture(E102)))","v":""},"",null,null,null,null,{"$f":"IF($J102=\"\",\"\",WattsPerFixture(J102))","v":""},"",null,null,null,null,"",{"$f":"IF(OR(V102=\"\",COUNTIF($V$21:V102,V102)>1),\"\",ROW())","v":""},"","",0,0,0,0,0,0,0,0,0,0,{"$f":"IF(AK102=0,\"\",IF(AK102=\"X\",1,PercentDI(AK102)))","v":""},{"$f":"IF(AK102=0,\"\",DIDECODE(AK102))","v":""},{"$f":"IF(AK102=0,\"\",PDECODE(AK102))","v":""},{"$f":"IF(OR(W102<>\"\",AND(Y102=0,AB102=0)),0,LtIncentive(E102,F102,J102,L102,N102,K102,AE102,SUM($AI$21:AI101,$AM$21:AM101),SUM($AJ$21:AJ101,$AN$21:AN101),DIEligibility))","v":0},{"$f":"IF(AO102=0,\"\",PercentDI(AO102))","v":""},{"$f":"IF(AO102=0,\"\",DIDECODE(AO102))","v":""},{"$f":"IF(AO102=0,\"\",PDECODE(AO102))","v":""},{"$f":"IF(OR(W102<>\"\",AC102=0),0,LtCTRLIncentive(M102,L102,O102,G102,F102,E102,J102,SUM($AI$21:AI102,$AM$21:AM101),SUM($AJ$21:AJ102,$AN$21:AN101),DIEligibility))","v":0},0,0,0,0,0]
[null,{"$f":"ROWS($B$22:B103)-1","v":81},null,null,null,null,null,{"$f":"IF(CType=\"NC\",0,IF($E103=\"\",\"\",WattsPerFixture(E103)))","v":""},"",null,null,null,null,{"$f":"IF($J103=\"\",\"\",WattsPerFixture(J103))","v":""},"",null,null,null,null,"",{"$f":"IF(OR(V103=\"\",COUNTIF($V$21:V103,V103)>1),\"\",ROW())","v":""},"","",0,0,0,0,0,0,0,0,0,0,{"$f":"IF(AK103=0,\"\",IF(AK103=\"X\",1,PercentDI(AK103)))","v":""},{"$f":"IF(AK103=0,\"\",DIDECODE(AK103))","v":""},{"$f":"IF(AK103=0,\"\",PDECODE(AK103))","v":""},{"$f":"IF(OR(W103<>\"\",AND(Y103=0,AB103=0)),0,LtIncentive(E103,F103,J103,L103,N103,K103,AE103,SUM($AI$21:AI102,$AM$21:AM102),SUM($AJ$21:AJ102,$AN$21:AN102),DIEligibility))","v":0},{"$f":"IF(AO103=0,\"\",PercentDI(AO103))","v":""},{"$f":"IF(AO103=0,\"\",DIDECODE(AO103))","v":""},{"$f":"IF(AO103=0,\"\",PDECODE(AO103))","v":""},{"$f":"IF(OR(W103<>\"\",AC103=0),0,LtCTRLIncentive(M103,L103,O103,G103,F103,E103,J103,SUM($AI$21:AI103,$AM$21:AM102),SUM($AJ$21:AJ103,$AN$21:AN102),DIEligibility))","v":0},0,0,0,0,0]
[null,{"$f":"ROWS($B$22:B104)-1","v":82},null,null,null,null,null,{"$f":"IF(CType=\"NC\",0,IF($E104=\"\",\"\",WattsPerFixture(E104)))","v":""},"",null,null,null,null,{"$f":"IF($J104=\"\",\"\",WattsPerFixture(J104))","v":""},"",null,null,null,null,"",{"$f":"IF(OR(V104=\"\",COUNTIF($V$21:V104,V104)>1),\"\",ROW())","v":""},"","",0,0,0,0,0,0,0,0,0,0,{"$f":"IF(AK104=0,\"\",IF(AK104=\"X\",1,PercentDI(AK104)))","v":""},{"$f":"IF(AK104=0,\"\",DIDECODE(AK104))","v":""},{"$f":"IF(AK104=0,\"\",PDECODE(AK104))","v":""},{"$f":"IF(OR(W104<>\"\",AND(Y104=0,AB104=0)),0,LtIncentive(E104,F104,J104,L104,N104,K104,AE104,SUM($AI$21:AI103,$AM$21:AM103),SUM($AJ$21:AJ103,$AN$21:AN103),DIEligibility))","v":0},{"$f":"IF(AO104=0,\"\",PercentDI(AO104))","v":""},{"$f":"IF(AO104=0,\"\",DIDECODE(AO104))","v":""},{"$f":"IF(AO104=0,\"\",PDECODE(AO104))","v":""},{"$f":"IF(OR(W104<>\"\",AC104=0),0,LtCTRLIncentive(M104,L104,O104,G104,F104,E104,J104,SUM($AI$21:AI104,$AM$21:AM103),SUM($AJ$21:AJ104,$AN$21:AN103),DIEligibility))","v":0},0,0,0,0,0]
[null,{"$f":"ROWS($B$22:B105)-1","v":83},null,null,null,null,null,{"$f":"IF(CType=\"NC\",0,IF($E105=\"\",\"\",WattsPerFixture(E105)))","v":""},"",null,null,null,null,{"$f":"IF($J105=\"\",\"\",WattsPerFixture(J105))","v":""},"",null,null,null,null,"",{"$f":"IF(OR(V105=\"\",COUNTIF($V$21:V105,V105)>1),\"\",ROW())","v":""},"","",0,0,0,0,0,0,0,0,0,0,{"$f":"IF(AK105=0,\"\",IF(AK105=\"X\",1,PercentDI(AK105)))","v":""},{"$f":"IF(AK105=0,\"\",DIDECODE(AK105))","v":""},{"$f":"IF(AK105=0,\"\",PDECODE(AK105))","v":""},{"$f":"IF(OR(W105<>\"\",AND(Y105=0,AB105=0)),0,LtIncentive(E105,F105,J105,L105,N105,K105,AE105,SUM($AI$21:AI104,$AM$21:AM104),SUM($AJ$21:AJ104,$AN$21:AN104),DIEligibility))","v":0},{"$f":"IF(AO105=0,\"\",PercentDI(AO105))","v":""},{"$f":"IF(AO105=0,\"\",DIDECODE(AO105))","v":""},{"$f":"IF(AO105=0,\"\",PDECODE(AO105))","v":""},{"$f":"IF(OR(W105<>\"\",AC105=0),0,LtCTRLIncentive(M105,L105,O105,G105,F105,E105,J105,SUM($AI$21:AI105,$AM$21:AM104),SUM($AJ$21:AJ105,$AN$21:AN104),DIEligibility))","v":0},0,0,0,0,0]
[null,{"$f":"ROWS($B$22:B106)-1","v":84},null,null,null,null,null,{"$f":"IF(CType=\"NC\",0,IF($E106=\"\",\"\",WattsPerFixture(E106)))","v":""},"",null,null,null,null,{"$f":"IF($J106=\"\",\"\",WattsPerFixture(J106))","v":""},"",null,null,null,null,"",{"$f":"IF(OR(V106=\"\",COUNTIF($V$21:V106,V106)>1),\"\",ROW())","v":""},"","",0,0,0,0,0,0,0,0,0,0,{"$f":"IF(AK106=0,\"\",IF(AK106=\"X\",1,PercentDI(AK106)))","v":""},{"$f":"IF(AK106=0,\"\",DIDECODE(AK106))","v":""},{"$f":"IF(AK106=0,\"\",PDECODE(AK106))","v":""},{"$f":"IF(OR(W106<>\"\",AND(Y106=0,AB106=0)),0,LtIncentive(E106,F106,J106,L106,N106,K106,AE106,SUM($AI$21:AI105,$AM$21:AM105),SUM($AJ$21:AJ105,$AN$21:AN105),DIEligibility))","v":0},{"$f":"IF(AO106=0,\"\",PercentDI(AO106))","v":""},{"$f":"IF(AO106=0,\"\",DIDECODE(AO106))","v":""},{"$f":"IF(AO106=0,\"\",PDECODE(AO106))","v":""},{"$f":"IF(OR(W106<>\"\",AC106=0),0,LtCTRLIncentive(M106,L106,O106,G106,F106,E106,J106,SUM($AI$21:AI106,$AM$21:AM105),SUM($AJ$21:AJ106,$AN$21:AN105),DIEligibility))","v":0},0,0,0,0,0]
[null,{"$f":"ROWS($B$22:B107)-1","v":85},null,null,null,null,null,{"$f":"IF(CType=\"NC\",0,IF($E107=\"\",\"\",WattsPerFixture(E107)))","v":""},"",null,null,null,null,{"$f":"IF($J107=\"\",\"\",WattsPerFixture(J107))","v":""},"",null,null,null,null,"",{"$f":"IF(OR(V107=\"\",COUNTIF($V$21:V107,V107)>1),\"\",ROW())","v":""},"","",0,0,0,0,0,0,0,0,0,0,{"$f":"IF(AK107=0,\"\",IF(AK107=\"X\",1,PercentDI(AK107)))","v":""},{"$f":"IF(AK107=0,\"\",DIDECODE(AK107))","v":""},{"$f":"IF(AK107=0,\"\",PDECODE(AK107))","v":""},{"$f":"IF(OR(W107<>\"\",AND(Y107=0,AB107=0)),0,LtIncentive(E107,F107,J107,L107,N107,K107,AE107,SUM($AI$21:AI106,$AM$21:AM106),SUM($AJ$21:AJ106,$AN$21:AN106),DIEligibility))","v":0},{"$f":"IF(AO107=0,\"\",PercentDI(AO107))","v":""},{"$f":"IF(AO107=0,\"\",DIDECODE(AO107))","v":""},{"$f":"IF(AO107=0,\"\",PDECODE(AO107))","v":""},{"$f":"IF(OR(W107<>\"\",AC107=0),0,LtCTRLIncentive(M107,L107,O107,G107,F107,E107,J107,SUM($AI$21:AI107,$AM$21:AM106),SUM($AJ$21:AJ107,$AN$21:AN106),DIEligibility))","v":0},0,0,0,0,0]
[null,{"$f":"ROWS($B$22:B108)-1","v":86},null,null,null,null,null,{"$f":"IF(CType=\"NC\",0,IF($E108=\"\",\"\",WattsPerFixture(E108)))","v":""},"",null,null,null,null,{"$f":"IF($J108=\"\",\"\",WattsPerFixture(J108))","v":""},"",null,null,null,null,"",{"$f":"IF(OR(V108=\"\",COUNTIF($V$21:V108,V108)>1),\"\",ROW())","v":""},"","",0,0,0,0,0,0,0,0,0,0,{"$f":"IF(AK108=0,\"\",IF(AK108=\"X\",1,PercentDI(AK108)))","v":""},{"$f":"IF(AK108=0,\"\",DIDECODE(AK108))","v":""},{"$f":"IF(AK108=0,\"\",PDECODE(AK108))","v":""},{"$f":"IF(OR(W108<>\"\",AND(Y108=0,AB108=0)),0,LtIncentive(E108,F108,J108,L108,N108,K108,AE108,SUM($AI$21:AI107,$AM$21:AM107),SUM($AJ$21:AJ107,$AN$21:AN107),DIEligibility))","v":0},{"$f":"IF(AO108=0,\"\",PercentDI(AO108))","v":""},{"$f":"IF(AO108=0,\"\",DIDECODE(AO108))","v":""},{"$f":"IF(AO108=0,\"\",PDECODE(AO108))","v":""},{"$f":"IF(OR(W108<>\"\",AC108=0),0,LtCTRLIncentive(M108,L108,O108,G108,F108,E108,J108,SUM($AI$21:AI108,$AM$21:AM107),SUM($AJ$21:AJ108,$AN$21:AN107),DIEligibility))","v":0},0,0,0,0,0]
[null,{"$f":"ROWS($B$22:B109)-1","v":87},null,null,null,null,null,{"$f":"IF(CType=\"NC\",0,IF($E109=\"\",\"\",WattsPerFixture(E109)))","v":""},"",null,null,null,null,{"$f":"IF($J109=\"\",\"\",WattsPerFixture(J109))","v":""},"",null,null,null,null,"",{"$f":"IF(OR(V109=\"\",COUNTIF($V$21:V109,V109)>1),\"\",ROW())","v":""},"","",0,0,0,0,0,0,0,0,0,0,{"$f":"IF(AK109=0,\"\",IF(AK109=\"X\",1,PercentDI(AK109)))","v":""},{"$f":"IF(AK109=0,\"\",DIDECODE(AK109))","v":""},{"$f":"IF(AK109=0,\"\",PDECODE(AK109))","v":""},{"$f":"IF(OR(W109<>\"\",AND(Y109=0,AB109=0)),0,LtIncentive(E109,F109,J109,L109,N109,K109,AE109,SUM($AI$21:AI108,$AM$21:AM108),SUM($AJ$21:AJ108,$AN$21:AN108),DIEligibility))","v":0},{"$f":"IF(AO109=0,\"\",PercentDI(AO109))","v":""},{"$f":"IF(AO109=0,\"\",DIDECODE(AO109))","v":""},{"$f":"IF(AO109=0,\"\",PDECODE(AO109))","v":""},{"$f":"IF(OR(W109<>\"\",AC109=0),0,LtCTRLIncentive(M109,L109,O109,G109,F109,E109,J109,SUM($AI$21:AI109,$AM$21:AM108),SUM($AJ$21:AJ109,$AN$21:AN108),DIEligibility))","v":0},0,0,0,0,0]
[null,{"$f":"ROWS($B$22:B110)-1","v":88},null,null,null,null,null,{"$f":"IF(CType=\"NC\",0,IF($E110=\"\",\"\",WattsPerFixture(E110)))","v":""},"",null,null,null,null,{"$f":"IF($J110=\"\",\"\",WattsPerFixture(J110))","v":""},"",null,null,null,null,"",{"$f":"IF(OR(V110=\"\",COUNTIF($V$21:V110,V110)>1),\"\",ROW())","v":""},"","",0,0,0,0,0,0,0,0,0,0,{"$f":"IF(AK110=0,\"\",IF(AK110=\"X\",1,PercentDI(AK110)))","v":""},{"$f":"IF(AK110=0,\"\",DIDECODE(AK110))","v":""},{"$f":"IF(AK110=0,\"\",PDECODE(AK110))","v":""},{"$f":"IF(OR(W110<>\"\",AND(Y110=0,AB110=0)),0,LtIncentive(E110,F110,J110,L110,N110,K110,AE110,SUM($AI$21:AI109,$AM$21:AM109),SUM($AJ$21:AJ109,$AN$21:AN109),DIEligibility))","v":0},{"$f":"IF(AO110=0,\"\",PercentDI(AO110))","v":""},{"$f":"IF(AO110=0,\"\",DIDECODE(AO110))","v":""},{"$f":"IF(AO110=0,\"\",PDECODE(AO110))","v":""},{"$f":"IF(OR(W110<>\"\",AC110=0),0,LtCTRLIncentive(M110,L110,O110,G110,F110,E110,J110,SUM($AI$21:AI110,$AM$21:AM109),SUM($AJ$21:AJ110,$AN$21:AN109),DIEligibility))","v":0},0,0,0,0,0]
[null,{"$f":"ROWS($B$22:B111)-1","v":89},null,null,null,null,null,{"$f":"IF(CType=\"NC\",0,IF($E111=\"\",\"\",WattsPerFixture(E111)))","v":""},"",null,null,null,null,{"$f":"IF($J111=\"\",\"\",WattsPerFixture(J111))","v":""},"",null,null,null,null,"",{"$f":"IF(OR(V111=\"\",COUNTIF($V$21:V111,V111)>1),\"\",ROW())","v":""},"","",0,0,0,0,0,0,0,0,0,0,{"$f":"IF(AK111=0,\"\",IF(AK111=\"X\",1,PercentDI(AK111)))","v":""},{"$f":"IF(AK111=0,\"\",DIDECODE(AK111))","v":""},{"$f":"IF(AK111=0,\"\",PDECODE(AK111))","v":""},{"$f":"IF(OR(W111<>\"\",AND(Y111=0,AB111=0)),0,LtIncentive(E111,F111,J111,L111,N111,K111,AE111,SUM($AI$21:AI110,$AM$21:AM110),SUM($AJ$21:AJ110,$AN$21:AN110),DIEligibility))","v":0},{"$f":"IF(AO111=0,\"\",PercentDI(AO111))","v":""},{"$f":"IF(AO111=0,\"\",DIDECODE(AO111))","v":""},{"$f":"IF(AO111=0,\"\",PDECODE(AO111))","v":""},{"$f":"IF(OR(W111<>\"\",AC111=0),0,LtCTRLIncentive(M111,L111,O111,G111,F111,E111,J111,SUM($AI$21:AI111,$AM$21:AM110),SUM($AJ$21:AJ111,$AN$21:AN110),DIEligibility))","v":0},0,0,0,0,0]
[null,{"$f":"ROWS($B$22:B112)-1","v":90},null,null,null,null,null,{"$f":"IF(CType=\"NC\",0,IF($E112=\"\",\"\",WattsPerFixture(E112)))","v":""},"",null,null,null,null,{"$f":"IF($J112=\"\",\"\",WattsPerFixture(J112))","v":""},"",null,null,null,null,"",{"$f":"IF(OR(V112=\"\",COUNTIF($V$21:V112,V112)>1),\"\",ROW())","v":""},"","",0,0,0,0,0,0,0,0,0,0,{"$f":"IF(AK112=0,\"\",IF(AK112=\"X\",1,PercentDI(AK112)))","v":""},{"$f":"IF(AK112=0,\"\",DIDECODE(AK112))","v":""},{"$f":"IF(AK112=0,\"\",PDECODE(AK112))","v":""},{"$f":"IF(OR(W112<>\"\",AND(Y112=0,AB112=0)),0,LtIncentive(E112,F112,J112,L112,N112,K112,AE112,SUM($AI$21:AI111,$AM$21:AM111),SUM($AJ$21:AJ111,$AN$21:AN111),DIEligibility))","v":0},{"$f":"IF(AO112=0,\"\",PercentDI(AO112))","v":""},{"$f":"IF(AO112=0,\"\",DIDECODE(AO112))","v":""},{"$f":"IF(AO112=0,\"\",PDECODE(AO112))","v":""},{"$f":"IF(OR(W112<>\"\",AC112=0),0,LtCTRLIncentive(M112,L112,O112,G112,F112,E112,J112,SUM($AI$21:AI112,$AM$21:AM111),SUM($AJ$21:AJ112,$AN$21:AN111),DIEligibility))","v":0},0,0,0,0,0]
[null,{"$f":"ROWS($B$22:B113)-1","v":91},null,null,null,null,null,{"$f":"IF(CType=\"NC\",0,IF($E113=\"\",\"\",WattsPerFixture(E113)))","v":""},"",null,null,null,null,{"$f":"IF($J113=\"\",\"\",WattsPerFixture(J113))","v":""},"",null,null,null,null,"",{"$f":"IF(OR(V113=\"\",COUNTIF($V$21:V113,V113)>1),\"\",ROW())","v":""},"","",0,0,0,0,0,0,0,0,0,0,{"$f":"IF(AK113=0,\"\",IF(AK113=\"X\",1,PercentDI(AK113)))","v":""},{"$f":"IF(AK113=0,\"\",DIDECODE(AK113))","v":""},{"$f":"IF(AK113=0,\"\",PDECODE(AK113))","v":""},{"$f":"IF(OR(W113<>\"\",AND(Y113=0,AB113=0)),0,LtIncentive(E113,F113,J113,L113,N113,K113,AE113,SUM($AI$21:AI112,$AM$21:AM112),SUM($AJ$21:AJ112,$AN$21:AN112),DIEligibility))","v":0},{"$f":"IF(AO113=0,\"\",PercentDI(AO113))","v":""},{"$f":"IF(AO113=0,\"\",DIDECODE(AO113))","v":""},{"$f":"IF(AO113=0,\"\",PDECODE(AO113))","v":""},{"$f":"IF(OR(W113<>\"\",AC113=0),0,LtCTRLIncentive(M113,L113,O113,G113,F113,E113,J113,SUM($AI$21:AI113,$AM$21:AM112),SUM($AJ$21:AJ113,$AN$21:AN112),DIEligibility))","v":0},0,0,0,0,0]
[null,{"$f":"ROWS($B$22:B114)-1","v":92},null,null,null,null,null,{"$f":"IF(CType=\"NC\",0,IF($E114=\"\",\"\",WattsPerFixture(E114)))","v":""},"",null,null,null,null,{"$f":"IF($J114=\"\",\"\",WattsPerFixture(J114))","v":""},"",null,null,null,null,"",{"$f":"IF(OR(V114=\"\",COUNTIF($V$21:V114,V114)>1),\"\",ROW())","v":""},"","",0,0,0,0,0,0,0,0,0,0,{"$f":"IF(AK114=0,\"\",IF(AK114=\"X\",1,PercentDI(AK114)))","v":""},{"$f":"IF(AK114=0,\"\",DIDECODE(AK114))","v":""},{"$f":"IF(AK114=0,\"\",PDECODE(AK114))","v":""},{"$f":"IF(OR(W114<>\"\",AND(Y114=0,AB114=0)),0,LtIncentive(E114,F114,J114,L114,N114,K114,AE114,SUM($AI$21:AI113,$AM$21:AM113),SUM($AJ$21:AJ113,$AN$21:AN113),DIEligibility))","v":0},{"$f":"IF(AO114=0,\"\",PercentDI(AO114))","v":""},{"$f":"IF(AO114=0,\"\",DIDECODE(AO114))","v":""},{"$f":"IF(AO114=0,\"\",PDECODE(AO114))","v":""},{"$f":"IF(OR(W114<>\"\",AC114=0),0,LtCTRLIncentive(M114,L114,O114,G114,F114,E114,J114,SUM($AI$21:AI114,$AM$21:AM113),SUM($AJ$21:AJ114,$AN$21:AN113),DIEligibility))","v":0},0,0,0,0,0]
[null,{"$f":"ROWS($B$22:B115)-1","v":93},null,null,null,null,null,{"$f":"IF(CType=\"NC\",0,IF($E115=\"\",\"\",WattsPerFixture(E115)))","v":""},"",null,null,null,null,{"$f":"IF($J115=\"\",\"\",WattsPerFixture(J115))","v":""},"",null,null,null,null,"",{"$f":"IF(OR(V115=\"\",COUNTIF($V$21:V115,V115)>1),\"\",ROW())","v":""},"","",0,0,0,0,0,0,0,0,0,0,{"$f":"IF(AK115=0,\"\",IF(AK115=\"X\",1,PercentDI(AK115)))","v":""},{"$f":"IF(AK115=0,\"\",DIDECODE(AK115))","v":""},{"$f":"IF(AK115=0,\"\",PDECODE(AK115))","v":""},{"$f":"IF(OR(W115<>\"\",AND(Y115=0,AB115=0)),0,LtIncentive(E115,F115,J115,L115,N115,K115,AE115,SUM($AI$21:AI114,$AM$21:AM114),SUM($AJ$21:AJ114,$AN$21:AN114),DIEligibility))","v":0},{"$f":"IF(AO115=0,\"\",PercentDI(AO115))","v":""},{"$f":"IF(AO115=0,\"\",DIDECODE(AO115))","v":""},{"$f":"IF(AO115=0,\"\",PDECODE(AO115))","v":""},{"$f":"IF(OR(W115<>\"\",AC115=0),0,LtCTRLIncentive(M115,L115,O115,G115,F115,E115,J115,SUM($AI$21:AI115,$AM$21:AM114),SUM($AJ$21:AJ115,$AN$21:AN114),DIEligibility))","v":0},0,0,0,0,0]
[null,{"$f":"ROWS($B$22:B116)-1","v":94},null,null,null,null,null,{"$f":"IF(CType=\"NC\",0,IF($E116=\"\",\"\",WattsPerFixture(E116)))","v":""},"",null,null,null,null,{"$f":"IF($J116=\"\",\"\",WattsPerFixture(J116))","v":""},"",null,null,null,null,"",{"$f":"IF(OR(V116=\"\",COUNTIF($V$21:V116,V116)>1),\"\",ROW())","v":""},"","",0,0,0,0,0,0,0,0,0,0,{"$f":"IF(AK116=0,\"\",IF(AK116=\"X\",1,PercentDI(AK116)))","v":""},{"$f":"IF(AK116=0,\"\",DIDECODE(AK116))","v":""},{"$f":"IF(AK116=0,\"\",PDECODE(AK116))","v":""},{"$f":"IF(OR(W116<>\"\",AND(Y116=0,AB116=0)),0,LtIncentive(E116,F116,J116,L116,N116,K116,AE116,SUM($AI$21:AI115,$AM$21:AM115),SUM($AJ$21:AJ115,$AN$21:AN115),DIEligibility))","v":0},{"$f":"IF(AO116=0,\"\",PercentDI(AO116))","v":""},{"$f":"IF(AO116=0,\"\",DIDECODE(AO116))","v":""},{"$f":"IF(AO116=0,\"\",PDECODE(AO116))","v":""},{"$f":"IF(OR(W116<>\"\",AC116=0),0,LtCTRLIncentive(M116,L116,O116,G116,F116,E116,J116,SUM($AI$21:AI116,$AM$21:AM115),SUM($AJ$21:AJ116,$AN$21:AN115),DIEligibility))","v":0},0,0,0,0,0]
[null,{"$f":"ROWS($B$22:B117)-1","v":95},null,null,null,null,null,{"$f":"IF(CType=\"NC\",0,IF($E117=\"\",\"\",WattsPerFixture(E117)))","v":""},"",null,null,null,null,{"$f":"IF($J117=\"\",\"\",WattsPerFixture(J117))","v":""},"",null,null,null,null,"",{"$f":"IF(OR(V117=\"\",COUNTIF($V$21:V117,V117)>1),\"\",ROW())","v":""},"","",0,0,0,0,0,0,0,0,0,0,{"$f":"IF(AK117=0,\"\",IF(AK117=\"X\",1,PercentDI(AK117)))","v":""},{"$f":"IF(AK117=0,\"\",DIDECODE(AK117))","v":""},{"$f":"IF(AK117=0,\"\",PDECODE(AK117))","v":""},{"$f":"IF(OR(W117<>\"\",AND(Y117=0,AB117=0)),0,LtIncentive(E117,F117,J117,L117,N117,K117,AE117,SUM($AI$21:AI116,$AM$21:AM116),SUM($AJ$21:AJ116,$AN$21:AN116),DIEligibility))","v":0},{"$f":"IF(AO117=0,\"\",PercentDI(AO117))","v":""},{"$f":"IF(AO117=0,\"\",DIDECODE(AO117))","v":""},{"$f":"IF(AO117=0,\"\",PDECODE(AO117))","v":""},{"$f":"IF(OR(W117<>\"\",AC117=0),0,LtCTRLIncentive(M117,L117,O117,G117,F117,E117,J117,SUM($AI$21:AI117,$AM$21:AM116),SUM($AJ$21:AJ117,$AN$21:AN116),DIEligibility))","v":0},0,0,0,0,0]
[null,{"$f":"ROWS($B$22:B118)-1","v":96},null,null,null,null,null,{"$f":"IF(CType=\"NC\",0,IF($E118=\"\",\"\",WattsPerFixture(E118)))","v":""},"",null,null,null,null,{"$f":"IF($J118=\"\",\"\",WattsPerFixture(J118))","v":""},"",null,null,null,null,"",{"$f":"IF(OR(V118=\"\",COUNTIF($V$21:V118,V118)>1),\"\",ROW())","v":""},"","",0,0,0,0,0,0,0,0,0,0,{"$f":"IF(AK118=0,\"\",IF(AK118=\"X\",1,PercentDI(AK118)))","v":""},{"$f":"IF(AK118=0,\"\",DIDECODE(AK118))","v":""},{"$f":"IF(AK118=0,\"\",PDECODE(AK118))","v":""},{"$f":"IF(OR(W118<>\"\",AND(Y118=0,AB118=0)),0,LtIncentive(E118,F118,J118,L118,N118,K118,AE118,SUM($AI$21:AI117,$AM$21:AM117),SUM($AJ$21:AJ117,$AN$21:AN117),DIEligibility))","v":0},{"$f":"IF(AO118=0,\"\",PercentDI(AO118))","v":""},{"$f":"IF(AO118=0,\"\",DIDECODE(AO118))","v":""},{"$f":"IF(AO118=0,\"\",PDECODE(AO118))","v":""},{"$f":"IF(OR(W118<>\"\",AC118=0),0,LtCTRLIncentive(M118,L118,O118,G118,F118,E118,J118,SUM($AI$21:AI118,$AM$21:AM117),SUM($AJ$21:AJ118,$AN$21:AN117),DIEligibility))","v":0},0,0,0,0,0]
[null,{"$f":"ROWS($B$22:B119)-1","v":97},null,null,null,null,null,{"$f":"IF(CType=\"NC\",0,IF($E119=\"\",\"\",WattsPerFixture(E119)))","v":""},"",null,null,null,null,{"$f":"IF($J119=\"\",\"\",WattsPerFixture(J119))","v":""},"",null,null,null,null,"",{"$f":"IF(OR(V119=\"\",COUNTIF($V$21:V119,V119)>1),\"\",ROW())","v":""},"","",0,0,0,0,0,0,0,0,0,0,{"$f":"IF(AK119=0,\"\",IF(AK119=\"X\",1,PercentDI(AK119)))","v":""},{"$f":"IF(AK119=0,\"\",DIDECODE(AK119))","v":""},{"$f":"IF(AK119=0,\"\",PDECODE(AK119))","v":""},{"$f":"IF(OR(W119<>\"\",AND(Y119=0,AB119=0)),0,LtIncentive(E119,F119,J119,L119,N119,K119,AE119,SUM($AI$21:AI118,$AM$21:AM118),SUM($AJ$21:AJ118,$AN$21:AN118),DIEligibility))","v":0},{"$f":"IF(AO119=0,\"\",PercentDI(AO119))","v":""},{"$f":"IF(AO119=0,\"\",DIDECODE(AO119))","v":""},{"$f":"IF(AO119=0,\"\",PDECODE(AO119))","v":""},{"$f":"IF(OR(W119<>\"\",AC119=0),0,LtCTRLIncentive(M119,L119,O119,G119,F119,E119,J119,SUM($AI$21:AI119,$AM$21:AM118),SUM($AJ$21:AJ119,$AN$21:AN118),DIEligibility))","v":0},0,0,0,0,0]
[null,{"$f":"ROWS($B$22:B120)-1","v":98},null,null,null,null,null,{"$f":"IF(CType=\"NC\",0,IF($E120=\"\",\"\",WattsPerFixture(E120)))","v":""},"",null,null,null,null,{"$f":"IF($J120=\"\",\"\",WattsPerFixture(J120))","v":""},"",null,null,null,null,"",{"$f":"IF(OR(V120=\"\",COUNTIF($V$21:V120,V120)>1),\"\",ROW())","v":""},"","",0,0,0,0,0,0,0,0,0,0,{"$f":"IF(AK120=0,\"\",IF(AK120=\"X\",1,PercentDI(AK120)))","v":""},{"$f":"IF(AK120=0,\"\",DIDECODE(AK120))","v":""},{"$f":"IF(AK120=0,\"\",PDECODE(AK120))","v":""},{"$f":"IF(OR(W120<>\"\",AND(Y120=0,AB120=0)),0,LtIncentive(E120,F120,J120,L120,N120,K120,AE120,SUM($AI$21:AI119,$AM$21:AM119),SUM($AJ$21:AJ119,$AN$21:AN119),DIEligibility))","v":0},{"$f":"IF(AO120=0,\"\",PercentDI(AO120))","v":""},{"$f":"IF(AO120=0,\"\",DIDECODE(AO120))","v":""},{"$f":"IF(AO120=0,\"\",PDECODE(AO120))","v":""},{"$f":"IF(OR(W120<>\"\",AC120=0),0,LtCTRLIncentive(M120,L120,O120,G120,F120,E120,J120,SUM($AI$21:AI120,$AM$21:AM119),SUM($AJ$21:AJ120,$AN$21:AN119),DIEligibility))","v":0},0,0,0,0,0]
[null,{"$f":"ROWS($B$22:B121)-1","v":99},null,null,null,null,null,{"$f":"IF(CType=\"NC\",0,IF($E121=\"\",\"\",WattsPerFixture(E121)))","v":""},"",null,null,null,null,{"$f":"IF($J121=\"\",\"\",WattsPerFixture(J121))","v":""},"",null,null,null,null,"",{"$f":"IF(OR(V121=\"\",COUNTIF($V$21:V121,V121)>1),\"\",ROW())","v":""},"","",0,0,0,0,0,0,0,0,0,0,{"$f":"IF(AK121=0,\"\",IF(AK121=\"X\",1,PercentDI(AK121)))","v":""},{"$f":"IF(AK121=0,\"\",DIDECODE(AK121))","v":""},{"$f":"IF(AK121=0,\"\",PDECODE(AK121))","v":""},{"$f":"IF(OR(W121<>\"\",AND(Y121=0,AB121=0)),0,LtIncentive(E121,F121,J121,L121,N121,K121,AE121,SUM($AI$21:AI120,$AM$21:AM120),SUM($AJ$21:AJ120,$AN$21:AN120),DIEligibility))","v":0},{"$f":"IF(AO121=0,\"\",PercentDI(AO121))","v":""},{"$f":"IF(AO121=0,\"\",DIDECODE(AO121))","v":""},{"$f":"IF(AO121=0,\"\",PDECODE(AO121))","v":""},{"$f":"IF(OR(W121<>\"\",AC121=0),0,LtCTRLIncentive(M121,L121,O121,G121,F121,E121,J121,SUM($AI$21:AI121,$AM$21:AM120),SUM($AJ$21:AJ121,$AN$21:AN120),DIEligibility))","v":0},0,0,0,0,0]
[null,{"$f":"ROWS($B$22:B122)-1","v":100},null,null,null,null,null,{"$f":"IF(CType=\"NC\",0,IF($E122=\"\",\"\",WattsPerFixture(E122)))","v":""},"",null,null,null,null,{"$f":"IF($J122=\"\",\"\",WattsPerFixture(J122))","v":""},"",null,null,null,null,"",{"$f":"IF(OR(V122=\"\",COUNTIF($V$21:V122,V122)>1),\"\",ROW())","v":""},"","",0,0,0,0,0,0,0,0,0,0,{"$f":"IF(AK122=0,\"\",IF(AK122=\"X\",1,PercentDI(AK122)))","v":""},{"$f":"IF(AK122=0,\"\",DIDECODE(AK122))","v":""},{"$f":"IF(AK122=0,\"\",PDECODE(AK122))","v":""},{"$f":"IF(OR(W122<>\"\",AND(Y122=0,AB122=0)),0,LtIncentive(E122,F122,J122,L122,N122,K122,AE122,SUM($AI$21:AI121,$AM$21:AM121),SUM($AJ$21:AJ121,$AN$21:AN121),DIEligibility))","v":0},{"$f":"IF(AO122=0,\"\",PercentDI(AO122))","v":""},{"$f":"IF(AO122=0,\"\",DIDECODE(AO122))","v":""},{"$f":"IF(AO122=0,\"\",PDECODE(AO122))","v":""},{"$f":"IF(OR(W122<>\"\",AC122=0),0,LtCTRLIncentive(M122,L122,O122,G122,F122,E122,J122,SUM($AI$21:AI122,$AM$21:AM121),SUM($AJ$21:AJ122,$AN$21:AN121),DIEligibility))","v":0},0,0,0,0,0]
[null,{"$f":"ROWS($B$22:B123)-1","v":101},null,null,null,null,null,{"$f":"IF(CType=\"NC\",0,IF($E123=\"\",\"\",WattsPerFixture(E123)))","v":""},"",null,null,null,null,{"$f":"IF($J123=\"\",\"\",WattsPerFixture(J123))","v":""},"",null,null,null,null,"",{"$f":"IF(OR(V123=\"\",COUNTIF($V$21:V123,V123)>1),\"\",ROW())","v":""},"","",0,0,0,0,0,0,0,0,0,0,{"$f":"IF(AK123=0,\"\",IF(AK123=\"X\",1,PercentDI(AK123)))","v":""},{"$f":"IF(AK123=0,\"\",DIDECODE(AK123))","v":""},{"$f":"IF(AK123=0,\"\",PDECODE(AK123))","v":""},{"$f":"IF(OR(W123<>\"\",AND(Y123=0,AB123=0)),0,LtIncentive(E123,F123,J123,L123,N123,K123,AE123,SUM($AI$21:AI122,$AM$21:AM122),SUM($AJ$21:AJ122,$AN$21:AN122),DIEligibility))","v":0},{"$f":"IF(AO123=0,\"\",PercentDI(AO123))","v":""},{"$f":"IF(AO123=0,\"\",DIDECODE(AO123))","v":""},{"$f":"IF(AO123=0,\"\",PDECODE(AO123))","v":""},{"$f":"IF(OR(W123<>\"\",AC123=0),0,LtCTRLIncentive(M123,L123,O123,G123,F123,E123,J123,SUM($AI$21:AI123,$AM$21:AM122),SUM($AJ$21:AJ123,$AN$21:AN122),DIEligibility))","v":0},0,0,0,0,0]
[null,{"$f":"ROWS($B$22:B124)-1","v":102},null,null,null,null,null,{"$f":"IF(CType=\"NC\",0,IF($E124=\"\",\"\",WattsPerFixture(E124)))","v":""},"",null,null,null,null,{"$f":"IF($J124=\"\",\"\",WattsPerFixture(J124))","v":""},"",null,null,null,null,"",{"$f":"IF(OR(V124=\"\",COUNTIF($V$21:V124,V124)>1),\"\",ROW())","v":""},"","",0,0,0,0,0,0,0,0,0,0,{"$f":"IF(AK124=0,\"\",IF(AK124=\"X\",1,PercentDI(AK124)))","v":""},{"$f":"IF(AK124=0,\"\",DIDECODE(AK124))","v":""},{"$f":"IF(AK124=0,\"\",PDECODE(AK124))","v":""},{"$f":"IF(OR(W124<>\"\",AND(Y124=0,AB124=0)),0,LtIncentive(E124,F124,J124,L124,N124,K124,AE124,SUM($AI$21:AI123,$AM$21:AM123),SUM($AJ$21:AJ123,$AN$21:AN123),DIEligibility))","v":0},{"$f":"IF(AO124=0,\"\",PercentDI(AO124))","v":""},{"$f":"IF(AO124=0,\"\",DIDECODE(AO124))","v":""},{"$f":"IF(AO124=0,\"\",PDECODE(AO124))","v":""},{"$f":"IF(OR(W124<>\"\",AC124=0),0,LtCTRLIncentive(M124,L124,O124,G124,F124,E124,J124,SUM($AI$21:AI124,$AM$21:AM123),SUM($AJ$21:AJ124,$AN$21:AN123),DIEligibility))","v":0},0,0,0,0,0]
[null,{"$f":"ROWS($B$22:B125)-1","v":103},null,null,null,null,null,{"$f":"IF(CType=\"NC\",0,IF($E125=\"\",\"\",WattsPerFixture(E125)))","v":""},"",null,null,null,null,{"$f":"IF($J125=\"\",\"\",WattsPerFixture(J125))","v":""},"",null,null,null,null,"",{"$f":"IF(OR(V125=\"\",COUNTIF($V$21:V125,V125)>1),\"\",ROW())","v":""},"","",0,0,0,0,0,0,0,0,0,0,{"$f":"IF(AK125=0,\"\",IF(AK125=\"X\",1,PercentDI(AK125)))","v":""},{"$f":"IF(AK125=0,\"\",DIDECODE(AK125))","v":""},{"$f":"IF(AK125=0,\"\",PDECODE(AK125))","v":""},{"$f":"IF(OR(W125<>\"\",AND(Y125=0,AB125=0)),0,LtIncentive(E125,F125,J125,L125,N125,K125,AE125,SUM($AI$21:AI124,$AM$21:AM124),SUM($AJ$21:AJ124,$AN$21:AN124),DIEligibility))","v":0},{"$f":"IF(AO125=0,\"\",PercentDI(AO125))","v":""},{"$f":"IF(AO125=0,\"\",DIDECODE(AO125))","v":""},{"$f":"IF(AO125=0,\"\",PDECODE(AO125))","v":""},{"$f":"IF(OR(W125<>\"\",AC125=0),0,LtCTRLIncentive(M125,L125,O125,G125,F125,E125,J125,SUM($AI$21:AI125,$AM$21:AM124),SUM($AJ$21:AJ125,$AN$21:AN124),DIEligibility))","v":0},0,0,0,0,0]
[null,{"$f":"ROWS($B$22:B126)-1","v":104},null,null,null,null,null,{"$f":"IF(CType=\"NC\",0,IF($E126=\"\",\"\",WattsPerFixture(E126)))","v":""},"",null,null,null,null,{"$f":"IF($J126=\"\",\"\",WattsPerFixture(J126))","v":""},"",null,null,null,null,"",{"$f":"IF(OR(V126=\"\",COUNTIF($V$21:V126,V126)>1),\"\",ROW())","v":""},"","",0,0,0,0,0,0,0,0,0,0,{"$f":"IF(AK126=0,\"\",IF(AK126=\"X\",1,PercentDI(AK126)))","v":""},{"$f":"IF(AK126=0,\"\",DIDECODE(AK126))","v":""},{"$f":"IF(AK126=0,\"\",PDECODE(AK126))","v":""},{"$f":"IF(OR(W126<>\"\",AND(Y126=0,AB126=0)),0,LtIncentive(E126,F126,J126,L126,N126,K126,AE126,SUM($AI$21:AI125,$AM$21:AM125),SUM($AJ$21:AJ125,$AN$21:AN125),DIEligibility))","v":0},{"$f":"IF(AO126=0,\"\",PercentDI(AO126))","v":""},{"$f":"IF(AO126=0,\"\",DIDECODE(AO126))","v":""},{"$f":"IF(AO126=0,\"\",PDECODE(AO126))","v":""},{"$f":"IF(OR(W126<>\"\",AC126=0),0,LtCTRLIncentive(M126,L126,O126,G126,F126,E126,J126,SUM($AI$21:AI126,$AM$21:AM125),SUM($AJ$21:AJ126,$AN$21:AN125),DIEligibility))","v":0},0,0,0,0,0]
[null,{"$f":"ROWS($B$22:B127)-1","v":105},null,null,null,null,null,{"$f":"IF(CType=\"NC\",0,IF($E127=\"\",\"\",WattsPerFixture(E127)))","v":""},"",null,null,null,null,{"$f":"IF($J127=\"\",\"\",WattsPerFixture(J127))","v":""},"",null,null,null,null,"",{"$f":"IF(OR(V127=\"\",COUNTIF($V$21:V127,V127)>1),\"\",ROW())","v":""},"","",0,0,0,0,0,0,0,0,0,0,{"$f":"IF(AK127=0,\"\",IF(AK127=\"X\",1,PercentDI(AK127)))","v":""},{"$f":"IF(AK127=0,\"\",DIDECODE(AK127))","v":""},{"$f":"IF(AK127=0,\"\",PDECODE(AK127))","v":""},{"$f":"IF(OR(W127<>\"\",AND(Y127=0,AB127=0)),0,LtIncentive(E127,F127,J127,L127,N127,K127,AE127,SUM($AI$21:AI126,$AM$21:AM126),SUM($AJ$21:AJ126,$AN$21:AN126),DIEligibility))","v":0},{"$f":"IF(AO127=0,\"\",PercentDI(AO127))","v":""},{"$f":"IF(AO127=0,\"\",DIDECODE(AO127))","v":""},{"$f":"IF(AO127=0,\"\",PDECODE(AO127))","v":""},{"$f":"IF(OR(W127<>\"\",AC127=0),0,LtCTRLIncentive(M127,L127,O127,G127,F127,E127,J127,SUM($AI$21:AI127,$AM$21:AM126),SUM($AJ$21:AJ127,$AN$21:AN126),DIEligibility))","v":0},0,0,0,0,0]
[null,{"$f":"ROWS($B$22:B128)-1","v":106},null,null,null,null,null,{"$f":"IF(CType=\"NC\",0,IF($E128=\"\",\"\",WattsPerFixture(E128)))","v":""},"",null,null,null,null,{"$f":"IF($J128=\"\",\"\",WattsPerFixture(J128))","v":""},"",null,null,null,null,"",{"$f":"IF(OR(V128=\"\",COUNTIF($V$21:V128,V128)>1),\"\",ROW())","v":""},"","",0,0,0,0,0,0,0,0,0,0,{"$f":"IF(AK128=0,\"\",IF(AK128=\"X\",1,PercentDI(AK128)))","v":""},{"$f":"IF(AK128=0,\"\",DIDECODE(AK128))","v":""},{"$f":"IF(AK128=0,\"\",PDECODE(AK128))","v":""},{"$f":"IF(OR(W128<>\"\",AND(Y128=0,AB128=0)),0,LtIncentive(E128,F128,J128,L128,N128,K128,AE128,SUM($AI$21:AI127,$AM$21:AM127),SUM($AJ$21:AJ127,$AN$21:AN127),DIEligibility))","v":0},{"$f":"IF(AO128=0,\"\",PercentDI(AO128))","v":""},{"$f":"IF(AO128=0,\"\",DIDECODE(AO128))","v":""},{"$f":"IF(AO128=0,\"\",PDECODE(AO128))","v":""},{"$f":"IF(OR(W128<>\"\",AC128=0),0,LtCTRLIncentive(M128,L128,O128,G128,F128,E128,J128,SUM($AI$21:AI128,$AM$21:AM127),SUM($AJ$21:AJ128,$AN$21:AN127),DIEligibility))","v":0},0,0,0,0,0]
[null,{"$f":"ROWS($B$22:B129)-1","v":107},null,null,null,null,null,{"$f":"IF(CType=\"NC\",0,IF($E129=\"\",\"\",WattsPerFixture(E129)))","v":""},"",null,null,null,null,{"$f":"IF($J129=\"\",\"\",WattsPerFixture(J129))","v":""},"",null,null,null,null,"",{"$f":"IF(OR(V129=\"\",COUNTIF($V$21:V129,V129)>1),\"\",ROW())","v":""},"","",0,0,0,0,0,0,0,0,0,0,{"$f":"IF(AK129=0,\"\",IF(AK129=\"X\",1,PercentDI(AK129)))","v":""},{"$f":"IF(AK129=0,\"\",DIDECODE(AK129))","v":""},{"$f":"IF(AK129=0,\"\",PDECODE(AK129))","v":""},{"$f":"IF(OR(W129<>\"\",AND(Y129=0,AB129=0)),0,LtIncentive(E129,F129,J129,L129,N129,K129,AE129,SUM($AI$21:AI128,$AM$21:AM128),SUM($AJ$21:AJ128,$AN$21:AN128),DIEligibility))","v":0},{"$f":"IF(AO129=0,\"\",PercentDI(AO129))","v":""},{"$f":"IF(AO129=0,\"\",DIDECODE(AO129))","v":""},{"$f":"IF(AO129=0,\"\",PDECODE(AO129))","v":""},{"$f":"IF(OR(W129<>\"\",AC129=0),0,LtCTRLIncentive(M129,L129,O129,G129,F129,E129,J129,SUM($AI$21:AI129,$AM$21:AM128),SUM($AJ$21:AJ129,$AN$21:AN128),DIEligibility))","v":0},0,0,0,0,0]
[null,{"$f":"ROWS($B$22:B130)-1","v":108},null,null,null,null,null,{"$f":"IF(CType=\"NC\",0,IF($E130=\"\",\"\",WattsPerFixture(E130)))","v":""},"",null,null,null,null,{"$f":"IF($J130=\"\",\"\",WattsPerFixture(J130))","v":""},"",null,null,null,null,"",{"$f":"IF(OR(V130=\"\",COUNTIF($V$21:V130,V130)>1),\"\",ROW())","v":""},"","",0,0,0,0,0,0,0,0,0,0,{"$f":"IF(AK130=0,\"\",IF(AK130=\"X\",1,PercentDI(AK130)))","v":""},{"$f":"IF(AK130=0,\"\",DIDECODE(AK130))","v":""},{"$f":"IF(AK130=0,\"\",PDECODE(AK130))","v":""},{"$f":"IF(OR(W130<>\"\",AND(Y130=0,AB130=0)),0,LtIncentive(E130,F130,J130,L130,N130,K130,AE130,SUM($AI$21:AI129,$AM$21:AM129),SUM($AJ$21:AJ129,$AN$21:AN129),DIEligibility))","v":0},{"$f":"IF(AO130=0,\"\",PercentDI(AO130))","v":""},{"$f":"IF(AO130=0,\"\",DIDECODE(AO130))","v":""},{"$f":"IF(AO130=0,\"\",PDECODE(AO130))","v":""},{"$f":"IF(OR(W130<>\"\",AC130=0),0,LtCTRLIncentive(M130,L130,O130,G130,F130,E130,J130,SUM($AI$21:AI130,$AM$21:AM129),SUM($AJ$21:AJ130,$AN$21:AN129),DIEligibility))","v":0},0,0,0,0,0]
[null,{"$f":"ROWS($B$22:B131)-1","v":109},null,null,null,null,null,{"$f":"IF(CType=\"NC\",0,IF($E131=\"\",\"\",WattsPerFixture(E131)))","v":""},"",null,null,null,null,{"$f":"IF($J131=\"\",\"\",WattsPerFixture(J131))","v":""},"",null,null,null,null,"",{"$f":"IF(OR(V131=\"\",COUNTIF($V$21:V131,V131)>1),\"\",ROW())","v":""},"","",0,0,0,0,0,0,0,0,0,0,{"$f":"IF(AK131=0,\"\",IF(AK131=\"X\",1,PercentDI(AK131)))","v":""},{"$f":"IF(AK131=0,\"\",DIDECODE(AK131))","v":""},{"$f":"IF(AK131=0,\"\",PDECODE(AK131))","v":""},{"$f":"IF(OR(W131<>\"\",AND(Y131=0,AB131=0)),0,LtIncentive(E131,F131,J131,L131,N131,K131,AE131,SUM($AI$21:AI130,$AM$21:AM130),SUM($AJ$21:AJ130,$AN$21:AN130),DIEligibility))","v":0},{"$f":"IF(AO131=0,\"\",PercentDI(AO131))","v":""},{"$f":"IF(AO131=0,\"\",DIDECODE(AO131))","v":""},{"$f":"IF(AO131=0,\"\",PDECODE(AO131))","v":""},{"$f":"IF(OR(W131<>\"\",AC131=0),0,LtCTRLIncentive(M131,L131,O131,G131,F131,E131,J131,SUM($AI$21:AI131,$AM$21:AM130),SUM($AJ$21:AJ131,$AN$21:AN130),DIEligibility))","v":0},0,0,0,0,0]
[null,{"$f":"ROWS($B$22:B132)-1","v":110},null,null,null,null,null,{"$f":"IF(CType=\"NC\",0,IF($E132=\"\",\"\",WattsPerFixture(E132)))","v":""},"",null,null,null,null,{"$f":"IF($J132=\"\",\"\",WattsPerFixture(J132))","v":""},"",null,null,null,null,"",{"$f":"IF(OR(V132=\"\",COUNTIF($V$21:V132,V132)>1),\"\",ROW())","v":""},"","",0,0,0,0,0,0,0,0,0,0,{"$f":"IF(AK132=0,\"\",IF(AK132=\"X\",1,PercentDI(AK132)))","v":""},{"$f":"IF(AK132=0,\"\",DIDECODE(AK132))","v":""},{"$f":"IF(AK132=0,\"\",PDECODE(AK132))","v":""},{"$f":"IF(OR(W132<>\"\",AND(Y132=0,AB132=0)),0,LtIncentive(E132,F132,J132,L132,N132,K132,AE132,SUM($AI$21:AI131,$AM$21:AM131),SUM($AJ$21:AJ131,$AN$21:AN131),DIEligibility))","v":0},{"$f":"IF(AO132=0,\"\",PercentDI(AO132))","v":""},{"$f":"IF(AO132=0,\"\",DIDECODE(AO132))","v":""},{"$f":"IF(AO132=0,\"\",PDECODE(AO132))","v":""},{"$f":"IF(OR(W132<>\"\",AC132=0),0,LtCTRLIncentive(M132,L132,O132,G132,F132,E132,J132,SUM($AI$21:AI132,$AM$21:AM131),SUM($AJ$21:AJ132,$AN$21:AN131),DIEligibility))","v":0},0,0,0,0,0]
[null,{"$f":"ROWS($B$22:B133)-1","v":111},null,null,null,null,null,{"$f":"IF(CType=\"NC\",0,IF($E133=\"\",\"\",WattsPerFixture(E133)))","v":""},"",null,null,null,null,{"$f":"IF($J133=\"\",\"\",WattsPerFixture(J133))","v":""},"",null,null,null,null,"",{"$f":"IF(OR(V133=\"\",COUNTIF($V$21:V133,V133)>1),\"\",ROW())","v":""},"","",0,0,0,0,0,0,0,0,0,0,{"$f":"IF(AK133=0,\"\",IF(AK133=\"X\",1,PercentDI(AK133)))","v":""},{"$f":"IF(AK133=0,\"\",DIDECODE(AK133))","v":""},{"$f":"IF(AK133=0,\"\",PDECODE(AK133))","v":""},{"$f":"IF(OR(W133<>\"\",AND(Y133=0,AB133=0)),0,LtIncentive(E133,F133,J133,L133,N133,K133,AE133,SUM($AI$21:AI132,$AM$21:AM132),SUM($AJ$21:AJ132,$AN$21:AN132),DIEligibility))","v":0},{"$f":"IF(AO133=0,\"\",PercentDI(AO133))","v":""},{"$f":"IF(AO133=0,\"\",DIDECODE(AO133))","v":""},{"$f":"IF(AO133=0,\"\",PDECODE(AO133))","v":""},{"$f":"IF(OR(W133<>\"\",AC133=0),0,LtCTRLIncentive(M133,L133,O133,G133,F133,E133,J133,SUM($AI$21:AI133,$AM$21:AM132),SUM($AJ$21:AJ133,$AN$21:AN132),DIEligibility))","v":0},0,0,0,0,0]
[null,{"$f":"ROWS($B$22:B134)-1","v":112},null,null,null,null,null,{"$f":"IF(CType=\"NC\",0,IF($E134=\"\",\"\",WattsPerFixture(E134)))","v":""},"",null,null,null,null,{"$f":"IF($J134=\"\",\"\",WattsPerFixture(J134))","v":""},"",null,null,null,null,"",{"$f":"IF(OR(V134=\"\",COUNTIF($V$21:V134,V134)>1),\"\",ROW())","v":""},"","",0,0,0,0,0,0,0,0,0,0,{"$f":"IF(AK134=0,\"\",IF(AK134=\"X\",1,PercentDI(AK134)))","v":""},{"$f":"IF(AK134=0,\"\",DIDECODE(AK134))","v":""},{"$f":"IF(AK134=0,\"\",PDECODE(AK134))","v":""},{"$f":"IF(OR(W134<>\"\",AND(Y134=0,AB134=0)),0,LtIncentive(E134,F134,J134,L134,N134,K134,AE134,SUM($AI$21:AI133,$AM$21:AM133),SUM($AJ$21:AJ133,$AN$21:AN133),DIEligibility))","v":0},{"$f":"IF(AO134=0,\"\",PercentDI(AO134))","v":""},{"$f":"IF(AO134=0,\"\",DIDECODE(AO134))","v":""},{"$f":"IF(AO134=0,\"\",PDECODE(AO134))","v":""},{"$f":"IF(OR(W134<>\"\",AC134=0),0,LtCTRLIncentive(M134,L134,O134,G134,F134,E134,J134,SUM($AI$21:AI134,$AM$21:AM133),SUM($AJ$21:AJ134,$AN$21:AN133),DIEligibility))","v":0},0,0,0,0,0]
[null,{"$f":"ROWS($B$22:B135)-1","v":113},null,null,null,null,null,{"$f":"IF(CType=\"NC\",0,IF($E135=\"\",\"\",WattsPerFixture(E135)))","v":""},"",null,null,null,null,{"$f":"IF($J135=\"\",\"\",WattsPerFixture(J135))","v":""},"",null,null,null,null,"",{"$f":"IF(OR(V135=\"\",COUNTIF($V$21:V135,V135)>1),\"\",ROW())","v":""},"","",0,0,0,0,0,0,0,0,0,0,{"$f":"IF(AK135=0,\"\",IF(AK135=\"X\",1,PercentDI(AK135)))","v":""},{"$f":"IF(AK135=0,\"\",DIDECODE(AK135))","v":""},{"$f":"IF(AK135=0,\"\",PDECODE(AK135))","v":""},{"$f":"IF(OR(W135<>\"\",AND(Y135=0,AB135=0)),0,LtIncentive(E135,F135,J135,L135,N135,K135,AE135,SUM($AI$21:AI134,$AM$21:AM134),SUM($AJ$21:AJ134,$AN$21:AN134),DIEligibility))","v":0},{"$f":"IF(AO135=0,\"\",PercentDI(AO135))","v":""},{"$f":"IF(AO135=0,\"\",DIDECODE(AO135))","v":""},{"$f":"IF(AO135=0,\"\",PDECODE(AO135))","v":""},{"$f":"IF(OR(W135<>\"\",AC135=0),0,LtCTRLIncentive(M135,L135,O135,G135,F135,E135,J135,SUM($AI$21:AI135,$AM$21:AM134),SUM($AJ$21:AJ135,$AN$21:AN134),DIEligibility))","v":0},0,0,0,0,0]
[null,{"$f":"ROWS($B$22:B136)-1","v":114},null,null,null,null,null,{"$f":"IF(CType=\"NC\",0,IF($E136=\"\",\"\",WattsPerFixture(E136)))","v":""},"",null,null,null,null,{"$f":"IF($J136=\"\",\"\",WattsPerFixture(J136))","v":""},"",null,null,null,null,"",{"$f":"IF(OR(V136=\"\",COUNTIF($V$21:V136,V136)>1),\"\",ROW())","v":""},"","",0,0,0,0,0,0,0,0,0,0,{"$f":"IF(AK136=0,\"\",IF(AK136=\"X\",1,PercentDI(AK136)))","v":""},{"$f":"IF(AK136=0,\"\",DIDECODE(AK136))","v":""},{"$f":"IF(AK136=0,\"\",PDECODE(AK136))","v":""},{"$f":"IF(OR(W136<>\"\",AND(Y136=0,AB136=0)),0,LtIncentive(E136,F136,J136,L136,N136,K136,AE136,SUM($AI$21:AI135,$AM$21:AM135),SUM($AJ$21:AJ135,$AN$21:AN135),DIEligibility))","v":0},{"$f":"IF(AO136=0,\"\",PercentDI(AO136))","v":""},{"$f":"IF(AO136=0,\"\",DIDECODE(AO136))","v":""},{"$f":"IF(AO136=0,\"\",PDECODE(AO136))","v":""},{"$f":"IF(OR(W136<>\"\",AC136=0),0,LtCTRLIncentive(M136,L136,O136,G136,F136,E136,J136,SUM($AI$21:AI136,$AM$21:AM135),SUM($AJ$21:AJ136,$AN$21:AN135),DIEligibility))","v":0},0,0,0,0,0]
[null,{"$f":"ROWS($B$22:B137)-1","v":115},null,null,null,null,null,{"$f":"IF(CType=\"NC\",0,IF($E137=\"\",\"\",WattsPerFixture(E137)))","v":""},"",null,null,null,null,{"$f":"IF($J137=\"\",\"\",WattsPerFixture(J137))","v":""},"",null,null,null,null,"",{"$f":"IF(OR(V137=\"\",COUNTIF($V$21:V137,V137)>1),\"\",ROW())","v":""},"","",0,0,0,0,0,0,0,0,0,0,{"$f":"IF(AK137=0,\"\",IF(AK137=\"X\",1,PercentDI(AK137)))","v":""},{"$f":"IF(AK137=0,\"\",DIDECODE(AK137))","v":""},{"$f":"IF(AK137=0,\"\",PDECODE(AK137))","v":""},{"$f":"IF(OR(W137<>\"\",AND(Y137=0,AB137=0)),0,LtIncentive(E137,F137,J137,L137,N137,K137,AE137,SUM($AI$21:AI136,$AM$21:AM136),SUM($AJ$21:AJ136,$AN$21:AN136),DIEligibility))","v":0},{"$f":"IF(AO137=0,\"\",PercentDI(AO137))","v":""},{"$f":"IF(AO137=0,\"\",DIDECODE(AO137))","v":""},{"$f":"IF(AO137=0,\"\",PDECODE(AO137))","v":""},{"$f":"IF(OR(W137<>\"\",AC137=0),0,LtCTRLIncentive(M137,L137,O137,G137,F137,E137,J137,SUM($AI$21:AI137,$AM$21:AM136),SUM($AJ$21:AJ137,$AN$21:AN136),DIEligibility))","v":0},0,0,0,0,0]
[null,{"$f":"ROWS($B$22:B138)-1","v":116},null,null,null,null,null,{"$f":"IF(CType=\"NC\",0,IF($E138=\"\",\"\",WattsPerFixture(E138)))","v":""},"",null,null,null,null,{"$f":"IF($J138=\"\",\"\",WattsPerFixture(J138))","v":""},"",null,null,null,null,"",{"$f":"IF(OR(V138=\"\",COUNTIF($V$21:V138,V138)>1),\"\",ROW())","v":""},"","",0,0,0,0,0,0,0,0,0,0,{"$f":"IF(AK138=0,\"\",IF(AK138=\"X\",1,PercentDI(AK138)))","v":""},{"$f":"IF(AK138=0,\"\",DIDECODE(AK138))","v":""},{"$f":"IF(AK138=0,\"\",PDECODE(AK138))","v":""},{"$f":"IF(OR(W138<>\"\",AND(Y138=0,AB138=0)),0,LtIncentive(E138,F138,J138,L138,N138,K138,AE138,SUM($AI$21:AI137,$AM$21:AM137),SUM($AJ$21:AJ137,$AN$21:AN137),DIEligibility))","v":0},{"$f":"IF(AO138=0,\"\",PercentDI(AO138))","v":""},{"$f":"IF(AO138=0,\"\",DIDECODE(AO138))","v":""},{"$f":"IF(AO138=0,\"\",PDECODE(AO138))","v":""},{"$f":"IF(OR(W138<>\"\",AC138=0),0,LtCTRLIncentive(M138,L138,O138,G138,F138,E138,J138,SUM($AI$21:AI138,$AM$21:AM137),SUM($AJ$21:AJ138,$AN$21:AN137),DIEligibility))","v":0},0,0,0,0,0]
[null,{"$f":"ROWS($B$22:B139)-1","v":117},null,null,null,null,null,{"$f":"IF(CType=\"NC\",0,IF($E139=\"\",\"\",WattsPerFixture(E139)))","v":""},"",null,null,null,null,{"$f":"IF($J139=\"\",\"\",WattsPerFixture(J139))","v":""},"",null,null,null,null,"",{"$f":"IF(OR(V139=\"\",COUNTIF($V$21:V139,V139)>1),\"\",ROW())","v":""},"","",0,0,0,0,0,0,0,0,0,0,{"$f":"IF(AK139=0,\"\",IF(AK139=\"X\",1,PercentDI(AK139)))","v":""},{"$f":"IF(AK139=0,\"\",DIDECODE(AK139))","v":""},{"$f":"IF(AK139=0,\"\",PDECODE(AK139))","v":""},{"$f":"IF(OR(W139<>\"\",AND(Y139=0,AB139=0)),0,LtIncentive(E139,F139,J139,L139,N139,K139,AE139,SUM($AI$21:AI138,$AM$21:AM138),SUM($AJ$21:AJ138,$AN$21:AN138),DIEligibility))","v":0},{"$f":"IF(AO139=0,\"\",PercentDI(AO139))","v":""},{"$f":"IF(AO139=0,\"\",DIDECODE(AO139))","v":""},{"$f":"IF(AO139=0,\"\",PDECODE(AO139))","v":""},{"$f":"IF(OR(W139<>\"\",AC139=0),0,LtCTRLIncentive(M139,L139,O139,G139,F139,E139,J139,SUM($AI$21:AI139,$AM$21:AM138),SUM($AJ$21:AJ139,$AN$21:AN138),DIEligibility))","v":0},0,0,0,0,0]
[null,{"$f":"ROWS($B$22:B140)-1","v":118},null,null,null,null,null,{"$f":"IF(CType=\"NC\",0,IF($E140=\"\",\"\",WattsPerFixture(E140)))","v":""},"",null,null,null,null,{"$f":"IF($J140=\"\",\"\",WattsPerFixture(J140))","v":""},"",null,null,null,null,"",{"$f":"IF(OR(V140=\"\",COUNTIF($V$21:V140,V140)>1),\"\",ROW())","v":""},"","",0,0,0,0,0,0,0,0,0,0,{"$f":"IF(AK140=0,\"\",IF(AK140=\"X\",1,PercentDI(AK140)))","v":""},{"$f":"IF(AK140=0,\"\",DIDECODE(AK140))","v":""},{"$f":"IF(AK140=0,\"\",PDECODE(AK140))","v":""},{"$f":"IF(OR(W140<>\"\",AND(Y140=0,AB140=0)),0,LtIncentive(E140,F140,J140,L140,N140,K140,AE140,SUM($AI$21:AI139,$AM$21:AM139),SUM($AJ$21:AJ139,$AN$21:AN139),DIEligibility))","v":0},{"$f":"IF(AO140=0,\"\",PercentDI(AO140))","v":""},{"$f":"IF(AO140=0,\"\",DIDECODE(AO140))","v":""},{"$f":"IF(AO140=0,\"\",PDECODE(AO140))","v":""},{"$f":"IF(OR(W140<>\"\",AC140=0),0,LtCTRLIncentive(M140,L140,O140,G140,F140,E140,J140,SUM($AI$21:AI140,$AM$21:AM139),SUM($AJ$21:AJ140,$AN$21:AN139),DIEligibility))","v":0},0,0,0,0,0]
[null,{"$f":"ROWS($B$22:B141)-1","v":119},null,null,null,null,null,{"$f":"IF(CType=\"NC\",0,IF($E141=\"\",\"\",WattsPerFixture(E141)))","v":""},"",null,null,null,null,{"$f":"IF($J141=\"\",\"\",WattsPerFixture(J141))","v":""},"",null,null,null,null,"",{"$f":"IF(OR(V141=\"\",COUNTIF($V$21:V141,V141)>1),\"\",ROW())","v":""},"","",0,0,0,0,0,0,0,0,0,0,{"$f":"IF(AK141=0,\"\",IF(AK141=\"X\",1,PercentDI(AK141)))","v":""},{"$f":"IF(AK141=0,\"\",DIDECODE(AK141))","v":""},{"$f":"IF(AK141=0,\"\",PDECODE(AK141))","v":""},{"$f":"IF(OR(W141<>\"\",AND(Y141=0,AB141=0)),0,LtIncentive(E141,F141,J141,L141,N141,K141,AE141,SUM($AI$21:AI140,$AM$21:AM140),SUM($AJ$21:AJ140,$AN$21:AN140),DIEligibility))","v":0},{"$f":"IF(AO141=0,\"\",PercentDI(AO141))","v":""},{"$f":"IF(AO141=0,\"\",DIDECODE(AO141))","v":""},{"$f":"IF(AO141=0,\"\",PDECODE(AO141))","v":""},{"$f":"IF(OR(W141<>\"\",AC141=0),0,LtCTRLIncentive(M141,L141,O141,G141,F141,E141,J141,SUM($AI$21:AI141,$AM$21:AM140),SUM($AJ$21:AJ141,$AN$21:AN140),DIEligibility))","v":0},0,0,0,0,0]
[null,{"$f":"ROWS($B$22:B142)-1","v":120},null,null,null,null,null,{"$f":"IF(CType=\"NC\",0,IF($E142=\"\",\"\",WattsPerFixture(E142)))","v":""},"",null,null,null,null,{"$f":"IF($J142=\"\",\"\",WattsPerFixture(J142))","v":""},"",null,null,null,null,"",{"$f":"IF(OR(V142=\"\",COUNTIF($V$21:V142,V142)>1),\"\",ROW())","v":""},"","",0,0,0,0,0,0,0,0,0,0,{"$f":"IF(AK142=0,\"\",IF(AK142=\"X\",1,PercentDI(AK142)))","v":""},{"$f":"IF(AK142=0,\"\",DIDECODE(AK142))","v":""},{"$f":"IF(AK142=0,\"\",PDECODE(AK142))","v":""},{"$f":"IF(OR(W142<>\"\",AND(Y142=0,AB142=0)),0,LtIncentive(E142,F142,J142,L142,N142,K142,AE142,SUM($AI$21:AI141,$AM$21:AM141),SUM($AJ$21:AJ141,$AN$21:AN141),DIEligibility))","v":0},{"$f":"IF(AO142=0,\"\",PercentDI(AO142))","v":""},{"$f":"IF(AO142=0,\"\",DIDECODE(AO142))","v":""},{"$f":"IF(AO142=0,\"\",PDECODE(AO142))","v":""},{"$f":"IF(OR(W142<>\"\",AC142=0),0,LtCTRLIncentive(M142,L142,O142,G142,F142,E142,J142,SUM($AI$21:AI142,$AM$21:AM141),SUM($AJ$21:AJ142,$AN$21:AN141),DIEligibility))","v":0},0,0,0,0,0]
[null,{"$f":"ROWS($B$22:B143)-1","v":121},null,null,null,null,null,{"$f":"IF(CType=\"NC\",0,IF($E143=\"\",\"\",WattsPerFixture(E143)))","v":""},"",null,null,null,null,{"$f":"IF($J143=\"\",\"\",WattsPerFixture(J143))","v":""},"",null,null,null,null,"",{"$f":"IF(OR(V143=\"\",COUNTIF($V$21:V143,V143)>1),\"\",ROW())","v":""},"","",0,0,0,0,0,0,0,0,0,0,{"$f":"IF(AK143=0,\"\",IF(AK143=\"X\",1,PercentDI(AK143)))","v":""},{"$f":"IF(AK143=0,\"\",DIDECODE(AK143))","v":""},{"$f":"IF(AK143=0,\"\",PDECODE(AK143))","v":""},{"$f":"IF(OR(W143<>\"\",AND(Y143=0,AB143=0)),0,LtIncentive(E143,F143,J143,L143,N143,K143,AE143,SUM($AI$21:AI142,$AM$21:AM142),SUM($AJ$21:AJ142,$AN$21:AN142),DIEligibility))","v":0},{"$f":"IF(AO143=0,\"\",PercentDI(AO143))","v":""},{"$f":"IF(AO143=0,\"\",DIDECODE(AO143))","v":""},{"$f":"IF(AO143=0,\"\",PDECODE(AO143))","v":""},{"$f":"IF(OR(W143<>\"\",AC143=0),0,LtCTRLIncentive(M143,L143,O143,G143,F143,E143,J143,SUM($AI$21:AI143,$AM$21:AM142),SUM($AJ$21:AJ143,$AN$21:AN142),DIEligibility))","v":0},0,0,0,0,0]
[null,{"$f":"ROWS($B$22:B144)-1","v":122},null,null,null,null,null,{"$f":"IF(CType=\"NC\",0,IF($E144=\"\",\"\",WattsPerFixture(E144)))","v":""},"",null,null,null,null,{"$f":"IF($J144=\"\",\"\",WattsPerFixture(J144))","v":""},"",null,null,null,null,"",{"$f":"IF(OR(V144=\"\",COUNTIF($V$21:V144,V144)>1),\"\",ROW())","v":""},"","",0,0,0,0,0,0,0,0,0,0,{"$f":"IF(AK144=0,\"\",IF(AK144=\"X\",1,PercentDI(AK144)))","v":""},{"$f":"IF(AK144=0,\"\",DIDECODE(AK144))","v":""},{"$f":"IF(AK144=0,\"\",PDECODE(AK144))","v":""},{"$f":"IF(OR(W144<>\"\",AND(Y144=0,AB144=0)),0,LtIncentive(E144,F144,J144,L144,N144,K144,AE144,SUM($AI$21:AI143,$AM$21:AM143),SUM($AJ$21:AJ143,$AN$21:AN143),DIEligibility))","v":0},{"$f":"IF(AO144=0,\"\",PercentDI(AO144))","v":""},{"$f":"IF(AO144=0,\"\",DIDECODE(AO144))","v":""},{"$f":"IF(AO144=0,\"\",PDECODE(AO144))","v":""},{"$f":"IF(OR(W144<>\"\",AC144=0),0,LtCTRLIncentive(M144,L144,O144,G144,F144,E144,J144,SUM($AI$21:AI144,$AM$21:AM143),SUM($AJ$21:AJ144,$AN$21:AN143),DIEligibility))","v":0},0,0,0,0,0]
[null,{"$f":"ROWS($B$22:B145)-1","v":123},null,null,null,null,null,{"$f":"IF(CType=\"NC\",0,IF($E145=\"\",\"\",WattsPerFixture(E145)))","v":""},"",null,null,null,null,{"$f":"IF($J145=\"\",\"\",WattsPerFixture(J145))","v":""},"",null,null,null,null,"",{"$f":"IF(OR(V145=\"\",COUNTIF($V$21:V145,V145)>1),\"\",ROW())","v":""},"","",0,0,0,0,0,0,0,0,0,0,{"$f":"IF(AK145=0,\"\",IF(AK145=\"X\",1,PercentDI(AK145)))","v":""},{"$f":"IF(AK145=0,\"\",DIDECODE(AK145))","v":""},{"$f":"IF(AK145=0,\"\",PDECODE(AK145))","v":""},{"$f":"IF(OR(W145<>\"\",AND(Y145=0,AB145=0)),0,LtIncentive(E145,F145,J145,L145,N145,K145,AE145,SUM($AI$21:AI144,$AM$21:AM144),SUM($AJ$21:AJ144,$AN$21:AN144),DIEligibility))","v":0},{"$f":"IF(AO145=0,\"\",PercentDI(AO145))","v":""},{"$f":"IF(AO145=0,\"\",DIDECODE(AO145))","v":""},{"$f":"IF(AO145=0,\"\",PDECODE(AO145))","v":""},{"$f":"IF(OR(W145<>\"\",AC145=0),0,LtCTRLIncentive(M145,L145,O145,G145,F145,E145,J145,SUM($AI$21:AI145,$AM$21:AM144),SUM($AJ$21:AJ145,$AN$21:AN144),DIEligibility))","v":0},0,0,0,0,0]
[null,{"$f":"ROWS($B$22:B146)-1","v":124},null,null,null,null,null,{"$f":"IF(CType=\"NC\",0,IF($E146=\"\",\"\",WattsPerFixture(E146)))","v":""},"",null,null,null,null,{"$f":"IF($J146=\"\",\"\",WattsPerFixture(J146))","v":""},"",null,null,null,null,"",{"$f":"IF(OR(V146=\"\",COUNTIF($V$21:V146,V146)>1),\"\",ROW())","v":""},"","",0,0,0,0,0,0,0,0,0,0,{"$f":"IF(AK146=0,\"\",IF(AK146=\"X\",1,PercentDI(AK146)))","v":""},{"$f":"IF(AK146=0,\"\",DIDECODE(AK146))","v":""},{"$f":"IF(AK146=0,\"\",PDECODE(AK146))","v":""},{"$f":"IF(OR(W146<>\"\",AND(Y146=0,AB146=0)),0,LtIncentive(E146,F146,J146,L146,N146,K146,AE146,SUM($AI$21:AI145,$AM$21:AM145),SUM($AJ$21:AJ145,$AN$21:AN145),DIEligibility))","v":0},{"$f":"IF(AO146=0,\"\",PercentDI(AO146))","v":""},{"$f":"IF(AO146=0,\"\",DIDECODE(AO146))","v":""},{"$f":"IF(AO146=0,\"\",PDECODE(AO146))","v":""},{"$f":"IF(OR(W146<>\"\",AC146=0),0,LtCTRLIncentive(M146,L146,O146,G146,F146,E146,J146,SUM($AI$21:AI146,$AM$21:AM145),SUM($AJ$21:AJ146,$AN$21:AN145),DIEligibility))","v":0},0,0,0,0,0]
[null,{"$f":"ROWS($B$22:B147)-1","v":125},null,null,null,null,null,{"$f":"IF(CType=\"NC\",0,IF($E147=\"\",\"\",WattsPerFixture(E147)))","v":""},"",null,null,null,null,{"$f":"IF($J147=\"\",\"\",WattsPerFixture(J147))","v":""},"",null,null,null,null,"",{"$f":"IF(OR(V147=\"\",COUNTIF($V$21:V147,V147)>1),\"\",ROW())","v":""},"","",0,0,0,0,0,0,0,0,0,0,{"$f":"IF(AK147=0,\"\",IF(AK147=\"X\",1,PercentDI(AK147)))","v":""},{"$f":"IF(AK147=0,\"\",DIDECODE(AK147))","v":""},{"$f":"IF(AK147=0,\"\",PDECODE(AK147))","v":""},{"$f":"IF(OR(W147<>\"\",AND(Y147=0,AB147=0)),0,LtIncentive(E147,F147,J147,L147,N147,K147,AE147,SUM($AI$21:AI146,$AM$21:AM146),SUM($AJ$21:AJ146,$AN$21:AN146),DIEligibility))","v":0},{"$f":"IF(AO147=0,\"\",PercentDI(AO147))","v":""},{"$f":"IF(AO147=0,\"\",DIDECODE(AO147))","v":""},{"$f":"IF(AO147=0,\"\",PDECODE(AO147))","v":""},{"$f":"IF(OR(W147<>\"\",AC147=0),0,LtCTRLIncentive(M147,L147,O147,G147,F147,E147,J147,SUM($AI$21:AI147,$AM$21:AM146),SUM($AJ$21:AJ147,$AN$21:AN146),DIEligibility))","v":0},0,0,0,0,0]
[null,{"$f":"ROWS($B$22:B148)-1","v":126},null,null,null,null,null,{"$f":"IF(CType=\"NC\",0,IF($E148=\"\",\"\",WattsPerFixture(E148)))","v":""},"",null,null,null,null,{"$f":"IF($J148=\"\",\"\",WattsPerFixture(J148))","v":""},"",null,null,null,null,"",{"$f":"IF(OR(V148=\"\",COUNTIF($V$21:V148,V148)>1),\"\",ROW())","v":""},"","",0,0,0,0,0,0,0,0,0,0,{"$f":"IF(AK148=0,\"\",IF(AK148=\"X\",1,PercentDI(AK148)))","v":""},{"$f":"IF(AK148=0,\"\",DIDECODE(AK148))","v":""},{"$f":"IF(AK148=0,\"\",PDECODE(AK148))","v":""},{"$f":"IF(OR(W148<>\"\",AND(Y148=0,AB148=0)),0,LtIncentive(E148,F148,J148,L148,N148,K148,AE148,SUM($AI$21:AI147,$AM$21:AM147),SUM($AJ$21:AJ147,$AN$21:AN147),DIEligibility))","v":0},{"$f":"IF(AO148=0,\"\",PercentDI(AO148))","v":""},{"$f":"IF(AO148=0,\"\",DIDECODE(AO148))","v":""},{"$f":"IF(AO148=0,\"\",PDECODE(AO148))","v":""},{"$f":"IF(OR(W148<>\"\",AC148=0),0,LtCTRLIncentive(M148,L148,O148,G148,F148,E148,J148,SUM($AI$21:AI148,$AM$21:AM147),SUM($AJ$21:AJ148,$AN$21:AN147),DIEligibility))","v":0},0,0,0,0,0]
[null,{"$f":"ROWS($B$22:B149)-1","v":127},null,null,null,null,null,{"$f":"IF(CType=\"NC\",0,IF($E149=\"\",\"\",WattsPerFixture(E149)))","v":""},"",null,null,null,null,{"$f":"IF($J149=\"\",\"\",WattsPerFixture(J149))","v":""},"",null,null,null,null,"",{"$f":"IF(OR(V149=\"\",COUNTIF($V$21:V149,V149)>1),\"\",ROW())","v":""},"","",0,0,0,0,0,0,0,0,0,0,{"$f":"IF(AK149=0,\"\",IF(AK149=\"X\",1,PercentDI(AK149)))","v":""},{"$f":"IF(AK149=0,\"\",DIDECODE(AK149))","v":""},{"$f":"IF(AK149=0,\"\",PDECODE(AK149))","v":""},{"$f":"IF(OR(W149<>\"\",AND(Y149=0,AB149=0)),0,LtIncentive(E149,F149,J149,L149,N149,K149,AE149,SUM($AI$21:AI148,$AM$21:AM148),SUM($AJ$21:AJ148,$AN$21:AN148),DIEligibility))","v":0},{"$f":"IF(AO149=0,\"\",PercentDI(AO149))","v":""},{"$f":"IF(AO149=0,\"\",DIDECODE(AO149))","v":""},{"$f":"IF(AO149=0,\"\",PDECODE(AO149))","v":""},{"$f":"IF(OR(W149<>\"\",AC149=0),0,LtCTRLIncentive(M149,L149,O149,G149,F149,E149,J149,SUM($AI$21:AI149,$AM$21:AM148),SUM($AJ$21:AJ149,$AN$21:AN148),DIEligibility))","v":0},0,0,0,0,0]
[null,{"$f":"ROWS($B$22:B150)-1","v":128},null,null,null,null,null,{"$f":"IF(CType=\"NC\",0,IF($E150=\"\",\"\",WattsPerFixture(E150)))","v":""},"",null,null,null,null,{"$f":"IF($J150=\"\",\"\",WattsPerFixture(J150))","v":""},"",null,null,null,null,"",{"$f":"IF(OR(V150=\"\",COUNTIF($V$21:V150,V150)>1),\"\",ROW())","v":""},"","",{"$f":"IF(OR($C150=\"\",$W$19=\"\"),0,HLOOKUP($C150,$W$11:$AB$12,2,0))","v":0},0,{"$f":"$X150*$Y150","v":0},0,0,{"$f":"$X150*$AB150","v":0},0,0,{"$f":"$Z150-$AC150","v":0},0,{"$f":"IF(AK150=0,\"\",IF(AK150=\"X\",1,PercentDI(AK150)))","v":""},{"$f":"IF(AK150=0,\"\",DIDECODE(AK150))","v":""},{"$f":"IF(AK150=0,\"\",PDECODE(AK150))","v":""},{"$f":"IF(OR(W150<>\"\",AND(Y150=0,AB150=0)),0,LtIncentive(E150,F150,J150,L150,N150,K150,AE150,SUM($AI$21:AI149,$AM$21:AM149),SUM($AJ$21:AJ149,$AN$21:AN149),DIEligibility))","v":0},{"$f":"IF(AO150=0,\"\",PercentDI(AO150))","v":""},{"$f":"IF(AO150=0,\"\",DIDECODE(AO150))","v":""},{"$f":"IF(AO150=0,\"\",PDECODE(AO150))","v":""},{"$f":"IF(OR(W150<>\"\",AC150=0),0,LtCTRLIncentive(M150,L150,O150,G150,F150,E150,J150,SUM($AI$21:AI150,$AM$21:AM149),SUM($AJ$21:AJ150,$AN$21:AN149),DIEligibility))","v":0},0,0,0,0,0]
[null,{"$f":"ROWS($B$22:B151)-1","v":129},null,null,null,null,null,{"$f":"IF(CType=\"NC\",0,IF($E151=\"\",\"\",WattsPerFixture(E151)))","v":""},{"$f":"IF(CType=\"NC\",IF(OR(O151=\"\",$O$18=0),\"\",O151/$O$18*AllowedWatts),IF(OR(F151=\"\",H151=\"\"),\"\",H151*F151))","v":""},null,null,null,null,{"$f":"IF($J151=\"\",\"\",WattsPerFixture(J151))","v":""},{"$f":"IF(ISERROR(N151),\"\",IF(OR(L151=\"\",N151=\"\",),\"\",L151*N151))","v":""},null,null,null,null,{"$f":"IF(E151=\"\",\"\",IF(ISERROR(MID(E151,1,FIND(\"-\",E151,FIND(\"-\",E151)+1)-1)),E151,MID(E151,1,FIND(\"-\",E151,FIND(\"-\",E151)+1)-1)))","v":""},{"$f":"IF(OR(V151=\"\",COUNTIF($V$21:V151,V151)>1),\"\",ROW())","v":""},{"$f":"IF(J151=\"\",\"\",IF(ISERROR(MID(J151,1,FIND(\"-\",J151,FIND(\"-\",J151)+1)-1)),J151,MID(J151,1,FIND(\"-\",J151,FIND(\"-\",J151)+1)-1)))","v":""},{"$f":"IF(OR(I151=0,O151=0,AND(COUNTA($C151)+COUNT($I151,$O151)>0,COUNTA($C151)+COUNT($I151,$O151)<>3),ISERROR(I151),ISERROR(O151),IF(C151<>\"\",ISERROR(MATCH(C151,OpSchedules,0)),)),B151,IF(OR(I151<0,O151<0),B151,\"\"))","v":""},0,{"$f":"IF($I151=\"\",0,$I151/1000)","v":0},0,{"$f":"IF(AND(CType=\"R\",G151<>\"\"),-0.31*Z151,0)","v":0},{"$f":"IF($O151=\"\",0,$O151/1000)","v":0},0,{"$f":"IF(M151<>\"\",-0.31*AC151,0)","v":0},{"$f":"$Y151-$AB151","v":0},0,{"$f":"AA151-AD151","v":0},{"$f":"IF(AK151=0,\"\",IF(AK151=\"X\",1,PercentDI(AK151)))","v":""},{"$f":"IF(AK151=0,\"\",DIDECODE(AK151))","v":""},{"$f":"IF(AK151=0,\"\",PDECODE(AK151))","v":""},{"$f":"IF(OR(W151<>\"\",AND(Y151=0,AB151=0)),0,LtIncentive(E151,F151,J151,L151,N151,K151,AE151,SUM($AI$21:AI150,$AM$21:AM150),SUM($AJ$21:AJ150,$AN$21:AN150),DIEligibility))","v":0},{"$f":"IF(AO151=0,\"\",PercentDI(AO151))","v":""},{"$f":"IF(AO151=0,\"\",DIDECODE(AO151))","v":""},{"$f":"IF(AO151=0,\"\",PDECODE(AO151))","v":""},{"$f":"IF(OR(W151<>\"\",AC151=0),0,LtCTRLIncentive(M151,L151,O151,G151,F151,E151,J151,SUM($AI$21:AI151,$AM$21:AM150),SUM($AJ$21:AJ151,$AN$21:AN150),DIEligibility))","v":0},{"$f":"IF(SUM(AI151:AK151,AM151:AO151)<=0,0,1)","v":0},{"$f":"$AP151*Y151","v":0},{"$f":"$AP151*Z151","v":0},{"$f":"$AP151*AB151","v":0},{"$f":"$AP151*AC151","v":0}]
[null,{"$f":"ROWS($B$22:B152)-1","v":130},null,null,null,null,null,{"$f":"IF(CType=\"NC\",0,IF($E152=\"\",\"\",WattsPerFixture(E152)))","v":""},"",null,null,null,null,{"$f":"IF($J152=\"\",\"\",WattsPerFixture(J152))","v":""},"",null,null,null,null,"",{"$f":"IF(OR(V152=\"\",COUNTIF($V$21:V152,V152)>1),\"\",ROW())","v":""},"","",0,0,0,0,0,0,0,0,0,0,{"$f":"IF(AK152=0,\"\",IF(AK152=\"X\",1,PercentDI(AK152)))","v":""},{"$f":"IF(AK152=0,\"\",DIDECODE(AK152))","v":""},{"$f":"IF(AK152=0,\"\",PDECODE(AK152))","v":""},{"$f":"IF(OR(W152<>\"\",AND(Y152=0,AB152=0)),0,LtIncentive(E152,F152,J152,L152,N152,K152,AE152,SUM($AI$21:AI151,$AM$21:AM151),SUM($AJ$21:AJ151,$AN$21:AN151),DIEligibility))","v":0},{"$f":"IF(AO152=0,\"\",PercentDI(AO152))","v":""},{"$f":"IF(AO152=0,\"\",DIDECODE(AO152))","v":""},{"$f":"IF(AO152=0,\"\",PDECODE(AO152))","v":""},{"$f":"IF(OR(W152<>\"\",AC152=0),0,LtCTRLIncentive(M152,L152,O152,G152,F152,E152,J152,SUM($AI$21:AI152,$AM$21:AM151),SUM($AJ$21:AJ152,$AN$21:AN151),DIEligibility))","v":0},0,0,0,0,0]
[null,{"$f":"ROWS($B$22:B153)-1","v":131},null,null,null,null,null,{"$f":"IF(CType=\"NC\",0,IF($E153=\"\",\"\",WattsPerFixture(E153)))","v":""},"",null,null,null,null,{"$f":"IF($J153=\"\",\"\",WattsPerFixture(J153))","v":""},"",null,null,null,null,"",{"$f":"IF(OR(V153=\"\",COUNTIF($V$21:V153,V153)>1),\"\",ROW())","v":""},"","",0,0,0,0,0,0,0,0,0,0,{"$f":"IF(AK153=0,\"\",IF(AK153=\"X\",1,PercentDI(AK153)))","v":""},{"$f":"IF(AK153=0,\"\",DIDECODE(AK153))","v":""},{"$f":"IF(AK153=0,\"\",PDECODE(AK153))","v":""},{"$f":"IF(OR(W153<>\"\",AND(Y153=0,AB153=0)),0,LtIncentive(E153,F153,J153,L153,N153,K153,AE153,SUM($AI$21:AI152,$AM$21:AM152),SUM($AJ$21:AJ152,$AN$21:AN152),DIEligibility))","v":0},{"$f":"IF(AO153=0,\"\",PercentDI(AO153))","v":""},{"$f":"IF(AO153=0,\"\",DIDECODE(AO153))","v":""},{"$f":"IF(AO153=0,\"\",PDECODE(AO153))","v":""},{"$f":"IF(OR(W153<>\"\",AC153=0),0,LtCTRLIncentive(M153,L153,O153,G153,F153,E153,J153,SUM($AI$21:AI153,$AM$21:AM152),SUM($AJ$21:AJ153,$AN$21:AN152),DIEligibility))","v":0},0,0,0,0,0]
[null,{"$f":"ROWS($B$22:B154)-1","v":132},null,null,null,null,null,{"$f":"IF(CType=\"NC\",0,IF($E154=\"\",\"\",WattsPerFixture(E154)))","v":""},"",null,null,null,null,{"$f":"IF($J154=\"\",\"\",WattsPerFixture(J154))","v":""},"",null,null,null,null,"",{"$f":"IF(OR(V154=\"\",COUNTIF($V$21:V154,V154)>1),\"\",ROW())","v":""},"","",0,0,0,0,0,0,0,0,0,0,{"$f":"IF(AK154=0,\"\",IF(AK154=\"X\",1,PercentDI(AK154)))","v":""},{"$f":"IF(AK154=0,\"\",DIDECODE(AK154))","v":""},{"$f":"IF(AK154=0,\"\",PDECODE(AK154))","v":""},{"$f":"IF(OR(W154<>\"\",AND(Y154=0,AB154=0)),0,LtIncentive(E154,F154,J154,L154,N154,K154,AE154,SUM($AI$21:AI153,$AM$21:AM153),SUM($AJ$21:AJ153,$AN$21:AN153),DIEligibility))","v":0},{"$f":"IF(AO154=0,\"\",PercentDI(AO154))","v":""},{"$f":"IF(AO154=0,\"\",DIDECODE(AO154))","v":""},{"$f":"IF(AO154=0,\"\",PDECODE(AO154))","v":""},{"$f":"IF(OR(W154<>\"\",AC154=0),0,LtCTRLIncentive(M154,L154,O154,G154,F154,E154,J154,SUM($AI$21:AI154,$AM$21:AM153),SUM($AJ$21:AJ154,$AN$21:AN153),DIEligibility))","v":0},0,0,0,0,0]
[null,{"$f":"ROWS($B$22:B155)-1","v":133},null,null,null,null,null,{"$f":"IF(CType=\"NC\",0,IF($E155=\"\",\"\",WattsPerFixture(E155)))","v":""},"",null,null,null,null,{"$f":"IF($J155=\"\",\"\",WattsPerFixture(J155))","v":""},"",null,null,null,null,"",{"$f":"IF(OR(V155=\"\",COUNTIF($V$21:V155,V155)>1),\"\",ROW())","v":""},"","",0,0,0,0,0,0,0,0,0,0,{"$f":"IF(AK155=0,\"\",IF(AK155=\"X\",1,PercentDI(AK155)))","v":""},{"$f":"IF(AK155=0,\"\",DIDECODE(AK155))","v":""},{"$f":"IF(AK155=0,\"\",PDECODE(AK155))","v":""},{"$f":"IF(OR(W155<>\"\",AND(Y155=0,AB155=0)),0,LtIncentive(E155,F155,J155,L155,N155,K155,AE155,SUM($AI$21:AI154,$AM$21:AM154),SUM($AJ$21:AJ154,$AN$21:AN154),DIEligibility))","v":0},{"$f":"IF(AO155=0,\"\",PercentDI(AO155))","v":""},{"$f":"IF(AO155=0,\"\",DIDECODE(AO155))","v":""},{"$f":"IF(AO155=0,\"\",PDECODE(AO155))","v":""},{"$f":"IF(OR(W155<>\"\",AC155=0),0,LtCTRLIncentive(M155,L155,O155,G155,F155,E155,J155,SUM($AI$21:AI155,$AM$21:AM154),SUM($AJ$21:AJ155,$AN$21:AN154),DIEligibility))","v":0},0,0,0,0,0]
[null,{"$f":"ROWS($B$22:B156)-1","v":134},null,null,null,null,null,{"$f":"IF(CType=\"NC\",0,IF($E156=\"\",\"\",WattsPerFixture(E156)))","v":""},"",null,null,null,null,{"$f":"IF($J156=\"\",\"\",WattsPerFixture(J156))","v":""},"",null,null,null,null,"",{"$f":"IF(OR(V156=\"\",COUNTIF($V$21:V156,V156)>1),\"\",ROW())","v":""},"","",0,0,0,0,0,0,0,0,0,0,{"$f":"IF(AK156=0,\"\",IF(AK156=\"X\",1,PercentDI(AK156)))","v":""},{"$f":"IF(AK156=0,\"\",DIDECODE(AK156))","v":""},{"$f":"IF(AK156=0,\"\",PDECODE(AK156))","v":""},{"$f":"IF(OR(W156<>\"\",AND(Y156=0,AB156=0)),0,LtIncentive(E156,F156,J156,L156,N156,K156,AE156,SUM($AI$21:AI155,$AM$21:AM155),SUM($AJ$21:AJ155,$AN$21:AN155),DIEligibility))","v":0},{"$f":"IF(AO156=0,\"\",PercentDI(AO156))","v":""},{"$f":"IF(AO156=0,\"\",DIDECODE(AO156))","v":""},{"$f":"IF(AO156=0,\"\",PDECODE(AO156))","v":""},{"$f":"IF(OR(W156<>\"\",AC156=0),0,LtCTRLIncentive(M156,L156,O156,G156,F156,E156,J156,SUM($AI$21:AI156,$AM$21:AM155),SUM($AJ$21:AJ156,$AN$21:AN155),DIEligibility))","v":0},0,0,0,0,0]
[null,{"$f":"ROWS($B$22:B157)-1","v":135},null,null,null,null,null,{"$f":"IF(CType=\"NC\",0,IF($E157=\"\",\"\",WattsPerFixture(E157)))","v":""},"",null,null,null,null,{"$f":"IF($J157=\"\",\"\",WattsPerFixture(J157))","v":""},"",null,null,null,null,"",{"$f":"IF(OR(V157=\"\",COUNTIF($V$21:V157,V157)>1),\"\",ROW())","v":""},"","",0,0,0,0,0,0,0,0,0,0,{"$f":"IF(AK157=0,\"\",IF(AK157=\"X\",1,PercentDI(AK157)))","v":""},{"$f":"IF(AK157=0,\"\",DIDECODE(AK157))","v":""},{"$f":"IF(AK157=0,\"\",PDECODE(AK157))","v":""},{"$f":"IF(OR(W157<>\"\",AND(Y157=0,AB157=0)),0,LtIncentive(E157,F157,J157,L157,N157,K157,AE157,SUM($AI$21:AI156,$AM$21:AM156),SUM($AJ$21:AJ156,$AN$21:AN156),DIEligibility))","v":0},{"$f":"IF(AO157=0,\"\",PercentDI(AO157))","v":""},{"$f":"IF(AO157=0,\"\",DIDECODE(AO157))","v":""},{"$f":"IF(AO157=0,\"\",PDECODE(AO157))","v":""},{"$f":"IF(OR(W157<>\"\",AC157=0),0,LtCTRLIncentive(M157,L157,O157,G157,F157,E157,J157,SUM($AI$21:AI157,$AM$21:AM156),SUM($AJ$21:AJ157,$AN$21:AN156),DIEligibility))","v":0},0,0,0,0,0]
[null,{"$f":"ROWS($B$22:B158)-1","v":136},null,null,null,null,null,{"$f":"IF(CType=\"NC\",0,IF($E158=\"\",\"\",WattsPerFixture(E158)))","v":""},"",null,null,null,null,{"$f":"IF($J158=\"\",\"\",WattsPerFixture(J158))","v":""},"",null,null,null,null,"",{"$f":"IF(OR(V158=\"\",COUNTIF($V$21:V158,V158)>1),\"\",ROW())","v":""},"","",0,0,0,0,0,0,0,0,0,0,{"$f":"IF(AK158=0,\"\",IF(AK158=\"X\",1,PercentDI(AK158)))","v":""},{"$f":"IF(AK158=0,\"\",DIDECODE(AK158))","v":""},{"$f":"IF(AK158=0,\"\",PDECODE(AK158))","v":""},{"$f":"IF(OR(W158<>\"\",AND(Y158=0,AB158=0)),0,LtIncentive(E158,F158,J158,L158,N158,K158,AE158,SUM($AI$21:AI157,$AM$21:AM157),SUM($AJ$21:AJ157,$AN$21:AN157),DIEligibility))","v":0},{"$f":"IF(AO158=0,\"\",PercentDI(AO158))","v":""},{"$f":"IF(AO158=0,\"\",DIDECODE(AO158))","v":""},{"$f":"IF(AO158=0,\"\",PDECODE(AO158))","v":""},{"$f":"IF(OR(W158<>\"\",AC158=0),0,LtCTRLIncentive(M158,L158,O158,G158,F158,E158,J158,SUM($AI$21:AI158,$AM$21:AM157),SUM($AJ$21:AJ158,$AN$21:AN157),DIEligibility))","v":0},0,0,0,0,0]
[null,{"$f":"ROWS($B$22:B159)-1","v":137},null,null,null,null,null,{"$f":"IF(CType=\"NC\",0,IF($E159=\"\",\"\",WattsPerFixture(E159)))","v":""},"",null,null,null,null,{"$f":"IF($J159=\"\",\"\",WattsPerFixture(J159))","v":""},"",null,null,null,null,"",{"$f":"IF(OR(V159=\"\",COUNTIF($V$21:V159,V159)>1),\"\",ROW())","v":""},"","",0,0,0,0,0,0,0,0,0,0,{"$f":"IF(AK159=0,\"\",IF(AK159=\"X\",1,PercentDI(AK159)))","v":""},{"$f":"IF(AK159=0,\"\",DIDECODE(AK159))","v":""},{"$f":"IF(AK159=0,\"\",PDECODE(AK159))","v":""},{"$f":"IF(OR(W159<>\"\",AND(Y159=0,AB159=0)),0,LtIncentive(E159,F159,J159,L159,N159,K159,AE159,SUM($AI$21:AI158,$AM$21:AM158),SUM($AJ$21:AJ158,$AN$21:AN158),DIEligibility))","v":0},{"$f":"IF(AO159=0,\"\",PercentDI(AO159))","v":""},{"$f":"IF(AO159=0,\"\",DIDECODE(AO159))","v":""},{"$f":"IF(AO159=0,\"\",PDECODE(AO159))","v":""},{"$f":"IF(OR(W159<>\"\",AC159=0),0,LtCTRLIncentive(M159,L159,O159,G159,F159,E159,J159,SUM($AI$21:AI159,$AM$21:AM158),SUM($AJ$21:AJ159,$AN$21:AN158),DIEligibility))","v":0},0,0,0,0,0]
[null,{"$f":"ROWS($B$22:B160)-1","v":138},null,null,null,null,null,{"$f":"IF(CType=\"NC\",0,IF($E160=\"\",\"\",WattsPerFixture(E160)))","v":""},"",null,null,null,null,{"$f":"IF($J160=\"\",\"\",WattsPerFixture(J160))","v":""},"",null,null,null,null,"",{"$f":"IF(OR(V160=\"\",COUNTIF($V$21:V160,V160)>1),\"\",ROW())","v":""},"","",0,0,0,0,0,0,0,0,0,0,{"$f":"IF(AK160=0,\"\",IF(AK160=\"X\",1,PercentDI(AK160)))","v":""},{"$f":"IF(AK160=0,\"\",DIDECODE(AK160))","v":""},{"$f":"IF(AK160=0,\"\",PDECODE(AK160))","v":""},{"$f":"IF(OR(W160<>\"\",AND(Y160=0,AB160=0)),0,LtIncentive(E160,F160,J160,L160,N160,K160,AE160,SUM($AI$21:AI159,$AM$21:AM159),SUM($AJ$21:AJ159,$AN$21:AN159),DIEligibility))","v":0},{"$f":"IF(AO160=0,\"\",PercentDI(AO160))","v":""},{"$f":"IF(AO160=0,\"\",DIDECODE(AO160))","v":""},{"$f":"IF(AO160=0,\"\",PDECODE(AO160))","v":""},{"$f":"IF(OR(W160<>\"\",AC160=0),0,LtCTRLIncentive(M160,L160,O160,G160,F160,E160,J160,SUM($AI$21:AI160,$AM$21:AM159),SUM($AJ$21:AJ160,$AN$21:AN159),DIEligibility))","v":0},0,0,0,0,0]
[null,{"$f":"ROWS($B$22:B161)-1","v":139},null,null,null,null,null,{"$f":"IF(CType=\"NC\",0,IF($E161=\"\",\"\",WattsPerFixture(E161)))","v":""},"",null,null,null,null,{"$f":"IF($J161=\"\",\"\",WattsPerFixture(J161))","v":""},"",null,null,null,null,"",{"$f":"IF(OR(V161=\"\",COUNTIF($V$21:V161,V161)>1),\"\",ROW())","v":""},"","",0,0,0,0,0,0,0,0,0,0,{"$f":"IF(AK161=0,\"\",IF(AK161=\"X\",1,PercentDI(AK161)))","v":""},{"$f":"IF(AK161=0,\"\",DIDECODE(AK161))","v":""},{"$f":"IF(AK161=0,\"\",PDECODE(AK161))","v":""},{"$f":"IF(OR(W161<>\"\",AND(Y161=0,AB161=0)),0,LtIncentive(E161,F161,J161,L161,N161,K161,AE161,SUM($AI$21:AI160,$AM$21:AM160),SUM($AJ$21:AJ160,$AN$21:AN160),DIEligibility))","v":0},{"$f":"IF(AO161=0,\"\",PercentDI(AO161))","v":""},{"$f":"IF(AO161=0,\"\",DIDECODE(AO161))","v":""},{"$f":"IF(AO161=0,\"\",PDECODE(AO161))","v":""},{"$f":"IF(OR(W161<>\"\",AC161=0),0,LtCTRLIncentive(M161,L161,O161,G161,F161,E161,J161,SUM($AI$21:AI161,$AM$21:AM160),SUM($AJ$21:AJ161,$AN$21:AN160),DIEligibility))","v":0},0,0,0,0,0]
[null,{"$f":"ROWS($B$22:B162)-1","v":140},null,null,null,null,null,{"$f":"IF(CType=\"NC\",0,IF($E162=\"\",\"\",WattsPerFixture(E162)))","v":""},"",null,null,null,null,{"$f":"IF($J162=\"\",\"\",WattsPerFixture(J162))","v":""},"",null,null,null,null,"",{"$f":"IF(OR(V162=\"\",COUNTIF($V$21:V162,V162)>1),\"\",ROW())","v":""},"","",0,0,0,0,0,0,0,0,0,0,{"$f":"IF(AK162=0,\"\",IF(AK162=\"X\",1,PercentDI(AK162)))","v":""},{"$f":"IF(AK162=0,\"\",DIDECODE(AK162))","v":""},{"$f":"IF(AK162=0,\"\",PDECODE(AK162))","v":""},{"$f":"IF(OR(W162<>\"\",AND(Y162=0,AB162=0)),0,LtIncentive(E162,F162,J162,L162,N162,K162,AE162,SUM($AI$21:AI161,$AM$21:AM161),SUM($AJ$21:AJ161,$AN$21:AN161),DIEligibility))","v":0},{"$f":"IF(AO162=0,\"\",PercentDI(AO162))","v":""},{"$f":"IF(AO162=0,\"\",DIDECODE(AO162))","v":""},{"$f":"IF(AO162=0,\"\",PDECODE(AO162))","v":""},{"$f":"IF(OR(W162<>\"\",AC162=0),0,LtCTRLIncentive(M162,L162,O162,G162,F162,E162,J162,SUM($AI$21:AI162,$AM$21:AM161),SUM($AJ$21:AJ162,$AN$21:AN161),DIEligibility))","v":0},0,0,0,0,0]
[null,{"$f":"ROWS($B$22:B163)-1","v":141},null,null,null,null,null,{"$f":"IF(CType=\"NC\",0,IF($E163=\"\",\"\",WattsPerFixture(E163)))","v":""},"",null,null,null,null,{"$f":"IF($J163=\"\",\"\",WattsPerFixture(J163))","v":""},"",null,null,null,null,"",{"$f":"IF(OR(V163=\"\",COUNTIF($V$21:V163,V163)>1),\"\",ROW())","v":""},"","",0,0,0,0,0,0,0,0,0,0,{"$f":"IF(AK163=0,\"\",IF(AK163=\"X\",1,PercentDI(AK163)))","v":""},{"$f":"IF(AK163=0,\"\",DIDECODE(AK163))","v":""},{"$f":"IF(AK163=0,\"\",PDECODE(AK163))","v":""},{"$f":"IF(OR(W163<>\"\",AND(Y163=0,AB163=0)),0,LtIncentive(E163,F163,J163,L163,N163,K163,AE163,SUM($AI$21:AI162,$AM$21:AM162),SUM($AJ$21:AJ162,$AN$21:AN162),DIEligibility))","v":0},{"$f":"IF(AO163=0,\"\",PercentDI(AO163))","v":""},{"$f":"IF(AO163=0,\"\",DIDECODE(AO163))","v":""},{"$f":"IF(AO163=0,\"\",PDECODE(AO163))","v":""},{"$f":"IF(OR(W163<>\"\",AC163=0),0,LtCTRLIncentive(M163,L163,O163,G163,F163,E163,J163,SUM($AI$21:AI163,$AM$21:AM162),SUM($AJ$21:AJ163,$AN$21:AN162),DIEligibility))","v":0},0,0,0,0,0]
[null,{"$f":"ROWS($B$22:B164)-1","v":142},null,null,null,null,null,{"$f":"IF(CType=\"NC\",0,IF($E164=\"\",\"\",WattsPerFixture(E164)))","v":""},"",null,null,null,null,{"$f":"IF($J164=\"\",\"\",WattsPerFixture(J164))","v":""},"",null,null,null,null,"",{"$f":"IF(OR(V164=\"\",COUNTIF($V$21:V164,V164)>1),\"\",ROW())","v":""},"","",0,0,0,0,0,0,0,0,0,0,{"$f":"IF(AK164=0,\"\",IF(AK164=\"X\",1,PercentDI(AK164)))","v":""},{"$f":"IF(AK164=0,\"\",DIDECODE(AK164))","v":""},{"$f":"IF(AK164=0,\"\",PDECODE(AK164))","v":""},{"$f":"IF(OR(W164<>\"\",AND(Y164=0,AB164=0)),0,LtIncentive(E164,F164,J164,L164,N164,K164,AE164,SUM($AI$21:AI163,$AM$21:AM163),SUM($AJ$21:AJ163,$AN$21:AN163),DIEligibility))","v":0},{"$f":"IF(AO164=0,\"\",PercentDI(AO164))","v":""},{"$f":"IF(AO164=0,\"\",DIDECODE(AO164))","v":""},{"$f":"IF(AO164=0,\"\",PDECODE(AO164))","v":""},{"$f":"IF(OR(W164<>\"\",AC164=0),0,LtCTRLIncentive(M164,L164,O164,G164,F164,E164,J164,SUM($AI$21:AI164,$AM$21:AM163),SUM($AJ$21:AJ164,$AN$21:AN163),DIEligibility))","v":0},0,0,0,0,0]
[null,{"$f":"ROWS($B$22:B165)-1","v":143},null,null,null,null,null,{"$f":"IF(CType=\"NC\",0,IF($E165=\"\",\"\",WattsPerFixture(E165)))","v":""},"",null,null,null,null,{"$f":"IF($J165=\"\",\"\",WattsPerFixture(J165))","v":""},"",null,null,null,null,"",{"$f":"IF(OR(V165=\"\",COUNTIF($V$21:V165,V165)>1),\"\",ROW())","v":""},"","",0,0,0,0,0,0,0,0,0,0,{"$f":"IF(AK165=0,\"\",IF(AK165=\"X\",1,PercentDI(AK165)))","v":""},{"$f":"IF(AK165=0,\"\",DIDECODE(AK165))","v":""},{"$f":"IF(AK165=0,\"\",PDECODE(AK165))","v":""},{"$f":"IF(OR(W165<>\"\",AND(Y165=0,AB165=0)),0,LtIncentive(E165,F165,J165,L165,N165,K165,AE165,SUM($AI$21:AI164,$AM$21:AM164),SUM($AJ$21:AJ164,$AN$21:AN164),DIEligibility))","v":0},{"$f":"IF(AO165=0,\"\",PercentDI(AO165))","v":""},{"$f":"IF(AO165=0,\"\",DIDECODE(AO165))","v":""},{"$f":"IF(AO165=0,\"\",PDECODE(AO165))","v":""},{"$f":"IF(OR(W165<>\"\",AC165=0),0,LtCTRLIncentive(M165,L165,O165,G165,F165,E165,J165,SUM($AI$21:AI165,$AM$21:AM164),SUM($AJ$21:AJ165,$AN$21:AN164),DIEligibility))","v":0},0,0,0,0,0]
[null,{"$f":"ROWS($B$22:B166)-1","v":144},null,null,null,null,null,{"$f":"IF(CType=\"NC\",0,IF($E166=\"\",\"\",WattsPerFixture(E166)))","v":""},"",null,null,null,null,{"$f":"IF($J166=\"\",\"\",WattsPerFixture(J166))","v":""},"",null,null,null,null,"",{"$f":"IF(OR(V166=\"\",COUNTIF($V$21:V166,V166)>1),\"\",ROW())","v":""},"","",0,0,0,0,0,0,0,0,0,0,{"$f":"IF(AK166=0,\"\",IF(AK166=\"X\",1,PercentDI(AK166)))","v":""},{"$f":"IF(AK166=0,\"\",DIDECODE(AK166))","v":""},{"$f":"IF(AK166=0,\"\",PDECODE(AK166))","v":""},{"$f":"IF(OR(W166<>\"\",AND(Y166=0,AB166=0)),0,LtIncentive(E166,F166,J166,L166,N166,K166,AE166,SUM($AI$21:AI165,$AM$21:AM165),SUM($AJ$21:AJ165,$AN$21:AN165),DIEligibility))","v":0},{"$f":"IF(AO166=0,\"\",PercentDI(AO166))","v":""},{"$f":"IF(AO166=0,\"\",DIDECODE(AO166))","v":""},{"$f":"IF(AO166=0,\"\",PDECODE(AO166))","v":""},{"$f":"IF(OR(W166<>\"\",AC166=0),0,LtCTRLIncentive(M166,L166,O166,G166,F166,E166,J166,SUM($AI$21:AI166,$AM$21:AM165),SUM($AJ$21:AJ166,$AN$21:AN165),DIEligibility))","v":0},0,0,0,0,0]
[null,{"$f":"ROWS($B$22:B167)-1","v":145},null,null,null,null,null,{"$f":"IF(CType=\"NC\",0,IF($E167=\"\",\"\",WattsPerFixture(E167)))","v":""},"",null,null,null,null,{"$f":"IF($J167=\"\",\"\",WattsPerFixture(J167))","v":""},"",null,null,null,null,"",{"$f":"IF(OR(V167=\"\",COUNTIF($V$21:V167,V167)>1),\"\",ROW())","v":""},"","",0,0,0,0,0,0,0,0,0,0,{"$f":"IF(AK167=0,\"\",IF(AK167=\"X\",1,PercentDI(AK167)))","v":""},{"$f":"IF(AK167=0,\"\",DIDECODE(AK167))","v":""},{"$f":"IF(AK167=0,\"\",PDECODE(AK167))","v":""},{"$f":"IF(OR(W167<>\"\",AND(Y167=0,AB167=0)),0,LtIncentive(E167,F167,J167,L167,N167,K167,AE167,SUM($AI$21:AI166,$AM$21:AM166),SUM($AJ$21:AJ166,$AN$21:AN166),DIEligibility))","v":0},{"$f":"IF(AO167=0,\"\",PercentDI(AO167))","v":""},{"$f":"IF(AO167=0,\"\",DIDECODE(AO167))","v":""},{"$f":"IF(AO167=0,\"\",PDECODE(AO167))","v":""},{"$f":"IF(OR(W167<>\"\",AC167=0),0,LtCTRLIncentive(M167,L167,O167,G167,F167,E167,J167,SUM($AI$21:AI167,$AM$21:AM166),SUM($AJ$21:AJ167,$AN$21:AN166),DIEligibility))","v":0},0,0,0,0,0]
[null,{"$f":"ROWS($B$22:B168)-1","v":146},null,null,null,null,null,{"$f":"IF(CType=\"NC\",0,IF($E168=\"\",\"\",WattsPerFixture(E168)))","v":""},"",null,null,null,null,{"$f":"IF($J168=\"\",\"\",WattsPerFixture(J168))","v":""},"",null,null,null,null,"",{"$f":"IF(OR(V168=\"\",COUNTIF($V$21:V168,V168)>1),\"\",ROW())","v":""},"","",0,0,0,0,0,0,0,0,0,0,{"$f":"IF(AK168=0,\"\",IF(AK168=\"X\",1,PercentDI(AK168)))","v":""},{"$f":"IF(AK168=0,\"\",DIDECODE(AK168))","v":""},{"$f":"IF(AK168=0,\"\",PDECODE(AK168))","v":""},{"$f":"IF(OR(W168<>\"\",AND(Y168=0,AB168=0)),0,LtIncentive(E168,F168,J168,L168,N168,K168,AE168,SUM($AI$21:AI167,$AM$21:AM167),SUM($AJ$21:AJ167,$AN$21:AN167),DIEligibility))","v":0},{"$f":"IF(AO168=0,\"\",PercentDI(AO168))","v":""},{"$f":"IF(AO168=0,\"\",DIDECODE(AO168))","v":""},{"$f":"IF(AO168=0,\"\",PDECODE(AO168))","v":""},{"$f":"IF(OR(W168<>\"\",AC168=0),0,LtCTRLIncentive(M168,L168,O168,G168,F168,E168,J168,SUM($AI$21:AI168,$AM$21:AM167),SUM($AJ$21:AJ168,$AN$21:AN167),DIEligibility))","v":0},0,0,0,0,0]
[null,{"$f":"ROWS($B$22:B169)-1","v":147},null,null,null,null,null,{"$f":"IF(CType=\"NC\",0,IF($E169=\"\",\"\",WattsPerFixture(E169)))","v":""},"",null,null,null,null,{"$f":"IF($J169=\"\",\"\",WattsPerFixture(J169))","v":""},"",null,null,null,null,"",{"$f":"IF(OR(V169=\"\",COUNTIF($V$21:V169,V169)>1),\"\",ROW())","v":""},"","",0,0,0,0,0,0,0,0,0,0,{"$f":"IF(AK169=0,\"\",IF(AK169=\"X\",1,PercentDI(AK169)))","v":""},{"$f":"IF(AK169=0,\"\",DIDECODE(AK169))","v":""},{"$f":"IF(AK169=0,\"\",PDECODE(AK169))","v":""},{"$f":"IF(OR(W169<>\"\",AND(Y169=0,AB169=0)),0,LtIncentive(E169,F169,J169,L169,N169,K169,AE169,SUM($AI$21:AI168,$AM$21:AM168),SUM($AJ$21:AJ168,$AN$21:AN168),DIEligibility))","v":0},{"$f":"IF(AO169=0,\"\",PercentDI(AO169))","v":""},{"$f":"IF(AO169=0,\"\",DIDECODE(AO169))","v":""},{"$f":"IF(AO169=0,\"\",PDECODE(AO169))","v":""},{"$f":"IF(OR(W169<>\"\",AC169=0),0,LtCTRLIncentive(M169,L169,O169,G169,F169,E169,J169,SUM($AI$21:AI169,$AM$21:AM168),SUM($AJ$21:AJ169,$AN$21:AN168),DIEligibility))","v":0},0,0,0,0,0]
[null,{"$f":"ROWS($B$22:B170)-1","v":148},null,null,null,null,null,{"$f":"IF(CType=\"NC\",0,IF($E170=\"\",\"\",WattsPerFixture(E170)))","v":""},"",null,null,null,null,{"$f":"IF($J170=\"\",\"\",WattsPerFixture(J170))","v":""},"",null,null,null,null,"",{"$f":"IF(OR(V170=\"\",COUNTIF($V$21:V170,V170)>1),\"\",ROW())","v":""},"","",0,0,0,0,0,0,0,0,0,0,{"$f":"IF(AK170=0,\"\",IF(AK170=\"X\",1,PercentDI(AK170)))","v":""},{"$f":"IF(AK170=0,\"\",DIDECODE(AK170))","v":""},{"$f":"IF(AK170=0,\"\",PDECODE(AK170))","v":""},{"$f":"IF(OR(W170<>\"\",AND(Y170=0,AB170=0)),0,LtIncentive(E170,F170,J170,L170,N170,K170,AE170,SUM($AI$21:AI169,$AM$21:AM169),SUM($AJ$21:AJ169,$AN$21:AN169),DIEligibility))","v":0},{"$f":"IF(AO170=0,\"\",PercentDI(AO170))","v":""},{"$f":"IF(AO170=0,\"\",DIDECODE(AO170))","v":""},{"$f":"IF(AO170=0,\"\",PDECODE(AO170))","v":""},{"$f":"IF(OR(W170<>\"\",AC170=0),0,LtCTRLIncentive(M170,L170,O170,G170,F170,E170,J170,SUM($AI$21:AI170,$AM$21:AM169),SUM($AJ$21:AJ170,$AN$21:AN169),DIEligibility))","v":0},0,0,0,0,0]
[null,{"$f":"ROWS($B$22:B171)-1","v":149},null,null,null,null,null,{"$f":"IF(CType=\"NC\",0,IF($E171=\"\",\"\",WattsPerFixture(E171)))","v":""},"",null,null,null,null,{"$f":"IF($J171=\"\",\"\",WattsPerFixture(J171))","v":""},"",null,null,null,null,"",{"$f":"IF(OR(V171=\"\",COUNTIF($V$21:V171,V171)>1),\"\",ROW())","v":""},"","",0,0,0,0,0,0,0,0,0,0,{"$f":"IF(AK171=0,\"\",IF(AK171=\"X\",1,PercentDI(AK171)))","v":""},{"$f":"IF(AK171=0,\"\",DIDECODE(AK171))","v":""},{"$f":"IF(AK171=0,\"\",PDECODE(AK171))","v":""},{"$f":"IF(OR(W171<>\"\",AND(Y171=0,AB171=0)),0,LtIncentive(E171,F171,J171,L171,N171,K171,AE171,SUM($AI$21:AI170,$AM$21:AM170),SUM($AJ$21:AJ170,$AN$21:AN170),DIEligibility))","v":0},{"$f":"IF(AO171=0,\"\",PercentDI(AO171))","v":""},{"$f":"IF(AO171=0,\"\",DIDECODE(AO171))","v":""},{"$f":"IF(AO171=0,\"\",PDECODE(AO171))","v":""},{"$f":"IF(OR(W171<>\"\",AC171=0),0,LtCTRLIncentive(M171,L171,O171,G171,F171,E171,J171,SUM($AI$21:AI171,$AM$21:AM170),SUM($AJ$21:AJ171,$AN$21:AN170),DIEligibility))","v":0},0,0,0,0,0]
[null,{"$f":"ROWS($B$22:B172)-1","v":150},null,null,null,null,null,{"$f":"IF(CType=\"NC\",0,IF($E172=\"\",\"\",WattsPerFixture(E172)))","v":""},"",null,null,null,null,{"$f":"IF($J172=\"\",\"\",WattsPerFixture(J172))","v":""},"",null,null,null,null,"",{"$f":"IF(OR(V172=\"\",COUNTIF($V$21:V172,V172)>1),\"\",ROW())","v":""},"","",0,0,0,0,0,0,0,0,0,0,{"$f":"IF(AK172=0,\"\",IF(AK172=\"X\",1,PercentDI(AK172)))","v":""},{"$f":"IF(AK172=0,\"\",DIDECODE(AK172))","v":""},{"$f":"IF(AK172=0,\"\",PDECODE(AK172))","v":""},{"$f":"IF(OR(W172<>\"\",AND(Y172=0,AB172=0)),0,LtIncentive(E172,F172,J172,L172,N172,K172,AE172,SUM($AI$21:AI171,$AM$21:AM171),SUM($AJ$21:AJ171,$AN$21:AN171),DIEligibility))","v":0},{"$f":"IF(AO172=0,\"\",PercentDI(AO172))","v":""},{"$f":"IF(AO172=0,\"\",DIDECODE(AO172))","v":""},{"$f":"IF(AO172=0,\"\",PDECODE(AO172))","v":""},{"$f":"IF(OR(W172<>\"\",AC172=0),0,LtCTRLIncentive(M172,L172,O172,G172,F172,E172,J172,SUM($AI$21:AI172,$AM$21:AM171),SUM($AJ$21:AJ172,$AN$21:AN171),DIEligibility))","v":0},0,0,0,0,0]
[null,{"$f":"ROWS($B$22:B173)-1","v":151},null,null,null,null,null,{"$f":"IF(CType=\"NC\",0,IF($E173=\"\",\"\",WattsPerFixture(E173)))","v":""},"",null,null,null,null,{"$f":"IF($J173=\"\",\"\",WattsPerFixture(J173))","v":""},"",null,null,null,null,"",{"$f":"IF(OR(V173=\"\",COUNTIF($V$21:V173,V173)>1),\"\",ROW())","v":""},"","",0,0,0,0,0,0,0,0,0,0,{"$f":"IF(AK173=0,\"\",IF(AK173=\"X\",1,PercentDI(AK173)))","v":""},{"$f":"IF(AK173=0,\"\",DIDECODE(AK173))","v":""},{"$f":"IF(AK173=0,\"\",PDECODE(AK173))","v":""},{"$f":"IF(OR(W173<>\"\",AND(Y173=0,AB173=0)),0,LtIncentive(E173,F173,J173,L173,N173,K173,AE173,SUM($AI$21:AI172,$AM$21:AM172),SUM($AJ$21:AJ172,$AN$21:AN172),DIEligibility))","v":0},{"$f":"IF(AO173=0,\"\",PercentDI(AO173))","v":""},{"$f":"IF(AO173=0,\"\",DIDECODE(AO173))","v":""},{"$f":"IF(AO173=0,\"\",PDECODE(AO173))","v":""},{"$f":"IF(OR(W173<>\"\",AC173=0),0,LtCTRLIncentive(M173,L173,O173,G173,F173,E173,J173,SUM($AI$21:AI173,$AM$21:AM172),SUM($AJ$21:AJ173,$AN$21:AN172),DIEligibility))","v":0},0,0,0,0,0]
[null,{"$f":"ROWS($B$22:B174)-1","v":152},null,null,null,null,null,{"$f":"IF(CType=\"NC\",0,IF($E174=\"\",\"\",WattsPerFixture(E174)))","v":""},"",null,null,null,null,{"$f":"IF($J174=\"\",\"\",WattsPerFixture(J174))","v":""},"",null,null,null,null,"",{"$f":"IF(OR(V174=\"\",COUNTIF($V$21:V174,V174)>1),\"\",ROW())","v":""},"","",0,0,0,0,0,0,0,0,0,0,{"$f":"IF(AK174=0,\"\",IF(AK174=\"X\",1,PercentDI(AK174)))","v":""},{"$f":"IF(AK174=0,\"\",DIDECODE(AK174))","v":""},{"$f":"IF(AK174=0,\"\",PDECODE(AK174))","v":""},{"$f":"IF(OR(W174<>\"\",AND(Y174=0,AB174=0)),0,LtIncentive(E174,F174,J174,L174,N174,K174,AE174,SUM($AI$21:AI173,$AM$21:AM173),SUM($AJ$21:AJ173,$AN$21:AN173),DIEligibility))","v":0},{"$f":"IF(AO174=0,\"\",PercentDI(AO174))","v":""},{"$f":"IF(AO174=0,\"\",DIDECODE(AO174))","v":""},{"$f":"IF(AO174=0,\"\",PDECODE(AO174))","v":""},{"$f":"IF(OR(W174<>\"\",AC174=0),0,LtCTRLIncentive(M174,L174,O174,G174,F174,E174,J174,SUM($AI$21:AI174,$AM$21:AM173),SUM($AJ$21:AJ174,$AN$21:AN173),DIEligibility))","v":0},0,0,0,0,0]
[null,{"$f":"ROWS($B$22:B175)-1","v":153},null,null,null,null,null,{"$f":"IF(CType=\"NC\",0,IF($E175=\"\",\"\",WattsPerFixture(E175)))","v":""},"",null,null,null,null,{"$f":"IF($J175=\"\",\"\",WattsPerFixture(J175))","v":""},"",null,null,null,null,"",{"$f":"IF(OR(V175=\"\",COUNTIF($V$21:V175,V175)>1),\"\",ROW())","v":""},"","",0,0,0,0,0,0,0,0,0,0,{"$f":"IF(AK175=0,\"\",IF(AK175=\"X\",1,PercentDI(AK175)))","v":""},{"$f":"IF(AK175=0,\"\",DIDECODE(AK175))","v":""},{"$f":"IF(AK175=0,\"\",PDECODE(AK175))","v":""},{"$f":"IF(OR(W175<>\"\",AND(Y175=0,AB175=0)),0,LtIncentive(E175,F175,J175,L175,N175,K175,AE175,SUM($AI$21:AI174,$AM$21:AM174),SUM($AJ$21:AJ174,$AN$21:AN174),DIEligibility))","v":0},{"$f":"IF(AO175=0,\"\",PercentDI(AO175))","v":""},{"$f":"IF(AO175=0,\"\",DIDECODE(AO175))","v":""},{"$f":"IF(AO175=0,\"\",PDECODE(AO175))","v":""},{"$f":"IF(OR(W175<>\"\",AC175=0),0,LtCTRLIncentive(M175,L175,O175,G175,F175,E175,J175,SUM($AI$21:AI175,$AM$21:AM174),SUM($AJ$21:AJ175,$AN$21:AN174),DIEligibility))","v":0},0,0,0,0,0]
[null,{"$f":"ROWS($B$22:B176)-1","v":154},null,null,null,null,null,{"$f":"IF(CType=\"NC\",0,IF($E176=\"\",\"\",WattsPerFixture(E176)))","v":""},"",null,null,null,null,{"$f":"IF($J176=\"\",\"\",WattsPerFixture(J176))","v":""},"",null,null,null,null,"",{"$f":"IF(OR(V176=\"\",COUNTIF($V$21:V176,V176)>1),\"\",ROW())","v":""},"","",0,0,0,0,0,0,0,0,0,0,{"$f":"IF(AK176=0,\"\",IF(AK176=\"X\",1,PercentDI(AK176)))","v":""},{"$f":"IF(AK176=0,\"\",DIDECODE(AK176))","v":""},{"$f":"IF(AK176=0,\"\",PDECODE(AK176))","v":""},{"$f":"IF(OR(W176<>\"\",AND(Y176=0,AB176=0)),0,LtIncentive(E176,F176,J176,L176,N176,K176,AE176,SUM($AI$21:AI175,$AM$21:AM175),SUM($AJ$21:AJ175,$AN$21:AN175),DIEligibility))","v":0},{"$f":"IF(AO176=0,\"\",PercentDI(AO176))","v":""},{"$f":"IF(AO176=0,\"\",DIDECODE(AO176))","v":""},{"$f":"IF(AO176=0,\"\",PDECODE(AO176))","v":""},{"$f":"IF(OR(W176<>\"\",AC176=0),0,LtCTRLIncentive(M176,L176,O176,G176,F176,E176,J176,SUM($AI$21:AI176,$AM$21:AM175),SUM($AJ$21:AJ176,$AN$21:AN175),DIEligibility))","v":0},0,0,0,0,0]
[null,{"$f":"ROWS($B$22:B177)-1","v":155},null,null,null,null,null,{"$f":"IF(CType=\"NC\",0,IF($E177=\"\",\"\",WattsPerFixture(E177)))","v":""},"",null,null,null,null,{"$f":"IF($J177=\"\",\"\",WattsPerFixture(J177))","v":""},"",null,null,null,null,"",{"$f":"IF(OR(V177=\"\",COUNTIF($V$21:V177,V177)>1),\"\",ROW())","v":""},"","",0,0,0,0,0,0,0,0,0,0,{"$f":"IF(AK177=0,\"\",IF(AK177=\"X\",1,PercentDI(AK177)))","v":""},{"$f":"IF(AK177=0,\"\",DIDECODE(AK177))","v":""},{"$f":"IF(AK177=0,\"\",PDECODE(AK177))","v":""},{"$f":"IF(OR(W177<>\"\",AND(Y177=0,AB177=0)),0,LtIncentive(E177,F177,J177,L177,N177,K177,AE177,SUM($AI$21:AI176,$AM$21:AM176),SUM($AJ$21:AJ176,$AN$21:AN176),DIEligibility))","v":0},{"$f":"IF(AO177=0,\"\",PercentDI(AO177))","v":""},{"$f":"IF(AO177=0,\"\",DIDECODE(AO177))","v":""},{"$f":"IF(AO177=0,\"\",PDECODE(AO177))","v":""},{"$f":"IF(OR(W177<>\"\",AC177=0),0,LtCTRLIncentive(M177,L177,O177,G177,F177,E177,J177,SUM($AI$21:AI177,$AM$21:AM176),SUM($AJ$21:AJ177,$AN$21:AN176),DIEligibility))","v":0},0,0,0,0,0]
[null,{"$f":"ROWS($B$22:B178)-1","v":156},null,null,null,null,null,{"$f":"IF(CType=\"NC\",0,IF($E178=\"\",\"\",WattsPerFixture(E178)))","v":""},"",null,null,null,null,{"$f":"IF($J178=\"\",\"\",WattsPerFixture(J178))","v":""},"",null,null,null,null,"",{"$f":"IF(OR(V178=\"\",COUNTIF($V$21:V178,V178)>1),\"\",ROW())","v":""},"","",0,0,0,0,0,0,0,0,0,0,{"$f":"IF(AK178=0,\"\",IF(AK178=\"X\",1,PercentDI(AK178)))","v":""},{"$f":"IF(AK178=0,\"\",DIDECODE(AK178))","v":""},{"$f":"IF(AK178=0,\"\",PDECODE(AK178))","v":""},{"$f":"IF(OR(W178<>\"\",AND(Y178=0,AB178=0)),0,LtIncentive(E178,F178,J178,L178,N178,K178,AE178,SUM($AI$21:AI177,$AM$21:AM177),SUM($AJ$21:AJ177,$AN$21:AN177),DIEligibility))","v":0},{"$f":"IF(AO178=0,\"\",PercentDI(AO178))","v":""},{"$f":"IF(AO178=0,\"\",DIDECODE(AO178))","v":""},{"$f":"IF(AO178=0,\"\",PDECODE(AO178))","v":""},{"$f":"IF(OR(W178<>\"\",AC178=0),0,LtCTRLIncentive(M178,L178,O178,G178,F178,E178,J178,SUM($AI$21:AI178,$AM$21:AM177),SUM($AJ$21:AJ178,$AN$21:AN177),DIEligibility))","v":0},0,0,0,0,0]
[null,{"$f":"ROWS($B$22:B179)-1","v":157},null,null,null,null,null,{"$f":"IF(CType=\"NC\",0,IF($E179=\"\",\"\",WattsPerFixture(E179)))","v":""},"",null,null,null,null,{"$f":"IF($J179=\"\",\"\",WattsPerFixture(J179))","v":""},"",null,null,null,null,"",{"$f":"IF(OR(V179=\"\",COUNTIF($V$21:V179,V179)>1),\"\",ROW())","v":""},"","",0,0,0,0,0,0,0,0,0,0,{"$f":"IF(AK179=0,\"\",IF(AK179=\"X\",1,PercentDI(AK179)))","v":""},{"$f":"IF(AK179=0,\"\",DIDECODE(AK179))","v":""},{"$f":"IF(AK179=0,\"\",PDECODE(AK179))","v":""},{"$f":"IF(OR(W179<>\"\",AND(Y179=0,AB179=0)),0,LtIncentive(E179,F179,J179,L179,N179,K179,AE179,SUM($AI$21:AI178,$AM$21:AM178),SUM($AJ$21:AJ178,$AN$21:AN178),DIEligibility))","v":0},{"$f":"IF(AO179=0,\"\",PercentDI(AO179))","v":""},{"$f":"IF(AO179=0,\"\",DIDECODE(AO179))","v":""},{"$f":"IF(AO179=0,\"\",PDECODE(AO179))","v":""},{"$f":"IF(OR(W179<>\"\",AC179=0),0,LtCTRLIncentive(M179,L179,O179,G179,F179,E179,J179,SUM($AI$21:AI179,$AM$21:AM178),SUM($AJ$21:AJ179,$AN$21:AN178),DIEligibility))","v":0},0,0,0,0,0]
[null,{"$f":"ROWS($B$22:B180)-1","v":158},null,null,null,null,null,{"$f":"IF(CType=\"NC\",0,IF($E180=\"\",\"\",WattsPerFixture(E180)))","v":""},"",null,null,null,null,{"$f":"IF($J180=\"\",\"\",WattsPerFixture(J180))","v":""},"",null,null,null,null,"",{"$f":"IF(OR(V180=\"\",COUNTIF($V$21:V180,V180)>1),\"\",ROW())","v":""},"","",0,0,0,0,0,0,0,0,0,0,{"$f":"IF(AK180=0,\"\",IF(AK180=\"X\",1,PercentDI(AK180)))","v":""},{"$f":"IF(AK180=0,\"\",DIDECODE(AK180))","v":""},{"$f":"IF(AK180=0,\"\",PDECODE(AK180))","v":""},{"$f":"IF(OR(W180<>\"\",AND(Y180=0,AB180=0)),0,LtIncentive(E180,F180,J180,L180,N180,K180,AE180,SUM($AI$21:AI179,$AM$21:AM179),SUM($AJ$21:AJ179,$AN$21:AN179),DIEligibility))","v":0},{"$f":"IF(AO180=0,\"\",PercentDI(AO180))","v":""},{"$f":"IF(AO180=0,\"\",DIDECODE(AO180))","v":""},{"$f":"IF(AO180=0,\"\",PDECODE(AO180))","v":""},{"$f":"IF(OR(W180<>\"\",AC180=0),0,LtCTRLIncentive(M180,L180,O180,G180,F180,E180,J180,SUM($AI$21:AI180,$AM$21:AM179),SUM($AJ$21:AJ180,$AN$21:AN179),DIEligibility))","v":0},0,0,0,0,0]
[null,{"$f":"ROWS($B$22:B181)-1","v":159},null,null,null,null,null,{"$f":"IF(CType=\"NC\",0,IF($E181=\"\",\"\",WattsPerFixture(E181)))","v":""},"",null,null,null,null,{"$f":"IF($J181=\"\",\"\",WattsPerFixture(J181))","v":""},"",null,null,null,null,"",{"$f":"IF(OR(V181=\"\",COUNTIF($V$21:V181,V181)>1),\"\",ROW())","v":""},"","",0,0,0,0,0,0,0,0,0,0,{"$f":"IF(AK181=0,\"\",IF(AK181=\"X\",1,PercentDI(AK181)))","v":""},{"$f":"IF(AK181=0,\"\",DIDECODE(AK181))","v":""},{"$f":"IF(AK181=0,\"\",PDECODE(AK181))","v":""},{"$f":"IF(OR(W181<>\"\",AND(Y181=0,AB181=0)),0,LtIncentive(E181,F181,J181,L181,N181,K181,AE181,SUM($AI$21:AI180,$AM$21:AM180),SUM($AJ$21:AJ180,$AN$21:AN180),DIEligibility))","v":0},{"$f":"IF(AO181=0,\"\",PercentDI(AO181))","v":""},{"$f":"IF(AO181=0,\"\",DIDECODE(AO181))","v":""},{"$f":"IF(AO181=0,\"\",PDECODE(AO181))","v":""},{"$f":"IF(OR(W181<>\"\",AC181=0),0,LtCTRLIncentive(M181,L181,O181,G181,F181,E181,J181,SUM($AI$21:AI181,$AM$21:AM180),SUM($AJ$21:AJ181,$AN$21:AN180),DIEligibility))","v":0},0,0,0,0,0]
[null,{"$f":"ROWS($B$22:B182)-1","v":160},null,null,null,null,null,{"$f":"IF(CType=\"NC\",0,IF($E182=\"\",\"\",WattsPerFixture(E182)))","v":""},"",null,null,null,null,{"$f":"IF($J182=\"\",\"\",WattsPerFixture(J182))","v":""},"",null,null,null,null,"",{"$f":"IF(OR(V182=\"\",COUNTIF($V$21:V182,V182)>1),\"\",ROW())","v":""},"","",0,0,0,0,0,0,0,0,0,0,{"$f":"IF(AK182=0,\"\",IF(AK182=\"X\",1,PercentDI(AK182)))","v":""},{"$f":"IF(AK182=0,\"\",DIDECODE(AK182))","v":""},{"$f":"IF(AK182=0,\"\",PDECODE(AK182))","v":""},{"$f":"IF(OR(W182<>\"\",AND(Y182=0,AB182=0)),0,LtIncentive(E182,F182,J182,L182,N182,K182,AE182,SUM($AI$21:AI181,$AM$21:AM181),SUM($AJ$21:AJ181,$AN$21:AN181),DIEligibility))","v":0},{"$f":"IF(AO182=0,\"\",PercentDI(AO182))","v":""},{"$f":"IF(AO182=0,\"\",DIDECODE(AO182))","v":""},{"$f":"IF(AO182=0,\"\",PDECODE(AO182))","v":""},{"$f":"IF(OR(W182<>\"\",AC182=0),0,LtCTRLIncentive(M182,L182,O182,G182,F182,E182,J182,SUM($AI$21:AI182,$AM$21:AM181),SUM($AJ$21:AJ182,$AN$21:AN181),DIEligibility))","v":0},0,0,0,0,0]
[null,{"$f":"ROWS($B$22:B183)-1","v":161},null,null,null,null,null,{"$f":"IF(CType=\"NC\",0,IF($E183=\"\",\"\",WattsPerFixture(E183)))","v":""},"",null,null,null,null,{"$f":"IF($J183=\"\",\"\",WattsPerFixture(J183))","v":""},"",null,null,null,null,"",{"$f":"IF(OR(V183=\"\",COUNTIF($V$21:V183,V183)>1),\"\",ROW())","v":""},"","",0,0,0,0,0,0,0,0,0,0,{"$f":"IF(AK183=0,\"\",IF(AK183=\"X\",1,PercentDI(AK183)))","v":""},{"$f":"IF(AK183=0,\"\",DIDECODE(AK183))","v":""},{"$f":"IF(AK183=0,\"\",PDECODE(AK183))","v":""},{"$f":"IF(OR(W183<>\"\",AND(Y183=0,AB183=0)),0,LtIncentive(E183,F183,J183,L183,N183,K183,AE183,SUM($AI$21:AI182,$AM$21:AM182),SUM($AJ$21:AJ182,$AN$21:AN182),DIEligibility))","v":0},{"$f":"IF(AO183=0,\"\",PercentDI(AO183))","v":""},{"$f":"IF(AO183=0,\"\",DIDECODE(AO183))","v":""},{"$f":"IF(AO183=0,\"\",PDECODE(AO183))","v":""},{"$f":"IF(OR(W183<>\"\",AC183=0),0,LtCTRLIncentive(M183,L183,O183,G183,F183,E183,J183,SUM($AI$21:AI183,$AM$21:AM182),SUM($AJ$21:AJ183,$AN$21:AN182),DIEligibility))","v":0},0,0,0,0,0]
[null,{"$f":"ROWS($B$22:B184)-1","v":162},null,null,null,null,null,{"$f":"IF(CType=\"NC\",0,IF($E184=\"\",\"\",WattsPerFixture(E184)))","v":""},"",null,null,null,null,{"$f":"IF($J184=\"\",\"\",WattsPerFixture(J184))","v":""},"",null,null,null,null,"",{"$f":"IF(OR(V184=\"\",COUNTIF($V$21:V184,V184)>1),\"\",ROW())","v":""},"","",0,0,0,0,0,0,0,0,0,0,{"$f":"IF(AK184=0,\"\",IF(AK184=\"X\",1,PercentDI(AK184)))","v":""},{"$f":"IF(AK184=0,\"\",DIDECODE(AK184))","v":""},{"$f":"IF(AK184=0,\"\",PDECODE(AK184))","v":""},{"$f":"IF(OR(W184<>\"\",AND(Y184=0,AB184=0)),0,LtIncentive(E184,F184,J184,L184,N184,K184,AE184,SUM($AI$21:AI183,$AM$21:AM183),SUM($AJ$21:AJ183,$AN$21:AN183),DIEligibility))","v":0},{"$f":"IF(AO184=0,\"\",PercentDI(AO184))","v":""},{"$f":"IF(AO184=0,\"\",DIDECODE(AO184))","v":""},{"$f":"IF(AO184=0,\"\",PDECODE(AO184))","v":""},{"$f":"IF(OR(W184<>\"\",AC184=0),0,LtCTRLIncentive(M184,L184,O184,G184,F184,E184,J184,SUM($AI$21:AI184,$AM$21:AM183),SUM($AJ$21:AJ184,$AN$21:AN183),DIEligibility))","v":0},0,0,0,0,0]
[null,{"$f":"ROWS($B$22:B185)-1","v":163},null,null,null,null,null,{"$f":"IF(CType=\"NC\",0,IF($E185=\"\",\"\",WattsPerFixture(E185)))","v":""},"",null,null,null,null,{"$f":"IF($J185=\"\",\"\",WattsPerFixture(J185))","v":""},"",null,null,null,null,"",{"$f":"IF(OR(V185=\"\",COUNTIF($V$21:V185,V185)>1),\"\",ROW())","v":""},"","",0,0,0,0,0,0,0,0,0,0,{"$f":"IF(AK185=0,\"\",IF(AK185=\"X\",1,PercentDI(AK185)))","v":""},{"$f":"IF(AK185=0,\"\",DIDECODE(AK185))","v":""},{"$f":"IF(AK185=0,\"\",PDECODE(AK185))","v":""},{"$f":"IF(OR(W185<>\"\",AND(Y185=0,AB185=0)),0,LtIncentive(E185,F185,J185,L185,N185,K185,AE185,SUM($AI$21:AI184,$AM$21:AM184),SUM($AJ$21:AJ184,$AN$21:AN184),DIEligibility))","v":0},{"$f":"IF(AO185=0,\"\",PercentDI(AO185))","v":""},{"$f":"IF(AO185=0,\"\",DIDECODE(AO185))","v":""},{"$f":"IF(AO185=0,\"\",PDECODE(AO185))","v":""},{"$f":"IF(OR(W185<>\"\",AC185=0),0,LtCTRLIncentive(M185,L185,O185,G185,F185,E185,J185,SUM($AI$21:AI185,$AM$21:AM184),SUM($AJ$21:AJ185,$AN$21:AN184),DIEligibility))","v":0},0,0,0,0,0]
[null,{"$f":"ROWS($B$22:B186)-1","v":164},null,null,null,null,null,{"$f":"IF(CType=\"NC\",0,IF($E186=\"\",\"\",WattsPerFixture(E186)))","v":""},"",null,null,null,null,{"$f":"IF($J186=\"\",\"\",WattsPerFixture(J186))","v":""},"",null,null,null,null,"",{"$f":"IF(OR(V186=\"\",COUNTIF($V$21:V186,V186)>1),\"\",ROW())","v":""},"","",0,0,0,0,0,0,0,0,0,0,{"$f":"IF(AK186=0,\"\",IF(AK186=\"X\",1,PercentDI(AK186)))","v":""},{"$f":"IF(AK186=0,\"\",DIDECODE(AK186))","v":""},{"$f":"IF(AK186=0,\"\",PDECODE(AK186))","v":""},{"$f":"IF(OR(W186<>\"\",AND(Y186=0,AB186=0)),0,LtIncentive(E186,F186,J186,L186,N186,K186,AE186,SUM($AI$21:AI185,$AM$21:AM185),SUM($AJ$21:AJ185,$AN$21:AN185),DIEligibility))","v":0},{"$f":"IF(AO186=0,\"\",PercentDI(AO186))","v":""},{"$f":"IF(AO186=0,\"\",DIDECODE(AO186))","v":""},{"$f":"IF(AO186=0,\"\",PDECODE(AO186))","v":""},{"$f":"IF(OR(W186<>\"\",AC186=0),0,LtCTRLIncentive(M186,L186,O186,G186,F186,E186,J186,SUM($AI$21:AI186,$AM$21:AM185),SUM($AJ$21:AJ186,$AN$21:AN185),DIEligibility))","v":0},0,0,0,0,0]
[null,{"$f":"ROWS($B$22:B187)-1","v":165},null,null,null,null,null,{"$f":"IF(CType=\"NC\",0,IF($E187=\"\",\"\",WattsPerFixture(E187)))","v":""},"",null,null,null,null,{"$f":"IF($J187=\"\",\"\",WattsPerFixture(J187))","v":""},"",null,null,null,null,"",{"$f":"IF(OR(V187=\"\",COUNTIF($V$21:V187,V187)>1),\"\",ROW())","v":""},"","",0,0,0,0,0,0,0,0,0,0,{"$f":"IF(AK187=0,\"\",IF(AK187=\"X\",1,PercentDI(AK187)))","v":""},{"$f":"IF(AK187=0,\"\",DIDECODE(AK187))","v":""},{"$f":"IF(AK187=0,\"\",PDECODE(AK187))","v":""},{"$f":"IF(OR(W187<>\"\",AND(Y187=0,AB187=0)),0,LtIncentive(E187,F187,J187,L187,N187,K187,AE187,SUM($AI$21:AI186,$AM$21:AM186),SUM($AJ$21:AJ186,$AN$21:AN186),DIEligibility))","v":0},{"$f":"IF(AO187=0,\"\",PercentDI(AO187))","v":""},{"$f":"IF(AO187=0,\"\",DIDECODE(AO187))","v":""},{"$f":"IF(AO187=0,\"\",PDECODE(AO187))","v":""},{"$f":"IF(OR(W187<>\"\",AC187=0),0,LtCTRLIncentive(M187,L187,O187,G187,F187,E187,J187,SUM($AI$21:AI187,$AM$21:AM186),SUM($AJ$21:AJ187,$AN$21:AN186),DIEligibility))","v":0},0,0,0,0,0]
[null,{"$f":"ROWS($B$22:B188)-1","v":166},null,null,null,null,null,{"$f":"IF(CType=\"NC\",0,IF($E188=\"\",\"\",WattsPerFixture(E188)))","v":""},"",null,null,null,null,{"$f":"IF($J188=\"\",\"\",WattsPerFixture(J188))","v":""},"",null,null,null,null,"",{"$f":"IF(OR(V188=\"\",COUNTIF($V$21:V188,V188)>1),\"\",ROW())","v":""},"","",0,0,0,0,0,0,0,0,0,0,{"$f":"IF(AK188=0,\"\",IF(AK188=\"X\",1,PercentDI(AK188)))","v":""},{"$f":"IF(AK188=0,\"\",DIDECODE(AK188))","v":""},{"$f":"IF(AK188=0,\"\",PDECODE(AK188))","v":""},{"$f":"IF(OR(W188<>\"\",AND(Y188=0,AB188=0)),0,LtIncentive(E188,F188,J188,L188,N188,K188,AE188,SUM($AI$21:AI187,$AM$21:AM187),SUM($AJ$21:AJ187,$AN$21:AN187),DIEligibility))","v":0},{"$f":"IF(AO188=0,\"\",PercentDI(AO188))","v":""},{"$f":"IF(AO188=0,\"\",DIDECODE(AO188))","v":""},{"$f":"IF(AO188=0,\"\",PDECODE(AO188))","v":""},{"$f":"IF(OR(W188<>\"\",AC188=0),0,LtCTRLIncentive(M188,L188,O188,G188,F188,E188,J188,SUM($AI$21:AI188,$AM$21:AM187),SUM($AJ$21:AJ188,$AN$21:AN187),DIEligibility))","v":0},0,0,0,0,0]
[null,{"$f":"ROWS($B$22:B189)-1","v":167},null,null,null,null,null,{"$f":"IF(CType=\"NC\",0,IF($E189=\"\",\"\",WattsPerFixture(E189)))","v":""},"",null,null,null,null,{"$f":"IF($J189=\"\",\"\",WattsPerFixture(J189))","v":""},"",null,null,null,null,"",{"$f":"IF(OR(V189=\"\",COUNTIF($V$21:V189,V189)>1),\"\",ROW())","v":""},"","",0,0,0,0,0,0,0,0,0,0,{"$f":"IF(AK189=0,\"\",IF(AK189=\"X\",1,PercentDI(AK189)))","v":""},{"$f":"IF(AK189=0,\"\",DIDECODE(AK189))","v":""},{"$f":"IF(AK189=0,\"\",PDECODE(AK189))","v":""},{"$f":"IF(OR(W189<>\"\",AND(Y189=0,AB189=0)),0,LtIncentive(E189,F189,J189,L189,N189,K189,AE189,SUM($AI$21:AI188,$AM$21:AM188),SUM($AJ$21:AJ188,$AN$21:AN188),DIEligibility))","v":0},{"$f":"IF(AO189=0,\"\",PercentDI(AO189))","v":""},{"$f":"IF(AO189=0,\"\",DIDECODE(AO189))","v":""},{"$f":"IF(AO189=0,\"\",PDECODE(AO189))","v":""},{"$f":"IF(OR(W189<>\"\",AC189=0),0,LtCTRLIncentive(M189,L189,O189,G189,F189,E189,J189,SUM($AI$21:AI189,$AM$21:AM188),SUM($AJ$21:AJ189,$AN$21:AN188),DIEligibility))","v":0},0,0,0,0,0]
[null,{"$f":"ROWS($B$22:B190)-1","v":168},null,null,null,null,null,{"$f":"IF(CType=\"NC\",0,IF($E190=\"\",\"\",WattsPerFixture(E190)))","v":""},"",null,null,null,null,{"$f":"IF($J190=\"\",\"\",WattsPerFixture(J190))","v":""},"",null,null,null,null,"",{"$f":"IF(OR(V190=\"\",COUNTIF($V$21:V190,V190)>1),\"\",ROW())","v":""},"","",0,0,0,0,0,0,0,0,0,0,{"$f":"IF(AK190=0,\"\",IF(AK190=\"X\",1,PercentDI(AK190)))","v":""},{"$f":"IF(AK190=0,\"\",DIDECODE(AK190))","v":""},{"$f":"IF(AK190=0,\"\",PDECODE(AK190))","v":""},{"$f":"IF(OR(W190<>\"\",AND(Y190=0,AB190=0)),0,LtIncentive(E190,F190,J190,L190,N190,K190,AE190,SUM($AI$21:AI189,$AM$21:AM189),SUM($AJ$21:AJ189,$AN$21:AN189),DIEligibility))","v":0},{"$f":"IF(AO190=0,\"\",PercentDI(AO190))","v":""},{"$f":"IF(AO190=0,\"\",DIDECODE(AO190))","v":""},{"$f":"IF(AO190=0,\"\",PDECODE(AO190))","v":""},{"$f":"IF(OR(W190<>\"\",AC190=0),0,LtCTRLIncentive(M190,L190,O190,G190,F190,E190,J190,SUM($AI$21:AI190,$AM$21:AM189),SUM($AJ$21:AJ190,$AN$21:AN189),DIEligibility))","v":0},0,0,0,0,0]
[null,{"$f":"ROWS($B$22:B191)-1","v":169},null,null,null,null,null,{"$f":"IF(CType=\"NC\",0,IF($E191=\"\",\"\",WattsPerFixture(E191)))","v":""},"",null,null,null,null,{"$f":"IF($J191=\"\",\"\",WattsPerFixture(J191))","v":""},"",null,null,null,null,"",{"$f":"IF(OR(V191=\"\",COUNTIF($V$21:V191,V191)>1),\"\",ROW())","v":""},"","",0,0,0,0,0,0,0,0,0,0,{"$f":"IF(AK191=0,\"\",IF(AK191=\"X\",1,PercentDI(AK191)))","v":""},{"$f":"IF(AK191=0,\"\",DIDECODE(AK191))","v":""},{"$f":"IF(AK191=0,\"\",PDECODE(AK191))","v":""},{"$f":"IF(OR(W191<>\"\",AND(Y191=0,AB191=0)),0,LtIncentive(E191,F191,J191,L191,N191,K191,AE191,SUM($AI$21:AI190,$AM$21:AM190),SUM($AJ$21:AJ190,$AN$21:AN190),DIEligibility))","v":0},{"$f":"IF(AO191=0,\"\",PercentDI(AO191))","v":""},{"$f":"IF(AO191=0,\"\",DIDECODE(AO191))","v":""},{"$f":"IF(AO191=0,\"\",PDECODE(AO191))","v":""},{"$f":"IF(OR(W191<>\"\",AC191=0),0,LtCTRLIncentive(M191,L191,O191,G191,F191,E191,J191,SUM($AI$21:AI191,$AM$21:AM190),SUM($AJ$21:AJ191,$AN$21:AN190),DIEligibility))","v":0},0,0,0,0,0]
[null,{"$f":"ROWS($B$22:B192)-1","v":170},null,null,null,null,null,{"$f":"IF(CType=\"NC\",0,IF($E192=\"\",\"\",WattsPerFixture(E192)))","v":""},"",null,null,null,null,{"$f":"IF($J192=\"\",\"\",WattsPerFixture(J192))","v":""},"",null,null,null,null,"",{"$f":"IF(OR(V192=\"\",COUNTIF($V$21:V192,V192)>1),\"\",ROW())","v":""},"","",0,0,0,0,0,0,0,0,0,0,{"$f":"IF(AK192=0,\"\",IF(AK192=\"X\",1,PercentDI(AK192)))","v":""},{"$f":"IF(AK192=0,\"\",DIDECODE(AK192))","v":""},{"$f":"IF(AK192=0,\"\",PDECODE(AK192))","v":""},{"$f":"IF(OR(W192<>\"\",AND(Y192=0,AB192=0)),0,LtIncentive(E192,F192,J192,L192,N192,K192,AE192,SUM($AI$21:AI191,$AM$21:AM191),SUM($AJ$21:AJ191,$AN$21:AN191),DIEligibility))","v":0},{"$f":"IF(AO192=0,\"\",PercentDI(AO192))","v":""},{"$f":"IF(AO192=0,\"\",DIDECODE(AO192))","v":""},{"$f":"IF(AO192=0,\"\",PDECODE(AO192))","v":""},{"$f":"IF(OR(W192<>\"\",AC192=0),0,LtCTRLIncentive(M192,L192,O192,G192,F192,E192,J192,SUM($AI$21:AI192,$AM$21:AM191),SUM($AJ$21:AJ192,$AN$21:AN191),DIEligibility))","v":0},0,0,0,0,0]
[null,{"$f":"ROWS($B$22:B193)-1","v":171},null,null,null,null,null,{"$f":"IF(CType=\"NC\",0,IF($E193=\"\",\"\",WattsPerFixture(E193)))","v":""},"",null,null,null,null,{"$f":"IF($J193=\"\",\"\",WattsPerFixture(J193))","v":""},"",null,null,null,null,"",{"$f":"IF(OR(V193=\"\",COUNTIF($V$21:V193,V193)>1),\"\",ROW())","v":""},"","",0,0,0,0,0,0,0,0,0,0,{"$f":"IF(AK193=0,\"\",IF(AK193=\"X\",1,PercentDI(AK193)))","v":""},{"$f":"IF(AK193=0,\"\",DIDECODE(AK193))","v":""},{"$f":"IF(AK193=0,\"\",PDECODE(AK193))","v":""},{"$f":"IF(OR(W193<>\"\",AND(Y193=0,AB193=0)),0,LtIncentive(E193,F193,J193,L193,N193,K193,AE193,SUM($AI$21:AI192,$AM$21:AM192),SUM($AJ$21:AJ192,$AN$21:AN192),DIEligibility))","v":0},{"$f":"IF(AO193=0,\"\",PercentDI(AO193))","v":""},{"$f":"IF(AO193=0,\"\",DIDECODE(AO193))","v":""},{"$f":"IF(AO193=0,\"\",PDECODE(AO193))","v":""},{"$f":"IF(OR(W193<>\"\",AC193=0),0,LtCTRLIncentive(M193,L193,O193,G193,F193,E193,J193,SUM($AI$21:AI193,$AM$21:AM192),SUM($AJ$21:AJ193,$AN$21:AN192),DIEligibility))","v":0},0,0,0,0,0]
[null,{"$f":"ROWS($B$22:B194)-1","v":172},null,null,null,null,null,{"$f":"IF(CType=\"NC\",0,IF($E194=\"\",\"\",WattsPerFixture(E194)))","v":""},"",null,null,null,null,{"$f":"IF($J194=\"\",\"\",WattsPerFixture(J194))","v":""},"",null,null,null,null,"",{"$f":"IF(OR(V194=\"\",COUNTIF($V$21:V194,V194)>1),\"\",ROW())","v":""},"","",0,0,0,0,0,0,0,0,0,0,{"$f":"IF(AK194=0,\"\",IF(AK194=\"X\",1,PercentDI(AK194)))","v":""},{"$f":"IF(AK194=0,\"\",DIDECODE(AK194))","v":""},{"$f":"IF(AK194=0,\"\",PDECODE(AK194))","v":""},{"$f":"IF(OR(W194<>\"\",AND(Y194=0,AB194=0)),0,LtIncentive(E194,F194,J194,L194,N194,K194,AE194,SUM($AI$21:AI193,$AM$21:AM193),SUM($AJ$21:AJ193,$AN$21:AN193),DIEligibility))","v":0},{"$f":"IF(AO194=0,\"\",PercentDI(AO194))","v":""},{"$f":"IF(AO194=0,\"\",DIDECODE(AO194))","v":""},{"$f":"IF(AO194=0,\"\",PDECODE(AO194))","v":""},{"$f":"IF(OR(W194<>\"\",AC194=0),0,LtCTRLIncentive(M194,L194,O194,G194,F194,E194,J194,SUM($AI$21:AI194,$AM$21:AM193),SUM($AJ$21:AJ194,$AN$21:AN193),DIEligibility))","v":0},0,0,0,0,0]
[null,{"$f":"ROWS($B$22:B195)-1","v":173},null,null,null,null,null,{"$f":"IF(CType=\"NC\",0,IF($E195=\"\",\"\",WattsPerFixture(E195)))","v":""},"",null,null,null,null,{"$f":"IF($J195=\"\",\"\",WattsPerFixture(J195))","v":""},"",null,null,null,null,"",{"$f":"IF(OR(V195=\"\",COUNTIF($V$21:V195,V195)>1),\"\",ROW())","v":""},"","",0,0,0,0,0,0,0,0,0,0,{"$f":"IF(AK195=0,\"\",IF(AK195=\"X\",1,PercentDI(AK195)))","v":""},{"$f":"IF(AK195=0,\"\",DIDECODE(AK195))","v":""},{"$f":"IF(AK195=0,\"\",PDECODE(AK195))","v":""},{"$f":"IF(OR(W195<>\"\",AND(Y195=0,AB195=0)),0,LtIncentive(E195,F195,J195,L195,N195,K195,AE195,SUM($AI$21:AI194,$AM$21:AM194),SUM($AJ$21:AJ194,$AN$21:AN194),DIEligibility))","v":0},{"$f":"IF(AO195=0,\"\",PercentDI(AO195))","v":""},{"$f":"IF(AO195=0,\"\",DIDECODE(AO195))","v":""},{"$f":"IF(AO195=0,\"\",PDECODE(AO195))","v":""},{"$f":"IF(OR(W195<>\"\",AC195=0),0,LtCTRLIncentive(M195,L195,O195,G195,F195,E195,J195,SUM($AI$21:AI195,$AM$21:AM194),SUM($AJ$21:AJ195,$AN$21:AN194),DIEligibility))","v":0},0,0,0,0,0]
[null,{"$f":"ROWS($B$22:B196)-1","v":174},null,null,null,null,null,{"$f":"IF(CType=\"NC\",0,IF($E196=\"\",\"\",WattsPerFixture(E196)))","v":""},"",null,null,null,null,{"$f":"IF($J196=\"\",\"\",WattsPerFixture(J196))","v":""},"",null,null,null,null,"",{"$f":"IF(OR(V196=\"\",COUNTIF($V$21:V196,V196)>1),\"\",ROW())","v":""},"","",0,0,0,0,0,0,0,0,0,0,{"$f":"IF(AK196=0,\"\",IF(AK196=\"X\",1,PercentDI(AK196)))","v":""},{"$f":"IF(AK196=0,\"\",DIDECODE(AK196))","v":""},{"$f":"IF(AK196=0,\"\",PDECODE(AK196))","v":""},{"$f":"IF(OR(W196<>\"\",AND(Y196=0,AB196=0)),0,LtIncentive(E196,F196,J196,L196,N196,K196,AE196,SUM($AI$21:AI195,$AM$21:AM195),SUM($AJ$21:AJ195,$AN$21:AN195),DIEligibility))","v":0},{"$f":"IF(AO196=0,\"\",PercentDI(AO196))","v":""},{"$f":"IF(AO196=0,\"\",DIDECODE(AO196))","v":""},{"$f":"IF(AO196=0,\"\",PDECODE(AO196))","v":""},{"$f":"IF(OR(W196<>\"\",AC196=0),0,LtCTRLIncentive(M196,L196,O196,G196,F196,E196,J196,SUM($AI$21:AI196,$AM$21:AM195),SUM($AJ$21:AJ196,$AN$21:AN195),DIEligibility))","v":0},0,0,0,0,0]
[null,{"$f":"ROWS($B$22:B197)-1","v":175},null,null,null,null,null,{"$f":"IF(CType=\"NC\",0,IF($E197=\"\",\"\",WattsPerFixture(E197)))","v":""},"",null,null,null,null,{"$f":"IF($J197=\"\",\"\",WattsPerFixture(J197))","v":""},"",null,null,null,null,"",{"$f":"IF(OR(V197=\"\",COUNTIF($V$21:V197,V197)>1),\"\",ROW())","v":""},"","",0,0,0,0,0,0,0,0,0,0,{"$f":"IF(AK197=0,\"\",IF(AK197=\"X\",1,PercentDI(AK197)))","v":""},{"$f":"IF(AK197=0,\"\",DIDECODE(AK197))","v":""},{"$f":"IF(AK197=0,\"\",PDECODE(AK197))","v":""},{"$f":"IF(OR(W197<>\"\",AND(Y197=0,AB197=0)),0,LtIncentive(E197,F197,J197,L197,N197,K197,AE197,SUM($AI$21:AI196,$AM$21:AM196),SUM($AJ$21:AJ196,$AN$21:AN196),DIEligibility))","v":0},{"$f":"IF(AO197=0,\"\",PercentDI(AO197))","v":""},{"$f":"IF(AO197=0,\"\",DIDECODE(AO197))","v":""},{"$f":"IF(AO197=0,\"\",PDECODE(AO197))","v":""},{"$f":"IF(OR(W197<>\"\",AC197=0),0,LtCTRLIncentive(M197,L197,O197,G197,F197,E197,J197,SUM($AI$21:AI197,$AM$21:AM196),SUM($AJ$21:AJ197,$AN$21:AN196),DIEligibility))","v":0},0,0,0,0,0]
[null,{"$f":"ROWS($B$22:B198)-1","v":176},null,null,null,null,null,{"$f":"IF(CType=\"NC\",0,IF($E198=\"\",\"\",WattsPerFixture(E198)))","v":""},"",null,null,null,null,{"$f":"IF($J198=\"\",\"\",WattsPerFixture(J198))","v":""},"",null,null,null,null,"",{"$f":"IF(OR(V198=\"\",COUNTIF($V$21:V198,V198)>1),\"\",ROW())","v":""},"","",0,0,0,0,0,0,0,0,0,0,{"$f":"IF(AK198=0,\"\",IF(AK198=\"X\",1,PercentDI(AK198)))","v":""},{"$f":"IF(AK198=0,\"\",DIDECODE(AK198))","v":""},{"$f":"IF(AK198=0,\"\",PDECODE(AK198))","v":""},{"$f":"IF(OR(W198<>\"\",AND(Y198=0,AB198=0)),0,LtIncentive(E198,F198,J198,L198,N198,K198,AE198,SUM($AI$21:AI197,$AM$21:AM197),SUM($AJ$21:AJ197,$AN$21:AN197),DIEligibility))","v":0},{"$f":"IF(AO198=0,\"\",PercentDI(AO198))","v":""},{"$f":"IF(AO198=0,\"\",DIDECODE(AO198))","v":""},{"$f":"IF(AO198=0,\"\",PDECODE(AO198))","v":""},{"$f":"IF(OR(W198<>\"\",AC198=0),0,LtCTRLIncentive(M198,L198,O198,G198,F198,E198,J198,SUM($AI$21:AI198,$AM$21:AM197),SUM($AJ$21:AJ198,$AN$21:AN197),DIEligibility))","v":0},0,0,0,0,0]
[null,{"$f":"ROWS($B$22:B199)-1","v":177},null,null,null,null,null,{"$f":"IF(CType=\"NC\",0,IF($E199=\"\",\"\",WattsPerFixture(E199)))","v":""},"",null,null,null,null,{"$f":"IF($J199=\"\",\"\",WattsPerFixture(J199))","v":""},"",null,null,null,null,"",{"$f":"IF(OR(V199=\"\",COUNTIF($V$21:V199,V199)>1),\"\",ROW())","v":""},"","",0,0,0,0,0,0,0,0,0,0,{"$f":"IF(AK199=0,\"\",IF(AK199=\"X\",1,PercentDI(AK199)))","v":""},{"$f":"IF(AK199=0,\"\",DIDECODE(AK199))","v":""},{"$f":"IF(AK199=0,\"\",PDECODE(AK199))","v":""},{"$f":"IF(OR(W199<>\"\",AND(Y199=0,AB199=0)),0,LtIncentive(E199,F199,J199,L199,N199,K199,AE199,SUM($AI$21:AI198,$AM$21:AM198),SUM($AJ$21:AJ198,$AN$21:AN198),DIEligibility))","v":0},{"$f":"IF(AO199=0,\"\",PercentDI(AO199))","v":""},{"$f":"IF(AO199=0,\"\",DIDECODE(AO199))","v":""},{"$f":"IF(AO199=0,\"\",PDECODE(AO199))","v":""},{"$f":"IF(OR(W199<>\"\",AC199=0),0,LtCTRLIncentive(M199,L199,O199,G199,F199,E199,J199,SUM($AI$21:AI199,$AM$21:AM198),SUM($AJ$21:AJ199,$AN$21:AN198),DIEligibility))","v":0},0,0,0,0,0]
[null,{"$f":"ROWS($B$22:B200)-1","v":178},null,null,null,null,null,{"$f":"IF(CType=\"NC\",0,IF($E200=\"\",\"\",WattsPerFixture(E200)))","v":""},"",null,null,null,null,{"$f":"IF($J200=\"\",\"\",WattsPerFixture(J200))","v":""},"",null,null,null,null,"",{"$f":"IF(OR(V200=\"\",COUNTIF($V$21:V200,V200)>1),\"\",ROW())","v":""},"","",0,0,0,0,0,0,0,0,0,0,{"$f":"IF(AK200=0,\"\",IF(AK200=\"X\",1,PercentDI(AK200)))","v":""},{"$f":"IF(AK200=0,\"\",DIDECODE(AK200))","v":""},{"$f":"IF(AK200=0,\"\",PDECODE(AK200))","v":""},{"$f":"IF(OR(W200<>\"\",AND(Y200=0,AB200=0)),0,LtIncentive(E200,F200,J200,L200,N200,K200,AE200,SUM($AI$21:AI199,$AM$21:AM199),SUM($AJ$21:AJ199,$AN$21:AN199),DIEligibility))","v":0},{"$f":"IF(AO200=0,\"\",PercentDI(AO200))","v":""},{"$f":"IF(AO200=0,\"\",DIDECODE(AO200))","v":""},{"$f":"IF(AO200=0,\"\",PDECODE(AO200))","v":""},{"$f":"IF(OR(W200<>\"\",AC200=0),0,LtCTRLIncentive(M200,L200,O200,G200,F200,E200,J200,SUM($AI$21:AI200,$AM$21:AM199),SUM($AJ$21:AJ200,$AN$21:AN199),DIEligibility))","v":0},0,0,0,0,0]
[null,{"$f":"ROWS($B$22:B201)-1","v":179},null,null,null,null,null,{"$f":"IF(CType=\"NC\",0,IF($E201=\"\",\"\",WattsPerFixture(E201)))","v":""},"",null,null,null,null,{"$f":"IF($J201=\"\",\"\",WattsPerFixture(J201))","v":""},"",null,null,null,null,"",{"$f":"IF(OR(V201=\"\",COUNTIF($V$21:V201,V201)>1),\"\",ROW())","v":""},"","",0,0,0,0,0,0,0,0,0,0,{"$f":"IF(AK201=0,\"\",IF(AK201=\"X\",1,PercentDI(AK201)))","v":""},{"$f":"IF(AK201=0,\"\",DIDECODE(AK201))","v":""},{"$f":"IF(AK201=0,\"\",PDECODE(AK201))","v":""},{"$f":"IF(OR(W201<>\"\",AND(Y201=0,AB201=0)),0,LtIncentive(E201,F201,J201,L201,N201,K201,AE201,SUM($AI$21:AI200,$AM$21:AM200),SUM($AJ$21:AJ200,$AN$21:AN200),DIEligibility))","v":0},{"$f":"IF(AO201=0,\"\",PercentDI(AO201))","v":""},{"$f":"IF(AO201=0,\"\",DIDECODE(AO201))","v":""},{"$f":"IF(AO201=0,\"\",PDECODE(AO201))","v":""},{"$f":"IF(OR(W201<>\"\",AC201=0),0,LtCTRLIncentive(M201,L201,O201,G201,F201,E201,J201,SUM($AI$21:AI201,$AM$21:AM200),SUM($AJ$21:AJ201,$AN$21:AN200),DIEligibility))","v":0},0,0,0,0,0]
[null,{"$f":"ROWS($B$22:B202)-1","v":180},null,null,null,null,null,{"$f":"IF(CType=\"NC\",0,IF($E202=\"\",\"\",WattsPerFixture(E202)))","v":""},"",null,null,null,null,{"$f":"IF($J202=\"\",\"\",WattsPerFixture(J202))","v":""},"",null,null,null,null,"",{"$f":"IF(OR(V202=\"\",COUNTIF($V$21:V202,V202)>1),\"\",ROW())","v":""},"","",0,0,0,0,0,0,0,0,0,0,{"$f":"IF(AK202=0,\"\",IF(AK202=\"X\",1,PercentDI(AK202)))","v":""},{"$f":"IF(AK202=0,\"\",DIDECODE(AK202))","v":""},{"$f":"IF(AK202=0,\"\",PDECODE(AK202))","v":""},{"$f":"IF(OR(W202<>\"\",AND(Y202=0,AB202=0)),0,LtIncentive(E202,F202,J202,L202,N202,K202,AE202,SUM($AI$21:AI201,$AM$21:AM201),SUM($AJ$21:AJ201,$AN$21:AN201),DIEligibility))","v":0},{"$f":"IF(AO202=0,\"\",PercentDI(AO202))","v":""},{"$f":"IF(AO202=0,\"\",DIDECODE(AO202))","v":""},{"$f":"IF(AO202=0,\"\",PDECODE(AO202))","v":""},{"$f":"IF(OR(W202<>\"\",AC202=0),0,LtCTRLIncentive(M202,L202,O202,G202,F202,E202,J202,SUM($AI$21:AI202,$AM$21:AM201),SUM($AJ$21:AJ202,$AN$21:AN201),DIEligibility))","v":0},0,0,0,0,0]
[null,{"$f":"ROWS($B$22:B203)-1","v":181},null,null,null,null,null,{"$f":"IF(CType=\"NC\",0,IF($E203=\"\",\"\",WattsPerFixture(E203)))","v":""},"",null,null,null,null,{"$f":"IF($J203=\"\",\"\",WattsPerFixture(J203))","v":""},"",null,null,null,null,"",{"$f":"IF(OR(V203=\"\",COUNTIF($V$21:V203,V203)>1),\"\",ROW())","v":""},"","",0,0,0,0,0,0,0,0,0,0,{"$f":"IF(AK203=0,\"\",IF(AK203=\"X\",1,PercentDI(AK203)))","v":""},{"$f":"IF(AK203=0,\"\",DIDECODE(AK203))","v":""},{"$f":"IF(AK203=0,\"\",PDECODE(AK203))","v":""},{"$f":"IF(OR(W203<>\"\",AND(Y203=0,AB203=0)),0,LtIncentive(E203,F203,J203,L203,N203,K203,AE203,SUM($AI$21:AI202,$AM$21:AM202),SUM($AJ$21:AJ202,$AN$21:AN202),DIEligibility))","v":0},{"$f":"IF(AO203=0,\"\",PercentDI(AO203))","v":""},{"$f":"IF(AO203=0,\"\",DIDECODE(AO203))","v":""},{"$f":"IF(AO203=0,\"\",PDECODE(AO203))","v":""},{"$f":"IF(OR(W203<>\"\",AC203=0),0,LtCTRLIncentive(M203,L203,O203,G203,F203,E203,J203,SUM($AI$21:AI203,$AM$21:AM202),SUM($AJ$21:AJ203,$AN$21:AN202),DIEligibility))","v":0},0,0,0,0,0]
[null,{"$f":"ROWS($B$22:B204)-1","v":182},null,null,null,null,null,{"$f":"IF(CType=\"NC\",0,IF($E204=\"\",\"\",WattsPerFixture(E204)))","v":""},"",null,null,null,null,{"$f":"IF($J204=\"\",\"\",WattsPerFixture(J204))","v":""},"",null,null,null,null,"",{"$f":"IF(OR(V204=\"\",COUNTIF($V$21:V204,V204)>1),\"\",ROW())","v":""},"","",0,0,0,0,0,0,0,0,0,0,{"$f":"IF(AK204=0,\"\",IF(AK204=\"X\",1,PercentDI(AK204)))","v":""},{"$f":"IF(AK204=0,\"\",DIDECODE(AK204))","v":""},{"$f":"IF(AK204=0,\"\",PDECODE(AK204))","v":""},{"$f":"IF(OR(W204<>\"\",AND(Y204=0,AB204=0)),0,LtIncentive(E204,F204,J204,L204,N204,K204,AE204,SUM($AI$21:AI203,$AM$21:AM203),SUM($AJ$21:AJ203,$AN$21:AN203),DIEligibility))","v":0},{"$f":"IF(AO204=0,\"\",PercentDI(AO204))","v":""},{"$f":"IF(AO204=0,\"\",DIDECODE(AO204))","v":""},{"$f":"IF(AO204=0,\"\",PDECODE(AO204))","v":""},{"$f":"IF(OR(W204<>\"\",AC204=0),0,LtCTRLIncentive(M204,L204,O204,G204,F204,E204,J204,SUM($AI$21:AI204,$AM$21:AM203),SUM($AJ$21:AJ204,$AN$21:AN203),DIEligibility))","v":0},0,0,0,0,0]
[null,{"$f":"ROWS($B$22:B205)-1","v":183},null,null,null,null,null,{"$f":"IF(CType=\"NC\",0,IF($E205=\"\",\"\",WattsPerFixture(E205)))","v":""},"",null,null,null,null,{"$f":"IF($J205=\"\",\"\",WattsPerFixture(J205))","v":""},"",null,null,null,null,"",{"$f":"IF(OR(V205=\"\",COUNTIF($V$21:V205,V205)>1),\"\",ROW())","v":""},"","",0,0,0,0,0,0,0,0,0,0,{"$f":"IF(AK205=0,\"\",IF(AK205=\"X\",1,PercentDI(AK205)))","v":""},{"$f":"IF(AK205=0,\"\",DIDECODE(AK205))","v":""},{"$f":"IF(AK205=0,\"\",PDECODE(AK205))","v":""},{"$f":"IF(OR(W205<>\"\",AND(Y205=0,AB205=0)),0,LtIncentive(E205,F205,J205,L205,N205,K205,AE205,SUM($AI$21:AI204,$AM$21:AM204),SUM($AJ$21:AJ204,$AN$21:AN204),DIEligibility))","v":0},{"$f":"IF(AO205=0,\"\",PercentDI(AO205))","v":""},{"$f":"IF(AO205=0,\"\",DIDECODE(AO205))","v":""},{"$f":"IF(AO205=0,\"\",PDECODE(AO205))","v":""},{"$f":"IF(OR(W205<>\"\",AC205=0),0,LtCTRLIncentive(M205,L205,O205,G205,F205,E205,J205,SUM($AI$21:AI205,$AM$21:AM204),SUM($AJ$21:AJ205,$AN$21:AN204),DIEligibility))","v":0},0,0,0,0,0]
[null,{"$f":"ROWS($B$22:B206)-1","v":184},null,null,null,null,null,{"$f":"IF(CType=\"NC\",0,IF($E206=\"\",\"\",WattsPerFixture(E206)))","v":""},"",null,null,null,null,{"$f":"IF($J206=\"\",\"\",WattsPerFixture(J206))","v":""},"",null,null,null,null,"",{"$f":"IF(OR(V206=\"\",COUNTIF($V$21:V206,V206)>1),\"\",ROW())","v":""},"","",0,0,0,0,0,0,0,0,0,0,{"$f":"IF(AK206=0,\"\",IF(AK206=\"X\",1,PercentDI(AK206)))","v":""},{"$f":"IF(AK206=0,\"\",DIDECODE(AK206))","v":""},{"$f":"IF(AK206=0,\"\",PDECODE(AK206))","v":""},{"$f":"IF(OR(W206<>\"\",AND(Y206=0,AB206=0)),0,LtIncentive(E206,F206,J206,L206,N206,K206,AE206,SUM($AI$21:AI205,$AM$21:AM205),SUM($AJ$21:AJ205,$AN$21:AN205),DIEligibility))","v":0},{"$f":"IF(AO206=0,\"\",PercentDI(AO206))","v":""},{"$f":"IF(AO206=0,\"\",DIDECODE(AO206))","v":""},{"$f":"IF(AO206=0,\"\",PDECODE(AO206))","v":""},{"$f":"IF(OR(W206<>\"\",AC206=0),0,LtCTRLIncentive(M206,L206,O206,G206,F206,E206,J206,SUM($AI$21:AI206,$AM$21:AM205),SUM($AJ$21:AJ206,$AN$21:AN205),DIEligibility))","v":0},0,0,0,0,0]
[null,{"$f":"ROWS($B$22:B207)-1","v":185},null,null,null,null,null,{"$f":"IF(CType=\"NC\",0,IF($E207=\"\",\"\",WattsPerFixture(E207)))","v":""},"",null,null,null,null,{"$f":"IF($J207=\"\",\"\",WattsPerFixture(J207))","v":""},"",null,null,null,null,"",{"$f":"IF(OR(V207=\"\",COUNTIF($V$21:V207,V207)>1),\"\",ROW())","v":""},"","",0,0,0,0,0,0,0,0,0,0,{"$f":"IF(AK207=0,\"\",IF(AK207=\"X\",1,PercentDI(AK207)))","v":""},{"$f":"IF(AK207=0,\"\",DIDECODE(AK207))","v":""},{"$f":"IF(AK207=0,\"\",PDECODE(AK207))","v":""},{"$f":"IF(OR(W207<>\"\",AND(Y207=0,AB207=0)),0,LtIncentive(E207,F207,J207,L207,N207,K207,AE207,SUM($AI$21:AI206,$AM$21:AM206),SUM($AJ$21:AJ206,$AN$21:AN206),DIEligibility))","v":0},{"$f":"IF(AO207=0,\"\",PercentDI(AO207))","v":""},{"$f":"IF(AO207=0,\"\",DIDECODE(AO207))","v":""},{"$f":"IF(AO207=0,\"\",PDECODE(AO207))","v":""},{"$f":"IF(OR(W207<>\"\",AC207=0),0,LtCTRLIncentive(M207,L207,O207,G207,F207,E207,J207,SUM($AI$21:AI207,$AM$21:AM206),SUM($AJ$21:AJ207,$AN$21:AN206),DIEligibility))","v":0},0,0,0,0,0]
[null,{"$f":"ROWS($B$22:B208)-1","v":186},null,null,null,null,null,{"$f":"IF(CType=\"NC\",0,IF($E208=\"\",\"\",WattsPerFixture(E208)))","v":""},"",null,null,null,null,{"$f":"IF($J208=\"\",\"\",WattsPerFixture(J208))","v":""},"",null,null,null,null,"",{"$f":"IF(OR(V208=\"\",COUNTIF($V$21:V208,V208)>1),\"\",ROW())","v":""},"","",0,0,0,0,0,0,0,0,0,0,{"$f":"IF(AK208=0,\"\",IF(AK208=\"X\",1,PercentDI(AK208)))","v":""},{"$f":"IF(AK208=0,\"\",DIDECODE(AK208))","v":""},{"$f":"IF(AK208=0,\"\",PDECODE(AK208))","v":""},{"$f":"IF(OR(W208<>\"\",AND(Y208=0,AB208=0)),0,LtIncentive(E208,F208,J208,L208,N208,K208,AE208,SUM($AI$21:AI207,$AM$21:AM207),SUM($AJ$21:AJ207,$AN$21:AN207),DIEligibility))","v":0},{"$f":"IF(AO208=0,\"\",PercentDI(AO208))","v":""},{"$f":"IF(AO208=0,\"\",DIDECODE(AO208))","v":""},{"$f":"IF(AO208=0,\"\",PDECODE(AO208))","v":""},{"$f":"IF(OR(W208<>\"\",AC208=0),0,LtCTRLIncentive(M208,L208,O208,G208,F208,E208,J208,SUM($AI$21:AI208,$AM$21:AM207),SUM($AJ$21:AJ208,$AN$21:AN207),DIEligibility))","v":0},0,0,0,0,0]
[null,{"$f":"ROWS($B$22:B209)-1","v":187},null,null,null,null,null,{"$f":"IF(CType=\"NC\",0,IF($E209=\"\",\"\",WattsPerFixture(E209)))","v":""},"",null,null,null,null,{"$f":"IF($J209=\"\",\"\",WattsPerFixture(J209))","v":""},"",null,null,null,null,"",{"$f":"IF(OR(V209=\"\",COUNTIF($V$21:V209,V209)>1),\"\",ROW())","v":""},"","",0,0,0,0,0,0,0,0,0,0,{"$f":"IF(AK209=0,\"\",IF(AK209=\"X\",1,PercentDI(AK209)))","v":""},{"$f":"IF(AK209=0,\"\",DIDECODE(AK209))","v":""},{"$f":"IF(AK209=0,\"\",PDECODE(AK209))","v":""},{"$f":"IF(OR(W209<>\"\",AND(Y209=0,AB209=0)),0,LtIncentive(E209,F209,J209,L209,N209,K209,AE209,SUM($AI$21:AI208,$AM$21:AM208),SUM($AJ$21:AJ208,$AN$21:AN208),DIEligibility))","v":0},{"$f":"IF(AO209=0,\"\",PercentDI(AO209))","v":""},{"$f":"IF(AO209=0,\"\",DIDECODE(AO209))","v":""},{"$f":"IF(AO209=0,\"\",PDECODE(AO209))","v":""},{"$f":"IF(OR(W209<>\"\",AC209=0),0,LtCTRLIncentive(M209,L209,O209,G209,F209,E209,J209,SUM($AI$21:AI209,$AM$21:AM208),SUM($AJ$21:AJ209,$AN$21:AN208),DIEligibility))","v":0},0,0,0,0,0]
[null,{"$f":"ROWS($B$22:B210)-1","v":188},null,null,null,null,null,{"$f":"IF(CType=\"NC\",0,IF($E210=\"\",\"\",WattsPerFixture(E210)))","v":""},"",null,null,null,null,{"$f":"IF($J210=\"\",\"\",WattsPerFixture(J210))","v":""},"",null,null,null,null,"",{"$f":"IF(OR(V210=\"\",COUNTIF($V$21:V210,V210)>1),\"\",ROW())","v":""},"","",0,0,0,0,0,0,0,0,0,0,{"$f":"IF(AK210=0,\"\",IF(AK210=\"X\",1,PercentDI(AK210)))","v":""},{"$f":"IF(AK210=0,\"\",DIDECODE(AK210))","v":""},{"$f":"IF(AK210=0,\"\",PDECODE(AK210))","v":""},{"$f":"IF(OR(W210<>\"\",AND(Y210=0,AB210=0)),0,LtIncentive(E210,F210,J210,L210,N210,K210,AE210,SUM($AI$21:AI209,$AM$21:AM209),SUM($AJ$21:AJ209,$AN$21:AN209),DIEligibility))","v":0},{"$f":"IF(AO210=0,\"\",PercentDI(AO210))","v":""},{"$f":"IF(AO210=0,\"\",DIDECODE(AO210))","v":""},{"$f":"IF(AO210=0,\"\",PDECODE(AO210))","v":""},{"$f":"IF(OR(W210<>\"\",AC210=0),0,LtCTRLIncentive(M210,L210,O210,G210,F210,E210,J210,SUM($AI$21:AI210,$AM$21:AM209),SUM($AJ$21:AJ210,$AN$21:AN209),DIEligibility))","v":0},0,0,0,0,0]
[null,{"$f":"ROWS($B$22:B211)-1","v":189},null,null,null,null,null,{"$f":"IF(CType=\"NC\",0,IF($E211=\"\",\"\",WattsPerFixture(E211)))","v":""},"",null,null,null,null,{"$f":"IF($J211=\"\",\"\",WattsPerFixture(J211))","v":""},"",null,null,null,null,"",{"$f":"IF(OR(V211=\"\",COUNTIF($V$21:V211,V211)>1),\"\",ROW())","v":""},"","",0,0,0,0,0,0,0,0,0,0,{"$f":"IF(AK211=0,\"\",IF(AK211=\"X\",1,PercentDI(AK211)))","v":""},{"$f":"IF(AK211=0,\"\",DIDECODE(AK211))","v":""},{"$f":"IF(AK211=0,\"\",PDECODE(AK211))","v":""},{"$f":"IF(OR(W211<>\"\",AND(Y211=0,AB211=0)),0,LtIncentive(E211,F211,J211,L211,N211,K211,AE211,SUM($AI$21:AI210,$AM$21:AM210),SUM($AJ$21:AJ210,$AN$21:AN210),DIEligibility))","v":0},{"$f":"IF(AO211=0,\"\",PercentDI(AO211))","v":""},{"$f":"IF(AO211=0,\"\",DIDECODE(AO211))","v":""},{"$f":"IF(AO211=0,\"\",PDECODE(AO211))","v":""},{"$f":"IF(OR(W211<>\"\",AC211=0),0,LtCTRLIncentive(M211,L211,O211,G211,F211,E211,J211,SUM($AI$21:AI211,$AM$21:AM210),SUM($AJ$21:AJ211,$AN$21:AN210),DIEligibility))","v":0},0,0,0,0,0]
[null,{"$f":"ROWS($B$22:B212)-1","v":190},null,null,null,null,null,{"$f":"IF(CType=\"NC\",0,IF($E212=\"\",\"\",WattsPerFixture(E212)))","v":""},"",null,null,null,null,{"$f":"IF($J212=\"\",\"\",WattsPerFixture(J212))","v":""},"",null,null,null,null,"",{"$f":"IF(OR(V212=\"\",COUNTIF($V$21:V212,V212)>1),\"\",ROW())","v":""},"","",0,0,0,0,0,0,0,0,0,0,{"$f":"IF(AK212=0,\"\",IF(AK212=\"X\",1,PercentDI(AK212)))","v":""},{"$f":"IF(AK212=0,\"\",DIDECODE(AK212))","v":""},{"$f":"IF(AK212=0,\"\",PDECODE(AK212))","v":""},{"$f":"IF(OR(W212<>\"\",AND(Y212=0,AB212=0)),0,LtIncentive(E212,F212,J212,L212,N212,K212,AE212,SUM($AI$21:AI211,$AM$21:AM211),SUM($AJ$21:AJ211,$AN$21:AN211),DIEligibility))","v":0},{"$f":"IF(AO212=0,\"\",PercentDI(AO212))","v":""},{"$f":"IF(AO212=0,\"\",DIDECODE(AO212))","v":""},{"$f":"IF(AO212=0,\"\",PDECODE(AO212))","v":""},{"$f":"IF(OR(W212<>\"\",AC212=0),0,LtCTRLIncentive(M212,L212,O212,G212,F212,E212,J212,SUM($AI$21:AI212,$AM$21:AM211),SUM($AJ$21:AJ212,$AN$21:AN211),DIEligibility))","v":0},0,0,0,0,0]
[null,{"$f":"ROWS($B$22:B213)-1","v":191},null,null,null,null,null,{"$f":"IF(CType=\"NC\",0,IF($E213=\"\",\"\",WattsPerFixture(E213)))","v":""},"",null,null,null,null,{"$f":"IF($J213=\"\",\"\",WattsPerFixture(J213))","v":""},"",null,null,null,null,"",{"$f":"IF(OR(V213=\"\",COUNTIF($V$21:V213,V213)>1),\"\",ROW())","v":""},"","",0,0,0,0,0,0,0,0,0,0,{"$f":"IF(AK213=0,\"\",IF(AK213=\"X\",1,PercentDI(AK213)))","v":""},{"$f":"IF(AK213=0,\"\",DIDECODE(AK213))","v":""},{"$f":"IF(AK213=0,\"\",PDECODE(AK213))","v":""},{"$f":"IF(OR(W213<>\"\",AND(Y213=0,AB213=0)),0,LtIncentive(E213,F213,J213,L213,N213,K213,AE213,SUM($AI$21:AI212,$AM$21:AM212),SUM($AJ$21:AJ212,$AN$21:AN212),DIEligibility))","v":0},{"$f":"IF(AO213=0,\"\",PercentDI(AO213))","v":""},{"$f":"IF(AO213=0,\"\",DIDECODE(AO213))","v":""},{"$f":"IF(AO213=0,\"\",PDECODE(AO213))","v":""},{"$f":"IF(OR(W213<>\"\",AC213=0),0,LtCTRLIncentive(M213,L213,O213,G213,F213,E213,J213,SUM($AI$21:AI213,$AM$21:AM212),SUM($AJ$21:AJ213,$AN$21:AN212),DIEligibility))","v":0},0,0,0,0,0]
[null,{"$f":"ROWS($B$22:B214)-1","v":192},null,null,null,null,null,{"$f":"IF(CType=\"NC\",0,IF($E214=\"\",\"\",WattsPerFixture(E214)))","v":""},"",null,null,null,null,{"$f":"IF($J214=\"\",\"\",WattsPerFixture(J214))","v":""},"",null,null,null,null,"",{"$f":"IF(OR(V214=\"\",COUNTIF($V$21:V214,V214)>1),\"\",ROW())","v":""},"","",{"$f":"IF(OR($C214=\"\",$W$19=\"\"),0,HLOOKUP($C214,$W$11:$AB$12,2,0))","v":0},0,{"$f":"$X214*$Y214","v":0},0,0,{"$f":"$X214*$AB214","v":0},0,0,{"$f":"$Z214-$AC214","v":0},0,{"$f":"IF(AK214=0,\"\",IF(AK214=\"X\",1,PercentDI(AK214)))","v":""},{"$f":"IF(AK214=0,\"\",DIDECODE(AK214))","v":""},{"$f":"IF(AK214=0,\"\",PDECODE(AK214))","v":""},{"$f":"IF(OR(W214<>\"\",AND(Y214=0,AB214=0)),0,LtIncentive(E214,F214,J214,L214,N214,K214,AE214,SUM($AI$21:AI213,$AM$21:AM213),SUM($AJ$21:AJ213,$AN$21:AN213),DIEligibility))","v":0},{"$f":"IF(AO214=0,\"\",PercentDI(AO214))","v":""},{"$f":"IF(AO214=0,\"\",DIDECODE(AO214))","v":""},{"$f":"IF(AO214=0,\"\",PDECODE(AO214))","v":""},{"$f":"IF(OR(W214<>\"\",AC214=0),0,LtCTRLIncentive(M214,L214,O214,G214,F214,E214,J214,SUM($AI$21:AI214,$AM$21:AM213),SUM($AJ$21:AJ214,$AN$21:AN213),DIEligibility))","v":0},0,0,0,0,0]
[null,{"$f":"ROWS($B$22:B215)-1","v":193},null,null,null,null,null,{"$f":"IF(CType=\"NC\",0,IF($E215=\"\",\"\",WattsPerFixture(E215)))","v":""},{"$f":"IF(CType=\"NC\",IF(OR(O215=\"\",$O$18=0),\"\",O215/$O$18*AllowedWatts),IF(OR(F215=\"\",H215=\"\"),\"\",H215*F215))","v":""},null,null,null,null,{"$f":"IF($J215=\"\",\"\",WattsPerFixture(J215))","v":""},{"$f":"IF(ISERROR(N215),\"\",IF(OR(L215=\"\",N215=\"\",),\"\",L215*N215))","v":""},null,null,null,null,{"$f":"IF(E215=\"\",\"\",IF(ISERROR(MID(E215,1,FIND(\"-\",E215,FIND(\"-\",E215)+1)-1)),E215,MID(E215,1,FIND(\"-\",E215,FIND(\"-\",E215)+1)-1)))","v":""},{"$f":"IF(OR(V215=\"\",COUNTIF($V$21:V215,V215)>1),\"\",ROW())","v":""},{"$f":"IF(J215=\"\",\"\",IF(ISERROR(MID(J215,1,FIND(\"-\",J215,FIND(\"-\",J215)+1)-1)),J215,MID(J215,1,FIND(\"-\",J215,FIND(\"-\",J215)+1)-1)))","v":""},{"$f":"IF(OR(I215=0,O215=0,AND(COUNTA($C215)+COUNT($I215,$O215)>0,COUNTA($C215)+COUNT($I215,$O215)<>3),ISERROR(I215),ISERROR(O215),IF(C215<>\"\",ISERROR(MATCH(C215,OpSchedules,0)),)),B215,IF(OR(I215<0,O215<0),B215,\"\"))","v":""},0,{"$f":"IF($I215=\"\",0,$I215/1000)","v":0},0,{"$f":"IF(AND(CType=\"R\",G215<>\"\"),-0.31*Z215,0)","v":0},{"$f":"IF($O215=\"\",0,$O215/1000)","v":0},0,{"$f":"IF(M215<>\"\",-0.31*AC215,0)","v":0},{"$f":"$Y215-$AB215","v":0},0,{"$f":"AA215-AD215","v":0},{"$f":"IF(AK215=0,\"\",IF(AK215=\"X\",1,PercentDI(AK215)))","v":""},{"$f":"IF(AK215=0,\"\",DIDECODE(AK215))","v":""},{"$f":"IF(AK215=0,\"\",PDECODE(AK215))","v":""},{"$f":"IF(OR(W215<>\"\",AND(Y215=0,AB215=0)),0,LtIncentive(E215,F215,J215,L215,N215,K215,AE215,SUM($AI$21:AI214,$AM$21:AM214),SUM($AJ$21:AJ214,$AN$21:AN214),DIEligibility))","v":0},{"$f":"IF(AO215=0,\"\",PercentDI(AO215))","v":""},{"$f":"IF(AO215=0,\"\",DIDECODE(AO215))","v":""},{"$f":"IF(AO215=0,\"\",PDECODE(AO215))","v":""},{"$f":"IF(OR(W215<>\"\",AC215=0),0,LtCTRLIncentive(M215,L215,O215,G215,F215,E215,J215,SUM($AI$21:AI215,$AM$21:AM214),SUM($AJ$21:AJ215,$AN$21:AN214),DIEligibility))","v":0},{"$f":"IF(SUM(AI215:AK215,AM215:AO215)<=0,0,1)","v":0},{"$f":"$AP215*Y215","v":0},{"$f":"$AP215*Z215","v":0},{"$f":"$AP215*AB215","v":0},{"$f":"$AP215*AC215","v":0}]
[null,{"$f":"ROWS($B$22:B216)-1","v":194},null,null,null,null,null,{"$f":"IF(CType=\"NC\",0,IF($E216=\"\",\"\",WattsPerFixture(E216)))","v":""},"",null,null,null,null,{"$f":"IF($J216=\"\",\"\",WattsPerFixture(J216))","v":""},"",null,null,null,null,"",{"$f":"IF(OR(V216=\"\",COUNTIF($V$21:V216,V216)>1),\"\",ROW())","v":""},"","",0,0,0,0,0,0,0,0,0,0,{"$f":"IF(AK216=0,\"\",IF(AK216=\"X\",1,PercentDI(AK216)))","v":""},{"$f":"IF(AK216=0,\"\",DIDECODE(AK216))","v":""},{"$f":"IF(AK216=0,\"\",PDECODE(AK216))","v":""},{"$f":"IF(OR(W216<>\"\",AND(Y216=0,AB216=0)),0,LtIncentive(E216,F216,J216,L216,N216,K216,AE216,SUM($AI$21:AI215,$AM$21:AM215),SUM($AJ$21:AJ215,$AN$21:AN215),DIEligibility))","v":0},{"$f":"IF(AO216=0,\"\",PercentDI(AO216))","v":""},{"$f":"IF(AO216=0,\"\",DIDECODE(AO216))","v":""},{"$f":"IF(AO216=0,\"\",PDECODE(AO216))","v":""},{"$f":"IF(OR(W216<>\"\",AC216=0),0,LtCTRLIncentive(M216,L216,O216,G216,F216,E216,J216,SUM($AI$21:AI216,$AM$21:AM215),SUM($AJ$21:AJ216,$AN$21:AN215),DIEligibility))","v":0},0,0,0,0,0]
[null,{"$f":"ROWS($B$22:B217)-1","v":195},null,null,null,null,null,{"$f":"IF(CType=\"NC\",0,IF($E217=\"\",\"\",WattsPerFixture(E217)))","v":""},"",null,null,null,null,{"$f":"IF($J217=\"\",\"\",WattsPerFixture(J217))","v":""},"",null,null,null,null,"",{"$f":"IF(OR(V217=\"\",COUNTIF($V$21:V217,V217)>1),\"\",ROW())","v":""},"","",0,0,0,0,0,0,0,0,0,0,{"$f":"IF(AK217=0,\"\",IF(AK217=\"X\",1,PercentDI(AK217)))","v":""},{"$f":"IF(AK217=0,\"\",DIDECODE(AK217))","v":""},{"$f":"IF(AK217=0,\"\",PDECODE(AK217))","v":""},{"$f":"IF(OR(W217<>\"\",AND(Y217=0,AB217=0)),0,LtIncentive(E217,F217,J217,L217,N217,K217,AE217,SUM($AI$21:AI216,$AM$21:AM216),SUM($AJ$21:AJ216,$AN$21:AN216),DIEligibility))","v":0},{"$f":"IF(AO217=0,\"\",PercentDI(AO217))","v":""},{"$f":"IF(AO217=0,\"\",DIDECODE(AO217))","v":""},{"$f":"IF(AO217=0,\"\",PDECODE(AO217))","v":""},{"$f":"IF(OR(W217<>\"\",AC217=0),0,LtCTRLIncentive(M217,L217,O217,G217,F217,E217,J217,SUM($AI$21:AI217,$AM$21:AM216),SUM($AJ$21:AJ217,$AN$21:AN216),DIEligibility))","v":0},0,0,0,0,0]
[null,{"$f":"ROWS($B$22:B218)-1","v":196},null,null,null,null,null,{"$f":"IF(CType=\"NC\",0,IF($E218=\"\",\"\",WattsPerFixture(E218)))","v":""},"",null,null,null,null,{"$f":"IF($J218=\"\",\"\",WattsPerFixture(J218))","v":""},"",null,null,null,null,"",{"$f":"IF(OR(V218=\"\",COUNTIF($V$21:V218,V218)>1),\"\",ROW())","v":""},"","",0,0,0,0,0,0,0,0,0,0,{"$f":"IF(AK218=0,\"\",IF(AK218=\"X\",1,PercentDI(AK218)))","v":""},{"$f":"IF(AK218=0,\"\",DIDECODE(AK218))","v":""},{"$f":"IF(AK218=0,\"\",PDECODE(AK218))","v":""},{"$f":"IF(OR(W218<>\"\",AND(Y218=0,AB218=0)),0,LtIncentive(E218,F218,J218,L218,N218,K218,AE218,SUM($AI$21:AI217,$AM$21:AM217),SUM($AJ$21:AJ217,$AN$21:AN217),DIEligibility))","v":0},{"$f":"IF(AO218=0,\"\",PercentDI(AO218))","v":""},{"$f":"IF(AO218=0,\"\",DIDECODE(AO218))","v":""},{"$f":"IF(AO218=0,\"\",PDECODE(AO218))","v":""},{"$f":"IF(OR(W218<>\"\",AC218=0),0,LtCTRLIncentive(M218,L218,O218,G218,F218,E218,J218,SUM($AI$21:AI218,$AM$21:AM217),SUM($AJ$21:AJ218,$AN$21:AN217),DIEligibility))","v":0},0,0,0,0,0]
[null,{"$f":"ROWS($B$22:B219)-1","v":197},null,null,null,null,null,{"$f":"IF(CType=\"NC\",0,IF($E219=\"\",\"\",WattsPerFixture(E219)))","v":""},"",null,null,null,null,{"$f":"IF($J219=\"\",\"\",WattsPerFixture(J219))","v":""},"",null,null,null,null,"",{"$f":"IF(OR(V219=\"\",COUNTIF($V$21:V219,V219)>1),\"\",ROW())","v":""},"","",0,0,0,0,0,0,0,0,0,0,{"$f":"IF(AK219=0,\"\",IF(AK219=\"X\",1,PercentDI(AK219)))","v":""},{"$f":"IF(AK219=0,\"\",DIDECODE(AK219))","v":""},{"$f":"IF(AK219=0,\"\",PDECODE(AK219))","v":""},{"$f":"IF(OR(W219<>\"\",AND(Y219=0,AB219=0)),0,LtIncentive(E219,F219,J219,L219,N219,K219,AE219,SUM($AI$21:AI218,$AM$21:AM218),SUM($AJ$21:AJ218,$AN$21:AN218),DIEligibility))","v":0},{"$f":"IF(AO219=0,\"\",PercentDI(AO219))","v":""},{"$f":"IF(AO219=0,\"\",DIDECODE(AO219))","v":""},{"$f":"IF(AO219=0,\"\",PDECODE(AO219))","v":""},{"$f":"IF(OR(W219<>\"\",AC219=0),0,LtCTRLIncentive(M219,L219,O219,G219,F219,E219,J219,SUM($AI$21:AI219,$AM$21:AM218),SUM($AJ$21:AJ219,$AN$21:AN218),DIEligibility))","v":0},0,0,0,0,0]
[null,{"$f":"ROWS($B$22:B220)-1","v":198},null,null,null,null,null,{"$f":"IF(CType=\"NC\",0,IF($E220=\"\",\"\",WattsPerFixture(E220)))","v":""},"",null,null,null,null,{"$f":"IF($J220=\"\",\"\",WattsPerFixture(J220))","v":""},"",null,null,null,null,"",{"$f":"IF(OR(V220=\"\",COUNTIF($V$21:V220,V220)>1),\"\",ROW())","v":""},"","",0,0,0,0,0,0,0,0,0,0,{"$f":"IF(AK220=0,\"\",IF(AK220=\"X\",1,PercentDI(AK220)))","v":""},{"$f":"IF(AK220=0,\"\",DIDECODE(AK220))","v":""},{"$f":"IF(AK220=0,\"\",PDECODE(AK220))","v":""},{"$f":"IF(OR(W220<>\"\",AND(Y220=0,AB220=0)),0,LtIncentive(E220,F220,J220,L220,N220,K220,AE220,SUM($AI$21:AI219,$AM$21:AM219),SUM($AJ$21:AJ219,$AN$21:AN219),DIEligibility))","v":0},{"$f":"IF(AO220=0,\"\",PercentDI(AO220))","v":""},{"$f":"IF(AO220=0,\"\",DIDECODE(AO220))","v":""},{"$f":"IF(AO220=0,\"\",PDECODE(AO220))","v":""},{"$f":"IF(OR(W220<>\"\",AC220=0),0,LtCTRLIncentive(M220,L220,O220,G220,F220,E220,J220,SUM($AI$21:AI220,$AM$21:AM219),SUM($AJ$21:AJ220,$AN$21:AN219),DIEligibility))","v":0},0,0,0,0,0]
[null,{"$f":"ROWS($B$22:B221)-1","v":199},null,null,null,null,null,{"$f":"IF(CType=\"NC\",0,IF($E221=\"\",\"\",WattsPerFixture(E221)))","v":""},"",null,null,null,null,{"$f":"IF($J221=\"\",\"\",WattsPerFixture(J221))","v":""},"",null,null,null,null,"",{"$f":"IF(OR(V221=\"\",COUNTIF($V$21:V221,V221)>1),\"\",ROW())","v":""},"","",0,0,0,0,0,0,0,0,0,0,{"$f":"IF(AK221=0,\"\",IF(AK221=\"X\",1,PercentDI(AK221)))","v":""},{"$f":"IF(AK221=0,\"\",DIDECODE(AK221))","v":""},{"$f":"IF(AK221=0,\"\",PDECODE(AK221))","v":""},{"$f":"IF(OR(W221<>\"\",AND(Y221=0,AB221=0)),0,LtIncentive(E221,F221,J221,L221,N221,K221,AE221,SUM($AI$21:AI220,$AM$21:AM220),SUM($AJ$21:AJ220,$AN$21:AN220),DIEligibility))","v":0},{"$f":"IF(AO221=0,\"\",PercentDI(AO221))","v":""},{"$f":"IF(AO221=0,\"\",DIDECODE(AO221))","v":""},{"$f":"IF(AO221=0,\"\",PDECODE(AO221))","v":""},{"$f":"IF(OR(W221<>\"\",AC221=0),0,LtCTRLIncentive(M221,L221,O221,G221,F221,E221,J221,SUM($AI$21:AI221,$AM$21:AM220),SUM($AJ$21:AJ221,$AN$21:AN220),DIEligibility))","v":0},0,0,0,0,0]
[null,{"$f":"ROWS($B$22:B222)-1","v":200},null,null,null,null,null,{"$f":"IF(CType=\"NC\",0,IF($E222=\"\",\"\",WattsPerFixture(E222)))","v":""},"",null,null,null,null,{"$f":"IF($J222=\"\",\"\",WattsPerFixture(J222))","v":""},"",null,null,null,null,"",{"$f":"IF(OR(V222=\"\",COUNTIF($V$21:V222,V222)>1),\"\",ROW())","v":""},"","",0,0,0,0,0,0,0,0,0,0,{"$f":"IF(AK222=0,\"\",IF(AK222=\"X\",1,PercentDI(AK222)))","v":""},{"$f":"IF(AK222=0,\"\",DIDECODE(AK222))","v":""},{"$f":"IF(AK222=0,\"\",PDECODE(AK222))","v":""},{"$f":"IF(OR(W222<>\"\",AND(Y222=0,AB222=0)),0,LtIncentive(E222,F222,J222,L222,N222,K222,AE222,SUM($AI$21:AI221,$AM$21:AM221),SUM($AJ$21:AJ221,$AN$21:AN221),DIEligibility))","v":0},{"$f":"IF(AO222=0,\"\",PercentDI(AO222))","v":""},{"$f":"IF(AO222=0,\"\",DIDECODE(AO222))","v":""},{"$f":"IF(AO222=0,\"\",PDECODE(AO222))","v":""},{"$f":"IF(OR(W222<>\"\",AC222=0),0,LtCTRLIncentive(M222,L222,O222,G222,F222,E222,J222,SUM($AI$21:AI222,$AM$21:AM221),SUM($AJ$21:AJ222,$AN$21:AN221),DIEligibility))","v":0},0,0,0,0,0]
[null,{"$f":"ROWS($B$22:B223)-1","v":201},null,null,null,null,null,{"$f":"IF(CType=\"NC\",0,IF($E223=\"\",\"\",WattsPerFixture(E223)))","v":""},"",null,null,null,null,{"$f":"IF($J223=\"\",\"\",WattsPerFixture(J223))","v":""},"",null,null,null,null,"",{"$f":"IF(OR(V223=\"\",COUNTIF($V$21:V223,V223)>1),\"\",ROW())","v":""},"","",0,0,0,0,0,0,0,0,0,0,{"$f":"IF(AK223=0,\"\",IF(AK223=\"X\",1,PercentDI(AK223)))","v":""},{"$f":"IF(AK223=0,\"\",DIDECODE(AK223))","v":""},{"$f":"IF(AK223=0,\"\",PDECODE(AK223))","v":""},{"$f":"IF(OR(W223<>\"\",AND(Y223=0,AB223=0)),0,LtIncentive(E223,F223,J223,L223,N223,K223,AE223,SUM($AI$21:AI222,$AM$21:AM222),SUM($AJ$21:AJ222,$AN$21:AN222),DIEligibility))","v":0},{"$f":"IF(AO223=0,\"\",PercentDI(AO223))","v":""},{"$f":"IF(AO223=0,\"\",DIDECODE(AO223))","v":""},{"$f":"IF(AO223=0,\"\",PDECODE(AO223))","v":""},{"$f":"IF(OR(W223<>\"\",AC223=0),0,LtCTRLIncentive(M223,L223,O223,G223,F223,E223,J223,SUM($AI$21:AI223,$AM$21:AM222),SUM($AJ$21:AJ223,$AN$21:AN222),DIEligibility))","v":0},0,0,0,0,0]
[null,{"$f":"ROWS($B$22:B224)-1","v":202},null,null,null,null,null,{"$f":"IF(CType=\"NC\",0,IF($E224=\"\",\"\",WattsPerFixture(E224)))","v":""},"",null,null,null,null,{"$f":"IF($J224=\"\",\"\",WattsPerFixture(J224))","v":""},"",null,null,null,null,"",{"$f":"IF(OR(V224=\"\",COUNTIF($V$21:V224,V224)>1),\"\",ROW())","v":""},"","",0,0,0,0,0,0,0,0,0,0,{"$f":"IF(AK224=0,\"\",IF(AK224=\"X\",1,PercentDI(AK224)))","v":""},{"$f":"IF(AK224=0,\"\",DIDECODE(AK224))","v":""},{"$f":"IF(AK224=0,\"\",PDECODE(AK224))","v":""},{"$f":"IF(OR(W224<>\"\",AND(Y224=0,AB224=0)),0,LtIncentive(E224,F224,J224,L224,N224,K224,AE224,SUM($AI$21:AI223,$AM$21:AM223),SUM($AJ$21:AJ223,$AN$21:AN223),DIEligibility))","v":0},{"$f":"IF(AO224=0,\"\",PercentDI(AO224))","v":""},{"$f":"IF(AO224=0,\"\",DIDECODE(AO224))","v":""},{"$f":"IF(AO224=0,\"\",PDECODE(AO224))","v":""},{"$f":"IF(OR(W224<>\"\",AC224=0),0,LtCTRLIncentive(M224,L224,O224,G224,F224,E224,J224,SUM($AI$21:AI224,$AM$21:AM223),SUM($AJ$21:AJ224,$AN$21:AN223),DIEligibility))","v":0},0,0,0,0,0]
[null,{"$f":"ROWS($B$22:B225)-1","v":203},null,null,null,null,null,{"$f":"IF(CType=\"NC\",0,IF($E225=\"\",\"\",WattsPerFixture(E225)))","v":""},"",null,null,null,null,{"$f":"IF($J225=\"\",\"\",WattsPerFixture(J225))","v":""},"",null,null,null,null,"",{"$f":"IF(OR(V225=\"\",COUNTIF($V$21:V225,V225)>1),\"\",ROW())","v":""},"","",0,0,0,0,0,0,0,0,0,0,{"$f":"IF(AK225=0,\"\",IF(AK225=\"X\",1,PercentDI(AK225)))","v":""},{"$f":"IF(AK225=0,\"\",DIDECODE(AK225))","v":""},{"$f":"IF(AK225=0,\"\",PDECODE(AK225))","v":""},{"$f":"IF(OR(W225<>\"\",AND(Y225=0,AB225=0)),0,LtIncentive(E225,F225,J225,L225,N225,K225,AE225,SUM($AI$21:AI224,$AM$21:AM224),SUM($AJ$21:AJ224,$AN$21:AN224),DIEligibility))","v":0},{"$f":"IF(AO225=0,\"\",PercentDI(AO225))","v":""},{"$f":"IF(AO225=0,\"\",DIDECODE(AO225))","v":""},{"$f":"IF(AO225=0,\"\",PDECODE(AO225))","v":""},{"$f":"IF(OR(W225<>\"\",AC225=0),0,LtCTRLIncentive(M225,L225,O225,G225,F225,E225,J225,SUM($AI$21:AI225,$AM$21:AM224),SUM($AJ$21:AJ225,$AN$21:AN224),DIEligibility))","v":0},0,0,0,0,0]
[null,{"$f":"ROWS($B$22:B226)-1","v":204},null,null,null,null,null,{"$f":"IF(CType=\"NC\",0,IF($E226=\"\",\"\",WattsPerFixture(E226)))","v":""},"",null,null,null,null,{"$f":"IF($J226=\"\",\"\",WattsPerFixture(J226))","v":""},"",null,null,null,null,"",{"$f":"IF(OR(V226=\"\",COUNTIF($V$21:V226,V226)>1),\"\",ROW())","v":""},"","",0,0,0,0,0,0,0,0,0,0,{"$f":"IF(AK226=0,\"\",IF(AK226=\"X\",1,PercentDI(AK226)))","v":""},{"$f":"IF(AK226=0,\"\",DIDECODE(AK226))","v":""},{"$f":"IF(AK226=0,\"\",PDECODE(AK226))","v":""},{"$f":"IF(OR(W226<>\"\",AND(Y226=0,AB226=0)),0,LtIncentive(E226,F226,J226,L226,N226,K226,AE226,SUM($AI$21:AI225,$AM$21:AM225),SUM($AJ$21:AJ225,$AN$21:AN225),DIEligibility))","v":0},{"$f":"IF(AO226=0,\"\",PercentDI(AO226))","v":""},{"$f":"IF(AO226=0,\"\",DIDECODE(AO226))","v":""},{"$f":"IF(AO226=0,\"\",PDECODE(AO226))","v":""},{"$f":"IF(OR(W226<>\"\",AC226=0),0,LtCTRLIncentive(M226,L226,O226,G226,F226,E226,J226,SUM($AI$21:AI226,$AM$21:AM225),SUM($AJ$21:AJ226,$AN$21:AN225),DIEligibility))","v":0},0,0,0,0,0]
[null,{"$f":"ROWS($B$22:B227)-1","v":205},null,null,null,null,null,{"$f":"IF(CType=\"NC\",0,IF($E227=\"\",\"\",WattsPerFixture(E227)))","v":""},"",null,null,null,null,{"$f":"IF($J227=\"\",\"\",WattsPerFixture(J227))","v":""},"",null,null,null,null,"",{"$f":"IF(OR(V227=\"\",COUNTIF($V$21:V227,V227)>1),\"\",ROW())","v":""},"","",0,0,0,0,0,0,0,0,0,0,{"$f":"IF(AK227=0,\"\",IF(AK227=\"X\",1,PercentDI(AK227)))","v":""},{"$f":"IF(AK227=0,\"\",DIDECODE(AK227))","v":""},{"$f":"IF(AK227=0,\"\",PDECODE(AK227))","v":""},{"$f":"IF(OR(W227<>\"\",AND(Y227=0,AB227=0)),0,LtIncentive(E227,F227,J227,L227,N227,K227,AE227,SUM($AI$21:AI226,$AM$21:AM226),SUM($AJ$21:AJ226,$AN$21:AN226),DIEligibility))","v":0},{"$f":"IF(AO227=0,\"\",PercentDI(AO227))","v":""},{"$f":"IF(AO227=0,\"\",DIDECODE(AO227))","v":""},{"$f":"IF(AO227=0,\"\",PDECODE(AO227))","v":""},{"$f":"IF(OR(W227<>\"\",AC227=0),0,LtCTRLIncentive(M227,L227,O227,G227,F227,E227,J227,SUM($AI$21:AI227,$AM$21:AM226),SUM($AJ$21:AJ227,$AN$21:AN226),DIEligibility))","v":0},0,0,0,0,0]
[null,{"$f":"ROWS($B$22:B228)-1","v":206},null,null,null,null,null,{"$f":"IF(CType=\"NC\",0,IF($E228=\"\",\"\",WattsPerFixture(E228)))","v":""},"",null,null,null,null,{"$f":"IF($J228=\"\",\"\",WattsPerFixture(J228))","v":""},"",null,null,null,null,"",{"$f":"IF(OR(V228=\"\",COUNTIF($V$21:V228,V228)>1),\"\",ROW())","v":""},"","",0,0,0,0,0,0,0,0,0,0,{"$f":"IF(AK228=0,\"\",IF(AK228=\"X\",1,PercentDI(AK228)))","v":""},{"$f":"IF(AK228=0,\"\",DIDECODE(AK228))","v":""},{"$f":"IF(AK228=0,\"\",PDECODE(AK228))","v":""},{"$f":"IF(OR(W228<>\"\",AND(Y228=0,AB228=0)),0,LtIncentive(E228,F228,J228,L228,N228,K228,AE228,SUM($AI$21:AI227,$AM$21:AM227),SUM($AJ$21:AJ227,$AN$21:AN227),DIEligibility))","v":0},{"$f":"IF(AO228=0,\"\",PercentDI(AO228))","v":""},{"$f":"IF(AO228=0,\"\",DIDECODE(AO228))","v":""},{"$f":"IF(AO228=0,\"\",PDECODE(AO228))","v":""},{"$f":"IF(OR(W228<>\"\",AC228=0),0,LtCTRLIncentive(M228,L228,O228,G228,F228,E228,J228,SUM($AI$21:AI228,$AM$21:AM227),SUM($AJ$21:AJ228,$AN$21:AN227),DIEligibility))","v":0},0,0,0,0,0]
[null,{"$f":"ROWS($B$22:B229)-1","v":207},null,null,null,null,null,{"$f":"IF(CType=\"NC\",0,IF($E229=\"\",\"\",WattsPerFixture(E229)))","v":""},"",null,null,null,null,{"$f":"IF($J229=\"\",\"\",WattsPerFixture(J229))","v":""},"",null,null,null,null,"",{"$f":"IF(OR(V229=\"\",COUNTIF($V$21:V229,V229)>1),\"\",ROW())","v":""},"","",0,0,0,0,0,0,0,0,0,0,{"$f":"IF(AK229=0,\"\",IF(AK229=\"X\",1,PercentDI(AK229)))","v":""},{"$f":"IF(AK229=0,\"\",DIDECODE(AK229))","v":""},{"$f":"IF(AK229=0,\"\",PDECODE(AK229))","v":""},{"$f":"IF(OR(W229<>\"\",AND(Y229=0,AB229=0)),0,LtIncentive(E229,F229,J229,L229,N229,K229,AE229,SUM($AI$21:AI228,$AM$21:AM228),SUM($AJ$21:AJ228,$AN$21:AN228),DIEligibility))","v":0},{"$f":"IF(AO229=0,\"\",PercentDI(AO229))","v":""},{"$f":"IF(AO229=0,\"\",DIDECODE(AO229))","v":""},{"$f":"IF(AO229=0,\"\",PDECODE(AO229))","v":""},{"$f":"IF(OR(W229<>\"\",AC229=0),0,LtCTRLIncentive(M229,L229,O229,G229,F229,E229,J229,SUM($AI$21:AI229,$AM$21:AM228),SUM($AJ$21:AJ229,$AN$21:AN228),DIEligibility))","v":0},0,0,0,0,0]
[null,{"$f":"ROWS($B$22:B230)-1","v":208},null,null,null,null,null,{"$f":"IF(CType=\"NC\",0,IF($E230=\"\",\"\",WattsPerFixture(E230)))","v":""},"",null,null,null,null,{"$f":"IF($J230=\"\",\"\",WattsPerFixture(J230))","v":""},"",null,null,null,null,"",{"$f":"IF(OR(V230=\"\",COUNTIF($V$21:V230,V230)>1),\"\",ROW())","v":""},"","",0,0,0,0,0,0,0,0,0,0,{"$f":"IF(AK230=0,\"\",IF(AK230=\"X\",1,PercentDI(AK230)))","v":""},{"$f":"IF(AK230=0,\"\",DIDECODE(AK230))","v":""},{"$f":"IF(AK230=0,\"\",PDECODE(AK230))","v":""},{"$f":"IF(OR(W230<>\"\",AND(Y230=0,AB230=0)),0,LtIncentive(E230,F230,J230,L230,N230,K230,AE230,SUM($AI$21:AI229,$AM$21:AM229),SUM($AJ$21:AJ229,$AN$21:AN229),DIEligibility))","v":0},{"$f":"IF(AO230=0,\"\",PercentDI(AO230))","v":""},{"$f":"IF(AO230=0,\"\",DIDECODE(AO230))","v":""},{"$f":"IF(AO230=0,\"\",PDECODE(AO230))","v":""},{"$f":"IF(OR(W230<>\"\",AC230=0),0,LtCTRLIncentive(M230,L230,O230,G230,F230,E230,J230,SUM($AI$21:AI230,$AM$21:AM229),SUM($AJ$21:AJ230,$AN$21:AN229),DIEligibility))","v":0},0,0,0,0,0]
[null,{"$f":"ROWS($B$22:B231)-1","v":209},null,null,null,null,null,{"$f":"IF(CType=\"NC\",0,IF($E231=\"\",\"\",WattsPerFixture(E231)))","v":""},"",null,null,null,null,{"$f":"IF($J231=\"\",\"\",WattsPerFixture(J231))","v":""},"",null,null,null,null,"",{"$f":"IF(OR(V231=\"\",COUNTIF($V$21:V231,V231)>1),\"\",ROW())","v":""},"","",0,0,0,0,0,0,0,0,0,0,{"$f":"IF(AK231=0,\"\",IF(AK231=\"X\",1,PercentDI(AK231)))","v":""},{"$f":"IF(AK231=0,\"\",DIDECODE(AK231))","v":""},{"$f":"IF(AK231=0,\"\",PDECODE(AK231))","v":""},{"$f":"IF(OR(W231<>\"\",AND(Y231=0,AB231=0)),0,LtIncentive(E231,F231,J231,L231,N231,K231,AE231,SUM($AI$21:AI230,$AM$21:AM230),SUM($AJ$21:AJ230,$AN$21:AN230),DIEligibility))","v":0},{"$f":"IF(AO231=0,\"\",PercentDI(AO231))","v":""},{"$f":"IF(AO231=0,\"\",DIDECODE(AO231))","v":""},{"$f":"IF(AO231=0,\"\",PDECODE(AO231))","v":""},{"$f":"IF(OR(W231<>\"\",AC231=0),0,LtCTRLIncentive(M231,L231,O231,G231,F231,E231,J231,SUM($AI$21:AI231,$AM$21:AM230),SUM($AJ$21:AJ231,$AN$21:AN230),DIEligibility))","v":0},0,0,0,0,0]
[null,{"$f":"ROWS($B$22:B232)-1","v":210},null,null,null,null,null,{"$f":"IF(CType=\"NC\",0,IF($E232=\"\",\"\",WattsPerFixture(E232)))","v":""},"",null,null,null,null,{"$f":"IF($J232=\"\",\"\",WattsPerFixture(J232))","v":""},"",null,null,null,null,"",{"$f":"IF(OR(V232=\"\",COUNTIF($V$21:V232,V232)>1),\"\",ROW())","v":""},"","",0,0,0,0,0,0,0,0,0,0,{"$f":"IF(AK232=0,\"\",IF(AK232=\"X\",1,PercentDI(AK232)))","v":""},{"$f":"IF(AK232=0,\"\",DIDECODE(AK232))","v":""},{"$f":"IF(AK232=0,\"\",PDECODE(AK232))","v":""},{"$f":"IF(OR(W232<>\"\",AND(Y232=0,AB232=0)),0,LtIncentive(E232,F232,J232,L232,N232,K232,AE232,SUM($AI$21:AI231,$AM$21:AM231),SUM($AJ$21:AJ231,$AN$21:AN231),DIEligibility))","v":0},{"$f":"IF(AO232=0,\"\",PercentDI(AO232))","v":""},{"$f":"IF(AO232=0,\"\",DIDECODE(AO232))","v":""},{"$f":"IF(AO232=0,\"\",PDECODE(AO232))","v":""},{"$f":"IF(OR(W232<>\"\",AC232=0),0,LtCTRLIncentive(M232,L232,O232,G232,F232,E232,J232,SUM($AI$21:AI232,$AM$21:AM231),SUM($AJ$21:AJ232,$AN$21:AN231),DIEligibility))","v":0},0,0,0,0,0]
[null,{"$f":"ROWS($B$22:B233)-1","v":211},null,null,null,null,null,{"$f":"IF(CType=\"NC\",0,IF($E233=\"\",\"\",WattsPerFixture(E233)))","v":""},"",null,null,null,null,{"$f":"IF($J233=\"\",\"\",WattsPerFixture(J233))","v":""},"",null,null,null,null,"",{"$f":"IF(OR(V233=\"\",COUNTIF($V$21:V233,V233)>1),\"\",ROW())","v":""},"","",0,0,0,0,0,0,0,0,0,0,{"$f":"IF(AK233=0,\"\",IF(AK233=\"X\",1,PercentDI(AK233)))","v":""},{"$f":"IF(AK233=0,\"\",DIDECODE(AK233))","v":""},{"$f":"IF(AK233=0,\"\",PDECODE(AK233))","v":""},{"$f":"IF(OR(W233<>\"\",AND(Y233=0,AB233=0)),0,LtIncentive(E233,F233,J233,L233,N233,K233,AE233,SUM($AI$21:AI232,$AM$21:AM232),SUM($AJ$21:AJ232,$AN$21:AN232),DIEligibility))","v":0},{"$f":"IF(AO233=0,\"\",PercentDI(AO233))","v":""},{"$f":"IF(AO233=0,\"\",DIDECODE(AO233))","v":""},{"$f":"IF(AO233=0,\"\",PDECODE(AO233))","v":""},{"$f":"IF(OR(W233<>\"\",AC233=0),0,LtCTRLIncentive(M233,L233,O233,G233,F233,E233,J233,SUM($AI$21:AI233,$AM$21:AM232),SUM($AJ$21:AJ233,$AN$21:AN232),DIEligibility))","v":0},0,0,0,0,0]
[null,{"$f":"ROWS($B$22:B234)-1","v":212},null,null,null,null,null,{"$f":"IF(CType=\"NC\",0,IF($E234=\"\",\"\",WattsPerFixture(E234)))","v":""},"",null,null,null,null,{"$f":"IF($J234=\"\",\"\",WattsPerFixture(J234))","v":""},"",null,null,null,null,"",{"$f":"IF(OR(V234=\"\",COUNTIF($V$21:V234,V234)>1),\"\",ROW())","v":""},"","",0,0,0,0,0,0,0,0,0,0,{"$f":"IF(AK234=0,\"\",IF(AK234=\"X\",1,PercentDI(AK234)))","v":""},{"$f":"IF(AK234=0,\"\",DIDECODE(AK234))","v":""},{"$f":"IF(AK234=0,\"\",PDECODE(AK234))","v":""},{"$f":"IF(OR(W234<>\"\",AND(Y234=0,AB234=0)),0,LtIncentive(E234,F234,J234,L234,N234,K234,AE234,SUM($AI$21:AI233,$AM$21:AM233),SUM($AJ$21:AJ233,$AN$21:AN233),DIEligibility))","v":0},{"$f":"IF(AO234=0,\"\",PercentDI(AO234))","v":""},{"$f":"IF(AO234=0,\"\",DIDECODE(AO234))","v":""},{"$f":"IF(AO234=0,\"\",PDECODE(AO234))","v":""},{"$f":"IF(OR(W234<>\"\",AC234=0),0,LtCTRLIncentive(M234,L234,O234,G234,F234,E234,J234,SUM($AI$21:AI234,$AM$21:AM233),SUM($AJ$21:AJ234,$AN$21:AN233),DIEligibility))","v":0},0,0,0,0,0]
[null,{"$f":"ROWS($B$22:B235)-1","v":213},null,null,null,null,null,{"$f":"IF(CType=\"NC\",0,IF($E235=\"\",\"\",WattsPerFixture(E235)))","v":""},"",null,null,null,null,{"$f":"IF($J235=\"\",\"\",WattsPerFixture(J235))","v":""},"",null,null,null,null,"",{"$f":"IF(OR(V235=\"\",COUNTIF($V$21:V235,V235)>1),\"\",ROW())","v":""},"","",0,0,0,0,0,0,0,0,0,0,{"$f":"IF(AK235=0,\"\",IF(AK235=\"X\",1,PercentDI(AK235)))","v":""},{"$f":"IF(AK235=0,\"\",DIDECODE(AK235))","v":""},{"$f":"IF(AK235=0,\"\",PDECODE(AK235))","v":""},{"$f":"IF(OR(W235<>\"\",AND(Y235=0,AB235=0)),0,LtIncentive(E235,F235,J235,L235,N235,K235,AE235,SUM($AI$21:AI234,$AM$21:AM234),SUM($AJ$21:AJ234,$AN$21:AN234),DIEligibility))","v":0},{"$f":"IF(AO235=0,\"\",PercentDI(AO235))","v":""},{"$f":"IF(AO235=0,\"\",DIDECODE(AO235))","v":""},{"$f":"IF(AO235=0,\"\",PDECODE(AO235))","v":""},{"$f":"IF(OR(W235<>\"\",AC235=0),0,LtCTRLIncentive(M235,L235,O235,G235,F235,E235,J235,SUM($AI$21:AI235,$AM$21:AM234),SUM($AJ$21:AJ235,$AN$21:AN234),DIEligibility))","v":0},0,0,0,0,0]
[null,{"$f":"ROWS($B$22:B236)-1","v":214},null,null,null,null,null,{"$f":"IF(CType=\"NC\",0,IF($E236=\"\",\"\",WattsPerFixture(E236)))","v":""},"",null,null,null,null,{"$f":"IF($J236=\"\",\"\",WattsPerFixture(J236))","v":""},"",null,null,null,null,"",{"$f":"IF(OR(V236=\"\",COUNTIF($V$21:V236,V236)>1),\"\",ROW())","v":""},"","",0,0,0,0,0,0,0,0,0,0,{"$f":"IF(AK236=0,\"\",IF(AK236=\"X\",1,PercentDI(AK236)))","v":""},{"$f":"IF(AK236=0,\"\",DIDECODE(AK236))","v":""},{"$f":"IF(AK236=0,\"\",PDECODE(AK236))","v":""},{"$f":"IF(OR(W236<>\"\",AND(Y236=0,AB236=0)),0,LtIncentive(E236,F236,J236,L236,N236,K236,AE236,SUM($AI$21:AI235,$AM$21:AM235),SUM($AJ$21:AJ235,$AN$21:AN235),DIEligibility))","v":0},{"$f":"IF(AO236=0,\"\",PercentDI(AO236))","v":""},{"$f":"IF(AO236=0,\"\",DIDECODE(AO236))","v":""},{"$f":"IF(AO236=0,\"\",PDECODE(AO236))","v":""},{"$f":"IF(OR(W236<>\"\",AC236=0),0,LtCTRLIncentive(M236,L236,O236,G236,F236,E236,J236,SUM($AI$21:AI236,$AM$21:AM235),SUM($AJ$21:AJ236,$AN$21:AN235),DIEligibility))","v":0},0,0,0,0,0]
[null,{"$f":"ROWS($B$22:B237)-1","v":215},null,null,null,null,null,{"$f":"IF(CType=\"NC\",0,IF($E237=\"\",\"\",WattsPerFixture(E237)))","v":""},"",null,null,null,null,{"$f":"IF($J237=\"\",\"\",WattsPerFixture(J237))","v":""},"",null,null,null,null,"",{"$f":"IF(OR(V237=\"\",COUNTIF($V$21:V237,V237)>1),\"\",ROW())","v":""},"","",0,0,0,0,0,0,0,0,0,0,{"$f":"IF(AK237=0,\"\",IF(AK237=\"X\",1,PercentDI(AK237)))","v":""},{"$f":"IF(AK237=0,\"\",DIDECODE(AK237))","v":""},{"$f":"IF(AK237=0,\"\",PDECODE(AK237))","v":""},{"$f":"IF(OR(W237<>\"\",AND(Y237=0,AB237=0)),0,LtIncentive(E237,F237,J237,L237,N237,K237,AE237,SUM($AI$21:AI236,$AM$21:AM236),SUM($AJ$21:AJ236,$AN$21:AN236),DIEligibility))","v":0},{"$f":"IF(AO237=0,\"\",PercentDI(AO237))","v":""},{"$f":"IF(AO237=0,\"\",DIDECODE(AO237))","v":""},{"$f":"IF(AO237=0,\"\",PDECODE(AO237))","v":""},{"$f":"IF(OR(W237<>\"\",AC237=0),0,LtCTRLIncentive(M237,L237,O237,G237,F237,E237,J237,SUM($AI$21:AI237,$AM$21:AM236),SUM($AJ$21:AJ237,$AN$21:AN236),DIEligibility))","v":0},0,0,0,0,0]
[null,{"$f":"ROWS($B$22:B238)-1","v":216},null,null,null,null,null,{"$f":"IF(CType=\"NC\",0,IF($E238=\"\",\"\",WattsPerFixture(E238)))","v":""},"",null,null,null,null,{"$f":"IF($J238=\"\",\"\",WattsPerFixture(J238))","v":""},"",null,null,null,null,"",{"$f":"IF(OR(V238=\"\",COUNTIF($V$21:V238,V238)>1),\"\",ROW())","v":""},"","",0,0,0,0,0,0,0,0,0,0,{"$f":"IF(AK238=0,\"\",IF(AK238=\"X\",1,PercentDI(AK238)))","v":""},{"$f":"IF(AK238=0,\"\",DIDECODE(AK238))","v":""},{"$f":"IF(AK238=0,\"\",PDECODE(AK238))","v":""},{"$f":"IF(OR(W238<>\"\",AND(Y238=0,AB238=0)),0,LtIncentive(E238,F238,J238,L238,N238,K238,AE238,SUM($AI$21:AI237,$AM$21:AM237),SUM($AJ$21:AJ237,$AN$21:AN237),DIEligibility))","v":0},{"$f":"IF(AO238=0,\"\",PercentDI(AO238))","v":""},{"$f":"IF(AO238=0,\"\",DIDECODE(AO238))","v":""},{"$f":"IF(AO238=0,\"\",PDECODE(AO238))","v":""},{"$f":"IF(OR(W238<>\"\",AC238=0),0,LtCTRLIncentive(M238,L238,O238,G238,F238,E238,J238,SUM($AI$21:AI238,$AM$21:AM237),SUM($AJ$21:AJ238,$AN$21:AN237),DIEligibility))","v":0},0,0,0,0,0]
[null,{"$f":"ROWS($B$22:B239)-1","v":217},null,null,null,null,null,{"$f":"IF(CType=\"NC\",0,IF($E239=\"\",\"\",WattsPerFixture(E239)))","v":""},"",null,null,null,null,{"$f":"IF($J239=\"\",\"\",WattsPerFixture(J239))","v":""},"",null,null,null,null,"",{"$f":"IF(OR(V239=\"\",COUNTIF($V$21:V239,V239)>1),\"\",ROW())","v":""},"","",0,0,0,0,0,0,0,0,0,0,{"$f":"IF(AK239=0,\"\",IF(AK239=\"X\",1,PercentDI(AK239)))","v":""},{"$f":"IF(AK239=0,\"\",DIDECODE(AK239))","v":""},{"$f":"IF(AK239=0,\"\",PDECODE(AK239))","v":""},{"$f":"IF(OR(W239<>\"\",AND(Y239=0,AB239=0)),0,LtIncentive(E239,F239,J239,L239,N239,K239,AE239,SUM($AI$21:AI238,$AM$21:AM238),SUM($AJ$21:AJ238,$AN$21:AN238),DIEligibility))","v":0},{"$f":"IF(AO239=0,\"\",PercentDI(AO239))","v":""},{"$f":"IF(AO239=0,\"\",DIDECODE(AO239))","v":""},{"$f":"IF(AO239=0,\"\",PDECODE(AO239))","v":""},{"$f":"IF(OR(W239<>\"\",AC239=0),0,LtCTRLIncentive(M239,L239,O239,G239,F239,E239,J239,SUM($AI$21:AI239,$AM$21:AM238),SUM($AJ$21:AJ239,$AN$21:AN238),DIEligibility))","v":0},0,0,0,0,0]
[null,{"$f":"ROWS($B$22:B240)-1","v":218},null,null,null,null,null,{"$f":"IF(CType=\"NC\",0,IF($E240=\"\",\"\",WattsPerFixture(E240)))","v":""},"",null,null,null,null,{"$f":"IF($J240=\"\",\"\",WattsPerFixture(J240))","v":""},"",null,null,null,null,"",{"$f":"IF(OR(V240=\"\",COUNTIF($V$21:V240,V240)>1),\"\",ROW())","v":""},"","",0,0,0,0,0,0,0,0,0,0,{"$f":"IF(AK240=0,\"\",IF(AK240=\"X\",1,PercentDI(AK240)))","v":""},{"$f":"IF(AK240=0,\"\",DIDECODE(AK240))","v":""},{"$f":"IF(AK240=0,\"\",PDECODE(AK240))","v":""},{"$f":"IF(OR(W240<>\"\",AND(Y240=0,AB240=0)),0,LtIncentive(E240,F240,J240,L240,N240,K240,AE240,SUM($AI$21:AI239,$AM$21:AM239),SUM($AJ$21:AJ239,$AN$21:AN239),DIEligibility))","v":0},{"$f":"IF(AO240=0,\"\",PercentDI(AO240))","v":""},{"$f":"IF(AO240=0,\"\",DIDECODE(AO240))","v":""},{"$f":"IF(AO240=0,\"\",PDECODE(AO240))","v":""},{"$f":"IF(OR(W240<>\"\",AC240=0),0,LtCTRLIncentive(M240,L240,O240,G240,F240,E240,J240,SUM($AI$21:AI240,$AM$21:AM239),SUM($AJ$21:AJ240,$AN$21:AN239),DIEligibility))","v":0},0,0,0,0,0]
[null,{"$f":"ROWS($B$22:B241)-1","v":219},null,null,null,null,null,{"$f":"IF(CType=\"NC\",0,IF($E241=\"\",\"\",WattsPerFixture(E241)))","v":""},"",null,null,null,null,{"$f":"IF($J241=\"\",\"\",WattsPerFixture(J241))","v":""},"",null,null,null,null,"",{"$f":"IF(OR(V241=\"\",COUNTIF($V$21:V241,V241)>1),\"\",ROW())","v":""},"","",0,0,0,0,0,0,0,0,0,0,{"$f":"IF(AK241=0,\"\",IF(AK241=\"X\",1,PercentDI(AK241)))","v":""},{"$f":"IF(AK241=0,\"\",DIDECODE(AK241))","v":""},{"$f":"IF(AK241=0,\"\",PDECODE(AK241))","v":""},{"$f":"IF(OR(W241<>\"\",AND(Y241=0,AB241=0)),0,LtIncentive(E241,F241,J241,L241,N241,K241,AE241,SUM($AI$21:AI240,$AM$21:AM240),SUM($AJ$21:AJ240,$AN$21:AN240),DIEligibility))","v":0},{"$f":"IF(AO241=0,\"\",PercentDI(AO241))","v":""},{"$f":"IF(AO241=0,\"\",DIDECODE(AO241))","v":""},{"$f":"IF(AO241=0,\"\",PDECODE(AO241))","v":""},{"$f":"IF(OR(W241<>\"\",AC241=0),0,LtCTRLIncentive(M241,L241,O241,G241,F241,E241,J241,SUM($AI$21:AI241,$AM$21:AM240),SUM($AJ$21:AJ241,$AN$21:AN240),DIEligibility))","v":0},0,0,0,0,0]
[null,{"$f":"ROWS($B$22:B242)-1","v":220},null,null,null,null,null,{"$f":"IF(CType=\"NC\",0,IF($E242=\"\",\"\",WattsPerFixture(E242)))","v":""},"",null,null,null,null,{"$f":"IF($J242=\"\",\"\",WattsPerFixture(J242))","v":""},"",null,null,null,null,"",{"$f":"IF(OR(V242=\"\",COUNTIF($V$21:V242,V242)>1),\"\",ROW())","v":""},"","",0,0,0,0,0,0,0,0,0,0,{"$f":"IF(AK242=0,\"\",IF(AK242=\"X\",1,PercentDI(AK242)))","v":""},{"$f":"IF(AK242=0,\"\",DIDECODE(AK242))","v":""},{"$f":"IF(AK242=0,\"\",PDECODE(AK242))","v":""},{"$f":"IF(OR(W242<>\"\",AND(Y242=0,AB242=0)),0,LtIncentive(E242,F242,J242,L242,N242,K242,AE242,SUM($AI$21:AI241,$AM$21:AM241),SUM($AJ$21:AJ241,$AN$21:AN241),DIEligibility))","v":0},{"$f":"IF(AO242=0,\"\",PercentDI(AO242))","v":""},{"$f":"IF(AO242=0,\"\",DIDECODE(AO242))","v":""},{"$f":"IF(AO242=0,\"\",PDECODE(AO242))","v":""},{"$f":"IF(OR(W242<>\"\",AC242=0),0,LtCTRLIncentive(M242,L242,O242,G242,F242,E242,J242,SUM($AI$21:AI242,$AM$21:AM241),SUM($AJ$21:AJ242,$AN$21:AN241),DIEligibility))","v":0},0,0,0,0,0]
[null,{"$f":"ROWS($B$22:B243)-1","v":221},null,null,null,null,null,{"$f":"IF(CType=\"NC\",0,IF($E243=\"\",\"\",WattsPerFixture(E243)))","v":""},"",null,null,null,null,{"$f":"IF($J243=\"\",\"\",WattsPerFixture(J243))","v":""},"",null,null,null,null,"",{"$f":"IF(OR(V243=\"\",COUNTIF($V$21:V243,V243)>1),\"\",ROW())","v":""},"","",0,0,0,0,0,0,0,0,0,0,{"$f":"IF(AK243=0,\"\",IF(AK243=\"X\",1,PercentDI(AK243)))","v":""},{"$f":"IF(AK243=0,\"\",DIDECODE(AK243))","v":""},{"$f":"IF(AK243=0,\"\",PDECODE(AK243))","v":""},{"$f":"IF(OR(W243<>\"\",AND(Y243=0,AB243=0)),0,LtIncentive(E243,F243,J243,L243,N243,K243,AE243,SUM($AI$21:AI242,$AM$21:AM242),SUM($AJ$21:AJ242,$AN$21:AN242),DIEligibility))","v":0},{"$f":"IF(AO243=0,\"\",PercentDI(AO243))","v":""},{"$f":"IF(AO243=0,\"\",DIDECODE(AO243))","v":""},{"$f":"IF(AO243=0,\"\",PDECODE(AO243))","v":""},{"$f":"IF(OR(W243<>\"\",AC243=0),0,LtCTRLIncentive(M243,L243,O243,G243,F243,E243,J243,SUM($AI$21:AI243,$AM$21:AM242),SUM($AJ$21:AJ243,$AN$21:AN242),DIEligibility))","v":0},0,0,0,0,0]
[null,{"$f":"ROWS($B$22:B244)-1","v":222},null,null,null,null,null,{"$f":"IF(CType=\"NC\",0,IF($E244=\"\",\"\",WattsPerFixture(E244)))","v":""},"",null,null,null,null,{"$f":"IF($J244=\"\",\"\",WattsPerFixture(J244))","v":""},"",null,null,null,null,"",{"$f":"IF(OR(V244=\"\",COUNTIF($V$21:V244,V244)>1),\"\",ROW())","v":""},"","",0,0,0,0,0,0,0,0,0,0,{"$f":"IF(AK244=0,\"\",IF(AK244=\"X\",1,PercentDI(AK244)))","v":""},{"$f":"IF(AK244=0,\"\",DIDECODE(AK244))","v":""},{"$f":"IF(AK244=0,\"\",PDECODE(AK244))","v":""},{"$f":"IF(OR(W244<>\"\",AND(Y244=0,AB244=0)),0,LtIncentive(E244,F244,J244,L244,N244,K244,AE244,SUM($AI$21:AI243,$AM$21:AM243),SUM($AJ$21:AJ243,$AN$21:AN243),DIEligibility))","v":0},{"$f":"IF(AO244=0,\"\",PercentDI(AO244))","v":""},{"$f":"IF(AO244=0,\"\",DIDECODE(AO244))","v":""},{"$f":"IF(AO244=0,\"\",PDECODE(AO244))","v":""},{"$f":"IF(OR(W244<>\"\",AC244=0),0,LtCTRLIncentive(M244,L244,O244,G244,F244,E244,J244,SUM($AI$21:AI244,$AM$21:AM243),SUM($AJ$21:AJ244,$AN$21:AN243),DIEligibility))","v":0},0,0,0,0,0]
[null,{"$f":"ROWS($B$22:B245)-1","v":223},null,null,null,null,null,{"$f":"IF(CType=\"NC\",0,IF($E245=\"\",\"\",WattsPerFixture(E245)))","v":""},"",null,null,null,null,{"$f":"IF($J245=\"\",\"\",WattsPerFixture(J245))","v":""},"",null,null,null,null,"",{"$f":"IF(OR(V245=\"\",COUNTIF($V$21:V245,V245)>1),\"\",ROW())","v":""},"","",0,0,0,0,0,0,0,0,0,0,{"$f":"IF(AK245=0,\"\",IF(AK245=\"X\",1,PercentDI(AK245)))","v":""},{"$f":"IF(AK245=0,\"\",DIDECODE(AK245))","v":""},{"$f":"IF(AK245=0,\"\",PDECODE(AK245))","v":""},{"$f":"IF(OR(W245<>\"\",AND(Y245=0,AB245=0)),0,LtIncentive(E245,F245,J245,L245,N245,K245,AE245,SUM($AI$21:AI244,$AM$21:AM244),SUM($AJ$21:AJ244,$AN$21:AN244),DIEligibility))","v":0},{"$f":"IF(AO245=0,\"\",PercentDI(AO245))","v":""},{"$f":"IF(AO245=0,\"\",DIDECODE(AO245))","v":""},{"$f":"IF(AO245=0,\"\",PDECODE(AO245))","v":""},{"$f":"IF(OR(W245<>\"\",AC245=0),0,LtCTRLIncentive(M245,L245,O245,G245,F245,E245,J245,SUM($AI$21:AI245,$AM$21:AM244),SUM($AJ$21:AJ245,$AN$21:AN244),DIEligibility))","v":0},0,0,0,0,0]
[null,{"$f":"ROWS($B$22:B246)-1","v":224},null,null,null,null,null,{"$f":"IF(CType=\"NC\",0,IF($E246=\"\",\"\",WattsPerFixture(E246)))","v":""},"",null,null,null,null,{"$f":"IF($J246=\"\",\"\",WattsPerFixture(J246))","v":""},"",null,null,null,null,"",{"$f":"IF(OR(V246=\"\",COUNTIF($V$21:V246,V246)>1),\"\",ROW())","v":""},"","",0,0,0,0,0,0,0,0,0,0,{"$f":"IF(AK246=0,\"\",IF(AK246=\"X\",1,PercentDI(AK246)))","v":""},{"$f":"IF(AK246=0,\"\",DIDECODE(AK246))","v":""},{"$f":"IF(AK246=0,\"\",PDECODE(AK246))","v":""},{"$f":"IF(OR(W246<>\"\",AND(Y246=0,AB246=0)),0,LtIncentive(E246,F246,J246,L246,N246,K246,AE246,SUM($AI$21:AI245,$AM$21:AM245),SUM($AJ$21:AJ245,$AN$21:AN245),DIEligibility))","v":0},{"$f":"IF(AO246=0,\"\",PercentDI(AO246))","v":""},{"$f":"IF(AO246=0,\"\",DIDECODE(AO246))","v":""},{"$f":"IF(AO246=0,\"\",PDECODE(AO246))","v":""},{"$f":"IF(OR(W246<>\"\",AC246=0),0,LtCTRLIncentive(M246,L246,O246,G246,F246,E246,J246,SUM($AI$21:AI246,$AM$21:AM245),SUM($AJ$21:AJ246,$AN$21:AN245),DIEligibility))","v":0},0,0,0,0,0]
[null,{"$f":"ROWS($B$22:B247)-1","v":225},null,null,null,null,null,{"$f":"IF(CType=\"NC\",0,IF($E247=\"\",\"\",WattsPerFixture(E247)))","v":""},"",null,null,null,null,{"$f":"IF($J247=\"\",\"\",WattsPerFixture(J247))","v":""},"",null,null,null,null,"",{"$f":"IF(OR(V247=\"\",COUNTIF($V$21:V247,V247)>1),\"\",ROW())","v":""},"","",0,0,0,0,0,0,0,0,0,0,{"$f":"IF(AK247=0,\"\",IF(AK247=\"X\",1,PercentDI(AK247)))","v":""},{"$f":"IF(AK247=0,\"\",DIDECODE(AK247))","v":""},{"$f":"IF(AK247=0,\"\",PDECODE(AK247))","v":""},{"$f":"IF(OR(W247<>\"\",AND(Y247=0,AB247=0)),0,LtIncentive(E247,F247,J247,L247,N247,K247,AE247,SUM($AI$21:AI246,$AM$21:AM246),SUM($AJ$21:AJ246,$AN$21:AN246),DIEligibility))","v":0},{"$f":"IF(AO247=0,\"\",PercentDI(AO247))","v":""},{"$f":"IF(AO247=0,\"\",DIDECODE(AO247))","v":""},{"$f":"IF(AO247=0,\"\",PDECODE(AO247))","v":""},{"$f":"IF(OR(W247<>\"\",AC247=0),0,LtCTRLIncentive(M247,L247,O247,G247,F247,E247,J247,SUM($AI$21:AI247,$AM$21:AM246),SUM($AJ$21:AJ247,$AN$21:AN246),DIEligibility))","v":0},0,0,0,0,0]
[null,{"$f":"ROWS($B$22:B248)-1","v":226},null,null,null,null,null,{"$f":"IF(CType=\"NC\",0,IF($E248=\"\",\"\",WattsPerFixture(E248)))","v":""},"",null,null,null,null,{"$f":"IF($J248=\"\",\"\",WattsPerFixture(J248))","v":""},"",null,null,null,null,"",{"$f":"IF(OR(V248=\"\",COUNTIF($V$21:V248,V248)>1),\"\",ROW())","v":""},"","",0,0,0,0,0,0,0,0,0,0,{"$f":"IF(AK248=0,\"\",IF(AK248=\"X\",1,PercentDI(AK248)))","v":""},{"$f":"IF(AK248=0,\"\",DIDECODE(AK248))","v":""},{"$f":"IF(AK248=0,\"\",PDECODE(AK248))","v":""},{"$f":"IF(OR(W248<>\"\",AND(Y248=0,AB248=0)),0,LtIncentive(E248,F248,J248,L248,N248,K248,AE248,SUM($AI$21:AI247,$AM$21:AM247),SUM($AJ$21:AJ247,$AN$21:AN247),DIEligibility))","v":0},{"$f":"IF(AO248=0,\"\",PercentDI(AO248))","v":""},{"$f":"IF(AO248=0,\"\",DIDECODE(AO248))","v":""},{"$f":"IF(AO248=0,\"\",PDECODE(AO248))","v":""},{"$f":"IF(OR(W248<>\"\",AC248=0),0,LtCTRLIncentive(M248,L248,O248,G248,F248,E248,J248,SUM($AI$21:AI248,$AM$21:AM247),SUM($AJ$21:AJ248,$AN$21:AN247),DIEligibility))","v":0},0,0,0,0,0]
[null,{"$f":"ROWS($B$22:B249)-1","v":227},null,null,null,null,null,{"$f":"IF(CType=\"NC\",0,IF($E249=\"\",\"\",WattsPerFixture(E249)))","v":""},"",null,null,null,null,{"$f":"IF($J249=\"\",\"\",WattsPerFixture(J249))","v":""},"",null,null,null,null,"",{"$f":"IF(OR(V249=\"\",COUNTIF($V$21:V249,V249)>1),\"\",ROW())","v":""},"","",0,0,0,0,0,0,0,0,0,0,{"$f":"IF(AK249=0,\"\",IF(AK249=\"X\",1,PercentDI(AK249)))","v":""},{"$f":"IF(AK249=0,\"\",DIDECODE(AK249))","v":""},{"$f":"IF(AK249=0,\"\",PDECODE(AK249))","v":""},{"$f":"IF(OR(W249<>\"\",AND(Y249=0,AB249=0)),0,LtIncentive(E249,F249,J249,L249,N249,K249,AE249,SUM($AI$21:AI248,$AM$21:AM248),SUM($AJ$21:AJ248,$AN$21:AN248),DIEligibility))","v":0},{"$f":"IF(AO249=0,\"\",PercentDI(AO249))","v":""},{"$f":"IF(AO249=0,\"\",DIDECODE(AO249))","v":""},{"$f":"IF(AO249=0,\"\",PDECODE(AO249))","v":""},{"$f":"IF(OR(W249<>\"\",AC249=0),0,LtCTRLIncentive(M249,L249,O249,G249,F249,E249,J249,SUM($AI$21:AI249,$AM$21:AM248),SUM($AJ$21:AJ249,$AN$21:AN248),DIEligibility))","v":0},0,0,0,0,0]
[null,{"$f":"ROWS($B$22:B250)-1","v":228},null,null,null,null,null,{"$f":"IF(CType=\"NC\",0,IF($E250=\"\",\"\",WattsPerFixture(E250)))","v":""},"",null,null,null,null,{"$f":"IF($J250=\"\",\"\",WattsPerFixture(J250))","v":""},"",null,null,null,null,"",{"$f":"IF(OR(V250=\"\",COUNTIF($V$21:V250,V250)>1),\"\",ROW())","v":""},"","",0,0,0,0,0,0,0,0,0,0,{"$f":"IF(AK250=0,\"\",IF(AK250=\"X\",1,PercentDI(AK250)))","v":""},{"$f":"IF(AK250=0,\"\",DIDECODE(AK250))","v":""},{"$f":"IF(AK250=0,\"\",PDECODE(AK250))","v":""},{"$f":"IF(OR(W250<>\"\",AND(Y250=0,AB250=0)),0,LtIncentive(E250,F250,J250,L250,N250,K250,AE250,SUM($AI$21:AI249,$AM$21:AM249),SUM($AJ$21:AJ249,$AN$21:AN249),DIEligibility))","v":0},{"$f":"IF(AO250=0,\"\",PercentDI(AO250))","v":""},{"$f":"IF(AO250=0,\"\",DIDECODE(AO250))","v":""},{"$f":"IF(AO250=0,\"\",PDECODE(AO250))","v":""},{"$f":"IF(OR(W250<>\"\",AC250=0),0,LtCTRLIncentive(M250,L250,O250,G250,F250,E250,J250,SUM($AI$21:AI250,$AM$21:AM249),SUM($AJ$21:AJ250,$AN$21:AN249),DIEligibility))","v":0},0,0,0,0,0]
[null,{"$f":"ROWS($B$22:B251)-1","v":229},null,null,null,null,null,{"$f":"IF(CType=\"NC\",0,IF($E251=\"\",\"\",WattsPerFixture(E251)))","v":""},"",null,null,null,null,{"$f":"IF($J251=\"\",\"\",WattsPerFixture(J251))","v":""},"",null,null,null,null,"",{"$f":"IF(OR(V251=\"\",COUNTIF($V$21:V251,V251)>1),\"\",ROW())","v":""},"","",0,0,0,0,0,0,0,0,0,0,{"$f":"IF(AK251=0,\"\",IF(AK251=\"X\",1,PercentDI(AK251)))","v":""},{"$f":"IF(AK251=0,\"\",DIDECODE(AK251))","v":""},{"$f":"IF(AK251=0,\"\",PDECODE(AK251))","v":""},{"$f":"IF(OR(W251<>\"\",AND(Y251=0,AB251=0)),0,LtIncentive(E251,F251,J251,L251,N251,K251,AE251,SUM($AI$21:AI250,$AM$21:AM250),SUM($AJ$21:AJ250,$AN$21:AN250),DIEligibility))","v":0},{"$f":"IF(AO251=0,\"\",PercentDI(AO251))","v":""},{"$f":"IF(AO251=0,\"\",DIDECODE(AO251))","v":""},{"$f":"IF(AO251=0,\"\",PDECODE(AO251))","v":""},{"$f":"IF(OR(W251<>\"\",AC251=0),0,LtCTRLIncentive(M251,L251,O251,G251,F251,E251,J251,SUM($AI$21:AI251,$AM$21:AM250),SUM($AJ$21:AJ251,$AN$21:AN250),DIEligibility))","v":0},0,0,0,0,0]
[null,{"$f":"ROWS($B$22:B252)-1","v":230},null,null,null,null,null,{"$f":"IF(CType=\"NC\",0,IF($E252=\"\",\"\",WattsPerFixture(E252)))","v":""},"",null,null,null,null,{"$f":"IF($J252=\"\",\"\",WattsPerFixture(J252))","v":""},"",null,null,null,null,"",{"$f":"IF(OR(V252=\"\",COUNTIF($V$21:V252,V252)>1),\"\",ROW())","v":""},"","",0,0,0,0,0,0,0,0,0,0,{"$f":"IF(AK252=0,\"\",IF(AK252=\"X\",1,PercentDI(AK252)))","v":""},{"$f":"IF(AK252=0,\"\",DIDECODE(AK252))","v":""},{"$f":"IF(AK252=0,\"\",PDECODE(AK252))","v":""},{"$f":"IF(OR(W252<>\"\",AND(Y252=0,AB252=0)),0,LtIncentive(E252,F252,J252,L252,N252,K252,AE252,SUM($AI$21:AI251,$AM$21:AM251),SUM($AJ$21:AJ251,$AN$21:AN251),DIEligibility))","v":0},{"$f":"IF(AO252=0,\"\",PercentDI(AO252))","v":""},{"$f":"IF(AO252=0,\"\",DIDECODE(AO252))","v":""},{"$f":"IF(AO252=0,\"\",PDECODE(AO252))","v":""},{"$f":"IF(OR(W252<>\"\",AC252=0),0,LtCTRLIncentive(M252,L252,O252,G252,F252,E252,J252,SUM($AI$21:AI252,$AM$21:AM251),SUM($AJ$21:AJ252,$AN$21:AN251),DIEligibility))","v":0},0,0,0,0,0]
[null,{"$f":"ROWS($B$22:B253)-1","v":231},null,null,null,null,null,{"$f":"IF(CType=\"NC\",0,IF($E253=\"\",\"\",WattsPerFixture(E253)))","v":""},"",null,null,null,null,{"$f":"IF($J253=\"\",\"\",WattsPerFixture(J253))","v":""},"",null,null,null,null,"",{"$f":"IF(OR(V253=\"\",COUNTIF($V$21:V253,V253)>1),\"\",ROW())","v":""},"","",0,0,0,0,0,0,0,0,0,0,{"$f":"IF(AK253=0,\"\",IF(AK253=\"X\",1,PercentDI(AK253)))","v":""},{"$f":"IF(AK253=0,\"\",DIDECODE(AK253))","v":""},{"$f":"IF(AK253=0,\"\",PDECODE(AK253))","v":""},{"$f":"IF(OR(W253<>\"\",AND(Y253=0,AB253=0)),0,LtIncentive(E253,F253,J253,L253,N253,K253,AE253,SUM($AI$21:AI252,$AM$21:AM252),SUM($AJ$21:AJ252,$AN$21:AN252),DIEligibility))","v":0},{"$f":"IF(AO253=0,\"\",PercentDI(AO253))","v":""},{"$f":"IF(AO253=0,\"\",DIDECODE(AO253))","v":""},{"$f":"IF(AO253=0,\"\",PDECODE(AO253))","v":""},{"$f":"IF(OR(W253<>\"\",AC253=0),0,LtCTRLIncentive(M253,L253,O253,G253,F253,E253,J253,SUM($AI$21:AI253,$AM$21:AM252),SUM($AJ$21:AJ253,$AN$21:AN252),DIEligibility))","v":0},0,0,0,0,0]
[null,{"$f":"ROWS($B$22:B254)-1","v":232},null,null,null,null,null,{"$f":"IF(CType=\"NC\",0,IF($E254=\"\",\"\",WattsPerFixture(E254)))","v":""},"",null,null,null,null,{"$f":"IF($J254=\"\",\"\",WattsPerFixture(J254))","v":""},"",null,null,null,null,"",{"$f":"IF(OR(V254=\"\",COUNTIF($V$21:V254,V254)>1),\"\",ROW())","v":""},"","",0,0,0,0,0,0,0,0,0,0,{"$f":"IF(AK254=0,\"\",IF(AK254=\"X\",1,PercentDI(AK254)))","v":""},{"$f":"IF(AK254=0,\"\",DIDECODE(AK254))","v":""},{"$f":"IF(AK254=0,\"\",PDECODE(AK254))","v":""},{"$f":"IF(OR(W254<>\"\",AND(Y254=0,AB254=0)),0,LtIncentive(E254,F254,J254,L254,N254,K254,AE254,SUM($AI$21:AI253,$AM$21:AM253),SUM($AJ$21:AJ253,$AN$21:AN253),DIEligibility))","v":0},{"$f":"IF(AO254=0,\"\",PercentDI(AO254))","v":""},{"$f":"IF(AO254=0,\"\",DIDECODE(AO254))","v":""},{"$f":"IF(AO254=0,\"\",PDECODE(AO254))","v":""},{"$f":"IF(OR(W254<>\"\",AC254=0),0,LtCTRLIncentive(M254,L254,O254,G254,F254,E254,J254,SUM($AI$21:AI254,$AM$21:AM253),SUM($AJ$21:AJ254,$AN$21:AN253),DIEligibility))","v":0},0,0,0,0,0]
[null,{"$f":"ROWS($B$22:B255)-1","v":233},null,null,null,null,null,{"$f":"IF(CType=\"NC\",0,IF($E255=\"\",\"\",WattsPerFixture(E255)))","v":""},"",null,null,null,null,{"$f":"IF($J255=\"\",\"\",WattsPerFixture(J255))","v":""},"",null,null,null,null,"",{"$f":"IF(OR(V255=\"\",COUNTIF($V$21:V255,V255)>1),\"\",ROW())","v":""},"","",0,0,0,0,0,0,0,0,0,0,{"$f":"IF(AK255=0,\"\",IF(AK255=\"X\",1,PercentDI(AK255)))","v":""},{"$f":"IF(AK255=0,\"\",DIDECODE(AK255))","v":""},{"$f":"IF(AK255=0,\"\",PDECODE(AK255))","v":""},{"$f":"IF(OR(W255<>\"\",AND(Y255=0,AB255=0)),0,LtIncentive(E255,F255,J255,L255,N255,K255,AE255,SUM($AI$21:AI254,$AM$21:AM254),SUM($AJ$21:AJ254,$AN$21:AN254),DIEligibility))","v":0},{"$f":"IF(AO255=0,\"\",PercentDI(AO255))","v":""},{"$f":"IF(AO255=0,\"\",DIDECODE(AO255))","v":""},{"$f":"IF(AO255=0,\"\",PDECODE(AO255))","v":""},{"$f":"IF(OR(W255<>\"\",AC255=0),0,LtCTRLIncentive(M255,L255,O255,G255,F255,E255,J255,SUM($AI$21:AI255,$AM$21:AM254),SUM($AJ$21:AJ255,$AN$21:AN254),DIEligibility))","v":0},0,0,0,0,0]
[null,{"$f":"ROWS($B$22:B256)-1","v":234},null,null,null,null,null,{"$f":"IF(CType=\"NC\",0,IF($E256=\"\",\"\",WattsPerFixture(E256)))","v":""},"",null,null,null,null,{"$f":"IF($J256=\"\",\"\",WattsPerFixture(J256))","v":""},"",null,null,null,null,"",{"$f":"IF(OR(V256=\"\",COUNTIF($V$21:V256,V256)>1),\"\",ROW())","v":""},"","",0,0,0,0,0,0,0,0,0,0,{"$f":"IF(AK256=0,\"\",IF(AK256=\"X\",1,PercentDI(AK256)))","v":""},{"$f":"IF(AK256=0,\"\",DIDECODE(AK256))","v":""},{"$f":"IF(AK256=0,\"\",PDECODE(AK256))","v":""},{"$f":"IF(OR(W256<>\"\",AND(Y256=0,AB256=0)),0,LtIncentive(E256,F256,J256,L256,N256,K256,AE256,SUM($AI$21:AI255,$AM$21:AM255),SUM($AJ$21:AJ255,$AN$21:AN255),DIEligibility))","v":0},{"$f":"IF(AO256=0,\"\",PercentDI(AO256))","v":""},{"$f":"IF(AO256=0,\"\",DIDECODE(AO256))","v":""},{"$f":"IF(AO256=0,\"\",PDECODE(AO256))","v":""},{"$f":"IF(OR(W256<>\"\",AC256=0),0,LtCTRLIncentive(M256,L256,O256,G256,F256,E256,J256,SUM($AI$21:AI256,$AM$21:AM255),SUM($AJ$21:AJ256,$AN$21:AN255),DIEligibility))","v":0},0,0,0,0,0]
[null,{"$f":"ROWS($B$22:B257)-1","v":235},null,null,null,null,null,{"$f":"IF(CType=\"NC\",0,IF($E257=\"\",\"\",WattsPerFixture(E257)))","v":""},"",null,null,null,null,{"$f":"IF($J257=\"\",\"\",WattsPerFixture(J257))","v":""},"",null,null,null,null,"",{"$f":"IF(OR(V257=\"\",COUNTIF($V$21:V257,V257)>1),\"\",ROW())","v":""},"","",0,0,0,0,0,0,0,0,0,0,{"$f":"IF(AK257=0,\"\",IF(AK257=\"X\",1,PercentDI(AK257)))","v":""},{"$f":"IF(AK257=0,\"\",DIDECODE(AK257))","v":""},{"$f":"IF(AK257=0,\"\",PDECODE(AK257))","v":""},{"$f":"IF(OR(W257<>\"\",AND(Y257=0,AB257=0)),0,LtIncentive(E257,F257,J257,L257,N257,K257,AE257,SUM($AI$21:AI256,$AM$21:AM256),SUM($AJ$21:AJ256,$AN$21:AN256),DIEligibility))","v":0},{"$f":"IF(AO257=0,\"\",PercentDI(AO257))","v":""},{"$f":"IF(AO257=0,\"\",DIDECODE(AO257))","v":""},{"$f":"IF(AO257=0,\"\",PDECODE(AO257))","v":""},{"$f":"IF(OR(W257<>\"\",AC257=0),0,LtCTRLIncentive(M257,L257,O257,G257,F257,E257,J257,SUM($AI$21:AI257,$AM$21:AM256),SUM($AJ$21:AJ257,$AN$21:AN256),DIEligibility))","v":0},0,0,0,0,0]
[null,{"$f":"ROWS($B$22:B258)-1","v":236},null,null,null,null,null,{"$f":"IF(CType=\"NC\",0,IF($E258=\"\",\"\",WattsPerFixture(E258)))","v":""},"",null,null,null,null,{"$f":"IF($J258=\"\",\"\",WattsPerFixture(J258))","v":""},"",null,null,null,null,"",{"$f":"IF(OR(V258=\"\",COUNTIF($V$21:V258,V258)>1),\"\",ROW())","v":""},"","",0,0,0,0,0,0,0,0,0,0,{"$f":"IF(AK258=0,\"\",IF(AK258=\"X\",1,PercentDI(AK258)))","v":""},{"$f":"IF(AK258=0,\"\",DIDECODE(AK258))","v":""},{"$f":"IF(AK258=0,\"\",PDECODE(AK258))","v":""},{"$f":"IF(OR(W258<>\"\",AND(Y258=0,AB258=0)),0,LtIncentive(E258,F258,J258,L258,N258,K258,AE258,SUM($AI$21:AI257,$AM$21:AM257),SUM($AJ$21:AJ257,$AN$21:AN257),DIEligibility))","v":0},{"$f":"IF(AO258=0,\"\",PercentDI(AO258))","v":""},{"$f":"IF(AO258=0,\"\",DIDECODE(AO258))","v":""},{"$f":"IF(AO258=0,\"\",PDECODE(AO258))","v":""},{"$f":"IF(OR(W258<>\"\",AC258=0),0,LtCTRLIncentive(M258,L258,O258,G258,F258,E258,J258,SUM($AI$21:AI258,$AM$21:AM257),SUM($AJ$21:AJ258,$AN$21:AN257),DIEligibility))","v":0},0,0,0,0,0]
[null,{"$f":"ROWS($B$22:B259)-1","v":237},null,null,null,null,null,{"$f":"IF(CType=\"NC\",0,IF($E259=\"\",\"\",WattsPerFixture(E259)))","v":""},"",null,null,null,null,{"$f":"IF($J259=\"\",\"\",WattsPerFixture(J259))","v":""},"",null,null,null,null,"",{"$f":"IF(OR(V259=\"\",COUNTIF($V$21:V259,V259)>1),\"\",ROW())","v":""},"","",0,0,0,0,0,0,0,0,0,0,{"$f":"IF(AK259=0,\"\",IF(AK259=\"X\",1,PercentDI(AK259)))","v":""},{"$f":"IF(AK259=0,\"\",DIDECODE(AK259))","v":""},{"$f":"IF(AK259=0,\"\",PDECODE(AK259))","v":""},{"$f":"IF(OR(W259<>\"\",AND(Y259=0,AB259=0)),0,LtIncentive(E259,F259,J259,L259,N259,K259,AE259,SUM($AI$21:AI258,$AM$21:AM258),SUM($AJ$21:AJ258,$AN$21:AN258),DIEligibility))","v":0},{"$f":"IF(AO259=0,\"\",PercentDI(AO259))","v":""},{"$f":"IF(AO259=0,\"\",DIDECODE(AO259))","v":""},{"$f":"IF(AO259=0,\"\",PDECODE(AO259))","v":""},{"$f":"IF(OR(W259<>\"\",AC259=0),0,LtCTRLIncentive(M259,L259,O259,G259,F259,E259,J259,SUM($AI$21:AI259,$AM$21:AM258),SUM($AJ$21:AJ259,$AN$21:AN258),DIEligibility))","v":0},0,0,0,0,0]
[null,{"$f":"ROWS($B$22:B260)-1","v":238},null,null,null,null,null,{"$f":"IF(CType=\"NC\",0,IF($E260=\"\",\"\",WattsPerFixture(E260)))","v":""},"",null,null,null,null,{"$f":"IF($J260=\"\",\"\",WattsPerFixture(J260))","v":""},"",null,null,null,null,"",{"$f":"IF(OR(V260=\"\",COUNTIF($V$21:V260,V260)>1),\"\",ROW())","v":""},"","",0,0,0,0,0,0,0,0,0,0,{"$f":"IF(AK260=0,\"\",IF(AK260=\"X\",1,PercentDI(AK260)))","v":""},{"$f":"IF(AK260=0,\"\",DIDECODE(AK260))","v":""},{"$f":"IF(AK260=0,\"\",PDECODE(AK260))","v":""},{"$f":"IF(OR(W260<>\"\",AND(Y260=0,AB260=0)),0,LtIncentive(E260,F260,J260,L260,N260,K260,AE260,SUM($AI$21:AI259,$AM$21:AM259),SUM($AJ$21:AJ259,$AN$21:AN259),DIEligibility))","v":0},{"$f":"IF(AO260=0,\"\",PercentDI(AO260))","v":""},{"$f":"IF(AO260=0,\"\",DIDECODE(AO260))","v":""},{"$f":"IF(AO260=0,\"\",PDECODE(AO260))","v":""},{"$f":"IF(OR(W260<>\"\",AC260=0),0,LtCTRLIncentive(M260,L260,O260,G260,F260,E260,J260,SUM($AI$21:AI260,$AM$21:AM259),SUM($AJ$21:AJ260,$AN$21:AN259),DIEligibility))","v":0},0,0,0,0,0]
[null,{"$f":"ROWS($B$22:B261)-1","v":239},null,null,null,null,null,{"$f":"IF(CType=\"NC\",0,IF($E261=\"\",\"\",WattsPerFixture(E261)))","v":""},"",null,null,null,null,{"$f":"IF($J261=\"\",\"\",WattsPerFixture(J261))","v":""},"",null,null,null,null,"",{"$f":"IF(OR(V261=\"\",COUNTIF($V$21:V261,V261)>1),\"\",ROW())","v":""},"","",0,0,0,0,0,0,0,0,0,0,{"$f":"IF(AK261=0,\"\",IF(AK261=\"X\",1,PercentDI(AK261)))","v":""},{"$f":"IF(AK261=0,\"\",DIDECODE(AK261))","v":""},{"$f":"IF(AK261=0,\"\",PDECODE(AK261))","v":""},{"$f":"IF(OR(W261<>\"\",AND(Y261=0,AB261=0)),0,LtIncentive(E261,F261,J261,L261,N261,K261,AE261,SUM($AI$21:AI260,$AM$21:AM260),SUM($AJ$21:AJ260,$AN$21:AN260),DIEligibility))","v":0},{"$f":"IF(AO261=0,\"\",PercentDI(AO261))","v":""},{"$f":"IF(AO261=0,\"\",DIDECODE(AO261))","v":""},{"$f":"IF(AO261=0,\"\",PDECODE(AO261))","v":""},{"$f":"IF(OR(W261<>\"\",AC261=0),0,LtCTRLIncentive(M261,L261,O261,G261,F261,E261,J261,SUM($AI$21:AI261,$AM$21:AM260),SUM($AJ$21:AJ261,$AN$21:AN260),DIEligibility))","v":0},0,0,0,0,0]
[null,{"$f":"ROWS($B$22:B262)-1","v":240},null,null,null,null,null,{"$f":"IF(CType=\"NC\",0,IF($E262=\"\",\"\",WattsPerFixture(E262)))","v":""},"",null,null,null,null,{"$f":"IF($J262=\"\",\"\",WattsPerFixture(J262))","v":""},"",null,null,null,null,"",{"$f":"IF(OR(V262=\"\",COUNTIF($V$21:V262,V262)>1),\"\",ROW())","v":""},"","",0,0,0,0,0,0,0,0,0,0,{"$f":"IF(AK262=0,\"\",IF(AK262=\"X\",1,PercentDI(AK262)))","v":""},{"$f":"IF(AK262=0,\"\",DIDECODE(AK262))","v":""},{"$f":"IF(AK262=0,\"\",PDECODE(AK262))","v":""},{"$f":"IF(OR(W262<>\"\",AND(Y262=0,AB262=0)),0,LtIncentive(E262,F262,J262,L262,N262,K262,AE262,SUM($AI$21:AI261,$AM$21:AM261),SUM($AJ$21:AJ261,$AN$21:AN261),DIEligibility))","v":0},{"$f":"IF(AO262=0,\"\",PercentDI(AO262))","v":""},{"$f":"IF(AO262=0,\"\",DIDECODE(AO262))","v":""},{"$f":"IF(AO262=0,\"\",PDECODE(AO262))","v":""},{"$f":"IF(OR(W262<>\"\",AC262=0),0,LtCTRLIncentive(M262,L262,O262,G262,F262,E262,J262,SUM($AI$21:AI262,$AM$21:AM261),SUM($AJ$21:AJ262,$AN$21:AN261),DIEligibility))","v":0},0,0,0,0,0]
[null,{"$f":"ROWS($B$22:B263)-1","v":241},null,null,null,null,null,{"$f":"IF(CType=\"NC\",0,IF($E263=\"\",\"\",WattsPerFixture(E263)))","v":""},"",null,null,null,null,{"$f":"IF($J263=\"\",\"\",WattsPerFixture(J263))","v":""},"",null,null,null,null,"",{"$f":"IF(OR(V263=\"\",COUNTIF($V$21:V263,V263)>1),\"\",ROW())","v":""},"","",0,0,0,0,0,0,0,0,0,0,{"$f":"IF(AK263=0,\"\",IF(AK263=\"X\",1,PercentDI(AK263)))","v":""},{"$f":"IF(AK263=0,\"\",DIDECODE(AK263))","v":""},{"$f":"IF(AK263=0,\"\",PDECODE(AK263))","v":""},{"$f":"IF(OR(W263<>\"\",AND(Y263=0,AB263=0)),0,LtIncentive(E263,F263,J263,L263,N263,K263,AE263,SUM($AI$21:AI262,$AM$21:AM262),SUM($AJ$21:AJ262,$AN$21:AN262),DIEligibility))","v":0},{"$f":"IF(AO263=0,\"\",PercentDI(AO263))","v":""},{"$f":"IF(AO263=0,\"\",DIDECODE(AO263))","v":""},{"$f":"IF(AO263=0,\"\",PDECODE(AO263))","v":""},{"$f":"IF(OR(W263<>\"\",AC263=0),0,LtCTRLIncentive(M263,L263,O263,G263,F263,E263,J263,SUM($AI$21:AI263,$AM$21:AM262),SUM($AJ$21:AJ263,$AN$21:AN262),DIEligibility))","v":0},0,0,0,0,0]
[null,{"$f":"ROWS($B$22:B264)-1","v":242},null,null,null,null,null,{"$f":"IF(CType=\"NC\",0,IF($E264=\"\",\"\",WattsPerFixture(E264)))","v":""},"",null,null,null,null,{"$f":"IF($J264=\"\",\"\",WattsPerFixture(J264))","v":""},"",null,null,null,null,"",{"$f":"IF(OR(V264=\"\",COUNTIF($V$21:V264,V264)>1),\"\",ROW())","v":""},"","",0,0,0,0,0,0,0,0,0,0,{"$f":"IF(AK264=0,\"\",IF(AK264=\"X\",1,PercentDI(AK264)))","v":""},{"$f":"IF(AK264=0,\"\",DIDECODE(AK264))","v":""},{"$f":"IF(AK264=0,\"\",PDECODE(AK264))","v":""},{"$f":"IF(OR(W264<>\"\",AND(Y264=0,AB264=0)),0,LtIncentive(E264,F264,J264,L264,N264,K264,AE264,SUM($AI$21:AI263,$AM$21:AM263),SUM($AJ$21:AJ263,$AN$21:AN263),DIEligibility))","v":0},{"$f":"IF(AO264=0,\"\",PercentDI(AO264))","v":""},{"$f":"IF(AO264=0,\"\",DIDECODE(AO264))","v":""},{"$f":"IF(AO264=0,\"\",PDECODE(AO264))","v":""},{"$f":"IF(OR(W264<>\"\",AC264=0),0,LtCTRLIncentive(M264,L264,O264,G264,F264,E264,J264,SUM($AI$21:AI264,$AM$21:AM263),SUM($AJ$21:AJ264,$AN$21:AN263),DIEligibility))","v":0},0,0,0,0,0]
[null,{"$f":"ROWS($B$22:B265)-1","v":243},null,null,null,null,null,{"$f":"IF(CType=\"NC\",0,IF($E265=\"\",\"\",WattsPerFixture(E265)))","v":""},"",null,null,null,null,{"$f":"IF($J265=\"\",\"\",WattsPerFixture(J265))","v":""},"",null,null,null,null,"",{"$f":"IF(OR(V265=\"\",COUNTIF($V$21:V265,V265)>1),\"\",ROW())","v":""},"","",0,0,0,0,0,0,0,0,0,0,{"$f":"IF(AK265=0,\"\",IF(AK265=\"X\",1,PercentDI(AK265)))","v":""},{"$f":"IF(AK265=0,\"\",DIDECODE(AK265))","v":""},{"$f":"IF(AK265=0,\"\",PDECODE(AK265))","v":""},{"$f":"IF(OR(W265<>\"\",AND(Y265=0,AB265=0)),0,LtIncentive(E265,F265,J265,L265,N265,K265,AE265,SUM($AI$21:AI264,$AM$21:AM264),SUM($AJ$21:AJ264,$AN$21:AN264),DIEligibility))","v":0},{"$f":"IF(AO265=0,\"\",PercentDI(AO265))","v":""},{"$f":"IF(AO265=0,\"\",DIDECODE(AO265))","v":""},{"$f":"IF(AO265=0,\"\",PDECODE(AO265))","v":""},{"$f":"IF(OR(W265<>\"\",AC265=0),0,LtCTRLIncentive(M265,L265,O265,G265,F265,E265,J265,SUM($AI$21:AI265,$AM$21:AM264),SUM($AJ$21:AJ265,$AN$21:AN264),DIEligibility))","v":0},0,0,0,0,0]
[null,{"$f":"ROWS($B$22:B266)-1","v":244},null,null,null,null,null,{"$f":"IF(CType=\"NC\",0,IF($E266=\"\",\"\",WattsPerFixture(E266)))","v":""},"",null,null,null,null,{"$f":"IF($J266=\"\",\"\",WattsPerFixture(J266))","v":""},"",null,null,null,null,"",{"$f":"IF(OR(V266=\"\",COUNTIF($V$21:V266,V266)>1),\"\",ROW())","v":""},"","",0,0,0,0,0,0,0,0,0,0,{"$f":"IF(AK266=0,\"\",IF(AK266=\"X\",1,PercentDI(AK266)))","v":""},{"$f":"IF(AK266=0,\"\",DIDECODE(AK266))","v":""},{"$f":"IF(AK266=0,\"\",PDECODE(AK266))","v":""},{"$f":"IF(OR(W266<>\"\",AND(Y266=0,AB266=0)),0,LtIncentive(E266,F266,J266,L266,N266,K266,AE266,SUM($AI$21:AI265,$AM$21:AM265),SUM($AJ$21:AJ265,$AN$21:AN265),DIEligibility))","v":0},{"$f":"IF(AO266=0,\"\",PercentDI(AO266))","v":""},{"$f":"IF(AO266=0,\"\",DIDECODE(AO266))","v":""},{"$f":"IF(AO266=0,\"\",PDECODE(AO266))","v":""},{"$f":"IF(OR(W266<>\"\",AC266=0),0,LtCTRLIncentive(M266,L266,O266,G266,F266,E266,J266,SUM($AI$21:AI266,$AM$21:AM265),SUM($AJ$21:AJ266,$AN$21:AN265),DIEligibility))","v":0},0,0,0,0,0]
[null,{"$f":"ROWS($B$22:B267)-1","v":245},null,null,null,null,null,{"$f":"IF(CType=\"NC\",0,IF($E267=\"\",\"\",WattsPerFixture(E267)))","v":""},"",null,null,null,null,{"$f":"IF($J267=\"\",\"\",WattsPerFixture(J267))","v":""},"",null,null,null,null,"",{"$f":"IF(OR(V267=\"\",COUNTIF($V$21:V267,V267)>1),\"\",ROW())","v":""},"","",0,0,0,0,0,0,0,0,0,0,{"$f":"IF(AK267=0,\"\",IF(AK267=\"X\",1,PercentDI(AK267)))","v":""},{"$f":"IF(AK267=0,\"\",DIDECODE(AK267))","v":""},{"$f":"IF(AK267=0,\"\",PDECODE(AK267))","v":""},{"$f":"IF(OR(W267<>\"\",AND(Y267=0,AB267=0)),0,LtIncentive(E267,F267,J267,L267,N267,K267,AE267,SUM($AI$21:AI266,$AM$21:AM266),SUM($AJ$21:AJ266,$AN$21:AN266),DIEligibility))","v":0},{"$f":"IF(AO267=0,\"\",PercentDI(AO267))","v":""},{"$f":"IF(AO267=0,\"\",DIDECODE(AO267))","v":""},{"$f":"IF(AO267=0,\"\",PDECODE(AO267))","v":""},{"$f":"IF(OR(W267<>\"\",AC267=0),0,LtCTRLIncentive(M267,L267,O267,G267,F267,E267,J267,SUM($AI$21:AI267,$AM$21:AM266),SUM($AJ$21:AJ267,$AN$21:AN266),DIEligibility))","v":0},0,0,0,0,0]
[null,{"$f":"ROWS($B$22:B268)-1","v":246},null,null,null,null,null,{"$f":"IF(CType=\"NC\",0,IF($E268=\"\",\"\",WattsPerFixture(E268)))","v":""},"",null,null,null,null,{"$f":"IF($J268=\"\",\"\",WattsPerFixture(J268))","v":""},"",null,null,null,null,"",{"$f":"IF(OR(V268=\"\",COUNTIF($V$21:V268,V268)>1),\"\",ROW())","v":""},"","",0,0,0,0,0,0,0,0,0,0,{"$f":"IF(AK268=0,\"\",IF(AK268=\"X\",1,PercentDI(AK268)))","v":""},{"$f":"IF(AK268=0,\"\",DIDECODE(AK268))","v":""},{"$f":"IF(AK268=0,\"\",PDECODE(AK268))","v":""},{"$f":"IF(OR(W268<>\"\",AND(Y268=0,AB268=0)),0,LtIncentive(E268,F268,J268,L268,N268,K268,AE268,SUM($AI$21:AI267,$AM$21:AM267),SUM($AJ$21:AJ267,$AN$21:AN267),DIEligibility))","v":0},{"$f":"IF(AO268=0,\"\",PercentDI(AO268))","v":""},{"$f":"IF(AO268=0,\"\",DIDECODE(AO268))","v":""},{"$f":"IF(AO268=0,\"\",PDECODE(AO268))","v":""},{"$f":"IF(OR(W268<>\"\",AC268=0),0,LtCTRLIncentive(M268,L268,O268,G268,F268,E268,J268,SUM($AI$21:AI268,$AM$21:AM267),SUM($AJ$21:AJ268,$AN$21:AN267),DIEligibility))","v":0},0,0,0,0,0]
[null,{"$f":"ROWS($B$22:B269)-1","v":247},null,null,null,null,null,{"$f":"IF(CType=\"NC\",0,IF($E269=\"\",\"\",WattsPerFixture(E269)))","v":""},"",null,null,null,null,{"$f":"IF($J269=\"\",\"\",WattsPerFixture(J269))","v":""},"",null,null,null,null,"",{"$f":"IF(OR(V269=\"\",COUNTIF($V$21:V269,V269)>1),\"\",ROW())","v":""},"","",0,0,0,0,0,0,0,0,0,0,{"$f":"IF(AK269=0,\"\",IF(AK269=\"X\",1,PercentDI(AK269)))","v":""},{"$f":"IF(AK269=0,\"\",DIDECODE(AK269))","v":""},{"$f":"IF(AK269=0,\"\",PDECODE(AK269))","v":""},{"$f":"IF(OR(W269<>\"\",AND(Y269=0,AB269=0)),0,LtIncentive(E269,F269,J269,L269,N269,K269,AE269,SUM($AI$21:AI268,$AM$21:AM268),SUM($AJ$21:AJ268,$AN$21:AN268),DIEligibility))","v":0},{"$f":"IF(AO269=0,\"\",PercentDI(AO269))","v":""},{"$f":"IF(AO269=0,\"\",DIDECODE(AO269))","v":""},{"$f":"IF(AO269=0,\"\",PDECODE(AO269))","v":""},{"$f":"IF(OR(W269<>\"\",AC269=0),0,LtCTRLIncentive(M269,L269,O269,G269,F269,E269,J269,SUM($AI$21:AI269,$AM$21:AM268),SUM($AJ$21:AJ269,$AN$21:AN268),DIEligibility))","v":0},0,0,0,0,0]
[null,{"$f":"ROWS($B$22:B270)-1","v":248},null,null,null,null,null,{"$f":"IF(CType=\"NC\",0,IF($E270=\"\",\"\",WattsPerFixture(E270)))","v":""},"",null,null,null,null,{"$f":"IF($J270=\"\",\"\",WattsPerFixture(J270))","v":""},"",null,null,null,null,"",{"$f":"IF(OR(V270=\"\",COUNTIF($V$21:V270,V270)>1),\"\",ROW())","v":""},"","",0,0,0,0,0,0,0,0,0,0,{"$f":"IF(AK270=0,\"\",IF(AK270=\"X\",1,PercentDI(AK270)))","v":""},{"$f":"IF(AK270=0,\"\",DIDECODE(AK270))","v":""},{"$f":"IF(AK270=0,\"\",PDECODE(AK270))","v":""},{"$f":"IF(OR(W270<>\"\",AND(Y270=0,AB270=0)),0,LtIncentive(E270,F270,J270,L270,N270,K270,AE270,SUM($AI$21:AI269,$AM$21:AM269),SUM($AJ$21:AJ269,$AN$21:AN269),DIEligibility))","v":0},{"$f":"IF(AO270=0,\"\",PercentDI(AO270))","v":""},{"$f":"IF(AO270=0,\"\",DIDECODE(AO270))","v":""},{"$f":"IF(AO270=0,\"\",PDECODE(AO270))","v":""},{"$f":"IF(OR(W270<>\"\",AC270=0),0,LtCTRLIncentive(M270,L270,O270,G270,F270,E270,J270,SUM($AI$21:AI270,$AM$21:AM269),SUM($AJ$21:AJ270,$AN$21:AN269),DIEligibility))","v":0},0,0,0,0,0]
[null,{"$f":"ROWS($B$22:B271)-1","v":249},null,null,null,null,null,{"$f":"IF(CType=\"NC\",0,IF($E271=\"\",\"\",WattsPerFixture(E271)))","v":""},"",null,null,null,null,{"$f":"IF($J271=\"\",\"\",WattsPerFixture(J271))","v":""},"",null,null,null,null,"",{"$f":"IF(OR(V271=\"\",COUNTIF($V$21:V271,V271)>1),\"\",ROW())","v":""},"","",0,0,0,0,0,0,0,0,0,0,{"$f":"IF(AK271=0,\"\",IF(AK271=\"X\",1,PercentDI(AK271)))","v":""},{"$f":"IF(AK271=0,\"\",DIDECODE(AK271))","v":""},{"$f":"IF(AK271=0,\"\",PDECODE(AK271))","v":""},{"$f":"IF(OR(W271<>\"\",AND(Y271=0,AB271=0)),0,LtIncentive(E271,F271,J271,L271,N271,K271,AE271,SUM($AI$21:AI270,$AM$21:AM270),SUM($AJ$21:AJ270,$AN$21:AN270),DIEligibility))","v":0},{"$f":"IF(AO271=0,\"\",PercentDI(AO271))","v":""},{"$f":"IF(AO271=0,\"\",DIDECODE(AO271))","v":""},{"$f":"IF(AO271=0,\"\",PDECODE(AO271))","v":""},{"$f":"IF(OR(W271<>\"\",AC271=0),0,LtCTRLIncentive(M271,L271,O271,G271,F271,E271,J271,SUM($AI$21:AI271,$AM$21:AM270),SUM($AJ$21:AJ271,$AN$21:AN270),DIEligibility))","v":0},0,0,0,0,0]
[null,{"$f":"ROWS($B$22:B272)-1","v":250},null,null,null,null,null,{"$f":"IF(CType=\"NC\",0,IF($E272=\"\",\"\",WattsPerFixture(E272)))","v":""},"",null,null,null,null,{"$f":"IF($J272=\"\",\"\",WattsPerFixture(J272))","v":""},"",null,null,null,null,"",{"$f":"IF(OR(V272=\"\",COUNTIF($V$21:V272,V272)>1),\"\",ROW())","v":""},"","",0,0,0,0,0,0,0,0,0,0,{"$f":"IF(AK272=0,\"\",IF(AK272=\"X\",1,PercentDI(AK272)))","v":""},{"$f":"IF(AK272=0,\"\",DIDECODE(AK272))","v":""},{"$f":"IF(AK272=0,\"\",PDECODE(AK272))","v":""},{"$f":"IF(OR(W272<>\"\",AND(Y272=0,AB272=0)),0,LtIncentive(E272,F272,J272,L272,N272,K272,AE272,SUM($AI$21:AI271,$AM$21:AM271),SUM($AJ$21:AJ271,$AN$21:AN271),DIEligibility))","v":0},{"$f":"IF(AO272=0,\"\",PercentDI(AO272))","v":""},{"$f":"IF(AO272=0,\"\",DIDECODE(AO272))","v":""},{"$f":"IF(AO272=0,\"\",PDECODE(AO272))","v":""},{"$f":"IF(OR(W272<>\"\",AC272=0),0,LtCTRLIncentive(M272,L272,O272,G272,F272,E272,J272,SUM($AI$21:AI272,$AM$21:AM271),SUM($AJ$21:AJ272,$AN$21:AN271),DIEligibility))","v":0},0,0,0,0,0]
[null,{"$f":"ROWS($B$22:B273)-1","v":251},null,null,null,null,null,{"$f":"IF(CType=\"NC\",0,IF($E273=\"\",\"\",WattsPerFixture(E273)))","v":""},"",null,null,null,null,{"$f":"IF($J273=\"\",\"\",WattsPerFixture(J273))","v":""},"",null,null,null,{"$f":"IF(OR(T273=\"\",COUNTIF($T$21:T273,T273)>1),\"\",ROW())","v":""},"",{"$f":"IF(OR(V273=\"\",COUNTIF($V$21:V273,V273)>1),\"\",ROW())","v":""},"","",0,0,0,0,0,0,0,0,0,0,{"$f":"IF(AK273=0,\"\",IF(AK273=\"X\",1,PercentDI(AK273)))","v":""},{"$f":"IF(AK273=0,\"\",DIDECODE(AK273))","v":""},{"$f":"IF(AK273=0,\"\",PDECODE(AK273))","v":""},{"$f":"IF(OR(W273<>\"\",AND(Y273=0,AB273=0)),0,LtIncentive(E273,F273,J273,L273,N273,K273,AE273,SUM($AI$21:AI272,$AM$21:AM272),SUM($AJ$21:AJ272,$AN$21:AN272),DIEligibility))","v":0},{"$f":"IF(AO273=0,\"\",PercentDI(AO273))","v":""},{"$f":"IF(AO273=0,\"\",DIDECODE(AO273))","v":""},{"$f":"IF(AO273=0,\"\",PDECODE(AO273))","v":""},{"$f":"IF(OR(W273<>\"\",AC273=0),0,LtCTRLIncentive(M273,L273,O273,G273,F273,E273,J273,SUM($AI$21:AI273,$AM$21:AM272),SUM($AJ$21:AJ273,$AN$21:AN272),DIEligibility))","v":0},0,0,0,0,0]

{"sheet":"Project  Summary","index":6,"n_rows":20,"n_cols":23,"rows_kept":20,"cut":false,"hidden":true,"merged":[[9,23,9,25],[11,2,12,2],[11,3,11,4],[2,10,2,15],[3,2,3,7],[3,13,3,16],[4,2,5,16],[6,2,6,7],[7,3,7,6],[7,9,7,13],[16,2,16,6],[20,8,20,16],[16,12,17,16],[8,3,8,6],[8,9,8,13],[9,9,9,13]]}
[]
[]
[null,null,{"$f":"Program","v":"Commercial Prescriptive Rebate Program"},null,null,null,null,null,null,null,{"$f":"'Customer Information'!I3","v":"Lighting Savings Calculator"},null,null,null,null,null,null,null,null,null,"Year","Existing Cost","Proposed Cost"]
[null,null,"Please Note",null,null,null,null,null,null,null,null,null,null,{"$f":"'Tool Information'!C5","v":"10.02.2024"},null,null,null,null,null,null,{"$f":"IF(OR(O16<0,F16<=0),0,$O$16/F16)","v":0},{"$f":"IF(U4=0,SUM(V12:W12)*1.5,W4)","v":0},{"$f":"O16+(U4* CostP)","v":0}]
[null,null,"You expressly acknowledge and agree that use of the this lighting tool is at your sole risk. The estimated savings, incentives and simple payback are provided \"AS IS\", Santee Cooper does not warrant that the functions contained in this lighting tool will meet your requirements, or that the operation of the Lighting Tool will be uninterrupted or error-free, or against defects in the use of this lighting tool or related documentation in terms of their correctness, accuracy, reliability, or otherwise. ",null,null,null,null,null,null,null,null,null,null,null,null,null,null,null,null,null,0,0,0]
[null,null,null,null,null,null,null,null,null,null,null,null,null,null,null,null,null,null,null,null,0,{"$f":"CostE*U6","v":0},{"$f":"$O$16+(U6*CostP)","v":0}]
[null,null,"Customer Information",null,null,null,null,null,"Contractor Information",null,null,null,null,null,null,null,null,null,null,null,{"$f":"IF($U$4=0,ROWS($U$6:U6),$U$4/5+U6)","v":1},0,{"$f":"$O$16+(U7*CostP)","v":0}]
[null,null,"Project",{"$f":"IF('Customer Information'!D10=\"\",\"\",'Customer Information'!D10)","v":""},null,null,null,null,"Company",{"$f":"IF('Customer Information'!D20=\"\",\"\",'Customer Information'!D20)","v":""},null,null,null,null,null,null,null,null,null,null,{"$f":"IF($U$4=0,ROWS($U$6:U7),$U$4/5+U7)","v":2},0,0]
[null,null,"Company",{"$f":"IF('Customer Information'!D11=\"\",\"\",'Customer Information'!D11)","v":""},null,null,null,null,"Contact",{"$f":"IF('Customer Information'!D23=\"\",\"\",'Customer Information'!D23)","v":""},null,null,null,null,null,null,null,null,null,null,{"$f":"IF($U$4=0,ROWS($U$6:U8),$U$4/5+U8)","v":3},0,0]
[null,null,null,null,null,null,null,null,"Email",{"$f":"IF('Customer Information'!E24=\"\",\"\",'Customer Information'!E24)","v":""},null,null,null,null,null,null,null,null,null,null,{"$f":"IF($U$4=0,ROWS($U$6:U9),$U$4/5+U9)","v":4},0,0]
[null,null,"Estimated Lighting Usage and Savings",null,null,null,null,null,null,null,null,null,null,null,null,null,null,null,null,null,{"$f":"IF($U$4=0,ROWS($U$6:U10),$U$4/5+U10)","v":5},0,0]
[null,null,"Annual Values","Total Usage",null,"Total",null,null,"Project Cost Analysis",null,null,null,null,null,null,null,null,null,null,null,{"$f":"IF($U$4=0,ROWS($U$6:U11),$U$4/5+U11)","v":6},0,0]
[null,null,null,{"$f":"IF(CType = \"NC\",\"Code\",\"Existing\")","v":"Existing"},"Proposed","Savings",null,null,null,null,"Eligible kW",null,"Lighting",null,{"$f":"'Project Information'!B16","v":"Preliminary"},"Current View"]
[null,null,"kW",{"$f":"'Project Information'!Y19","v":0},{"$f":"'Project Information'!AB19","v":0},{"$f":"'Project Information'!AE17","v":0},null,null,null,null,{"$f":"'Project Information'!D14","v":0},null,{"$f":"'Project Information'!AI17","v":0},null,{"$f":"Cost","v":0},"Project Cost"]
[null,null,"kWh",{"$f":"SUM('Project Information'!Z19:AA19)","v":0},{"$f":"SUM('Project Information'!AC19:AD19)","v":0},{"$f":"SUM('Project Information'!AF17:AG17)","v":0},null,null,null,null,null,null,{"$f":"'Project Information'!AJ17","v":0},null,{"$f":"'Project Information'!D13","v":0},"Incentive"]
[null,null,"Utility Bill Cost",{"$f":"D14*DkWCharge*12+D15*DKwhCharge","v":0},{"$f":"E14*DkWCharge*12+E15*DKwhCharge","v":0},{"$f":"F14*DkWCharge*12+F15*DKwhCharge","v":0},null,null,null,null,null,null,"Controls",null,{"$f":"MAX(0,O14-O15)","v":0},"Final Cost"]
[null,null,{"$f":"TEXT(ABS(1-IF(D16=0,0,E16/D16)),\"0.0%\")& IF(D16<E16,\" Estimated Rise In Energy Cost\",\" Estimated Reduction In Energy Cost\")","v":"100.0% Estimated Reduction In Energy Cost"},null,null,null,null,null,null,null,null,null,{"$f":"IF('Project Information'!AM17=0, \"Not Eligible For Rebate\",IF(O15=PCap,\"Rebate Capped\",\"\"))","v":"Rebate Capped"}]
[]
[]
[null,null,null,null,null,null,null,null,"Estimated Project Payback"]

{"sheet":"Fixture Legend","index":7,"n_rows":31,"n_cols":7,"rows_kept":31,"cut":false,"hidden":false,"merged":[[1,1,1,4],[22,1,22,4],[29,1,29,2],[30,1,30,2],[27,1,27,2],[28,1,28,2],[23,1,23,2],[24,1,24,2],[26,1,26,2],[25,1,25,2]]}
[]
[null,"Fixture Legend"]
[null,"Tech","Description","Code","Main Tech List"]
[null,"Fluorescent","FT5","FT5",{"$f":"IFERROR(INDEX($B$4:$B$21, MATCH(0,COUNTIF($E$3:E3, $B$4:$B$21), 0)),\"\")","v":"Fluorescent"}]
[null,"Fluorescent","FT8","FT8",{"$f":"IFERROR(INDEX($B$4:$B$21, MATCH(0,COUNTIF($E$3:E4, $B$4:$B$21), 0)),\"\")","v":"HID"}]
[null,"Fluorescent","FUT8","FUT8",{"$f":"IFERROR(INDEX($B$4:$B$21, MATCH(0,COUNTIF($E$3:E5, $B$4:$B$21), 0)),\"\")","v":"LED"}]
[null,"Fluorescent","FUT12","FUT12",{"$f":"IFERROR(INDEX($B$4:$B$21, MATCH(0,COUNTIF($E$3:E6, $B$4:$B$21), 0)),\"\")","v":"Incandescent"}]
[null,"Fluorescent","FT12","FT12",{"$f":"IFERROR(INDEX($B$4:$B$21, MATCH(0,COUNTIF($E$3:E7, $B$4:$B$21), 0)),\"\")","v":"Induction"}]
[null,"Fluorescent","CFL Screw In","CFL",{"$f":"IFERROR(INDEX($B$4:$B$21, MATCH(0,COUNTIF($E$3:E8, $B$4:$B$21), 0)),\"\")","v":"CUSTOM"}]
[null,"Fluorescent","CFL Pin Base","CFLPB",{"$f":"IFERROR(INDEX($B$4:$B$21, MATCH(0,COUNTIF($E$3:E9, $B$4:$B$21), 0)),\"\")","v":""}]
[null,"HID","Ceramic Metal Halide","CMH",{"$f":"IFERROR(INDEX($B$4:$B$21, MATCH(0,COUNTIF($E$3:E10, $B$4:$B$21), 0)),\"\")","v":""}]
[null,"HID","Standard Metal Halide","MH",{"$f":"IFERROR(INDEX($B$4:$B$21, MATCH(0,COUNTIF($E$3:E11, $B$4:$B$21), 0)),\"\")","v":""}]
[null,"HID","Pulse Start Metal Halide","PSMH",{"$f":"IFERROR(INDEX($B$4:$B$21, MATCH(0,COUNTIF($E$3:E12, $B$4:$B$21), 0)),\"\")","v":""}]
[null,"HID","High Pressure Sodium","HPS",{"$f":"IFERROR(INDEX($B$4:$B$21, MATCH(0,COUNTIF($E$3:E13, $B$4:$B$21), 0)),\"\")","v":""}]
[null,"LED","Underwater Lighting","LEDUW",{"$f":"IFERROR(INDEX($B$4:$B$21, MATCH(0,COUNTIF($E$3:E14, $B$4:$B$21), 0)),\"\")","v":""}]
[null,"LED","Certified","LED",{"$f":"IFERROR(INDEX($B$4:$B$21, MATCH(0,COUNTIF($E$3:E15, $B$4:$B$21), 0)),\"\")","v":""}]
[null,"LED","Non Certified","NCLED",{"$f":"IFERROR(INDEX($B$4:$B$21, MATCH(0,COUNTIF($E$3:E16, $B$4:$B$21), 0)),\"\")","v":""}]
[null,"LED","General Service Lamp","GSL"]
[null,"Incandescent","Standard","INC",{"$f":"IFERROR(INDEX($B$4:$B$21, MATCH(0,COUNTIF($E$3:E17, $B$4:$B$21), 0)),\"\")","v":""}]
[null,"Induction","Standard","IND",{"$f":"IFERROR(INDEX($B$4:$B$21, MATCH(0,COUNTIF($E$3:E19, $B$4:$B$21), 0)),\"\")","v":""}]
[null,"CUSTOM","OTHER","CUST",{"$f":"IFERROR(INDEX($B$4:$B$21, MATCH(0,COUNTIF($E$3:E20, $B$4:$B$21), 0)),\"\")","v":""}]
[]
[null,"Lighting Control Legend"]
[null,"Description",null,"Code","Incentive","Min Controled Watts","Savings"]
[null,"Area Day Lighting Control",null,"ADL",45,45,0.31]
[null,"Dimming Control",null,"DIM",45,45,0.31]
[null,"Bi-level Lighting Control",null,"BLC",45,45,0.31]
[null,"Remote Ceiling Mounted Occupancy Control",null,"COC",50,175,0.31]
[null,"Remote Wall Mounted Occupancy Control",null,"WOC",10,30,0.31]
[null,"Fixture Mounted Occupancy Control",null,"FOC",10,30,0.31]
[null,"Duplicate Sensor (See Instruction Manual)",null,"DUP"]

{"sheet":"Help","index":8,"n_rows":63,"n_cols":3,"rows_kept":63,"cut":false,"hidden":false,"merged":[[63,2,63,11],[62,2,62,11],[59,2,59,11],[52,2,52,11],[53,2,53,11],[55,2,55,11],[60,2,60,11],[46,2,49,11],[39,2,39,11],[40,2,41,11],[61,2,61,11],[58,2,58,11],[57,2,57,5],[50,2,50,11],[51,2,51,11],[43,2,43,4],[44,2,44,11],[27,1,27,11],[29,2,30,11],[32,2,34,11],[35,2,36,11],[37,1,37,11],[31,2,31,11],[19,2,20,11],[22,2,24,11],[1,0,1,12],[26,2,26,11],[15,2,15,11],[2,1,2,11],[4,2,5,11],[12,2,13,11],[16,2,16,11],[17,2,17,11],[25,2,25,11],[9,2,10,11]]}
[]
["Lighting Workbook Help and Instructions"]
[null,"Customer Information Tab"]
[null,"Enable Macros"]
[null,null,"Macros must be enabled for the functions of the workbook to work properly. For further explanation, refer to the Microsoft Office Excel Help function."]
[]
[null,"Processing Information"]
[null,null,"This should be completed by Santee Cooper personnel."]
[null,"Project Site Information"]
[null,null,"Enter Project Site information. Project site is the site at which the project is being installed, including the customer name of the contact for the site.  The electricity retail rate is required to populate the project summary including payback. "]
[]
[null,"Contractor Information"]
[null,null,"Enter the information for the project sponsor involved in the project. If the project will be self-installed by the customer, check the box marked 'Self Install'."]
[]
[null,"Total Project Costs (Required to calculate pay-back.)"]
[null,null,"Material: Enter the costs of all installed lighting equipment (i.e. fixtures, lamps, ballasts, controls, etc.)"]
[null,null,"Labor: Enter the costs of all labor. "]
[null,null,"Other: Enter all other applicable costs (i.e. sales tax, permit and disposal fees, equipment rentals, etc.)"]
[null,"Building Type and Size"]
[null,null,"Building Type: Enter the facility type for the project.  The building types have associated deemed operating hours that have been approved by PUCT. Building type is subject to verification by inspection."]
[]
[null,"Lighting Operation Schedule"]
[null,null,"Define up to five different operating schedules that reflect the facility's operational schedule. These can be applied on a space-by-space basis. These operating schedules are used in determining the customer's annual utility bill saving, which is used in calculating payback on the Project Summary tab. "]
[]
[]
[null,null,"Open Major Holidays: This refers to nationally observed holidays during which federal institutions are closed. "]
[null,null,"Operation Weeks per Year: Enter the weeks per year the facility is in operation. "]
[null,"Project Information Tab"]
[null,"Equipment Entry:"]
[null,null,"Schedule: For each line item, select a schedule (A,B,C,D, E etc.) and space type, from those that were input on the Operation Schedule tab."]
[]
[null,null,"Room Number or Location: For each line item, provide a unique identifier for the specific location of the fixtures."]
[null,null,"Fixture and Quantity: For each line item, select an existing and proposed fixture type and quantity of that fixture. Use the 'Fixture Filter' section to locate the proper lamp and ballast combination. Please refer to the Fixture Code Legend tab for coding descriptors."]
[]
[]
[null,null,"Controls: For each line item, select the applicable control type from the drop-down list or enter the % of reduction caused by the control. This box can be left blank if no control is present."]
[]
[null,"Project Summary Tab"]
[null," Annual Lighting Usage Analysis"]
[null,null,"Savings Per Year"]
[null,null,"The customer's estimated total annual utility bill savings for the retrofit or new construction, based on the defined operating schedules and specified utility rate charge. "]
[]
[null,"Project Cost Analysis"]
[null,null,"Project Cost"]
[null,null,"The Total Project Cost as entered on the Customer Information tab."]
[null,null,"Incentive"]
[null,null,"The incentive is the estimated amount of money to be paid to the incentive recipient for the installation of qualifying equipment. The incentive is based on the demand and energy savings. Final incentive is subject to change based on verification of project details. See Santee Cooper website for details and complete terms and conditions."]
[]
[]
[]
[null,null,"Without Incentive"]
[null,null,"The simple payback before subtracting incentives and other reductions. "]
[null,null,"With Incentive"]
[null,null,"The simple payback after subtracting incentives and other reductions. "]
[null,"Percent of Initial Project Cost (Pie Chart)"]
[null,null,"Shows the percentage of Initial Project Cost represented by the Incentive and Other Reductions (if any)."]
[null,"Estimated Equipment Electrical Costs (Line Graph)"]
[null,null,"Existing Cost (Blue Line)"]
[null,null,"Shows the cumulative electric utility costs for the existing equipment. "]
[null,null,"Proposed Cost (Green Line)"]
[null,null,"Shows the cumulative electric utility costs for the proposed equipment. "]
[null,null,"Simple Payback (Red Dot)"]
[null,null,"Reflects the Simple Payback \"With Incentives\" value from the Simple Payback box. This is the point at which the cumulative utility bill savings matches the project cost."]

{"sheet":"Factors","index":9,"n_rows":35,"n_cols":3,"rows_kept":35,"cut":false,"hidden":true,"merged":[]}
[{"$f":"BType","v":0},{"$f":"IF(BType=\"\",0,VLOOKUP(BType,Spaces,2,0))","v":0},{"$f":"SQFT*LPD","v":0}]
["Santee Cooper Calculation Factors","LPD"]
["Custom Lighting Power Density",0]
["Automotive Facility",0.9]
["Convention Center",1.2]
["Courthouse",1.2]
["Dining: Bar Lounge / Leisure",1.3]
["Dining: Cafeteria / Fast Food",1.4]
["Dining: Family",1.6]
["Dormitory",1]
["Exercise Center",1]
["Gymnasium",1.1000000000000001]
["Health Care: Clinic",1]
["Hospital",1.2]
["Hotel",1]
["Library",1.3]
["Manufacturing Facility",1.3]
["Motel",1]
["Multifamily",0.7]
["Museum",1.1000000000000001]
["Office ",1]
["Parking Garage",0.3]
["Penitentiary",1]
["Police / Fire Station",1]
["Post Office",1.1000000000000001]
["Religious Facility",1.3]
["Retail",1.5]
["School / University",1.2]
["Sports Arena",1.1000000000000001]
["Theater: Motion picture",1.2]
["Theater: Performing Arts",1.6]
["Town Hall",1.1000000000000001]
["Transportation",1]
["Warehouse / Storage Area",0.8]
["Workshop",1.4]

{"sheet":"CWT","index":10,"n_rows":1604,"n_cols":20,"rows_kept":1604,"cut":false,"hidden":true,"merged":[]}
[{"$f":"COLUMN()","v":1},{"$f":"COLUMN()","v":2},{"$f":"COLUMN()","v":3},{"$f":"COLUMN()","v":4},{"$f":"COLUMN()","v":5},{"$f":"COLUMN()","v":6},{"$f":"COLUMN()","v":7},{"$f":"COLUMN()","v":8},{"$f":"COLUMN()","v":9},{"$f":"COLUMN()","v":10},{"$f":"COLUMN()","v":11},{"$f":"COLUMN()","v":12},{"$f":"COLUMN()","v":13},{"$f":"COLUMN()","v":14},{"$f":"COLUMN()","v":15},{"$f":"COLUMN()","v":16},{"$f":"COLUMN()","v":17},{"$f":"COLUMN()","v":18},{"$f":"COLUMN()","v":19}]
["FixtureCode","FixtureText","LampCatagoryCode","FixtureTypeCode","FixtureTypeCode2","BallastStartType","BallastFactorText","ConfigCode","LightCatagory","FixtureType","FixtureType2","LampWattage","LampsQTY","BallastTypeText","BallastFactorCode","LampLengthFT","BallastQTY","ConfigText","WATTAG USED IN CALC\n(Actual)"]
[{"$f":"C3&D3&E3&IF(L3=\"\",\"\",\"-\"&L3&\"W\")&IF(OR(M3=1,M3=\"\"),\"\",\" x \"&M3&\"L\")&IF(P3=\"\",\"\",\" x \"&P3&\"'\")&IF(F3=\"\",\"\",\"-\"&IF(Q3=1,\"\",Q3&\" \")&F3&IF(O3=\"\",\"\",\" \"&O3)&IF(H3=\"\",\"\",\" \"&H3))","v":"FLT12VHO-215W x 2L x 8'-MG"},{"$f":"I3& IF(J3=\"\",\"\",\" \"&J3)&IF(K3=\"\",\"\",\" \"&K3)&\" (\"&L3&\"W\"&IF(M3=\"\",\"\",\" x \"&M3 & \"L\")&IF(P3=\"\",\"\",\" x \"&P3&\"'\")&\")\"&IF(N3=\"\",\"\",\" \"&Q3&\" \"&N3&\" \"&G3)&\" \"&R3","v":"Fluorescent Linear T12 VHO (215W x 2L x 8') 1 Magnetic Ballast  "},"F","L","T12VHO","MG",null,null,"Fluorescent","Linear","T12 VHO",215,2,"Magnetic Ballast",null,8,1,null,326]
["FLT12HO-110W x 2L x 8'-IS N","Fluorescent Linear T12 HO (110W x 2L x 8') 1 Instant start Ballast (0.85 < BF < 0.95) ","F","L","T12HO","IS","(0.85 < BF < 0.95)",null,"Fluorescent","Linear","T12 HO",110,2,"Instant start Ballast","N",8,1,null,173]
["FLT12-75W x 2L x 8'-IS N","Fluorescent Linear T12 (75W x 2L x 8') 1 Instant start Ballast (0.85 < BF < 0.95) ","F","L","T12","IS","(0.85 < BF < 0.95)",null,"Fluorescent","Linear","T12",75,2,"Instant start Ballast","N",8,1,null,110]
["FLT12VHO-215W x 3L x 8'-MG","Fluorescent Linear T12 VHO (215W x 3L x 8') 1 Magnetic Ballast  ","F","L","T12VHO","MG",null,null,"Fluorescent","Linear","T12 VHO",215,3,"Magnetic Ballast",null,8,1,null,585]
["FLT12HO-95W x 8'-IS N","Fluorescent Linear T12 HO (95W x 1L x 8') 1 Instant start Ballast (0.85 < BF < 0.95) ","F","L","T12HO","IS","(0.85 < BF < 0.95)",null,"Fluorescent","Linear","T12 HO",95,1,"Instant start Ballast","N",8,1,null,80]
["FLT12HO-110W x 4L x 8'-2 IS N","Fluorescent Linear T12 HO (110W x 4L x 8') 2 Instant start Ballast (0.85 < BF < 0.95) ","F","L","T12HO","IS","(0.85 < BF < 0.95)",null,"Fluorescent","Linear","T12 HO",110,4,"Instant start Ballast","N",8,2,null,346]
["FLT8-40W x 5'-IS VR","Fluorescent Linear T8 (40W x 1L x 5') 1 Instant start Ballast (BF < 0.75) ","F","L","T8","IS","(BF < 0.75)",null,"Fluorescent","Linear","T8",40,1,"Instant start Ballast","VR",5,1,null,29]
["FLT12-75W x 4L x 8'-2 IS N","Fluorescent Linear T12 (75W x 4L x 8') 2 Instant start Ballast (0.85 < BF < 0.95) ","F","L","T12","IS","(0.85 < BF < 0.95)",null,"Fluorescent","Linear","T12",75,4,"Instant start Ballast","N",8,2,null,220]
["FUT8-32W x 4L x 2'-RS/PRS VR","Fluorescent U Tube T8 (32W x 4L x 2') 1 Rapid/Program Start Ballast (BF < 0.75) ","F","U","T8","RS/PRS","(BF < 0.75)",null,"Fluorescent","U Tube","T8",32,4,"Rapid/Program Start Ballast","VR",2,1,null,88]
["FLT8-59W x 2L x 8'-IS R","Fluorescent Linear T8 (59W x 2L x 8') 1 Instant start Ballast (0.75 < BF < 0.85) ","F","L","T8","IS","(0.75 < BF < 0.85)",null,"Fluorescent","Linear","T8",59,2,"Instant start Ballast","R",8,1,null,98]
["FLT12VHO-215W x 8'-MG","Fluorescent Linear T12 VHO (215W x 1L x 8') 1 Magnetic Ballast  ","F","L","T12VHO","MG",null,null,"Fluorescent","Linear","T12 VHO",215,1,"Magnetic Ballast",null,8,1,null,205]
["FLT8-32W x 4L x 4'-IS VR","Fluorescent Linear T8 (32W x 4L x 4') 1 Instant start Ballast (BF < 0.75) ","F","L","T8","IS","(BF < 0.75)",null,"Fluorescent","Linear","T8",32,4,"Instant start Ballast","VR",4,1,null,90]
["FUT8-32W x 3L x 2'-RS/PRS VR","Fluorescent U Tube T8 (32W x 3L x 2') 1 Rapid/Program Start Ballast (BF < 0.75) ","F","U","T8","RS/PRS","(BF < 0.75)",null,"Fluorescent","U Tube","T8",32,3,"Rapid/Program Start Ballast","VR",2,1,null,68]
["FUT8-30W x 2'-IS R","Fluorescent U Tube T8 (30W x 1L x 2') 1 Instant start Ballast (0.75 < BF < 0.85) ","F","U","T8","IS","(0.75 < BF < 0.85)",null,"Fluorescent","U Tube","T8",30,1,"Instant start Ballast","R",2,1,null,21]
["FUT8-30W x 4L x 2'-IS R","Fluorescent U Tube T8 (30W x 4L x 2') 1 Instant start Ballast (0.75 < BF < 0.85) ","F","U","T8","IS","(0.75 < BF < 0.85)",null,"Fluorescent","U Tube","T8",30,4,"Instant start Ballast","R",2,1,null,84]
["FLT8-32W x 4L x 4'-RS/PRS(E) VR","Fluorescent Linear T8 (32W x 4L x 4') 1 Efficient Rapid/Program Start Ballast (BF < 0.75) ","F","L","T8","RS/PRS(E)","(BF < 0.75)",null,"Fluorescent","Linear","T8",32,4,"Efficient Rapid/Program Start Ballast","VR",4,1,null,92]
["FLT8-32W x 2L x 4'-RS/PRS VR","Fluorescent Linear T8 (32W x 2L x 4') 1 Rapid/Program Start Ballast (BF < 0.75) ","F","L","T8","RS/PRS","(BF < 0.75)",null,"Fluorescent","Linear","T8",32,2,"Rapid/Program Start Ballast","VR",4,1,null,46]
["FLT8-32W x 4L x 4'-CEE PS/PRS DIM VR","Fluorescent Linear T8 (32W x 4L x 4') 1 CEE Dimmable PS/PRS Ballast (BF < 0.75) ","F","L","T8","CEE PS/PRS DIM","(BF < 0.75)",null,"Fluorescent","Linear","T8",32,4,"CEE Dimmable PS/PRS Ballast","VR",4,1,null,93]
["FLT8CEE-32W x 4L x 4'-CEE PS/PRS DIM CEE L","Fluorescent Linear T8 CEE  (32W x 4L x 4') 1 CEE Dimmable PS/PRS Ballast (BF < 0.85) ","F","L","T8CEE","CEE PS/PRS DIM","(BF < 0.85)",null,"Fluorescent","Linear","T8 CEE ",32,4,"CEE Dimmable PS/PRS Ballast","CEE L",4,1,null,93]
["FUT8-28W x 3L x 2'-RS/PRS VR","Fluorescent U Tube T8 (28W x 3L x 2') 1 Rapid/Program Start Ballast (BF < 0.75) ","F","U","T8","RS/PRS","(BF < 0.75)",null,"Fluorescent","U Tube","T8",28,3,"Rapid/Program Start Ballast","VR",2,1,null,58]
["FUT8-30W x 2L x 2'-IS R","Fluorescent U Tube T8 (30W x 2L x 2') 1 Instant start Ballast (0.75 < BF < 0.85) ","F","U","T8","IS","(0.75 < BF < 0.85)",null,"Fluorescent","U Tube","T8",30,2,"Instant start Ballast","R",2,1,null,43]
["FLT8-30W x 4L x 4'-RS/PRS VR","Fluorescent Linear T8 (30W x 4L x 4') 1 Rapid/Program Start Ballast (BF < 0.75) ","F","L","T8","RS/PRS","(BF < 0.75)",null,"Fluorescent","Linear","T8",30,4,"Rapid/Program Start Ballast","VR",4,1,null,86]
["FLT8-32W x 2L x 4'-CEE PS/PRS DIM R","Fluorescent Linear T8 (32W x 2L x 4') 1 CEE Dimmable PS/PRS Ballast (0.75 < BF < 0.85) ","F","L","T8","CEE PS/PRS DIM","(0.75 < BF < 0.85)",null,"Fluorescent","Linear","T8",32,2,"CEE Dimmable PS/PRS Ballast","R",4,1,null,47]
["FLT8CEE-32W x 4L x 4'-CEE RS/PRS CEE L","Fluorescent Linear T8 CEE  (32W x 4L x 4') 1 CEE Rapid/Program Start Ballast (BF < 0.85) ","F","L","T8CEE","CEE RS/PRS","(BF < 0.85)",null,"Fluorescent","Linear","T8 CEE ",32,4,"CEE Rapid/Program Start Ballast","CEE L",4,1,null,94]
["FLT8-32W x 4L x 4'-RS/PRS VR","Fluorescent Linear T8 (32W x 4L x 4') 1 Rapid/Program Start Ballast (BF < 0.75) ","F","L","T8","RS/PRS","(BF < 0.75)",null,"Fluorescent","Linear","T8",32,4,"Rapid/Program Start Ballast","VR",4,1,null,94]
["FLT8-32W x 6L x 4'-RS/PRS VR","Fluorescent Linear T8 (32W x 6L x 4') 1 Rapid/Program Start Ballast (BF < 0.75) ","F","L","T8","RS/PRS","(BF < 0.75)",null,"Fluorescent","Linear","T8",32,6,"Rapid/Program Start Ballast","VR",4,1,null,141]
["FUT8-32W x 2L x 2'-RS/PRS VR","Fluorescent U Tube T8 (32W x 2L x 2') 1 Rapid/Program Start Ballast (BF < 0.75) ","F","U","T8","RS/PRS","(BF < 0.75)",null,"Fluorescent","U Tube","T8",32,2,"Rapid/Program Start Ballast","VR",2,1,null,47]
["FLT8-40W x 4L x 5'-IS H","Fluorescent Linear T8 (40W x 4L x 5') 1 Instant start Ballast (0.95 < BF < 1.10) ","F","L","T8","IS","(0.95 < BF < 1.10)",null,"Fluorescent","Linear","T8",40,4,"Instant start Ballast","H",5,1,null,126]
["FUT12-40W x 2L x 2'-IS N","Fluorescent U Tube T12 (40W x 2L x 2') 1 Instant start Ballast (0.85 < BF < 0.95) ","F","U","T12","IS","(0.85 < BF < 0.95)",null,"Fluorescent","U Tube","T12",40,2,"Instant start Ballast","N",2,1,null,63]
["FLT12HO-95W x 2L x 8'-IS N","Fluorescent Linear T12 HO (95W x 2L x 8') 1 Instant start Ballast (0.85 < BF < 0.95) ","F","L","T12HO","IS","(0.85 < BF < 0.95)",null,"Fluorescent","Linear","T12 HO",95,2,"Instant start Ballast","N",8,1,null,173]
["FLT8-30W x 3L x 4'-RS/PRS VR","Fluorescent Linear T8 (30W x 3L x 4') 1 Rapid/Program Start Ballast (BF < 0.75) ","F","L","T8","RS/PRS","(BF < 0.75)",null,"Fluorescent","Linear","T8",30,3,"Rapid/Program Start Ballast","VR",4,1,null,65]
["FLT8-32W x 3L x 4'-RS/PRS(E) VR","Fluorescent Linear T8 (32W x 3L x 4') 1 Efficient Rapid/Program Start Ballast (BF < 0.75) ","F","L","T8","RS/PRS(E)","(BF < 0.75)",null,"Fluorescent","Linear","T8",32,3,"Efficient Rapid/Program Start Ballast","VR",4,1,null,71]
["FLT8-28W x 4L x 4'-RS/PRS VR","Fluorescent Linear T8 (28W x 4L x 4') 1 Rapid/Program Start Ballast (BF < 0.75) ","F","L","T8","RS/PRS","(BF < 0.75)",null,"Fluorescent","Linear","T8",28,4,"Rapid/Program Start Ballast","VR",4,1,null,79]
["FLT8CEE-32W x 4L x 4'-CEE IS CEE L","Fluorescent Linear T8 CEE  (32W x 4L x 4') 1 CEE Instant Start Ballast (BF < 0.85) ","F","L","T8CEE","CEE IS","(BF < 0.85)",null,"Fluorescent","Linear","T8 CEE ",32,4,"CEE Instant Start Ballast","CEE L",4,1,null,95]
["FLT8-30W x 6L x 4'-RS/PRS VR","Fluorescent Linear T8 (30W x 6L x 4') 1 Rapid/Program Start Ballast (BF < 0.75) ","F","L","T8","RS/PRS","(BF < 0.75)",null,"Fluorescent","Linear","T8",30,6,"Rapid/Program Start Ballast","VR",4,1,null,131]
["FLT8-28W x 3'-RS/PRS VR","Fluorescent Linear T8 (28W x 1L x 3') 1 Rapid/Program Start Ballast (BF < 0.75) ","F","L","T8","RS/PRS","(BF < 0.75)",null,"Fluorescent","Linear","T8",28,1,"Rapid/Program Start Ballast","VR",3,1,null,20]
["FLT8-30W x 3L x 4'-IS(E) R","Fluorescent Linear T8 (30W x 3L x 4') 1 Efficient Instant Start Ballast (0.75 < BF < 0.85) ","F","L","T8","IS(E)","(0.75 < BF < 0.85)",null,"Fluorescent","Linear","T8",30,3,"Efficient Instant Start Ballast","R",4,1,null,66]
["FLT8-30W x 4L x 4'-IS(E) R","Fluorescent Linear T8 (30W x 4L x 4') 1 Efficient Instant Start Ballast (0.75 < BF < 0.85) ","F","L","T8","IS(E)","(0.75 < BF < 0.85)",null,"Fluorescent","Linear","T8",30,4,"Efficient Instant Start Ballast","R",4,1,null,88]
["FLT8-30W x 3L x 4'-IS VR","Fluorescent Linear T8 (30W x 3L x 4') 1 Instant start Ballast (BF < 0.75) ","F","L","T8","IS","(BF < 0.75)",null,"Fluorescent","Linear","T8",30,3,"Instant start Ballast","VR",4,1,null,66]
["FLT8-30W x 2L x 4'-RS/PRS VR","Fluorescent Linear T8 (30W x 2L x 4') 1 Rapid/Program Start Ballast (BF < 0.75) ","F","L","T8","RS/PRS","(BF < 0.75)",null,"Fluorescent","Linear","T8",30,2,"Rapid/Program Start Ballast","VR",4,1,null,44]
["FLT8-32W x 3L x 4'-CEE PS/PRS DIM VR","Fluorescent Linear T8 (32W x 3L x 4') 1 CEE Dimmable PS/PRS Ballast (BF < 0.75) ","F","L","T8","CEE PS/PRS DIM","(BF < 0.75)",null,"Fluorescent","Linear","T8",32,3,"CEE Dimmable PS/PRS Ballast","VR",4,1,null,72]
["FLT8-32W x 4'-CEE PS/PRS DIM VR","Fluorescent Linear T8 (32W x 1L x 4') 1 CEE Dimmable PS/PRS Ballast (BF < 0.75) ","F","L","T8","CEE PS/PRS DIM","(BF < 0.75)",null,"Fluorescent","Linear","T8",32,1,"CEE Dimmable PS/PRS Ballast","VR",4,1,null,24]
["FLT8CEE-32W x 4'-CEE PS/PRS DIM CEE H","Fluorescent Linear T8 CEE  (32W x 1L x 4') 1 CEE Dimmable PS/PRS Ballast (BF < 0.85) ","F","L","T8CEE","CEE PS/PRS DIM","(BF < 0.85)",null,"Fluorescent","Linear","T8 CEE ",32,1,"CEE Dimmable PS/PRS Ballast","CEE H",4,1,null,24]
["FLT8CEE-32W x 2L x 4'-CEE IS CEE L","Fluorescent Linear T8 CEE  (32W x 2L x 4') 1 CEE Instant Start Ballast (BF < 0.85) ","F","L","T8CEE","CEE IS","(BF < 0.85)",null,"Fluorescent","Linear","T8 CEE ",32,2,"CEE Instant Start Ballast","CEE L",4,1,null,48]
["FLT8CEE-32W x 2L x 4'-CEE RS/PRS CEE L","Fluorescent Linear T8 CEE  (32W x 2L x 4') 1 CEE Rapid/Program Start Ballast (BF < 0.85) ","F","L","T8CEE","CEE RS/PRS","(BF < 0.85)",null,"Fluorescent","Linear","T8 CEE ",32,2,"CEE Rapid/Program Start Ballast","CEE L",4,1,null,48]
["FLT8-32W x 2L x 4'-IS(E) R","Fluorescent Linear T8 (32W x 2L x 4') 1 Efficient Instant Start Ballast (0.75 < BF < 0.85) ","F","L","T8","IS(E)","(0.75 < BF < 0.85)",null,"Fluorescent","Linear","T8",32,2,"Efficient Instant Start Ballast","R",4,1,null,48]
["FLT8-32W x 4L x 4'-IS(E) R","Fluorescent Linear T8 (32W x 4L x 4') 1 Efficient Instant Start Ballast (0.75 < BF < 0.85) ","F","L","T8","IS(E)","(0.75 < BF < 0.85)",null,"Fluorescent","Linear","T8",32,4,"Efficient Instant Start Ballast","R",4,1,null,96]
["FUT8-32W x 2L x 2'-IS(E) R","Fluorescent U Tube T8 (32W x 2L x 2') 1 Efficient Instant Start Ballast (0.75 < BF < 0.85) ","F","U","T8","IS(E)","(0.75 < BF < 0.85)",null,"Fluorescent","U Tube","T8",32,2,"Efficient Instant Start Ballast","R",2,1,null,48]
["FLT8-32W x 4'-RS/PRS(E) VR","Fluorescent Linear T8 (32W x 1L x 4') 1 Efficient Rapid/Program Start Ballast (BF < 0.75) ","F","L","T8","RS/PRS(E)","(BF < 0.75)",null,"Fluorescent","Linear","T8",32,1,"Efficient Rapid/Program Start Ballast","VR",4,1,null,24]
["FUT8-32W x 2L x 2'-IS VR","Fluorescent U Tube T8 (32W x 2L x 2') 1 Instant start Ballast (BF < 0.75) ","F","U","T8","IS","(BF < 0.75)",null,"Fluorescent","U Tube","T8",32,2,"Instant start Ballast","VR",2,1,null,48]
["FUT8-32W x 4L x 2'-IS R","Fluorescent U Tube T8 (32W x 4L x 2') 1 Instant start Ballast (0.75 < BF < 0.85) ","F","U","T8","IS","(0.75 < BF < 0.85)",null,"Fluorescent","U Tube","T8",32,4,"Instant start Ballast","R",2,1,null,96]
["FLT8-32W x 3L x 4'-RS/PRS VR","Fluorescent Linear T8 (32W x 3L x 4') 1 Rapid/Program Start Ballast (BF < 0.75) ","F","L","T8","RS/PRS","(BF < 0.75)",null,"Fluorescent","Linear","T8",32,3,"Rapid/Program Start Ballast","VR",4,1,null,72]
["FLT8-28W x 4L x 4'-IS VR","Fluorescent Linear T8 (28W x 4L x 4') 1 Instant start Ballast (BF < 0.75) ","F","L","T8","IS","(BF < 0.75)",null,"Fluorescent","Linear","T8",28,4,"Instant start Ballast","VR",4,1,null,81]
["FLT12-75W x 3L x 8'-2 IS N","Fluorescent Linear T12 (75W x 3L x 8') 2 Instant start Ballast (0.85 < BF < 0.95) ","F","L","T12","IS","(0.85 < BF < 0.95)",null,"Fluorescent","Linear","T12",75,3,"Instant start Ballast","N",8,2,null,179]
["FLT8-28W x 3L x 4'-RS/PRS VR","Fluorescent Linear T8 (28W x 3L x 4') 1 Rapid/Program Start Ballast (BF < 0.75) ","F","L","T8","RS/PRS","(BF < 0.75)",null,"Fluorescent","Linear","T8",28,3,"Rapid/Program Start Ballast","VR",4,1,null,61]
["FLT8-28W x 6L x 4'-RS/PRS VR","Fluorescent Linear T8 (28W x 6L x 4') 1 Rapid/Program Start Ballast (BF < 0.75) ","F","L","T8","RS/PRS","(BF < 0.75)",null,"Fluorescent","Linear","T8",28,6,"Rapid/Program Start Ballast","VR",4,1,null,122]
["FLT8CEE-32W x 3L x 4'-CEE RS/PRS CEE L","Fluorescent Linear T8 CEE  (32W x 3L x 4') 1 CEE Rapid/Program Start Ballast (BF < 0.85) ","F","L","T8CEE","CEE RS/PRS","(BF < 0.85)",null,"Fluorescent","Linear","T8 CEE ",32,3,"CEE Rapid/Program Start Ballast","CEE L",4,1,null,73]
["FLT8CEE-28W x 4L x 4'-CEE RS/PRS CEE L","Fluorescent Linear T8 CEE  (28W x 4L x 4') 1 CEE Rapid/Program Start Ballast (BF < 0.85) ","F","L","T8CEE","CEE RS/PRS","(BF < 0.85)",null,"Fluorescent","Linear","T8 CEE ",28,4,"CEE Rapid/Program Start Ballast","CEE L",4,1,null,82]
["FUT8-28W x 2L x 2'-IS VR","Fluorescent U Tube T8 (28W x 2L x 2') 1 Instant start Ballast (BF < 0.75) ","F","U","T8","IS","(BF < 0.75)",null,"Fluorescent","U Tube","T8",28,2,"Instant start Ballast","VR",2,1,null,41]
["FLT8-28W x 2L x 4'-RS/PRS VR","Fluorescent Linear T8 (28W x 2L x 4') 1 Rapid/Program Start Ballast (BF < 0.75) ","F","L","T8","RS/PRS","(BF < 0.75)",null,"Fluorescent","Linear","T8",28,2,"Rapid/Program Start Ballast","VR",4,1,null,41]
["FUT8-28W x 2L x 2'-RS/PRS VR","Fluorescent U Tube T8 (28W x 2L x 2') 1 Rapid/Program Start Ballast (BF < 0.75) ","F","U","T8","RS/PRS","(BF < 0.75)",null,"Fluorescent","U Tube","T8",28,2,"Rapid/Program Start Ballast","VR",2,1,null,41]
["FLT8-32W x 2L x 4'-RS/PRS(E) VR","Fluorescent Linear T8 (32W x 2L x 4') 1 Efficient Rapid/Program Start Ballast (BF < 0.75) ","F","L","T8","RS/PRS(E)","(BF < 0.75)",null,"Fluorescent","Linear","T8",32,2,"Efficient Rapid/Program Start Ballast","VR",4,1,null,49]
["FLT8CEE-32W x 3L x 4'-CEE IS CEE L","Fluorescent Linear T8 CEE  (32W x 3L x 4') 1 CEE Instant Start Ballast (BF < 0.85) ","F","L","T8CEE","CEE IS","(BF < 0.85)",null,"Fluorescent","Linear","T8 CEE ",32,3,"CEE Instant Start Ballast","CEE L",4,1,null,74]
["FLT8-32W x 3L x 4'-IS(E) R","Fluorescent Linear T8 (32W x 3L x 4') 1 Efficient Instant Start Ballast (0.75 < BF < 0.85) ","F","L","T8","IS(E)","(0.75 < BF < 0.85)",null,"Fluorescent","Linear","T8",32,3,"Efficient Instant Start Ballast","R",4,1,null,74]
[{"$f":"C67&D67&E67&IF(L67=\"\",\"\",\"-\"&L67&\"W\")&IF(OR(M67=1,M67=\"\"),\"\",\" x \"&M67&\"L\")&IF(P67=\"\",\"\",\" x \"&P67&\"'\")&IF(F67=\"\",\"\",\"-\"&IF(Q67=1,\"\",Q67&\" \")&F67&IF(O67=\"\",\"\",\" \"&O67)&IF(H67=\"\",\"\",\" \"&H67))","v":"FUT8-32W x 3L x 2'-IS(E) R"},{"$f":"I67& IF(J67=\"\",\"\",\" \"&J67)&IF(K67=\"\",\"\",\" \"&K67)&\" (\"&L67&\"W\"&IF(M67=\"\",\"\",\" x \"&M67 & \"L\")&IF(P67=\"\",\"\",\" x \"&P67&\"'\")&\")\"&IF(N67=\"\",\"\",\" \"&Q67&\" \"&N67&\" \"&G67)&\" \"&R67","v":"Fluorescent U Tube T8 (32W x 3L x 2') 1 Efficient Instant Start Ballast (0.75 < BF < 0.85) "},"F","U","T8","IS(E)","(0.75 < BF < 0.85)",null,"Fluorescent","U Tube","T8",32,3,"Efficient Instant Start Ballast","R",2,1,null,74]
["FLT8-30W x 4L x 4'-IS R","Fluorescent Linear T8 (30W x 4L x 4') 1 Instant start Ballast (0.75 < BF < 0.85) ","F","L","T8","IS","(0.75 < BF < 0.85)",null,"Fluorescent","Linear","T8",30,4,"Instant start Ballast","R",4,1,null,91]
["FLT8-25W x 2L x 4'-IS(E) VR","Fluorescent Linear T8 (25W x 2L x 4') 1 Efficient Instant Start Ballast (BF < 0.75) ","F","L","T8","IS(E)","(BF < 0.75)",null,"Fluorescent","Linear","T8",25,2,"Efficient Instant Start Ballast","VR",4,1,null,36]
["FLT8-25W x 2L x 3'-RS/PRS VR","Fluorescent Linear T8 (25W x 2L x 3') 1 Rapid/Program Start Ballast (BF < 0.75) ","F","L","T8","RS/PRS","(BF < 0.75)",null,"Fluorescent","Linear","T8",25,2,"Rapid/Program Start Ballast","VR",3,1,null,36]
["FLT8-25W x 3L x 3'-RS/PRS VR","Fluorescent Linear T8 (25W x 3L x 3') 1 Rapid/Program Start Ballast (BF < 0.75) ","F","L","T8","RS/PRS","(BF < 0.75)",null,"Fluorescent","Linear","T8",25,3,"Rapid/Program Start Ballast","VR",3,1,null,54]
["FUT8-25W x 2L x 2'-RS/PRS VR","Fluorescent U Tube T8 (25W x 2L x 2') 1 Rapid/Program Start Ballast (BF < 0.75) ","F","U","T8","RS/PRS","(BF < 0.75)",null,"Fluorescent","U Tube","T8",25,2,"Rapid/Program Start Ballast","VR",2,1,null,36]
["FLT8CEE-28W x 4L x 4'-CEE IS CEE L","Fluorescent Linear T8 CEE  (28W x 4L x 4') 1 CEE Instant Start Ballast (BF < 0.85) ","F","L","T8CEE","CEE IS","(BF < 0.85)",null,"Fluorescent","Linear","T8 CEE ",28,4,"CEE Instant Start Ballast","CEE L",4,1,null,84]
["FLT8-28W x 4L x 4'-IS(E) R","Fluorescent Linear T8 (28W x 4L x 4') 1 Efficient Instant Start Ballast (0.75 < BF < 0.85) ","F","L","T8","IS(E)","(0.75 < BF < 0.85)",null,"Fluorescent","Linear","T8",28,4,"Efficient Instant Start Ballast","R",4,1,null,84]
["FLT8-28W x 2L x 4'-IS VR","Fluorescent Linear T8 (28W x 2L x 4') 1 Instant start Ballast (BF < 0.75) ","F","L","T8","IS","(BF < 0.75)",null,"Fluorescent","Linear","T8",28,2,"Instant start Ballast","VR",4,1,null,42]
["FLT8-28W x 3L x 4'-IS VR","Fluorescent Linear T8 (28W x 3L x 4') 1 Instant start Ballast (BF < 0.75) ","F","L","T8","IS","(BF < 0.75)",null,"Fluorescent","Linear","T8",28,3,"Instant start Ballast","VR",4,1,null,63]
["FUT8-28W x 4L x 2'-IS R","Fluorescent U Tube T8 (28W x 4L x 2') 1 Instant start Ballast (0.75 < BF < 0.85) ","F","U","T8","IS","(0.75 < BF < 0.85)",null,"Fluorescent","U Tube","T8",28,4,"Instant start Ballast","R",2,1,null,84]
["FLT8-28W x 2L x 3'-RS/PRS VR","Fluorescent Linear T8 (28W x 2L x 3') 1 Rapid/Program Start Ballast (BF < 0.75) ","F","L","T8","RS/PRS","(BF < 0.75)",null,"Fluorescent","Linear","T8",28,2,"Rapid/Program Start Ballast","VR",3,1,null,42]
["FLT8-30W x 2L x 4'-IS(E) R","Fluorescent Linear T8 (30W x 2L x 4') 1 Efficient Instant Start Ballast (0.75 < BF < 0.85) ","F","L","T8","IS(E)","(0.75 < BF < 0.85)",null,"Fluorescent","Linear","T8",30,2,"Efficient Instant Start Ballast","R",4,1,null,46]
["FUT8-30W x 2L x 2'-RS/PRS N","Fluorescent U Tube T8 (30W x 2L x 2') 1 Rapid/Program Start Ballast (0.85 < BF < 0.95) ","F","U","T8","RS/PRS","(0.85 < BF < 0.95)",null,"Fluorescent","U Tube","T8",30,2,"Rapid/Program Start Ballast","N",2,1,null,46]
["FLT8CEE-32W x 4'-CEE IS CEE L","Fluorescent Linear T8 CEE  (32W x 1L x 4') 1 CEE Instant Start Ballast (BF < 0.85) ","F","L","T8CEE","CEE IS","(BF < 0.85)",null,"Fluorescent","Linear","T8 CEE ",32,1,"CEE Instant Start Ballast","CEE L",4,1,null,25]
["FLT8CEE-32W x 4'-CEE RS/PRS CEE L","Fluorescent Linear T8 CEE  (32W x 1L x 4') 1 CEE Rapid/Program Start Ballast (BF < 0.85) ","F","L","T8CEE","CEE RS/PRS","(BF < 0.85)",null,"Fluorescent","Linear","T8 CEE ",32,1,"CEE Rapid/Program Start Ballast","CEE L",4,1,null,25]
["FLT8-32W x 4'-IS(E) R","Fluorescent Linear T8 (32W x 1L x 4') 1 Efficient Instant Start Ballast (0.75 < BF < 0.85) ","F","L","T8","IS(E)","(0.75 < BF < 0.85)",null,"Fluorescent","Linear","T8",32,1,"Efficient Instant Start Ballast","R",4,1,null,25]
["FUT8-32W x 2'-IS(E) R","Fluorescent U Tube T8 (32W x 1L x 2') 1 Efficient Instant start Ballast (0.75 < BF < 0.85) ","F","U","T8","IS(E)","(0.75 < BF < 0.85)",null,"Fluorescent","U Tube","T8",32,1,"Efficient Instant start Ballast","R",2,1,null,25]
["FLT8-32W x 4'-IS VR","Fluorescent Linear T8 (32W x 1L x 4') 1 Instant start Ballast (BF < 0.75) ","F","L","T8","IS","(BF < 0.75)",null,"Fluorescent","Linear","T8",32,1,"Instant start Ballast","VR",4,1,null,25]
["FUT8-32W x 2'-IS R","Fluorescent U Tube T8 (32W x 1L x 2') 1 Instant start Ballast (0.75 < BF < 0.85) ","F","U","T8","IS","(0.75 < BF < 0.85)",null,"Fluorescent","U Tube","T8",32,1,"Instant start Ballast","R",2,1,null,25]
["FUT8-32W x 2'-RS/PRS VR","Fluorescent U Tube T8 (32W x 1L x 2') 1 Rapid/Program Start Ballast (BF < 0.75) ","F","U","T8","RS/PRS","(BF < 0.75)",null,"Fluorescent","U Tube","T8",32,1,"Rapid/Program Start Ballast","VR",2,1,null,25]
["FLT8-32W x 2L x 4'-IS VR","Fluorescent Linear T8 (32W x 2L x 4') 1 Instant start Ballast (BF < 0.75) ","F","L","T8","IS","(BF < 0.75)",null,"Fluorescent","Linear","T8",32,2,"Instant start Ballast","VR",4,1,null,50]
["FLT8-57W x 2L x 8'-IS N","Fluorescent Linear T8 (57W x 2L x 8') 1 Instant start Ballast (0.85 < BF < 0.95) ","F","L","T8","IS","(0.85 < BF < 0.95)",null,"Fluorescent","Linear","T8",57,2,"Instant start Ballast","N",8,1,null,100]
["FLT8CEE-25W x 4L x 4'-CEE RS/PRS CEE L","Fluorescent Linear T8 CEE  (25W x 4L x 4') 1 CEE Rapid/Program Start Ballast (BF < 0.85) ","F","L","T8CEE","CEE RS/PRS","(BF < 0.85)",null,"Fluorescent","Linear","T8 CEE ",25,4,"CEE Rapid/Program Start Ballast","CEE L",4,1,null,73]
["FLT8-28W x 4L x 4'-IS R","Fluorescent Linear T8 (28W x 4L x 4') 1 Instant start Ballast (0.75 < BF < 0.85) ","F","L","T8","IS","(0.75 < BF < 0.85)",null,"Fluorescent","Linear","T8",28,4,"Instant start Ballast","R",4,1,null,85]
["FLT8-28W x 4L x 3'-RS/PRS N","Fluorescent Linear T8 (28W x 4L x 3') 1 Rapid/Program Start Ballast (0.85 < BF < 0.95) ","F","L","T8","RS/PRS","(0.85 < BF < 0.95)",null,"Fluorescent","Linear","T8",28,4,"Rapid/Program Start Ballast","N",3,1,null,85]
["FLT8CEE-28W x 3L x 4'-CEE RS/PRS CEE L","Fluorescent Linear T8 CEE  (28W x 3L x 4') 1 CEE Rapid/Program Start Ballast (BF < 0.85) ","F","L","T8CEE","CEE RS/PRS","(BF < 0.85)",null,"Fluorescent","Linear","T8 CEE ",28,3,"CEE Rapid/Program Start Ballast","CEE L",4,1,null,64]
["FUT8-28W x 3L x 2'-IS R","Fluorescent U Tube T8 (28W x 3L x 2') 1 Instant start Ballast (0.75 < BF < 0.85) ","F","U","T8","IS","(0.75 < BF < 0.85)",null,"Fluorescent","U Tube","T8",28,3,"Instant start Ballast","R",2,1,null,64]
["FLT8-28W x 3L x 3'-RS/PRS VR","Fluorescent Linear T8 (28W x 3L x 3') 1 Rapid/Program Start Ballast (BF < 0.75) ","F","L","T8","RS/PRS","(BF < 0.75)",null,"Fluorescent","Linear","T8",28,3,"Rapid/Program Start Ballast","VR",3,1,null,64]
["FLT8-30W x 3L x 4'-IS R","Fluorescent Linear T8 (30W x 3L x 4') 1 Instant start Ballast (0.75 < BF < 0.85) ","F","L","T8","IS","(0.75 < BF < 0.85)",null,"Fluorescent","Linear","T8",30,3,"Instant start Ballast","R",4,1,null,70]
["FLT8-30W x 3L x 4'-RS/PRS R","Fluorescent Linear T8 (30W x 3L x 4') 1 Rapid/Program Start Ballast (0.75 < BF < 0.85) ","F","L","T8","RS/PRS","(0.75 < BF < 0.85)",null,"Fluorescent","Linear","T8",30,3,"Rapid/Program Start Ballast","R",4,1,null,70]
["FLT8-32W x 3L x 4'-RS/PRS(E) R","Fluorescent Linear T8 (32W x 3L x 4') 1 Efficient Rapid/Program Start Ballast (0.75 < BF < 0.85) ","F","L","T8","RS/PRS(E)","(0.75 < BF < 0.85)",null,"Fluorescent","Linear","T8",32,3,"Efficient Rapid/Program Start Ballast","R",4,1,null,76]
["FLT8-40W x 3L x 5'-IS R","Fluorescent Linear T8 (40W x 3L x 5') 1 Instant start Ballast (0.75 < BF < 0.85) ","F","L","T8","IS","(0.75 < BF < 0.85)",null,"Fluorescent","Linear","T8",40,3,"Instant start Ballast","R",5,1,null,100]
["FLT8-25W x 4L x 4'-IS(E) VR","Fluorescent Linear T8 (25W x 4L x 4') 1 Efficient Instant Start Ballast (BF < 0.75) ","F","L","T8","IS(E)","(BF < 0.75)",null,"Fluorescent","Linear","T8",25,4,"Efficient Instant Start Ballast","VR",4,1,null,74]
["FLT8-25W x 2L x 4'-RS/PRS VR","Fluorescent Linear T8 (25W x 2L x 4') 1 Rapid/Program Start Ballast (BF < 0.75) ","F","L","T8","RS/PRS","(BF < 0.75)",null,"Fluorescent","Linear","T8",25,2,"Rapid/Program Start Ballast","VR",4,1,null,37]
["FUT8-25W x 2L x 2'-IS(E) R","Fluorescent U Tube T8 (25W x 2L x 2') 1 Efficient Instant Start Ballast (0.75 < BF < 0.85) ","F","U","T8","IS(E)","(0.75 < BF < 0.85)",null,"Fluorescent","U Tube","T8",25,2,"Efficient Instant Start Ballast","R",2,1,null,37]
["FLT8CEE-28W x 2L x 4'-CEE IS L","Fluorescent Linear T8 CEE  (28W x 2L x 4') 1 CEE Instant Start Ballast (BF < 0.85) ","F","L","T8CEE","CEE IS","(BF < 0.85)",null,"Fluorescent","Linear","T8 CEE ",28,2,"CEE Instant Start Ballast","L",4,1,null,43]
["FLT8CEE-28W x 2L x 4'-CEE RS/PRS CEE L","Fluorescent Linear T8 CEE  (28W x 2L x 4') 1 CEE Rapid/Program Start Ballast (BF < 0.85) ","F","L","T8CEE","CEE RS/PRS","(BF < 0.85)",null,"Fluorescent","Linear","T8 CEE ",28,2,"CEE Rapid/Program Start Ballast","CEE L",4,1,null,43]
["FUT8-28W x 2L x 2'-IS R","Fluorescent U Tube T8 (28W x 2L x 2') 1 Instant start Ballast (0.75 < BF < 0.85) ","F","U","T8","IS","(0.75 < BF < 0.85)",null,"Fluorescent","U Tube","T8",28,2,"Instant start Ballast","R",2,1,null,43]
["FLT8-28W x 2L x 3'-RS/PRS N","Fluorescent Linear T8 (28W x 2L x 3') 1 Rapid/Program Start Ballast (0.85 < BF < 0.95) ","F","L","T8","RS/PRS","(0.85 < BF < 0.95)",null,"Fluorescent","Linear","T8",28,2,"Rapid/Program Start Ballast","N",3,1,null,43]
["FUT8-30W x 4L x 2'-IS N","Fluorescent U Tube T8 (30W x 4L x 2') 1 Instant start Ballast (0.85 < BF < 0.95) ","F","U","T8","IS","(0.85 < BF < 0.95)",null,"Fluorescent","U Tube","T8",30,4,"Instant start Ballast","N",2,1,null,94]
["FLT8-32W x 4L x 4'-IS R","Fluorescent Linear T8 (32W x 4L x 4') 1 Instant start Ballast (0.75 < BF < 0.85) ","F","L","T8","IS","(0.75 < BF < 0.85)",null,"Fluorescent","Linear","T8",32,4,"Instant start Ballast","R",4,1,null,102]
["FLT8-40W x 4L x 5'-IS N","Fluorescent Linear T8 (40W x 4L x 5') 1 Instant start Ballast (0.85 < BF < 0.95) ","F","L","T8","IS","(0.85 < BF < 0.95)",null,"Fluorescent","Linear","T8",40,4,"Instant start Ballast","N",5,1,null,134]
["FLT8-59W x 2L x 8'-IS(E) N","Fluorescent Linear T8 (59W x 2L x 8') 1 Efficient Instant Start Ballast (0.85 < BF < 0.95) ","F","L","T8","IS(E)","(0.85 < BF < 0.95)",null,"Fluorescent","Linear","T8",59,2,"Efficient Instant Start Ballast","N",8,1,null,105]
["FUT8-25W x 3L x 2'-IS(E) R","Fluorescent U Tube T8 (25W x 3L x 2') 1 Efficient Instant Start Ballast (0.75 < BF < 0.85) ","F","U","T8","IS(E)","(0.75 < BF < 0.85)",null,"Fluorescent","U Tube","T8",25,3,"Efficient Instant Start Ballast","R",2,1,null,56]
["FLT8-25W x 4L x 4'-IS VR","Fluorescent Linear T8 (25W x 4L x 4') 1 Instant start Ballast (BF < 0.75) ","F","L","T8","IS","(BF < 0.75)",null,"Fluorescent","Linear","T8",25,4,"Instant start Ballast","VR",4,1,null,75]
["FLT8-25W x 6L x 4'-RS/PRS VR","Fluorescent Linear T8 (25W x 6L x 4') 1 Rapid/Program Start Ballast (BF < 0.75) ","F","L","T8","RS/PRS","(BF < 0.75)",null,"Fluorescent","Linear","T8",25,6,"Rapid/Program Start Ballast","VR",4,1,null,113]
["FUT8-25W x 2L x 2'-IS R","Fluorescent U Tube T8 (25W x 2L x 2') 1 Instant start Ballast (0.75 < BF < 0.85) ","F","U","T8","IS","(0.75 < BF < 0.85)",null,"Fluorescent","U Tube","T8",25,2,"Instant start Ballast","R",2,1,null,38]
["FUT8-25W x 3L x 2'-IS R","Fluorescent U Tube T8 (25W x 3L x 2') 1 Instant start Ballast (0.75 < BF < 0.85) ","F","U","T8","IS","(0.75 < BF < 0.85)",null,"Fluorescent","U Tube","T8",25,3,"Instant start Ballast","R",2,1,null,57]
["FUT8-25W x 4L x 2'-IS R","Fluorescent U Tube T8 (25W x 4L x 2') 1 Instant start Ballast (0.75 < BF < 0.85) ","F","U","T8","IS","(0.75 < BF < 0.85)",null,"Fluorescent","U Tube","T8",25,4,"Instant start Ballast","R",2,1,null,76]
["FLT8CEE-25W x 4'-CEE IS L","Fluorescent Linear T8 CEE  (25W x 1L x 4') 1 CEE Instant Start Ballast (BF < 0.85) ","F","L","T8CEE","CEE IS","(BF < 0.85)",null,"Fluorescent","Linear","T8 CEE ",25,1,"CEE Instant Start Ballast","L",4,1,null,19]
["FLT8CEE-25W x 4L x 4'-CEE IS L","Fluorescent Linear T8 CEE  (25W x 4L x 4') 1 CEE Instant Start Ballast (BF < 0.85) ","F","L","T8CEE","CEE IS","(BF < 0.85)",null,"Fluorescent","Linear","T8 CEE ",25,4,"CEE Instant Start Ballast","L",4,1,null,76]
["FLT8CEE-25W x 2L x 4'-CEE IS CEE L","Fluorescent Linear T8 CEE  (25W x 2L x 4') 1 CEE Instant Start Ballast (BF < 0.85) ","F","L","T8CEE","CEE IS","(BF < 0.85)",null,"Fluorescent","Linear","T8 CEE ",25,2,"CEE Instant Start Ballast","CEE L",4,1,null,38]
["FLT8CEE-25W x 3L x 4'-CEE RS/PRS CEE L","Fluorescent Linear T8 CEE  (25W x 3L x 4') 1 CEE Rapid/Program Start Ballast (BF < 0.85) ","F","L","T8CEE","CEE RS/PRS","(BF < 0.85)",null,"Fluorescent","Linear","T8 CEE ",25,3,"CEE Rapid/Program Start Ballast","CEE L",4,1,null,57]
["FLT8-25W x 3L x 3'-IS(E) R","Fluorescent Linear T8 (25W x 3L x 3') 1 Efficient Instant Start Ballast (0.75 < BF < 0.85) ","F","L","T8","IS(E)","(0.75 < BF < 0.85)",null,"Fluorescent","Linear","T8",25,3,"Efficient Instant Start Ballast","R",3,1,null,57]
["FLT8-25W x 3L x 4'-IS(E) VR","Fluorescent Linear T8 (25W x 3L x 4') 1 Efficient Instant Start Ballast (BF < 0.75) ","F","L","T8","IS(E)","(BF < 0.75)",null,"Fluorescent","Linear","T8",25,3,"Efficient Instant Start Ballast","VR",4,1,null,57]
["FLT8-25W x 4L x 4'-IS(E) R","Fluorescent Linear T8 (25W x 4L x 4') 1 Efficient Instant Start Ballast (0.75 < BF < 0.85) ","F","L","T8","IS(E)","(0.75 < BF < 0.85)",null,"Fluorescent","Linear","T8",25,4,"Efficient Instant Start Ballast","R",4,1,null,76]
["FLT8-25W x 2L x 4'-IS R","Fluorescent Linear T8 (25W x 2L x 4') 1 Instant start Ballast (0.75 < BF < 0.85) ","F","L","T8","IS","(0.75 < BF < 0.85)",null,"Fluorescent","Linear","T8",25,2,"Instant start Ballast","R",4,1,null,38]
["FLT8-25W x 4'-IS R","Fluorescent Linear T8 (25W x 1L x 4') 1 Instant start Ballast (0.75 < BF < 0.85) ","F","L","T8","IS","(0.75 < BF < 0.85)",null,"Fluorescent","Linear","T8",25,1,"Instant start Ballast","R",4,1,null,19]
["FLT8-25W x 4L x 3'-RS/PRS VR","Fluorescent Linear T8 (25W x 4L x 3') 1 Rapid/Program Start Ballast (BF < 0.75) ","F","L","T8","RS/PRS","(BF < 0.75)",null,"Fluorescent","Linear","T8",25,4,"Rapid/Program Start Ballast","VR",3,1,null,76]
["FLT8-25W x 4L x 4'-RS/PRS VR","Fluorescent Linear T8 (25W x 4L x 4') 1 Rapid/Program Start Ballast (BF < 0.75) ","F","L","T8","RS/PRS","(BF < 0.75)",null,"Fluorescent","Linear","T8",25,4,"Rapid/Program Start Ballast","VR",4,1,null,76]
["FUT8-25W x 4L x 2'-IS(E) R","Fluorescent U Tube T8 (25W x 4L x 2') 1 Efficient Instant Start Ballast (0.75 < BF < 0.85) ","F","U","T8","IS(E)","(0.75 < BF < 0.85)",null,"Fluorescent","U Tube","T8",25,4,"Efficient Instant Start Ballast","R",2,1,null,76]
["FUT8-25W x 2'-IS(E) R","Fluorescent U Tube T8 (25W x 1L x 2') 1 Efficient Instant Start Ballast (0.75 < BF < 0.85) ","F","U","T8","IS(E)","(0.75 < BF < 0.85)",null,"Fluorescent","U Tube","T8",25,1,"Efficient Instant Start Ballast","R",2,1,null,19]
["FLT8CEE-28W x 3L x 4'-CEE IS CEE L","Fluorescent Linear T8 CEE  (28W x 3L x 4') 1 CEE Instant Start Ballast (BF < 0.85) ","F","L","T8CEE","CEE IS","(BF < 0.85)",null,"Fluorescent","Linear","T8 CEE ",28,3,"CEE Instant Start Ballast","CEE L",4,1,null,66]
[{"$f":"C131&D131&E131&IF(L131=\"\",\"\",\"-\"&L131&\"W\")&IF(OR(M131=1,M131=\"\"),\"\",\" x \"&M131&\"L\")&IF(P131=\"\",\"\",\" x \"&P131&\"'\")&IF(F131=\"\",\"\",\"-\"&IF(Q131=1,\"\",Q131&\" \")&F131&IF(O131=\"\",\"\",\" \"&O131)&IF(H131=\"\",\"\",\" \"&H131))","v":"FLT8CEE-28W x 4'-CEE IS CEE L"},{"$f":"I131& IF(J131=\"\",\"\",\" \"&J131)&IF(K131=\"\",\"\",\" \"&K131)&\" (\"&L131&\"W\"&IF(M131=\"\",\"\",\" x \"&M131 & \"L\")&IF(P131=\"\",\"\",\" x \"&P131&\"'\")&\")\"&IF(N131=\"\",\"\",\" \"&Q131&\" \"&N131&\" \"&G131)&\" \"&R131","v":"Fluorescent Linear T8 CEE  (28W x 1L x 4') 1 CEE Instant Start Ballast (BF < 0.85) "},"F","L","T8CEE","CEE IS","(BF < 0.85)",null,"Fluorescent","Linear","T8 CEE ",28,1,"CEE Instant Start Ballast","CEE L",4,1,null,22]
["FLT8CEE-28W x 4'-CEE RS/PRS CEE L","Fluorescent Linear T8 CEE  (28W x 1L x 4') 1 CEE Rapid/Program Start Ballast (BF < 0.85) ","F","L","T8CEE","CEE RS/PRS","(BF < 0.85)",null,"Fluorescent","Linear","T8 CEE ",28,1,"CEE Rapid/Program Start Ballast","CEE L",4,1,null,22]
["FLT8-28W x 2L x 4'-IS R","Fluorescent Linear T8 (28W x 2L x 4') 1 Instant start Ballast (0.75 < BF < 0.85) ","F","L","T8","IS","(0.75 < BF < 0.85)",null,"Fluorescent","Linear","T8",28,2,"Instant start Ballast","R",4,1,null,44]
["FLT8-28W x 3L x 4'-IS R","Fluorescent Linear T8 (28W x 3L x 4') 1 Instant start Ballast (0.75 < BF < 0.85) ","F","L","T8","IS","(0.75 < BF < 0.85)",null,"Fluorescent","Linear","T8",28,3,"Instant start Ballast","R",4,1,null,66]
["FLT8-28W x 4'-IS R","Fluorescent Linear T8 (28W x 1L x 4') 1 Instant start Ballast (0.75 < BF < 0.85) ","F","L","T8","IS","(0.75 < BF < 0.85)",null,"Fluorescent","Linear","T8",28,1,"Instant start Ballast","R",4,1,null,22]
["FUT8-28W x 2'-IS R","Fluorescent U Tube T8 (28W x 1L x 2') 1 Instant start Ballast (0.75 < BF < 0.85) ","F","U","T8","IS","(0.75 < BF < 0.85)",null,"Fluorescent","U Tube","T8",28,1,"Instant start Ballast","R",2,1,null,22]
["FLT8-28W x 3L x 3'-RS/PRS N","Fluorescent Linear T8 (28W x 3L x 3') 1 Rapid/Program Start Ballast (0.85 < BF < 0.95) ","F","L","T8","RS/PRS","(0.85 < BF < 0.95)",null,"Fluorescent","Linear","T8",28,3,"Rapid/Program Start Ballast","N",3,1,null,66]
["FLT8-28W x 3'-RS/PRS N","Fluorescent Linear T8 (28W x 1L x 3') 1 Rapid/Program Start Ballast (0.85 < BF < 0.95) ","F","L","T8","RS/PRS","(0.85 < BF < 0.95)",null,"Fluorescent","Linear","T8",28,1,"Rapid/Program Start Ballast","N",3,1,null,22]
["FLT8-28W x 4'-RS/PRS VR","Fluorescent Linear T8 (28W x 1L x 4') 1 Rapid/Program Start Ballast (BF < 0.75) ","F","L","T8","RS/PRS","(BF < 0.75)",null,"Fluorescent","Linear","T8",28,1,"Rapid/Program Start Ballast","VR",4,1,null,22]
["FUT8-28W x 2'-RS/PRS VR","Fluorescent U Tube T8 (28W x 1L x 2') 1 Rapid/Program Start Ballast (BF < 0.75) ","F","U","T8","RS/PRS","(BF < 0.75)",null,"Fluorescent","U Tube","T8",28,1,"Rapid/Program Start Ballast","VR",2,1,null,22]
["FLT8-30W x 2L x 4'-IS R","Fluorescent Linear T8 (30W x 2L x 4') 1 Instant start Ballast (0.75 < BF < 0.85) ","F","L","T8","IS","(0.75 < BF < 0.85)",null,"Fluorescent","Linear","T8",30,2,"Instant start Ballast","R",4,1,null,48]
["FLT8-30W x 4'-IS VR","Fluorescent Linear T8 (30W x 1L x 4') 1 Instant start Ballast (BF < 0.75) ","F","L","T8","IS","(BF < 0.75)",null,"Fluorescent","Linear","T8",30,1,"Instant start Ballast","VR",4,1,null,24]
["FUT8-30W x 2'-IS N","Fluorescent U Tube T8 (30W x 1L x 2') 1 Instant start Ballast (0.85 < BF < 0.95) ","F","U","T8","IS","(0.85 < BF < 0.95)",null,"Fluorescent","U Tube","T8",30,1,"Instant start Ballast","N",2,1,null,24]
["FUT8-30W x 2L x 2'-IS N","Fluorescent U Tube T8 (30W x 2L x 2') 1 Instant start Ballast (0.85 < BF < 0.95) ","F","U","T8","IS","(0.85 < BF < 0.95)",null,"Fluorescent","U Tube","T8",30,2,"Instant start Ballast","N",2,1,null,48]
["FUT8-30W x 2'-RS/PRS N","Fluorescent U Tube T8 (30W x 1L x 2') 1 Rapid/Program Start Ballast (0.85 < BF < 0.95) ","F","U","T8","RS/PRS","(0.85 < BF < 0.95)",null,"Fluorescent","U Tube","T8",30,1,"Rapid/Program Start Ballast","N",2,1,null,24]
["FLT8-32W x 2L x 4'-RS/PRS(E) R","Fluorescent Linear T8 (32W x 2L x 4') 1 Efficient Rapid/Program Start Ballast (0.75 < BF < 0.85) ","F","L","T8","RS/PRS(E)","(0.75 < BF < 0.85)",null,"Fluorescent","Linear","T8",32,2,"Efficient Rapid/Program Start Ballast","R",4,1,null,52]
["FLT8-32W x 2L x 4'-IS R","Fluorescent Linear T8 (32W x 2L x 4') 1 Instant start Ballast (0.75 < BF < 0.85) ","F","L","T8","IS","(0.75 < BF < 0.85)",null,"Fluorescent","Linear","T8",32,2,"Instant start Ballast","R",4,1,null,52]
["FLT8-32W x 3L x 4'-IS R","Fluorescent Linear T8 (32W x 3L x 4') 1 Instant start Ballast (0.75 < BF < 0.85) ","F","L","T8","IS","(0.75 < BF < 0.85)",null,"Fluorescent","Linear","T8",32,3,"Instant start Ballast","R",4,1,null,78]
["FLT8-32W x 6L x 4'-IS R","Fluorescent Linear T8 (32W x 6L x 4') 1 Instant start Ballast (0.75 < BF < 0.85) ","F","L","T8","IS","(0.75 < BF < 0.85)",null,"Fluorescent","Linear","T8",32,6,"Instant start Ballast","R",4,1,null,156]
["FUT8-32W x 2L x 2'-IS R","Fluorescent U Tube T8 (32W x 2L x 2') 1 Instant start Ballast (0.75 < BF < 0.85) ","F","U","T8","IS","(0.75 < BF < 0.85)",null,"Fluorescent","U Tube","T8",32,2,"Instant start Ballast","R",2,1,null,52]
["FUT8-32W x 3L x 2'-IS R","Fluorescent U Tube T8 (32W x 3L x 2') 1 Instant start Ballast (0.75 < BF < 0.85) ","F","U","T8","IS","(0.75 < BF < 0.85)",null,"Fluorescent","U Tube","T8",32,3,"Instant start Ballast","R",2,1,null,78]
["FLT8-40W x 2L x 5'-IS(E) R","Fluorescent Linear T8 (40W x 2L x 5') 1 Efficient Instant Start Ballast (0.75 < BF < 0.85) ","F","L","T8","IS(E)","(0.75 < BF < 0.85)",null,"Fluorescent","Linear","T8",40,2,"Efficient Instant Start Ballast","R",5,1,null,68]
["FLT12-50W x 2L x 5'-IS N","Fluorescent Linear T12 (50W x 2L x 5') 1 Instant start Ballast (0.85 < BF < 0.95) ","F","L","T12","IS","(0.85 < BF < 0.95)",null,"Fluorescent","Linear","T12",50,2,"Instant start Ballast","N",5,1,null,88]
["FLT12-50W x 5'-IS N","Fluorescent Linear T12 (50W x 1L x 5') 1 Instant start Ballast (0.85 < BF < 0.95) ","F","L","T12","IS","(0.85 < BF < 0.95)",null,"Fluorescent","Linear","T12",50,1,"Instant start Ballast","N",5,1,null,44]
["FLT8-57W x 8'-IS N","Fluorescent Linear T8 (57W x 1L x 8') 1 Instant start Ballast (0.85 < BF < 0.95) ","F","L","T8","IS","(0.85 < BF < 0.95)",null,"Fluorescent","Linear","T8",57,1,"Instant start Ballast","N",8,1,null,51]
["FLT8-59W x 8'-IS(E) N","Fluorescent Linear T8 (59W x 1L x 8') 1 Efficient Instant Start Ballast (0.85 < BF < 0.95) ","F","L","T8","IS(E)","(0.85 < BF < 0.95)",null,"Fluorescent","Linear","T8",59,1,"Efficient Instant Start Ballast","N",8,1,null,53]
["FLT12-75W x 8'-IS N","Fluorescent Linear T12 (75W x 1L x 8') 1 Instant start Ballast (0.85 < BF < 0.95) ","F","L","T12","IS","(0.85 < BF < 0.95)",null,"Fluorescent","Linear","T12",75,1,"Instant start Ballast","N",8,1,null,69]
["FLT12HO-75W x 2L x 5'-IS N","Fluorescent Linear T12 HO (75W x 2L x 5') 1 Instant start Ballast (0.85 < BF < 0.95) ","F","L","T12HO","IS","(0.85 < BF < 0.95)",null,"Fluorescent","Linear","T12 HO",75,2,"Instant start Ballast","N",5,1,null,138]
["FLT12HO-75W x 5'-IS N","Fluorescent Linear T12 HO (75W x 1L x 5') 1 Instant start Ballast (0.85 < BF < 0.95) ","F","L","T12HO","IS","(0.85 < BF < 0.95)",null,"Fluorescent","Linear","T12 HO",75,1,"Instant start Ballast","N",5,1,null,69]
["FLT8-86W x 2L x 8'-IS N","Fluorescent Linear T8 (86W x 2L x 8') 1 Instant start Ballast (0.85 < BF < 0.95) ","F","L","T8","IS","(0.85 < BF < 0.95)",null,"Fluorescent","Linear","T8",86,2,"Instant start Ballast","N",8,1,null,160]
["FLT8-32W x 4L x 4'-RS/PRS R","Fluorescent Linear T8 (32W x 4L x 4') 1 Rapid/Program Start Ballast (0.75 < BF < 0.85) ","F","L","T8","RS/PRS","(0.75 < BF < 0.85)",null,"Fluorescent","Linear","T8",32,4,"Rapid/Program Start Ballast","R",4,1,null,105]
["FUT8-25W x 3L x 2'-RS/PRS VR","Fluorescent U Tube T8 (25W x 3L x 2') 1 Rapid/Program Start Ballast (BF < 0.75) ","F","U","T8","RS/PRS","(BF < 0.75)",null,"Fluorescent","U Tube","T8",25,3,"Rapid/Program Start Ballast","VR",2,1,null,58]
["FLT8-25W x 3L x 4'-IS VR","Fluorescent Linear T8 (25W x 3L x 4') 1 Instant start Ballast (BF < 0.75) ","F","L","T8","IS","(BF < 0.75)",null,"Fluorescent","Linear","T8",25,3,"Instant start Ballast","VR",4,1,null,58]
["FLT8-25W x 3L x 4'-RS/PRS VR","Fluorescent Linear T8 (25W x 3L x 4') 1 Rapid/Program Start Ballast (BF < 0.75) ","F","L","T8","RS/PRS","(BF < 0.75)",null,"Fluorescent","Linear","T8",25,3,"Rapid/Program Start Ballast","VR",4,1,null,58]
["FLT8CEE-32W x 3L x 4'-CEE PS/PRS DIM CEE L","Fluorescent Linear T8 CEE  (32W x 3L x 4') 1 CEE Dimmable PS/PRS Ballast (BF < 0.85) ","F","L","T8CEE","CEE PS/PRS DIM","(BF < 0.85)",null,"Fluorescent","Linear","T8 CEE ",32,3,"CEE Dimmable PS/PRS Ballast","CEE L",4,1,null,79]
["FLT8-32W x 3L x 4'-RS/PRS R","Fluorescent Linear T8 (32W x 3L x 4') 1 Rapid/Program Start Ballast (0.75 < BF < 0.85) ","F","L","T8","RS/PRS","(0.75 < BF < 0.85)",null,"Fluorescent","Linear","T8",32,3,"Rapid/Program Start Ballast","R",4,1,null,79]
["FLT8CEE-25W x 2L x 4'-CEE IS L","Fluorescent Linear T8 CEE  (25W x 2L x 4') 1 CEE Instant Start Ballast (BF < 0.85) ","F","L","T8CEE","CEE IS","(BF < 0.85)",null,"Fluorescent","Linear","T8 CEE ",25,2,"CEE Instant Start Ballast","L",4,1,null,39]
["FLT8-25W x 4L x 3'-IS(E) R","Fluorescent Linear T8 (25W x 4L x 3') 1 Efficient Instant Start Ballast (0.75 < BF < 0.85) ","F","L","T8","IS(E)","(0.75 < BF < 0.85)",null,"Fluorescent","Linear","T8",25,4,"Efficient Instant Start Ballast","R",3,1,null,78]
["FLT12-25W x 2L x 4'-IS R","Fluorescent Linear T12 (25W x 2L x 4') 1 Instant start Ballast (0.75 < BF < 0.85) ","F","L","T12","IS","(0.75 < BF < 0.85)",null,"Fluorescent","Linear","T12",25,2,"Instant start Ballast","R",4,1,null,39]
["FLT5-25W x 2L x 4'-RS/PRS L","Fluorescent Linear T5 (25W x 2L x 4') 1 Rapid/Program Start Ballast (BF < 0.85) ","F","L","T5","RS/PRS","(BF < 0.85)",null,"Fluorescent","Linear","T5",25,2,"Rapid/Program Start Ballast","L",4,1,null,39]
["FLT8CEE-25W x 3L x 4'-CEE IS L","Fluorescent Linear T8 CEE  (25W x 3L x 4') 1 CEE Instant Start Ballast (BF < 0.85) ","F","L","T8CEE","CEE IS","(BF < 0.85)",null,"Fluorescent","Linear","T8 CEE ",25,3,"CEE Instant Start Ballast","L",4,1,null,59]
["FLT8-17W x 4L x 2'-RS/PRS VR","Fluorescent Linear T8 (17W x 4L x 2') 1 Rapid/Program Start Ballast (BF < 0.75) ","F","L","T8","RS/PRS","(BF < 0.75)",null,"Fluorescent","Linear","T8",17,4,"Rapid/Program Start Ballast","VR",2,1,null,48]
["FLT8CEE-25W x 4'-CEE RS/PRS CEE L","Fluorescent Linear T8 CEE  (25W x 1L x 4') 1 CEE Rapid/Program Start Ballast (BF < 0.85) ","F","L","T8CEE","CEE RS/PRS","(BF < 0.85)",null,"Fluorescent","Linear","T8 CEE ",25,1,"CEE Rapid/Program Start Ballast","CEE L",4,1,null,20]
["FLT8-25W x 2L x 3'-IS(E) R","Fluorescent Linear T8 (25W x 2L x 3') 1 Efficient Instant Start Ballast (0.75 < BF < 0.85) ","F","L","T8","IS(E)","(0.75 < BF < 0.85)",null,"Fluorescent","Linear","T8",25,2,"Efficient Instant Start Ballast","R",3,1,null,40]
["FLT8-25W x 3'-IS(E) R","Fluorescent Linear T8 (25W x 1L x 3') 1 Efficient Instant Start Ballast (0.75 < BF < 0.85) ","F","L","T8","IS(E)","(0.75 < BF < 0.85)",null,"Fluorescent","Linear","T8",25,1,"Efficient Instant Start Ballast","R",3,1,null,20]
["FLT8-25W x 3L x 4'-IS(E) R","Fluorescent Linear T8 (25W x 3L x 4') 1 Efficient Instant start Ballast (0.75 < BF < 0.85) ","F","L","T8","IS(E)","(0.75 < BF < 0.85)",null,"Fluorescent","Linear","T8",25,3,"Efficient Instant start Ballast","R",4,1,null,60]
["FLT8-25W x 2L x 4'-IS VR","Fluorescent Linear T8 (25W x 2L x 4') 1 Instant start Ballast (BF < 0.75) ","F","L","T8","IS","(BF < 0.75)",null,"Fluorescent","Linear","T8",25,2,"Instant start Ballast","VR",4,1,null,40]
["FLT8-25W x 3L x 4'-IS R","Fluorescent Linear T8 (25W x 3L x 4') 1 Instant start Ballast (0.75 < BF < 0.85) ","F","L","T8","IS","(0.75 < BF < 0.85)",null,"Fluorescent","Linear","T8",25,3,"Instant start Ballast","R",4,1,null,60]
["FLT8-25W x 4L x 4'-IS R","Fluorescent Linear T8 (25W x 4L x 4') 1 Instant start Ballast (0.75 < BF < 0.85) ","F","L","T8","IS","(0.75 < BF < 0.85)",null,"Fluorescent","Linear","T8",25,4,"Instant start Ballast","R",4,1,null,80]
["FLT8-25W x 3'-RS/PRS VR","Fluorescent Linear T8 (25W x 1L x 3') 1 Rapid/Program Start Ballast (BF < 0.75) ","F","L","T8","RS/PRS","(BF < 0.75)",null,"Fluorescent","Linear","T8",25,1,"Rapid/Program Start Ballast","VR",3,1,null,20]
["FUT8-25W x 2'-IS R","Fluorescent U Tube T8 (25W x 1L x 2') 1 Instant start Ballast (0.75 < BF < 0.85) ","F","U","T8","IS","(0.75 < BF < 0.85)",null,"Fluorescent","U Tube","T8",25,1,"Instant start Ballast","R",2,1,null,20]
["FUT8-25W x 2'-RS/PRS VR","Fluorescent U Tube T8 (25W x 1L x 2') 1 Rapid/Program Start Ballast (BF < 0.75) ","F","U","T8","RS/PRS","(BF < 0.75)",null,"Fluorescent","U Tube","T8",25,1,"Rapid/Program Start Ballast","VR",2,1,null,20]
["FLT8CEE-32W x 2L x 4'-CEE PS/PRS DIM CEE L","Fluorescent Linear T8 CEE  (32W x 2L x 4') 1 CEE Dimmable PS/PRS Ballast (BF < 0.85) ","F","L","T8CEE","CEE PS/PRS DIM","(BF < 0.85)",null,"Fluorescent","Linear","T8 CEE ",32,2,"CEE Dimmable PS/PRS Ballast","CEE L",4,1,null,54]
["FLT8CEE-32W x 4L x 4'-CEE IS CEE N","Fluorescent Linear T8 CEE  (32W x 4L x 4') 1 CEE Instant Start Ballast (0.85 < BF < 1.0) ","F","L","T8CEE","CEE IS","(0.85 < BF < 1.0)",null,"Fluorescent","Linear","T8 CEE ",32,4,"CEE Instant Start Ballast","CEE N",4,1,null,108]
["FLT8-32W x 4L x 4'-IS(E) N","Fluorescent Linear T8 (32W x 4L x 4') 1 Efficient Instant Start Ballast (0.85 < BF < 0.95) ","F","L","T8","IS(E)","(0.85 < BF < 0.95)",null,"Fluorescent","Linear","T8",32,4,"Efficient Instant Start Ballast","N",4,1,null,108]
["FUT8-32W x 4L x 2'-IS N","Fluorescent U Tube T8 (32W x 4L x 2') 1 Instant start Ballast (0.85 < BF < 0.95) ","F","U","T8","IS","(0.85 < BF < 0.95)",null,"Fluorescent","U Tube","T8",32,4,"Instant start Ballast","N",2,1,null,108]
["FLT8-32W x 2L x 4'-RS/PRS R","Fluorescent Linear T8 (32W x 2L x 4') 1 Rapid/Program Start Ballast (0.75 < BF < 0.85) ","F","L","T8","RS/PRS","(0.75 < BF < 0.85)",null,"Fluorescent","Linear","T8",32,2,"Rapid/Program Start Ballast","R",4,1,null,54]
["FLT8-32W x 4'-RS/PRS R","Fluorescent Linear T8 (32W x 1L x 4') 1 Rapid/Program Start Ballast (0.75 < BF < 0.85) ","F","L","T8","RS/PRS","(0.75 < BF < 0.85)",null,"Fluorescent","Linear","T8",32,1,"Rapid/Program Start Ballast","R",4,1,null,27]
["FLT8-40W x 5'-IS(E) N","Fluorescent Linear T8 (40W x 1L x 5') 1 Efficient Instant Start Ballast (0.85 < BF < 0.95) ","F","L","T8","IS(E)","(0.85 < BF < 0.95)",null,"Fluorescent","Linear","T8",40,1,"Efficient Instant Start Ballast","N",5,1,null,35]
["FCP-40W x 3L-IS N","Fluorescent Compact Pin-Base (40W x 3L) 1 Instant start Ballast (0.85 < BF < 0.95) ","F","C","P","IS","(0.85 < BF < 0.95)",null,"Fluorescent","Compact","Pin-Base",40,3,"Instant start Ballast","N",null,1,null,105]
["FCIT9-40W-MG","Fluorescent Circline T9 (40W x 1L) 1 Magnetic Ballast  ","F","CI","T9","MG",null,null,"Fluorescent","Circline","T9",40,1,"Magnetic Ballast",null,null,1,null,35]
["FLT12-60W x 2L x 8'-IS N","Fluorescent Linear T12 (60W x 2L x 8') 1 Instant start Ballast (0.85 < BF < 0.95) ","F","L","T12","IS","(0.85 < BF < 0.95)",null,"Fluorescent","Linear","T12",60,2,"Instant start Ballast","N",8,1,null,110]
["FLT8-30W x 4L x 4'-IS(E) N","Fluorescent Linear T8 (30W x 4L x 4') 1 Efficient Instant Start Ballast (0.85 < BF < 0.95) ","F","L","T8","IS(E)","(0.85 < BF < 0.95)",null,"Fluorescent","Linear","T8",30,4,"Efficient Instant Start Ballast","N",4,1,null,101]
["FLT8-17W x 3L x 2'-RS/PRS VR","Fluorescent Linear T8 (17W x 3L x 2') 1 Rapid/Program Start Ballast (BF < 0.75) ","F","L","T8","RS/PRS","(BF < 0.75)",null,"Fluorescent","Linear","T8",17,3,"Rapid/Program Start Ballast","VR",2,1,null,37]
[{"$f":"C195&D195&E195&IF(L195=\"\",\"\",\"-\"&L195&\"W\")&IF(OR(M195=1,M195=\"\"),\"\",\" x \"&M195&\"L\")&IF(P195=\"\",\"\",\" x \"&P195&\"'\")&IF(F195=\"\",\"\",\"-\"&IF(Q195=1,\"\",Q195&\" \")&F195&IF(O195=\"\",\"\",\" \"&O195)&IF(H195=\"\",\"\",\" \"&H195))","v":"FLT8-30W x 3L x 4'-IS(E) N"},{"$f":"I195& IF(J195=\"\",\"\",\" \"&J195)&IF(K195=\"\",\"\",\" \"&K195)&\" (\"&L195&\"W\"&IF(M195=\"\",\"\",\" x \"&M195 & \"L\")&IF(P195=\"\",\"\",\" x \"&P195&\"'\")&\")\"&IF(N195=\"\",\"\",\" \"&Q195&\" \"&N195&\" \"&G195)&\" \"&R195","v":"Fluorescent Linear T8 (30W x 3L x 4') 1 Efficient Instant Start Ballast (0.85 < BF < 0.95) "},"F","L","T8","IS(E)","(0.85 < BF < 0.95)",null,"Fluorescent","Linear","T8",30,3,"Efficient Instant Start Ballast","N",4,1,null,76]
["FLT8CEE-32W x 3L x 4'-CEE ISDIM CEE N","Fluorescent Linear T8 CEE  (32W x 3L x 4') 1 CEE Dimmable Instant Start Ballast (0.85 < BF < 1.0) ","F","L","T8CEE","CEE ISDIM","(0.85 < BF < 1.0)",null,"Fluorescent","Linear","T8 CEE ",32,3,"CEE Dimmable Instant Start Ballast","CEE N",4,1,null,82]
["FLT8-40W x 3L x 5'-IS(E) N","Fluorescent Linear T8 (40W x 3L x 5') 1 Efficient Instant Start Ballast (0.85 < BF < 0.95) ","F","L","T8","IS(E)","(0.85 < BF < 0.95)",null,"Fluorescent","Linear","T8",40,3,"Efficient Instant Start Ballast","N",5,1,null,106]
["FLT8-32W x 8L x 4'-2 RS/PRS VR","Fluorescent Linear T8 (32W x 8L x 4') 2 Rapid/Program Start Ballast (BF < 0.75) ","F","L","T8","RS/PRS","(BF < 0.75)",null,"Fluorescent","Linear","T8",32,8,"Rapid/Program Start Ballast","VR",4,2,null,182]
["FLT12-40W x 6L x 4'-2 IS N","Fluorescent Linear T12 (40W x 6L x 4') 2 Instant start Ballast (0.85 < BF < 0.95) ","F","L","T12","IS","(0.85 < BF < 0.95)",null,"Fluorescent","Linear","T12",40,6,"Instant start Ballast","N",4,2,null,186]
["FLT8-17W x 2L x 2'-RS/PRS VR","Fluorescent Linear T8 (17W x 2L x 2') 1 Rapid/Program Start Ballast (BF < 0.75) ","F","L","T8","RS/PRS","(BF < 0.75)",null,"Fluorescent","Linear","T8",17,2,"Rapid/Program Start Ballast","VR",2,1,null,25]
["FUT8-25W x 2L x 2'-RS/PRS(E) N","Fluorescent U Tube T8 (25W x 2L x 2') 1 Efficient Rapid/Program Start Ballast (0.85 < BF < 0.95) ","F","U","T8","RS/PRS(E)","(0.85 < BF < 0.95)",null,"Fluorescent","U Tube","T8",25,2,"Efficient Rapid/Program Start Ballast","N",2,1,null,41]
["FLT8CEE-28W x 4L x 4'-CEE IS CEE N","Fluorescent Linear T8 CEE  (28W x 4L x 4') 1 CEE Instant Start Ballast (0.85 < BF < 1.0) ","F","L","T8CEE","CEE IS","(0.85 < BF < 1.0)",null,"Fluorescent","Linear","T8 CEE ",28,4,"CEE Instant Start Ballast","CEE N",4,1,null,94]
["FLT8-28W x 4L x 4'-IS(E) N","Fluorescent Linear T8 (28W x 4L x 4') 1 Efficient Instant Start Ballast (0.85 < BF < 0.95) ","F","L","T8","IS(E)","(0.85 < BF < 0.95)",null,"Fluorescent","Linear","T8",28,4,"Efficient Instant Start Ballast","N",4,1,null,94]
["FUT8-28W x 4L x 2'-IS N","Fluorescent U Tube T8 (28W x 4L x 2') 1 Instant start Ballast (0.85 < BF < 0.95) ","F","U","T8","IS","(0.85 < BF < 0.95)",null,"Fluorescent","U Tube","T8",28,4,"Instant start Ballast","N",2,1,null,94]
["FLT5-28W x 2L x 4'-RS/PRS L","Fluorescent Linear T5 (28W x 2L x 4') 1 Rapid/Program Start Ballast (BF < 0.85) ","F","L","T5","RS/PRS","(BF < 0.85)",null,"Fluorescent","Linear","T5",28,2,"Rapid/Program Start Ballast","L",4,1,null,47]
["FLT8-32W x 2L x 4'-CEE ISDIM N","Fluorescent Linear T8 (32W x 2L x 4') 1 CEE Dimmable Instant Start Ballast (0.85 < BF < 0.95) ","F","L","T8","CEE ISDIM","(0.85 < BF < 0.95)",null,"Fluorescent","Linear","T8",32,2,"CEE Dimmable Instant Start Ballast","N",4,1,null,55]
["FLT8CEE-32W x 2L x 4'-CEE ISDIM CEE N","Fluorescent Linear T8 CEE  (32W x 2L x 4') 1 CEE Dimmable Instant Start Ballast (0.85 < BF < 1.0) ","F","L","T8CEE","CEE ISDIM","(0.85 < BF < 1.0)",null,"Fluorescent","Linear","T8 CEE ",32,2,"CEE Dimmable Instant Start Ballast","CEE N",4,1,null,55]
["FLT8-32W x 2L x 4'-IS(E) N","Fluorescent Linear T8 (32W x 2L x 4') 1 Efficient Instant Start Ballast (0.85 < BF < 0.95) ","F","L","T8","IS(E)","(0.85 < BF < 0.95)",null,"Fluorescent","Linear","T8",32,2,"Efficient Instant Start Ballast","N",4,1,null,55]
["FUT8-32W x 2L x 2'-IS(E) N","Fluorescent U Tube T8 (32W x 2L x 2') 1 Efficient Instant Start Ballast (0.85 < BF < 0.95) ","F","U","T8","IS(E)","(0.85 < BF < 0.95)",null,"Fluorescent","U Tube","T8",32,2,"Efficient Instant Start Ballast","N",2,1,null,55]
["FLT8-59W x 2L x 8'-IS N","Fluorescent Linear T8 (59W x 2L x 8') 1 Instant start Ballast (0.85 < BF < 0.95) ","F","L","T8","IS","(0.85 < BF < 0.95)",null,"Fluorescent","Linear","T8",59,2,"Instant start Ballast","N",8,1,null,109]
["FLT8-25W x 3L x 3'-RS/PRS R","Fluorescent Linear T8 (25W x 3L x 3') 1 Rapid/Program Start Ballast (0.75 < BF < 0.85) ","F","L","T8","RS/PRS","(0.75 < BF < 0.85)",null,"Fluorescent","Linear","T8",25,3,"Rapid/Program Start Ballast","R",3,1,null,62]
["FLT8-32W x 3L x 4'-IS(E) N","Fluorescent Linear T8 (32W x 3L x 4') 1 Efficient Instant Start Ballast (0.85 < BF < 0.95) ","F","L","T8","IS(E)","(0.85 < BF < 0.95)",null,"Fluorescent","Linear","T8",32,3,"Efficient Instant Start Ballast","N",4,1,null,83]
["FUT8-32W x 3L x 2'-IS(E) N","Fluorescent U Tube T8 (32W x 3L x 2') 1 Efficient Instant Start Ballast (0.85 < BF < 0.95) ","F","U","T8","IS(E)","(0.85 < BF < 0.95)",null,"Fluorescent","U Tube","T8",32,3,"Efficient Instant Start Ballast","N",2,1,null,83]
["FLT8-30W x 8L x 4'-2 RS/PRS VR","Fluorescent Linear T8 (30W x 8L x 4') 2 Rapid/Program Start Ballast (BF < 0.75) ","F","L","T8","RS/PRS","(BF < 0.75)",null,"Fluorescent","Linear","T8",30,8,"Rapid/Program Start Ballast","VR",4,2,null,171]
["FLT8-32W x 6L x 4'-2 RS/PRS VR","Fluorescent Linear T8 (32W x 6L x 4') 2 Rapid/Program Start Ballast (BF < 0.75) ","F","L","T8","RS/PRS","(BF < 0.75)",null,"Fluorescent","Linear","T8",32,6,"Rapid/Program Start Ballast","VR",4,2,null,141]
["FLT12HO-95W x 4L x 8'-2 IS N","Fluorescent Linear T12 HO (95W x 4L x 8') 2 Instant start Ballast (0.85 < BF < 0.95) ","F","L","T12HO","IS","(0.85 < BF < 0.95)",null,"Fluorescent","Linear","T12 HO",95,4,"Instant start Ballast","N",8,2,null,346]
["FLT8-17W x 4L x 2'-IS(E) R","Fluorescent Linear T8 (17W x 4L x 2') 1 Efficient Instant Start Ballast (0.75 < BF < 0.85) ","F","L","T8","IS(E)","(0.75 < BF < 0.85)",null,"Fluorescent","Linear","T8",17,4,"Efficient Instant Start Ballast","R",2,1,null,51]
["FLT8CEE-32W x 4L x 4'-CEE RS/PRS CEE N","Fluorescent Linear T8 CEE  (32W x 4L x 4') 1 CEE Rapid/Program Start Ballast (0.85 < BF < 1.0) ","F","L","T8CEE","CEE RS/PRS","(0.85 < BF < 1.0)",null,"Fluorescent","Linear","T8 CEE ",32,4,"CEE Rapid/Program Start Ballast","CEE N",4,1,null,111]
["FLT8-32W x 4L x 4'-RS/PRS(E) N","Fluorescent Linear T8 (32W x 4L x 4') 1 Efficient Rapid/Program Start Ballast (0.85 < BF < 0.95) ","F","L","T8","RS/PRS(E)","(0.85 < BF < 0.95)",null,"Fluorescent","Linear","T8",32,4,"Efficient Rapid/Program Start Ballast","N",4,1,null,111]
["FLT8-59W x 4L x 8'-IS N","Fluorescent Linear T8 (59W x 4L x 8') 1 Instant start Ballast (0.85 < BF < 0.95) ","F","L","T8","IS","(0.85 < BF < 0.95)",null,"Fluorescent","Linear","T8",59,4,"Instant start Ballast","N",8,1,null,219]
["FLT8-28W x 8L x 4'-2 RS/PRS VR","Fluorescent Linear T8 (28W x 8L x 4') 2 Rapid/Program Start Ballast (BF < 0.75) ","F","L","T8","RS/PRS","(BF < 0.75)",null,"Fluorescent","Linear","T8",28,8,"Rapid/Program Start Ballast","VR",4,2,null,158]
["FLT8-30W x 6L x 4'-2 RS/PRS VR","Fluorescent Linear T8 (30W x 6L x 4') 2 Rapid/Program Start Ballast (BF < 0.75) ","F","L","T8","RS/PRS","(BF < 0.75)",null,"Fluorescent","Linear","T8",30,6,"Rapid/Program Start Ballast","VR",4,2,null,131]
["FLT8-30W x 6L x 4'-2 IS R","Fluorescent Linear T8 (30W x 6L x 4') 2 Instant start Ballast (0.75 < BF < 0.85) ","F","L","T8","IS","(0.75 < BF < 0.85)",null,"Fluorescent","Linear","T8",30,6,"Instant start Ballast","R",4,2,null,132]
["FLT8-25W x 2L x 3'-RS/PRS R","Fluorescent Linear T8 (25W x 2L x 3') 1 Rapid/Program Start Ballast (0.75 < BF < 0.85) ","F","L","T8","RS/PRS","(0.75 < BF < 0.85)",null,"Fluorescent","Linear","T8",25,2,"Rapid/Program Start Ballast","R",3,1,null,42]
["FLT8-25W x 4L x 3'-RS/PRS R","Fluorescent Linear T8 (25W x 4L x 3') 1 Rapid/Program Start Ballast (0.75 < BF < 0.85) ","F","L","T8","RS/PRS","(0.75 < BF < 0.85)",null,"Fluorescent","Linear","T8",25,4,"Rapid/Program Start Ballast","R",3,1,null,84]
["FLT8-25W x 4'-RS/PRS VR","Fluorescent Linear T8 (25W x 1L x 4') 1 Rapid/Program Start Ballast (BF < 0.75) ","F","L","T8","RS/PRS","(BF < 0.75)",null,"Fluorescent","Linear","T8",25,1,"Rapid/Program Start Ballast","VR",4,1,null,21]
["FLT8-28W x 2L x 4'-IS(E) N","Fluorescent Linear T8 (28W x 2L x 4') 1 Efficient Instant Start Ballast (0.85 < BF < 0.95) ","F","L","T8","IS(E)","(0.85 < BF < 0.95)",null,"Fluorescent","Linear","T8",28,2,"Efficient Instant Start Ballast","N",4,1,null,48]
["FLT8-28W x 3L x 4'-IS(E) N","Fluorescent Linear T8 (28W x 3L x 4') 1 Efficient Instant Start Ballast (0.85 < BF < 0.95) ","F","L","T8","IS(E)","(0.85 < BF < 0.95)",null,"Fluorescent","Linear","T8",28,3,"Efficient Instant Start Ballast","N",4,1,null,72]
["FUT8-28W x 2L x 2'-IS N","Fluorescent U Tube T8 (28W x 2L x 2') 1 Instant start Ballast (0.85 < BF < 0.95) ","F","U","T8","IS","(0.85 < BF < 0.95)",null,"Fluorescent","U Tube","T8",28,2,"Instant start Ballast","N",2,1,null,48]
["FUT8-28W x 3L x 2'-RS/PRS N","Fluorescent U Tube T8 (28W x 3L x 2') 1 Rapid/Program Start Ballast (0.85 < BF < 0.95) ","F","U","T8","RS/PRS","(0.85 < BF < 0.95)",null,"Fluorescent","U Tube","T8",28,3,"Rapid/Program Start Ballast","N",2,1,null,72]
["FUT8-28W x 4L x 2'-RS/PRS N","Fluorescent U Tube T8 (28W x 4L x 2') 1 Rapid/Program Start Ballast (0.85 < BF < 0.95) ","F","U","T8","RS/PRS","(0.85 < BF < 0.95)",null,"Fluorescent","U Tube","T8",28,4,"Rapid/Program Start Ballast","N",2,1,null,96]
["FLT5-28W x 4'-RS/PRS L","Fluorescent Linear T5 (28W x 1L x 4') 1 Rapid/Program Start Ballast (BF < 0.85) ","F","L","T5","RS/PRS","(BF < 0.85)",null,"Fluorescent","Linear","T5",28,1,"Rapid/Program Start Ballast","L",4,1,null,24]
["FLT8-30W x 2L x 4'-IS(E) N","Fluorescent Linear T8 (30W x 2L x 4') 1 Efficient Instant Start Ballast (0.85 < BF < 0.95) ","F","L","T8","IS(E)","(0.85 < BF < 0.95)",null,"Fluorescent","Linear","T8",30,2,"Efficient Instant Start Ballast","N",4,1,null,52]
["FLT8-30W x 4L x 4'-IS N","Fluorescent Linear T8 (30W x 4L x 4') 1 Instant start Ballast (0.85 < BF < 0.95) ","F","L","T8","IS","(0.85 < BF < 0.95)",null,"Fluorescent","Linear","T8",30,4,"Instant start Ballast","N",4,1,null,104]
["FLT8-30W x 4'-RS/PRS VR","Fluorescent Linear T8 (30W x 1L x 4') 1 Rapid/Program Start Ballast (BF < 0.75) ","F","L","T8","RS/PRS","(BF < 0.75)",null,"Fluorescent","Linear","T8",30,1,"Rapid/Program Start Ballast","VR",4,1,null,26]
["FUT8-30W x 4L x 2'-RS/PRS N","Fluorescent U Tube T8 (30W x 4L x 2') 1 Rapid/Program Start Ballast (0.85 < BF < 0.95) ","F","U","T8","RS/PRS","(0.85 < BF < 0.95)",null,"Fluorescent","U Tube","T8",30,4,"Rapid/Program Start Ballast","N",2,1,null,104]
["FUT8-31W x 2'-IS R","Fluorescent U Tube T8 (31W x 1L x 2') 1 Instant start Ballast (0.75 < BF < 0.85) ","F","U","T8","IS","(0.75 < BF < 0.85)",null,"Fluorescent","U Tube","T8",31,1,"Instant start Ballast","R",2,1,null,27]
["FUT8-31W x 2L x 2'-IS R","Fluorescent U Tube T8 (31W x 2L x 2') 1 Instant start Ballast (0.75 < BF < 0.85) ","F","U","T8","IS","(0.75 < BF < 0.85)",null,"Fluorescent","U Tube","T8",31,2,"Instant start Ballast","R",2,1,null,54]
["FLT8-32W x 2L x 4'-CEE PS/PRS DIM N","Fluorescent Linear T8 (32W x 2L x 4') 1 CEE Dimmable PS/PRS Ballast (0.85 < BF < 0.95) ","F","L","T8","CEE PS/PRS DIM","(0.85 < BF < 0.95)",null,"Fluorescent","Linear","T8",32,2,"CEE Dimmable PS/PRS Ballast","N",4,1,null,56]
["FLT8-32W x 3L x 4'-CEE PS/PRS DIM N","Fluorescent Linear T8 (32W x 3L x 4') 1 CEE Dimmable PS/PRS Ballast (0.85 < BF < 0.95) ","F","L","T8","CEE PS/PRS DIM","(0.85 < BF < 0.95)",null,"Fluorescent","Linear","T8",32,3,"CEE Dimmable PS/PRS Ballast","N",4,1,null,84]
["FLT8CEE-32W x 2L x 4'-CEE IS CEE N","Fluorescent Linear T8 CEE  (32W x 2L x 4') 1 CEE Instant Start Ballast (0.85 < BF < 1.0) ","F","L","T8CEE","CEE IS","(0.85 < BF < 1.0)",null,"Fluorescent","Linear","T8 CEE ",32,2,"CEE Instant Start Ballast","CEE N",4,1,null,56]
["FLT8CEE-32W x 3L x 4'-CEE IS CEE N","Fluorescent Linear T8 CEE  (32W x 3L x 4') 1 CEE Instant Start Ballast (0.85 < BF < 1.0) ","F","L","T8CEE","CEE IS","(0.85 < BF < 1.0)",null,"Fluorescent","Linear","T8 CEE ",32,3,"CEE Instant Start Ballast","CEE N",4,1,null,84]
["FLT8-32W x 4'-IS(E) N","Fluorescent Linear T8 (32W x 1L x 4') 1 Efficient Instant Start Ballast (0.85 < BF < 0.95) ","F","L","T8","IS(E)","(0.85 < BF < 0.95)",null,"Fluorescent","Linear","T8",32,1,"Efficient Instant Start Ballast","N",4,1,null,28]
["FUT8-32W x 2'-IS(E) N","Fluorescent U Tube T8 (32W x 1L x 2') 1 Efficient Instant Start Ballast (0.85 < BF < 0.95) ","F","U","T8","IS(E)","(0.85 < BF < 0.95)",null,"Fluorescent","U Tube","T8",32,1,"Efficient Instant Start Ballast","N",2,1,null,28]
["FLT8-32W x 4L x 4'-IS N","Fluorescent Linear T8 (32W x 4L x 4') 1 Instant start Ballast (0.85 < BF < 0.95) ","F","L","T8","IS","(0.85 < BF < 0.95)",null,"Fluorescent","Linear","T8",32,4,"Instant start Ballast","N",4,1,null,112]
["FLT8-32W x 4'-RS/PRS VR","Fluorescent Linear T8 (32W x 1L x 4') 1 Rapid/Program Start Ballast (BF < 0.75) ","F","L","T8","RS/PRS","(BF < 0.75)",null,"Fluorescent","Linear","T8",32,1,"Rapid/Program Start Ballast","VR",4,1,null,28]
["FUT8-32W x 3L x 2'-RS/PRS N","Fluorescent U Tube T8 (32W x 3L x 2') 1 Rapid/Program Start Ballast (0.85 < BF < 0.95) ","F","U","T8","RS/PRS","(0.85 < BF < 0.95)",null,"Fluorescent","U Tube","T8",32,3,"Rapid/Program Start Ballast","N",2,1,null,84]
["FUT8-32W x 4L x 2'-RS/PRS N","Fluorescent U Tube T8 (32W x 4L x 2') 1 Rapid/Program Start Ballast (0.85 < BF < 0.95) ","F","U","T8","RS/PRS","(0.85 < BF < 0.95)",null,"Fluorescent","U Tube","T8",32,4,"Rapid/Program Start Ballast","N",2,1,null,112]
["FLT8-32W x 3L x 4'-CEE ISDIM N","Fluorescent Linear T8 (32W x 3L x 4') 1 CEE Dimmable Instant Start Ballast (0.85 < BF < 0.95) ","F","L","T8","CEE ISDIM","(0.85 < BF < 0.95)",null,"Fluorescent","Linear","T8",32,3,"CEE Dimmable Instant Start Ballast","N",4,1,null,84]
["FLT12-34W x 4L x 4'-IS N","Fluorescent Linear T12 (34W x 4L x 4') 1 Instant start Ballast (0.85 < BF < 0.95) ","F","L","T12","IS","(0.85 < BF < 0.95)",null,"Fluorescent","Linear","T12",34,4,"Instant start Ballast","N",4,1,null,120]
["FLT8-40W x 2L x 5'-IS(E) N","Fluorescent Linear T8 (40W x 2L x 5') 1 Efficient Instant Start Ballast (0.85 < BF < 0.95) ","F","L","T8","IS(E)","(0.85 < BF < 0.95)",null,"Fluorescent","Linear","T8",40,2,"Efficient Instant Start Ballast","N",5,1,null,72]
["FLT12-40W x 6L x 4'-MG(E)","Fluorescent Linear T12 (40W x 6L x 4') 1 Efficient Magnetic Ballast  ","F","L","T12","MG(E)",null,null,"Fluorescent","Linear","T12",40,6,"Efficient Magnetic Ballast",null,4,1,null,216]
["FCP-40W x 2L-IS N","Fluorescent Compact Pin-Base (40W x 2L) 1 Instant start Ballast (0.85 < BF < 0.95) ","F","C","P","IS","(0.85 < BF < 0.95)",null,"Fluorescent","Compact","Pin-Base",40,2,"Instant start Ballast","N",null,1,null,72]
["FLT8-40W x 3L x 5'-IS H","Fluorescent Linear T8 (40W x 3L x 5') 1 Instant start Ballast (0.95 < BF < 1.10) ","F","L","T8","IS","(0.95 < BF < 1.10)",null,"Fluorescent","Linear","T8",40,3,"Instant start Ballast","H",5,1,null,108]
["FLT8-40W x 5'-IS N","Fluorescent Linear T8 (40W x 1L x 5') 1 Instant start Ballast (0.85 < BF < 0.95) ","F","L","T8","IS","(0.85 < BF < 0.95)",null,"Fluorescent","Linear","T8",40,1,"Instant start Ballast","N",5,1,null,36]
["FLT12-40W x 6L x 4'-MG","Fluorescent Linear T12 (40W x 6L x 4') 1 Magnetic Ballast  ","F","L","T12","MG",null,null,"Fluorescent","Linear","T12",40,6,"Magnetic Ballast",null,4,1,null,216]
["FLT5HO-51W x 10L x 4'-2 RS/PRS H","Fluorescent Linear T5 HO (51W x 10L x 4') 2 Rapid/Program Start Ballast (0.95 < BF < 1.10) ","F","L","T5HO","RS/PRS","(0.95 < BF < 1.10)",null,"Fluorescent","Linear","T5 HO",51,10,"Rapid/Program Start Ballast","H",4,2,null,432]
["FLT8-28W x 6L x 4'-2 RS/PRS VR","Fluorescent Linear T8 (28W x 6L x 4') 2 Rapid/Program Start Ballast (BF < 0.75) ","F","L","T8","RS/PRS","(BF < 0.75)",null,"Fluorescent","Linear","T8",28,6,"Rapid/Program Start Ballast","VR",4,2,null,122]
[{"$f":"C259&D259&E259&IF(L259=\"\",\"\",\"-\"&L259&\"W\")&IF(OR(M259=1,M259=\"\"),\"\",\" x \"&M259&\"L\")&IF(P259=\"\",\"\",\" x \"&P259&\"'\")&IF(F259=\"\",\"\",\"-\"&IF(Q259=1,\"\",Q259&\" \")&F259&IF(O259=\"\",\"\",\" \"&O259)&IF(H259=\"\",\"\",\" \"&H259))","v":"FLT8-32W x 6L x 4'-2 IS(E) R"},{"$f":"I259& IF(J259=\"\",\"\",\" \"&J259)&IF(K259=\"\",\"\",\" \"&K259)&\" (\"&L259&\"W\"&IF(M259=\"\",\"\",\" x \"&M259 & \"L\")&IF(P259=\"\",\"\",\" x \"&P259&\"'\")&\")\"&IF(N259=\"\",\"\",\" \"&Q259&\" \"&N259&\" \"&G259)&\" \"&R259","v":"Fluorescent Linear T8 (32W x 6L x 4') 2 Efficient Instant Start Ballast (0.75 < BF < 0.85) "},"F","L","T8","IS(E)","(0.75 < BF < 0.85)",null,"Fluorescent","Linear","T8",32,6,"Efficient Instant Start Ballast","R",4,2,null,146]
["FLT8-25W x 4L x 3'-IS(E) N","Fluorescent Linear T8 (25W x 4L x 3') 1 Efficient Instant Start Ballast (0.85 < BF < 0.95) ","F","L","T8","IS(E)","(0.85 < BF < 0.95)",null,"Fluorescent","Linear","T8",25,4,"Efficient Instant Start Ballast","N",3,1,null,85]
["FLT8-25W x 4L x 3'-RS/PRS(E) N","Fluorescent Linear T8 (25W x 4L x 3') 1 Efficient Rapid/Program Start Ballast (0.85 < BF < 0.95) ","F","L","T8","RS/PRS(E)","(0.85 < BF < 0.95)",null,"Fluorescent","Linear","T8",25,4,"Efficient Rapid/Program Start Ballast","N",3,1,null,85]
["FUT8-25W x 4L x 2'-IS(E) N","Fluorescent U Tube T8 (25W x 4L x 2') 1 Efficient Instant Start Ballast (0.85 < BF < 0.95) ","F","U","T8","IS(E)","(0.85 < BF < 0.95)",null,"Fluorescent","U Tube","T8",25,4,"Efficient Instant Start Ballast","N",2,1,null,85]
["FLT8-28W x 4L x 3'-RS/PRS VR","Fluorescent Linear T8 (28W x 4L x 3') 1 Rapid/Program Start Ballast (BF < 0.75) ","F","L","T8","RS/PRS","(BF < 0.75)",null,"Fluorescent","Linear","T8",28,4,"Rapid/Program Start Ballast","VR",3,1,null,97]
["FLT8-32W x 4L x 4'-CEE PS/PRS DIM N","Fluorescent Linear T8 (32W x 4L x 4') 1 CEE Dimmable PS/PRS Ballast (0.85 < BF < 0.95) ","F","L","T8","CEE PS/PRS DIM","(0.85 < BF < 0.95)",null,"Fluorescent","Linear","T8",32,4,"CEE Dimmable PS/PRS Ballast","N",4,1,null,113]
["FLT8CEE-32W x 4L x 4'-CEE PS/PRS DIM CEE N","Fluorescent Linear T8 CEE  (32W x 4L x 4') 1 CEE Dimmable PS/PRS Ballast (0.85 < BF < 1.0) ","F","L","T8CEE","CEE PS/PRS DIM","(0.85 < BF < 1.0)",null,"Fluorescent","Linear","T8 CEE ",32,4,"CEE Dimmable PS/PRS Ballast","CEE N",4,1,null,113]
["FLT8-17W x 3L x 2'-IS(E) R","Fluorescent Linear T8 (17W x 3L x 2') 1 Efficient Instant Start Ballast (0.75 < BF < 0.85) ","F","L","T8","IS(E)","(0.75 < BF < 0.85)",null,"Fluorescent","Linear","T8",17,3,"Efficient Instant Start Ballast","R",2,1,null,40]
["FLT8-25W x 3L x 3'-IS(E) N","Fluorescent Linear T8 (25W x 3L x 3') 1 Efficient Instant Start Ballast (0.85 < BF < 0.95) ","F","L","T8","IS(E)","(0.85 < BF < 0.95)",null,"Fluorescent","Linear","T8",25,3,"Efficient Instant Start Ballast","N",3,1,null,64]
["FLT8-28W x 3L x 4'-IS N","Fluorescent Linear T8 (28W x 3L x 4') 1 Instant start Ballast (0.85 < BF < 0.95) ","F","L","T8","IS","(0.85 < BF < 0.95)",null,"Fluorescent","Linear","T8",28,3,"Instant start Ballast","N",4,1,null,73]
["FUT8-28W x 3L x 2'-IS N","Fluorescent U Tube T8 (28W x 3L x 2') 1 Instant start Ballast (0.85 < BF < 0.95) ","F","U","T8","IS","(0.85 < BF < 0.95)",null,"Fluorescent","U Tube","T8",28,3,"Instant start Ballast","N",2,1,null,73]
["FLT8-28W x 6L x 4'-RS/PRS N","Fluorescent Linear T8 (28W x 6L x 4') 1 Rapid/Program Start Ballast (0.85 < BF < 0.95) ","F","L","T8","RS/PRS","(0.85 < BF < 0.95)",null,"Fluorescent","Linear","T8",28,6,"Rapid/Program Start Ballast","N",4,1,null,146]
["FLT8-30W x 3L x 4'-IS N","Fluorescent Linear T8 (30W x 3L x 4') 1 Instant start Ballast (0.85 < BF < 0.95) ","F","L","T8","IS","(0.85 < BF < 0.95)",null,"Fluorescent","Linear","T8",30,3,"Instant start Ballast","N",4,1,null,79]
["FLT8CEE-32W x 3L x 4'-CEE RS/PRS CEE N","Fluorescent Linear T8 CEE  (32W x 3L x 4') 1 CEE Rapid/Program Start Ballast (0.85 < BF < 1.0) ","F","L","T8CEE","CEE RS/PRS","(0.85 < BF < 1.0)",null,"Fluorescent","Linear","T8 CEE ",32,3,"CEE Rapid/Program Start Ballast","CEE N",4,1,null,85]
["FLT8-32W x 3L x 4'-RS/PRS(E) N","Fluorescent Linear T8 (32W x 3L x 4') 1 Efficient Rapid/Program Start Ballast (0.85 < BF < 0.95) ","F","L","T8","RS/PRS(E)","(0.85 < BF < 0.95)",null,"Fluorescent","Linear","T8",32,3,"Efficient Rapid/Program Start Ballast","N",4,1,null,85]
["FLT8-28W x 4L x 4'-2 IS VR","Fluorescent Linear T8 (28W x 4L x 4') 2 Instant start Ballast (BF < 0.75) ","F","L","T8","IS","(BF < 0.75)",null,"Fluorescent","Linear","T8",28,4,"Instant start Ballast","VR",4,2,null,83]
["FUT8-25W x 2L x 2'-IS(E) N","Fluorescent U Tube T8 (25W x 2L x 2') 1 Efficient Instant start Ballast (0.85 < BF < 0.95) ","F","U","T8","IS(E)","(0.85 < BF < 0.95)",null,"Fluorescent","U Tube","T8",25,2,"Efficient Instant start Ballast","N",2,1,null,43]
["FUT8-25W x 2L x 2'-IS N","Fluorescent U Tube T8 (25W x 2L x 2') 1 Instant start Ballast (0.85 < BF < 0.95) ","F","U","T8","IS","(0.85 < BF < 0.95)",null,"Fluorescent","U Tube","T8",25,2,"Instant start Ballast","N",2,1,null,43]
["FUT8-25W x 4L x 2'-IS N","Fluorescent U Tube T8 (25W x 4L x 2') 1 Instant start Ballast (0.85 < BF < 0.95) ","F","U","T8","IS","(0.85 < BF < 0.95)",null,"Fluorescent","U Tube","T8",25,4,"Instant start Ballast","N",2,1,null,86]
["FLT8-25W x 2L x 4'-IS(E) N","Fluorescent Linear T8 (25W x 2L x 4') 1 Efficient Instant Start Ballast (0.85 < BF < 0.95) ","F","L","T8","IS(E)","(0.85 < BF < 0.95)",null,"Fluorescent","Linear","T8",25,2,"Efficient Instant Start Ballast","N",4,1,null,43]
["FLT8-25W x 4L x 4'-IS(E) N","Fluorescent Linear T8 (25W x 4L x 4') 1 Efficient Instant Start Ballast (0.85 < BF < 0.95) ","F","L","T8","IS(E)","(0.85 < BF < 0.95)",null,"Fluorescent","Linear","T8",25,4,"Efficient Instant Start Ballast","N",4,1,null,86]
["FLT8-25W x 2L x 3'-RS/PRS(E) N","Fluorescent Linear T8 (25W x 2L x 3') 1 Efficient Rapid/Program Start Ballast (0.85 < BF < 0.95) ","F","L","T8","RS/PRS(E)","(0.85 < BF < 0.95)",null,"Fluorescent","Linear","T8",25,2,"Efficient Rapid/Program Start Ballast","N",3,1,null,43]
["FLT8-25W x 4L x 3'-IS R","Fluorescent Linear T8 (25W x 4L x 3') 1 Instant start Ballast (0.75 < BF < 0.85) ","F","L","T8","IS","(0.75 < BF < 0.85)",null,"Fluorescent","Linear","T8",25,4,"Instant start Ballast","R",3,1,null,86]
["FLT8CEE-28W x 2L x 4'-CEE RS/PRS CEE N","Fluorescent Linear T8 CEE  (28W x 2L x 4') 1 CEE Rapid/Program Start Ballast (0.85 < BF < 1.0) ","F","L","T8CEE","CEE RS/PRS","(0.85 < BF < 1.0)",null,"Fluorescent","Linear","T8 CEE ",28,2,"CEE Rapid/Program Start Ballast","CEE N",4,1,null,49]
["FLT8-28W x 2L x 4'-IS N","Fluorescent Linear T8 (28W x 2L x 4') 1 Instant start Ballast (0.85 < BF < 0.95) ","F","L","T8","IS","(0.85 < BF < 0.95)",null,"Fluorescent","Linear","T8",28,2,"Instant start Ballast","N",4,1,null,49]
["FLT8-28W x 4L x 4'-IS N","Fluorescent Linear T8 (28W x 4L x 4') 1 Instant start Ballast (0.85 < BF < 0.95) ","F","L","T8","IS","(0.85 < BF < 0.95)",null,"Fluorescent","Linear","T8",28,4,"Instant start Ballast","N",4,1,null,98]
["FLT8-28W x 4L x 4'-RS/PRS N","Fluorescent Linear T8 (28W x 4L x 4') 1 Rapid/Program Start Ballast (0.85 < BF < 0.95) ","F","L","T8","RS/PRS","(0.85 < BF < 0.95)",null,"Fluorescent","Linear","T8",28,4,"Rapid/Program Start Ballast","N",4,1,null,98]
["FLT8-32W x 2L x 4'-RS/PRS(E) N","Fluorescent Linear T8 (32W x 2L x 4') 1 Efficient Rapid/Program Start Ballast (0.85 < BF < 0.95) ","F","L","T8","RS/PRS(E)","(0.85 < BF < 0.95)",null,"Fluorescent","Linear","T8",32,2,"Efficient Rapid/Program Start Ballast","N",4,1,null,57]
["FLT8-32W x 6L x 4'-RS/PRS N","Fluorescent Linear T8 (32W x 6L x 4') 1 Rapid/Program Start Ballast (0.85 < BF < 0.95) ","F","L","T8","RS/PRS","(0.85 < BF < 0.95)",null,"Fluorescent","Linear","T8",32,6,"Rapid/Program Start Ballast","N",4,1,null,171]
["FLT8-40W x 2L x 5'-IS N","Fluorescent Linear T8 (40W x 2L x 5') 1 Instant start Ballast (0.85 < BF < 0.95) ","F","L","T8","IS","(0.85 < BF < 0.95)",null,"Fluorescent","Linear","T8",40,2,"Instant start Ballast","N",5,1,null,73]
["FLT8-40W x 2L x 5'-IS R","Fluorescent Linear T8 (40W x 2L x 5') 1 Instant start Ballast (0.75 < BF < 0.85) ","F","L","T8","IS","(0.75 < BF < 0.85)",null,"Fluorescent","Linear","T8",40,2,"Instant start Ballast","R",5,1,null,73]
["FLT8-17W x 3L x 2'-RS/PRS R","Fluorescent Linear T8 (17W x 3L x 2') 1 Rapid/Program Start Ballast (0.75 < BF < 0.85) ","F","L","T8","RS/PRS","(0.75 < BF < 0.85)",null,"Fluorescent","Linear","T8",17,3,"Rapid/Program Start Ballast","R",2,1,null,41]
["FUT8-25W x 3L x 2'-RS/PRS(E) N","Fluorescent U Tube T8 (25W x 3L x 2') 1 Efficient Rapid/Program Start Ballast (0.85 < BF < 0.95) ","F","U","T8","RS/PRS(E)","(0.85 < BF < 0.95)",null,"Fluorescent","U Tube","T8",25,3,"Efficient Rapid/Program Start Ballast","N",2,1,null,65]
["FUT8-25W x 3L x 2'-IS N","Fluorescent U Tube T8 (25W x 3L x 2') 1 Instant start Ballast (0.85 < BF < 0.95) ","F","U","T8","IS","(0.85 < BF < 0.95)",null,"Fluorescent","U Tube","T8",25,3,"Instant start Ballast","N",2,1,null,65]
["FLT8CEE-28W x 3L x 4'-CEE IS CEE N","Fluorescent Linear T8 CEE  (28W x 3L x 4') 1 CEE Instant Start Ballast (0.85 < BF < 1.0) ","F","L","T8CEE","CEE IS","(0.85 < BF < 1.0)",null,"Fluorescent","Linear","T8 CEE ",28,3,"CEE Instant Start Ballast","CEE N",4,1,null,74]
["FLT8CEE-28W x 3L x 4'-CEE RS/PRS CEE N","Fluorescent Linear T8 CEE  (28W x 3L x 4') 1 CEE Rapid/Program Start Ballast (0.85 < BF < 1.0) ","F","L","T8CEE","CEE RS/PRS","(0.85 < BF < 1.0)",null,"Fluorescent","Linear","T8 CEE ",28,3,"CEE Rapid/Program Start Ballast","CEE N",4,1,null,74]
["FLT8-28W x 3L x 4'-RS/PRS N","Fluorescent Linear T8 (28W x 3L x 4') 1 Rapid/Program Start Ballast (0.85 < BF < 0.95) ","F","L","T8","RS/PRS","(0.85 < BF < 0.95)",null,"Fluorescent","Linear","T8",28,3,"Rapid/Program Start Ballast","N",4,1,null,74]
["FLT12-34W x 3L x 4'-IS N","Fluorescent Linear T12 (34W x 3L x 4') 1 Instant start Ballast (0.85 < BF < 0.95) ","F","L","T12","IS","(0.85 < BF < 0.95)",null,"Fluorescent","Linear","T12",34,3,"Instant start Ballast","N",4,1,null,92]
["FLT8-40W x 3L x 5'-IS N","Fluorescent Linear T8 (40W x 3L x 5') 1 Instant start Ballast (0.85 < BF < 0.95) ","F","L","T8","IS","(0.85 < BF < 0.95)",null,"Fluorescent","Linear","T8",40,3,"Instant start Ballast","N",5,1,null,110]
["FLT8-59W x 3L x 8'-IS N","Fluorescent Linear T8 (59W x 3L x 8') 1 Instant start Ballast (0.85 < BF < 0.95) ","F","L","T8","IS","(0.85 < BF < 0.95)",null,"Fluorescent","Linear","T8",59,3,"Instant start Ballast","N",8,1,null,167]
["FLT8-25W x 4L x 4'-2 IS(E) VR","Fluorescent Linear T8 (25W x 4L x 4') 2 Efficient Instant Start Ballast (BF < 0.75) ","F","L","T8","IS(E)","(BF < 0.75)",null,"Fluorescent","Linear","T8",25,4,"Efficient Instant Start Ballast","VR",4,2,null,74]
["FLT8-25W x 8L x 4'-2 RS/PRS VR","Fluorescent Linear T8 (25W x 8L x 4') 2 Rapid/Program Start Ballast (BF < 0.75) ","F","L","T8","RS/PRS","(BF < 0.75)",null,"Fluorescent","Linear","T8",25,8,"Rapid/Program Start Ballast","VR",4,2,null,148]
["FLT8-32W x 8L x 4'-2 IS R","Fluorescent Linear T8 (32W x 8L x 4') 2 Instant start Ballast (0.75 < BF < 0.85) ","F","L","T8","IS","(0.75 < BF < 0.85)",null,"Fluorescent","Linear","T8",32,8,"Instant start Ballast","R",4,2,null,204]
["FLT8-17W x 4L x 2'-IS R","Fluorescent Linear T8 (17W x 4L x 2') 1 Instant start Ballast (0.75 < BF < 0.85) ","F","L","T8","IS","(0.75 < BF < 0.85)",null,"Fluorescent","Linear","T8",17,4,"Instant start Ballast","R",2,1,null,55]
["FUT8-25W x 4L x 2'-RS/PRS N","Fluorescent U Tube T8 (25W x 4L x 2') 1 Rapid/Program Start Ballast (0.85 < BF < 0.95) ","F","U","T8","RS/PRS","(0.85 < BF < 0.95)",null,"Fluorescent","U Tube","T8",25,4,"Rapid/Program Start Ballast","N",2,1,null,87]
["FLT8CEE-25W x 4L x 4'-CEE IS N","Fluorescent Linear T8 CEE  (25W x 4L x 4') 1 CEE Instant Start Ballast (0.85 < BF < 1.0) ","F","L","T8CEE","CEE IS","(0.85 < BF < 1.0)",null,"Fluorescent","Linear","T8 CEE ",25,4,"CEE Instant Start Ballast","N",4,1,null,87]
["FUT8-25W x 4L x 2'-RS/PRS(E) N","Fluorescent U Tube T8 (25W x 4L x 2') 1 Efficient Rapid/Program Start Ballast (0.85 < BF < 0.95) ","F","U","T8","RS/PRS(E)","(0.85 < BF < 0.95)",null,"Fluorescent","U Tube","T8",25,4,"Efficient Rapid/Program Start Ballast","N",2,1,null,87]
["FLT8-25W x 4L x 3'-IS N","Fluorescent Linear T8 (25W x 4L x 3') 1 Instant start Ballast (0.85 < BF < 0.95) ","F","L","T8","IS","(0.85 < BF < 0.95)",null,"Fluorescent","Linear","T8",25,4,"Instant start Ballast","N",3,1,null,87]
["FLT8-25W x 4L x 4'-IS N","Fluorescent Linear T8 (25W x 4L x 4') 1 Instant start Ballast (0.85 < BF < 0.95) ","F","L","T8","IS","(0.85 < BF < 0.95)",null,"Fluorescent","Linear","T8",25,4,"Instant start Ballast","N",4,1,null,87]
["FLT8CEE-28W x 4L x 4'-CEE RS/PRS CEE N","Fluorescent Linear T8 CEE  (28W x 4L x 4') 1 CEE Rapid/Program Start Ballast (0.85 < BF < 1.0) ","F","L","T8CEE","CEE RS/PRS","(0.85 < BF < 1.0)",null,"Fluorescent","Linear","T8 CEE ",28,4,"CEE Rapid/Program Start Ballast","CEE N",4,1,null,99]
["FLT8-32W x 12L x 4'-3 RS/PRS VR","Fluorescent Linear T8 (32W x 12L x 4') 3 Rapid/Program Start Ballast (BF < 0.75) ","F","L","T8","RS/PRS","(BF < 0.75)",null,"Fluorescent","Linear","T8",32,12,"Rapid/Program Start Ballast","VR",4,3,null,272]
["FLT8-25W x 6L x 4'-2 RS/PRS VR","Fluorescent Linear T8 (25W x 6L x 4') 2 Rapid/Program Start Ballast (BF < 0.75) ","F","L","T8","RS/PRS","(BF < 0.75)",null,"Fluorescent","Linear","T8",25,6,"Rapid/Program Start Ballast","VR",4,2,null,113]
["FLT8-32W x 10L x 4'-3 RS/PRS VR","Fluorescent Linear T8 (32W x 10L x 4') 3 Rapid/Program Start Ballast (BF < 0.75) ","F","L","T8","RS/PRS","(BF < 0.75)",null,"Fluorescent","Linear","T8",32,10,"Rapid/Program Start Ballast","VR",4,3,null,228]
["FLT8-30W x 4L x 4'-2 IS R","Fluorescent Linear T8 (30W x 4L x 4') 2 Instant start Ballast (0.75 < BF < 0.85) ","F","L","T8","IS","(0.75 < BF < 0.85)",null,"Fluorescent","Linear","T8",30,4,"Instant start Ballast","R",4,2,null,96]
["FLT8-32W x 4L x 4'-2 IS R","Fluorescent Linear T8 (32W x 4L x 4') 2 Instant start Ballast (0.75 < BF < 0.85) ","F","L","T8","IS","(0.75 < BF < 0.85)",null,"Fluorescent","Linear","T8",32,4,"Instant start Ballast","R",4,2,null,104]
["FLT8-32W x 6L x 4'-2 IS R","Fluorescent Linear T8 (32W x 6L x 4') 2 Instant start Ballast (0.75 < BF < 0.85) ","F","L","T8","IS","(0.75 < BF < 0.85)",null,"Fluorescent","Linear","T8",32,6,"Instant start Ballast","R",4,2,null,156]
["FLT8-86W x 3L x 8'-2 IS N","Fluorescent Linear T8 (86W x 3L x 8') 2 Instant start Ballast (0.85 < BF < 0.95) ","F","L","T8","IS","(0.85 < BF < 0.95)",null,"Fluorescent","Linear","T8",86,3,"Instant start Ballast","N",8,2,null,240]
["FLT8-86W x 4L x 8'-2 IS N","Fluorescent Linear T8 (86W x 4L x 8') 2 Instant start Ballast (0.85 < BF < 0.95) ","F","L","T8","IS","(0.85 < BF < 0.95)",null,"Fluorescent","Linear","T8",86,4,"Instant start Ballast","N",8,2,null,320]
["FLT8-17W x 2L x 2'-RS/PRS R","Fluorescent Linear T8 (17W x 2L x 2') 1 Rapid/Program Start Ballast (0.75 < BF < 0.85) ","F","L","T8","RS/PRS","(0.75 < BF < 0.85)",null,"Fluorescent","Linear","T8",17,2,"Rapid/Program Start Ballast","R",2,1,null,28]
["FLT8-17W x 2'-RS/PRS VR","Fluorescent Linear T8 (17W x 1L x 2') 1 Rapid/Program Start Ballast (BF < 0.75) ","F","L","T8","RS/PRS","(BF < 0.75)",null,"Fluorescent","Linear","T8",17,1,"Rapid/Program Start Ballast","VR",2,1,null,14]
["FUT8-25W x 3L x 2'-RS/PRS N","Fluorescent U Tube T8 (25W x 3L x 2') 1 Rapid/Program Start Ballast (0.85 < BF < 0.95) ","F","U","T8","RS/PRS","(0.85 < BF < 0.95)",null,"Fluorescent","U Tube","T8",25,3,"Rapid/Program Start Ballast","N",2,1,null,66]
["FLT8CEE-25W x 2L x 4'-CEE IS N","Fluorescent Linear T8 CEE  (25W x 2L x 4') 1 CEE Instant Start Ballast (0.85 < BF < 1.0) ","F","L","T8CEE","CEE IS","(0.85 < BF < 1.0)",null,"Fluorescent","Linear","T8 CEE ",25,2,"CEE Instant Start Ballast","N",4,1,null,44]
["FLT8CEE-25W x 2L x 4'-CEE IS CEE N","Fluorescent Linear T8 CEE  (25W x 2L x 4') 1 CEE Instant Start Ballast (0.85 < BF < 1.0) ","F","L","T8CEE","CEE IS","(0.85 < BF < 1.0)",null,"Fluorescent","Linear","T8 CEE ",25,2,"CEE Instant Start Ballast","CEE N",4,1,null,44]
["FLT8CEE-25W x 4'-CEE RS/PRS CEE N","Fluorescent Linear T8 CEE  (25W x 1L x 4') 1 CEE Rapid/Program Start Ballast (0.85 < BF < 1.0) ","F","L","T8CEE","CEE RS/PRS","(0.85 < BF < 1.0)",null,"Fluorescent","Linear","T8 CEE ",25,1,"CEE Rapid/Program Start Ballast","CEE N",4,1,null,22]
[{"$f":"C323&D323&E323&IF(L323=\"\",\"\",\"-\"&L323&\"W\")&IF(OR(M323=1,M323=\"\"),\"\",\" x \"&M323&\"L\")&IF(P323=\"\",\"\",\" x \"&P323&\"'\")&IF(F323=\"\",\"\",\"-\"&IF(Q323=1,\"\",Q323&\" \")&F323&IF(O323=\"\",\"\",\" \"&O323)&IF(H323=\"\",\"\",\" \"&H323))","v":"FLT8CEE-25W x 3L x 4'-CEE RS/PRS CEE N"},{"$f":"I323& IF(J323=\"\",\"\",\" \"&J323)&IF(K323=\"\",\"\",\" \"&K323)&\" (\"&L323&\"W\"&IF(M323=\"\",\"\",\" x \"&M323 & \"L\")&IF(P323=\"\",\"\",\" x \"&P323&\"'\")&\")\"&IF(N323=\"\",\"\",\" \"&Q323&\" \"&N323&\" \"&G323)&\" \"&R323","v":"Fluorescent Linear T8 CEE  (25W x 3L x 4') 1 CEE Rapid/Program Start Ballast (0.85 < BF < 1.0) "},"F","L","T8CEE","CEE RS/PRS","(0.85 < BF < 1.0)",null,"Fluorescent","Linear","T8 CEE ",25,3,"CEE Rapid/Program Start Ballast","CEE N",4,1,null,66]
["FLT8CEE-25W x 4L x 4'-CEE RS/PRS CEE N","Fluorescent Linear T8 CEE  (25W x 4L x 4') 1 CEE Rapid/Program Start Ballast (0.85 < BF < 1.0) ","F","L","T8CEE","CEE RS/PRS","(0.85 < BF < 1.0)",null,"Fluorescent","Linear","T8 CEE ",25,4,"CEE Rapid/Program Start Ballast","CEE N",4,1,null,88]
["FLT8-25W x 2L x 3'-IS(E) N","Fluorescent Linear T8 (25W x 2L x 3') 1 Efficient Instant Start Ballast (0.85 < BF < 0.95) ","F","L","T8","IS(E)","(0.85 < BF < 0.95)",null,"Fluorescent","Linear","T8",25,2,"Efficient Instant Start Ballast","N",3,1,null,44]
["FLT8-25W x 3'-IS(E) N","Fluorescent Linear T8 (25W x 1L x 3') 1 Efficient Instant Start Ballast (0.85 < BF < 0.95) ","F","L","T8","IS(E)","(0.85 < BF < 0.95)",null,"Fluorescent","Linear","T8",25,1,"Efficient Instant Start Ballast","N",3,1,null,22]
["FLT8-25W x 3L x 4'-IS(E) N","Fluorescent Linear T8 (25W x 3L x 4') 1 Efficient Instant Start Ballast (0.85 < BF < 0.95) ","F","L","T8","IS(E)","(0.85 < BF < 0.95)",null,"Fluorescent","Linear","T8",25,3,"Efficient Instant Start Ballast","N",4,1,null,66]
["FLT8-25W x 3L x 3'-RS/PRS(E) N","Fluorescent Linear T8 (25W x 3L x 3') 1 Efficient Rapid/Program Start Ballast (0.85 < BF < 0.95) ","F","L","T8","RS/PRS(E)","(0.85 < BF < 0.95)",null,"Fluorescent","Linear","T8",25,3,"Efficient Rapid/Program Start Ballast","N",3,1,null,66]
["FLT8-25W x 3'-RS/PRS(E) N","Fluorescent Linear T8 (25W x 1L x 3') 1 Efficient Rapid/Program Start Ballast (0.85 < BF < 0.95) ","F","L","T8","RS/PRS(E)","(0.85 < BF < 0.95)",null,"Fluorescent","Linear","T8",25,1,"Efficient Rapid/Program Start Ballast","N",3,1,null,22]
["FLT8-25W x 3L x 3'-IS R","Fluorescent Linear T8 (25W x 3L x 3') 1 Instant start Ballast (0.75 < BF < 0.85) ","F","L","T8","IS","(0.75 < BF < 0.85)",null,"Fluorescent","Linear","T8",25,3,"Instant start Ballast","R",3,1,null,66]
["FLT8-25W x 2L x 4'-RS/PRS N","Fluorescent Linear T8 (25W x 2L x 4') 1 Rapid/Program Start Ballast (0.85 < BF < 0.95) ","F","L","T8","RS/PRS","(0.85 < BF < 0.95)",null,"Fluorescent","Linear","T8",25,2,"Rapid/Program Start Ballast","N",4,1,null,44]
["FLT8CEE-28W x 2L x 4'-CEE IS N","Fluorescent Linear T8 CEE  (28W x 2L x 4') 1 CEE Instant Start Ballast (0.85 < BF < 1.0) ","F","L","T8CEE","CEE IS","(0.85 < BF < 1.0)",null,"Fluorescent","Linear","T8 CEE ",28,2,"CEE Instant Start Ballast","N",4,1,null,50]
["FLT8CEE-28W x 4'-CEE IS CEE N","Fluorescent Linear T8 CEE  (28W x 1L x 4') 1 CEE Instant Start Ballast (0.85 < BF < 1.0) ","F","L","T8CEE","CEE IS","(0.85 < BF < 1.0)",null,"Fluorescent","Linear","T8 CEE ",28,1,"CEE Instant Start Ballast","CEE N",4,1,null,25]
["FLT8-28W x 4'-IS(E) N","Fluorescent Linear T8 (28W x 1L x 4') 1 Efficient Instant Start Ballast (0.85 < BF < 0.95) ","F","L","T8","IS(E)","(0.85 < BF < 0.95)",null,"Fluorescent","Linear","T8",28,1,"Efficient Instant Start Ballast","N",4,1,null,25]
["FUT8-28W x 2'-IS N","Fluorescent U Tube T8 (28W x 1L x 2') 1 Instant start Ballast (0.85 < BF < 0.95) ","F","U","T8","IS","(0.85 < BF < 0.95)",null,"Fluorescent","U Tube","T8",28,1,"Instant start Ballast","N",2,1,null,25]
["FLT8-28W x 2L x 4'-RS/PRS N","Fluorescent Linear T8 (28W x 2L x 4') 1 Rapid/Program Start Ballast (0.85 < BF < 0.95) ","F","L","T8","RS/PRS","(0.85 < BF < 0.95)",null,"Fluorescent","Linear","T8",28,2,"Rapid/Program Start Ballast","N",4,1,null,50]
["FUT8-28W x 2L x 2'-RS/PRS N","Fluorescent U Tube T8 (28W x 2L x 2') 1 Rapid/Program Start Ballast (0.85 < BF < 0.95) ","F","U","T8","RS/PRS","(0.85 < BF < 0.95)",null,"Fluorescent","U Tube","T8",28,2,"Rapid/Program Start Ballast","N",2,1,null,50]
["FLT8-30W x 2L x 4'-IS N","Fluorescent Linear T8 (30W x 2L x 4') 1 Instant start Ballast (0.85 < BF < 0.95) ","F","L","T8","IS","(0.85 < BF < 0.95)",null,"Fluorescent","Linear","T8",30,2,"Instant start Ballast","N",4,1,null,54]
["FLT8-30W x 4'-IS R","Fluorescent Linear T8 (30W x 1L x 4') 1 Instant start Ballast (0.75 < BF < 0.85) ","F","L","T8","IS","(0.75 < BF < 0.85)",null,"Fluorescent","Linear","T8",30,1,"Instant start Ballast","R",4,1,null,27]
["FLT8-30W x 3L x 4'-RS/PRS N","Fluorescent Linear T8 (30W x 3L x 4') 1 Rapid/Program Start Ballast (0.85 < BF < 0.95) ","F","L","T8","RS/PRS","(0.85 < BF < 0.95)",null,"Fluorescent","Linear","T8",30,3,"Rapid/Program Start Ballast","N",4,1,null,81]
["FLT8-30W x 4L x 4'-RS/PRS N","Fluorescent Linear T8 (30W x 4L x 4') 1 Rapid/Program Start Ballast (0.85 < BF < 0.95) ","F","L","T8","RS/PRS","(0.85 < BF < 0.95)",null,"Fluorescent","Linear","T8",30,4,"Rapid/Program Start Ballast","N",4,1,null,108]
["FLT8-30W x 6L x 4'-RS/PRS N","Fluorescent Linear T8 (30W x 6L x 4') 1 Rapid/Program Start Ballast (0.85 < BF < 0.95) ","F","L","T8","RS/PRS","(0.85 < BF < 0.95)",null,"Fluorescent","Linear","T8",30,6,"Rapid/Program Start Ballast","N",4,1,null,162]
["FUT8-30W x 2L x 2'-RS/PRS H","Fluorescent U Tube T8 (30W x 2L x 2') 1 Rapid/Program Start Ballast (0.95 < BF < 1.10) ","F","U","T8","RS/PRS","(0.95 < BF < 1.10)",null,"Fluorescent","U Tube","T8",30,2,"Rapid/Program Start Ballast","H",2,1,null,54]
["FLT8-32W x 3L x 4'-CEE PS/PRS DIM R","Fluorescent Linear T8 (32W x 3L x 4') 1 CEE Dimmable PS/PRS Ballast (0.75 < BF < 0.85) ","F","L","T8","CEE PS/PRS DIM","(0.75 < BF < 0.85)",null,"Fluorescent","Linear","T8",32,3,"CEE Dimmable PS/PRS Ballast","R",4,1,null,87]
["FLT8-32W x 4'-CEE PS/PRS DIM N","Fluorescent Linear T8 (32W x 1L x 4') 1 CEE Dimmable PS/PRS Ballast (0.85 < BF < 0.95) ","F","L","T8","CEE PS/PRS DIM","(0.85 < BF < 0.95)",null,"Fluorescent","Linear","T8",32,1,"CEE Dimmable PS/PRS Ballast","N",4,1,null,29]
["FLT8CEE-32W x 4'-CEE IS CEE N","Fluorescent Linear T8 CEE  (32W x 1L x 4') 1 CEE Instant Start Ballast (0.85 < BF < 1.0) ","F","L","T8CEE","CEE IS","(0.85 < BF < 1.0)",null,"Fluorescent","Linear","T8 CEE ",32,1,"CEE Instant Start Ballast","CEE N",4,1,null,29]
["FLT8CEE-32W x 2L x 4'-CEE RS/PRS CEE N","Fluorescent Linear T8 CEE  (32W x 2L x 4') 1 CEE Rapid/Program Start Ballast (0.85 < BF < 1.0) ","F","L","T8CEE","CEE RS/PRS","(0.85 < BF < 1.0)",null,"Fluorescent","Linear","T8 CEE ",32,2,"CEE Rapid/Program Start Ballast","CEE N",4,1,null,58]
["FUT8-32W x 2L x 2'-RS/PRS(E) N","Fluorescent U Tube T8 (32W x 2L x 2') 1 Efficient Rapid/Program Start Ballast (0.85 < BF < 0.95) ","F","U","T8","RS/PRS(E)","(0.85 < BF < 0.95)",null,"Fluorescent","U Tube","T8",32,2,"Efficient Rapid/Program Start Ballast","N",2,1,null,58]
["FLT8-32W x 3L x 4'-IS N","Fluorescent Linear T8 (32W x 3L x 4') 1 Instant start Ballast (0.85 < BF < 0.95) ","F","L","T8","IS","(0.85 < BF < 0.95)",null,"Fluorescent","Linear","T8",32,3,"Instant start Ballast","N",4,1,null,87]
["FLT8-32W x 4'-IS R","Fluorescent Linear T8 (32W x 1L x 4') 1 Instant start Ballast (0.75 < BF < 0.85) ","F","L","T8","IS","(0.75 < BF < 0.85)",null,"Fluorescent","Linear","T8",32,1,"Instant start Ballast","R",4,1,null,29]
["FUT8-32W x 2'-IS N","Fluorescent U Tube T8 (32W x 1L x 2') 1 Instant start Ballast (0.85 < BF < 0.95) ","F","U","T8","IS","(0.85 < BF < 0.95)",null,"Fluorescent","U Tube","T8",32,1,"Instant start Ballast","N",2,1,null,29]
["FLT8-30W x 12L x 4'-3 RS/PRS VR","Fluorescent Linear T8 (30W x 12L x 4') 3 Rapid/Program Start Ballast (BF < 0.75) ","F","L","T8","RS/PRS","(BF < 0.75)",null,"Fluorescent","Linear","T8",30,12,"Rapid/Program Start Ballast","VR",4,3,null,257]
["FLT8-30W x 10L x 4'-3 RS/PRS VR","Fluorescent Linear T8 (30W x 10L x 4') 3 Rapid/Program Start Ballast (BF < 0.75) ","F","L","T8","RS/PRS","(BF < 0.75)",null,"Fluorescent","Linear","T8",30,10,"Rapid/Program Start Ballast","VR",4,3,null,215]
["FLT8-25W x 6L x 4'-RS/PRS N","Fluorescent Linear T8 (25W x 6L x 4') 1 Rapid/Program Start Ballast (0.85 < BF < 0.95) ","F","L","T8","RS/PRS","(0.85 < BF < 0.95)",null,"Fluorescent","Linear","T8",25,6,"Rapid/Program Start Ballast","N",4,1,null,133]
["FLT8-17W x 4L x 2'-RS/PRS R","Fluorescent Linear T8 (17W x 4L x 2') 1 Rapid/Program Start Ballast (0.75 < BF < 0.85) ","F","L","T8","RS/PRS","(0.75 < BF < 0.85)",null,"Fluorescent","Linear","T8",17,4,"Rapid/Program Start Ballast","R",2,1,null,57]
["FLT8-25W x 4L x 3'-RS/PRS N","Fluorescent Linear T8 (25W x 4L x 3') 1 Rapid/Program Start Ballast (0.85 < BF < 0.95) ","F","L","T8","RS/PRS","(0.85 < BF < 0.95)",null,"Fluorescent","Linear","T8",25,4,"Rapid/Program Start Ballast","N",3,1,null,89]
["FLT8-25W x 4L x 4'-RS/PRS N","Fluorescent Linear T8 (25W x 4L x 4') 1 Rapid/Program Start Ballast (0.85 < BF < 0.95) ","F","L","T8","RS/PRS","(0.85 < BF < 0.95)",null,"Fluorescent","Linear","T8",25,4,"Rapid/Program Start Ballast","N",4,1,null,89]
["FCP-42W x 8L-IS N","Fluorescent Compact Pin-Base (42W x 8L) 1 Instant start Ballast (0.85 < BF < 0.95) ","F","C","P","IS","(0.85 < BF < 0.95)",null,"Fluorescent","Compact","Pin-Base",42,8,"Instant start Ballast","N",null,1,null,314]
["FLT8-28W x 12L x 4'-3 RS/PRS VR","Fluorescent Linear T8 (28W x 12L x 4') 3 Rapid/Program Start Ballast (BF < 0.75) ","F","L","T8","RS/PRS","(BF < 0.75)",null,"Fluorescent","Linear","T8",28,12,"Rapid/Program Start Ballast","VR",4,3,null,238]
["FLT8-28W x 10L x 4'-3 RS/PRS VR","Fluorescent Linear T8 (28W x 10L x 4') 3 Rapid/Program Start Ballast (BF < 0.75) ","F","L","T8","RS/PRS","(BF < 0.75)",null,"Fluorescent","Linear","T8",28,10,"Rapid/Program Start Ballast","VR",4,3,null,199]
["FLT8-17W x 3L x 2'-IS R","Fluorescent Linear T8 (17W x 3L x 2') 1 Instant start Ballast (0.75 < BF < 0.85) ","F","L","T8","IS","(0.75 < BF < 0.85)",null,"Fluorescent","Linear","T8",17,3,"Instant start Ballast","R",2,1,null,43]
["FLT8CEE-25W x 3L x 4'-CEE IS N","Fluorescent Linear T8 CEE  (25W x 3L x 4') 1 CEE Instant Start Ballast (0.85 < BF < 1.0) ","F","L","T8CEE","CEE IS","(0.85 < BF < 1.0)",null,"Fluorescent","Linear","T8 CEE ",25,3,"CEE Instant Start Ballast","N",4,1,null,67]
["FLT8-25W x 3L x 3'-IS N","Fluorescent Linear T8 (25W x 3L x 3') 1 Instant start Ballast (0.85 < BF < 0.95) ","F","L","T8","IS","(0.85 < BF < 0.95)",null,"Fluorescent","Linear","T8",25,3,"Instant start Ballast","N",3,1,null,67]
["FLT8-25W x 3L x 4'-IS N","Fluorescent Linear T8 (25W x 3L x 4') 1 Instant start Ballast (0.85 < BF < 0.95) ","F","L","T8","IS","(0.85 < BF < 0.95)",null,"Fluorescent","Linear","T8",25,3,"Instant start Ballast","N",4,1,null,67]
["FLT8-25W x 4L x 4'-2 IS VR","Fluorescent Linear T8 (25W x 4L x 4') 2 Instant start Ballast (BF < 0.75) ","F","L","T8","IS","(BF < 0.75)",null,"Fluorescent","Linear","T8",25,4,"Instant start Ballast","VR",4,2,null,80]
["FLT12-60W x 4L x 8'-2 IS N","Fluorescent Linear T12 (60W x 4L x 8') 2 Instant start Ballast (0.85 < BF < 0.95) ","F","L","T12","IS","(0.85 < BF < 0.95)",null,"Fluorescent","Linear","T12",60,4,"Instant start Ballast","N",8,2,null,220]
["FLT8-17W x 2L x 2'-IS(E) R","Fluorescent Linear T8 (17W x 2L x 2') 1 Efficient Instant start Ballast (0.75 < BF < 0.85) ","F","L","T8","IS(E)","(0.75 < BF < 0.85)",null,"Fluorescent","Linear","T8",17,2,"Efficient Instant start Ballast","R",2,1,null,29]
["FLT8-17W x 2L x 2'-IS R","Fluorescent Linear T8 (17W x 2L x 2') 1 Instant start Ballast (0.75 < BF < 0.85) ","F","L","T8","IS","(0.75 < BF < 0.85)",null,"Fluorescent","Linear","T8",17,2,"Instant start Ballast","R",2,1,null,29]
["FUT8-25W x 2L x 2'-RS/PRS N","Fluorescent U Tube T8 (25W x 2L x 2') 1 Rapid/Program Start Ballast (0.85 < BF < 0.95) ","F","U","T8","RS/PRS","(0.85 < BF < 0.95)",null,"Fluorescent","U Tube","T8",25,2,"Rapid/Program Start Ballast","N",2,1,null,45]
["FLT8-30W x 2L x 4'-RS/PRS N","Fluorescent Linear T8 (30W x 2L x 4') 1 Rapid/Program Start Ballast (0.85 < BF < 0.95) ","F","L","T8","RS/PRS","(0.85 < BF < 0.95)",null,"Fluorescent","Linear","T8",30,2,"Rapid/Program Start Ballast","N",4,1,null,55]
["FLT8-32W x 2L x 4'-IS N","Fluorescent Linear T8 (32W x 2L x 4') 1 Instant start Ballast (0.85 < BF < 0.95) ","F","L","T8","IS","(0.85 < BF < 0.95)",null,"Fluorescent","Linear","T8",32,2,"Instant start Ballast","N",4,1,null,59]
["FUT8-32W x 2L x 2'-IS N","Fluorescent U Tube T8 (32W x 2L x 2') 1 Instant start Ballast (0.85 < BF < 0.95) ","F","U","T8","IS","(0.85 < BF < 0.95)",null,"Fluorescent","U Tube","T8",32,2,"Instant start Ballast","N",2,1,null,59]
["FLT8-32W x 4L x 4'-RS/PRS N","Fluorescent Linear T8 (32W x 4L x 4') 1 Rapid/Program Start Ballast (0.85 < BF < 0.95) ","F","L","T8","RS/PRS","(0.85 < BF < 0.95)",null,"Fluorescent","Linear","T8",32,4,"Rapid/Program Start Ballast","N",4,1,null,118]
["FUT12-34W x 2L x 2'-IS N","Fluorescent U Tube T12 (34W x 2L x 2') 1 Instant start Ballast (0.85 < BF < 0.95) ","F","U","T12","IS","(0.85 < BF < 0.95)",null,"Fluorescent","U Tube","T12",34,2,"Instant start Ballast","N",2,1,null,63]
["FLT8-30W x 6L x 4'-2 IS N","Fluorescent Linear T8 (30W x 6L x 4') 2 Instant start Ballast (0.85 < BF < 0.95) ","F","L","T8","IS","(0.85 < BF < 0.95)",null,"Fluorescent","Linear","T8",30,6,"Instant start Ballast","N",4,2,null,152]
["FLT8-32W x 6L x 4'-2 IS(E) N","Fluorescent Linear T8 (32W x 6L x 4') 2 Efficient Instant Start Ballast (0.85 < BF < 0.95) ","F","L","T8","IS(E)","(0.85 < BF < 0.95)",null,"Fluorescent","Linear","T8",32,6,"Efficient Instant Start Ballast","N",4,2,null,164]
["FLT8-25W x 3L x 4'-RS/PRS N","Fluorescent Linear T8 (25W x 3L x 4') 1 Rapid/Program Start Ballast (0.85 < BF < 0.95) ","F","L","T8","RS/PRS","(0.85 < BF < 0.95)",null,"Fluorescent","Linear","T8",25,3,"Rapid/Program Start Ballast","N",4,1,null,68]
["FUT8-32W x 3L x 2'-IS N","Fluorescent U Tube T8 (32W x 3L x 2') 1 Instant start Ballast (0.85 < BF < 0.95) ","F","U","T8","IS","(0.85 < BF < 0.95)",null,"Fluorescent","U Tube","T8",32,3,"Instant start Ballast","N",2,1,null,89]
["FLT5-28W x 4L x 4'-2 RS/PRS L","Fluorescent Linear T5 (28W x 4L x 4') 2 Rapid/Program Start Ballast (BF < 0.85) ","F","L","T5","RS/PRS","(BF < 0.85)",null,"Fluorescent","Linear","T5",28,4,"Rapid/Program Start Ballast","L",4,2,null,94]
["FLT8-17W x 4L x 2'-IS(E) N","Fluorescent Linear T8 (17W x 4L x 2') 1 Efficient Instant Start Ballast (0.85 < BF < 0.95) ","F","L","T8","IS(E)","(0.85 < BF < 0.95)",null,"Fluorescent","Linear","T8",17,4,"Efficient Instant Start Ballast","N",2,1,null,59]
["FLT5-28W x 3L x 4'-2 RS/PRS L","Fluorescent Linear T5 (28W x 3L x 4') 2 Rapid/Program Start Ballast (BF < 0.85) ","F","L","T5","RS/PRS","(BF < 0.85)",null,"Fluorescent","Linear","T5",28,3,"Rapid/Program Start Ballast","L",4,2,null,71]
["FLT8-32W x 3L x 4'-2 IS R","Fluorescent Linear T8 (32W x 3L x 4') 2 Instant start Ballast (0.75 < BF < 0.85) ","F","L","T8","IS","(0.75 < BF < 0.85)",null,"Fluorescent","Linear","T8",32,3,"Instant start Ballast","R",4,2,null,83]
["FLT8-59W x 6L x 8'-2 IS N","Fluorescent Linear T8 (59W x 6L x 8') 2 Instant start Ballast (0.85 < BF < 0.95) ","F","L","T8","IS","(0.85 < BF < 0.95)",null,"Fluorescent","Linear","T8",59,6,"Instant start Ballast","N",8,2,null,328]
["FLT8-25W x 10L x 4'-3 RS/PRS VR","Fluorescent Linear T8 (25W x 10L x 4') 3 Rapid/Program Start Ballast (BF < 0.75) ","F","L","T8","RS/PRS","(BF < 0.75)",null,"Fluorescent","Linear","T8",25,10,"Rapid/Program Start Ballast","VR",4,3,null,189]
["FLT8-25W x 3L x 4'-2 IS VR","Fluorescent Linear T8 (25W x 3L x 4') 2 Instant start Ballast (BF < 0.75) ","F","L","T8","IS","(BF < 0.75)",null,"Fluorescent","Linear","T8",25,3,"Instant start Ballast","VR",4,2,null,63]
["FLT8-30W x 3L x 4'-2 IS R","Fluorescent Linear T8 (30W x 3L x 4') 2 Instant start Ballast (0.75 < BF < 0.85) ","F","L","T8","IS","(0.75 < BF < 0.85)",null,"Fluorescent","Linear","T8",30,3,"Instant start Ballast","R",4,2,null,78]
[{"$f":"C387&D387&E387&IF(L387=\"\",\"\",\"-\"&L387&\"W\")&IF(OR(M387=1,M387=\"\"),\"\",\" x \"&M387&\"L\")&IF(P387=\"\",\"\",\" x \"&P387&\"'\")&IF(F387=\"\",\"\",\"-\"&IF(Q387=1,\"\",Q387&\" \")&F387&IF(O387=\"\",\"\",\" \"&O387)&IF(H387=\"\",\"\",\" \"&H387))","v":"FLT8-32W x 8L x 4'-2 IS N"},{"$f":"I387& IF(J387=\"\",\"\",\" \"&J387)&IF(K387=\"\",\"\",\" \"&K387)&\" (\"&L387&\"W\"&IF(M387=\"\",\"\",\" x \"&M387 & \"L\")&IF(P387=\"\",\"\",\" x \"&P387&\"'\")&\")\"&IF(N387=\"\",\"\",\" \"&Q387&\" \"&N387&\" \"&G387)&\" \"&R387","v":"Fluorescent Linear T8 (32W x 8L x 4') 2 Instant start Ballast (0.85 < BF < 0.95) "},"F","L","T8","IS","(0.85 < BF < 0.95)",null,"Fluorescent","Linear","T8",32,8,"Instant start Ballast","N",4,2,null,224]
["FLT8-17W x 2'-IS(E) R","Fluorescent Linear T8 (17W x 1L x 2') 1 Efficient Instant Start Ballast (0.75 < BF < 0.85) ","F","L","T8","IS(E)","(0.75 < BF < 0.85)",null,"Fluorescent","Linear","T8",17,1,"Efficient Instant Start Ballast","R",2,1,null,15]
["FLT8-17W x 3L x 2'-IS(E) N","Fluorescent Linear T8 (17W x 3L x 2') 1 Efficient Instant Start Ballast (0.85 < BF < 0.95) ","F","L","T8","IS(E)","(0.85 < BF < 0.95)",null,"Fluorescent","Linear","T8",17,3,"Efficient Instant Start Ballast","N",2,1,null,45]
["FLT8-17W x 2'-RS/PRS(E) N","Fluorescent Linear T8 (17W x 1L x 2') 1 Efficient Rapid/Program Start Ballast (0.85 < BF < 0.95) ","F","L","T8","RS/PRS(E)","(0.85 < BF < 0.95)",null,"Fluorescent","Linear","T8",17,1,"Efficient Rapid/Program Start Ballast","N",2,1,null,15]
["FLT8-17W x 2'-RS/PRS R","Fluorescent Linear T8 (17W x 1L x 2') 1 Rapid/Program Start Ballast (0.75 < BF < 0.85) ","F","L","T8","RS/PRS","(0.75 < BF < 0.85)",null,"Fluorescent","Linear","T8",17,1,"Rapid/Program Start Ballast","R",2,1,null,15]
["FCIT9-22W-MGPH","Fluorescent Circline T9 (22W x 1L) 1 Pre-Heated Ballast  ","F","CI","T9","MGPH",null,null,"Fluorescent","Circline","T9",22,1,"Pre-Heated Ballast",null,null,1,null,20]
["FLT8CEE-25W x 4'-CEE IS N","Fluorescent Linear T8 CEE  (25W x 1L x 4') 1 CEE Instant Start Ballast (0.85 < BF < 1.0) ","F","L","T8CEE","CEE IS","(0.85 < BF < 1.0)",null,"Fluorescent","Linear","T8 CEE ",25,1,"CEE Instant Start Ballast","N",4,1,null,23]
["FLT8-25W x 4'-IS(E) N","Fluorescent Linear T8 (25W x 1L x 4') 1 Efficient Instant Start Ballast (0.85 < BF < 0.95) ","F","L","T8","IS(E)","(0.85 < BF < 0.95)",null,"Fluorescent","Linear","T8",25,1,"Efficient Instant Start Ballast","N",4,1,null,23]
["FLT8-25W x 2L x 3'-IS N","Fluorescent Linear T8 (25W x 2L x 3') 1 Instant start Ballast (0.85 < BF < 0.95) ","F","L","T8","IS","(0.85 < BF < 0.95)",null,"Fluorescent","Linear","T8",25,2,"Instant start Ballast","N",3,1,null,46]
["FLT8-25W x 2L x 3'-IS R","Fluorescent Linear T8 (25W x 2L x 3') 1 Instant start Ballast (0.75 < BF < 0.85) ","F","L","T8","IS","(0.75 < BF < 0.85)",null,"Fluorescent","Linear","T8",25,2,"Instant start Ballast","R",3,1,null,46]
["FLT8-25W x 2L x 4'-IS N","Fluorescent Linear T8 (25W x 2L x 4') 1 Instant start Ballast (0.85 < BF < 0.95) ","F","L","T8","IS","(0.85 < BF < 0.95)",null,"Fluorescent","Linear","T8",25,2,"Instant start Ballast","N",4,1,null,46]
["FLT8-25W x 4'-IS VR","Fluorescent Linear T8 (25W x 1L x 4') 1 Instant start Ballast (BF < 0.75) ","F","L","T8","IS","(BF < 0.75)",null,"Fluorescent","Linear","T8",25,1,"Instant start Ballast","VR",4,1,null,23]
["FLT8-25W x 4L x 4'-IS H","Fluorescent Linear T8 (25W x 4L x 4') 1 Instant start Ballast (0.95 < BF < 1.10) ","F","L","T8","IS","(0.95 < BF < 1.10)",null,"Fluorescent","Linear","T8",25,4,"Instant start Ballast","H",4,1,null,92]
["FLT8-25W x 2L x 3'-RS/PRS N","Fluorescent Linear T8 (25W x 2L x 3') 1 Rapid/Program Start Ballast (0.85 < BF < 0.95) ","F","L","T8","RS/PRS","(0.85 < BF < 0.95)",null,"Fluorescent","Linear","T8",25,2,"Rapid/Program Start Ballast","N",3,1,null,46]
["FLT8-25W x 3'-RS/PRS R","Fluorescent Linear T8 (25W x 1L x 3') 1 Rapid/Program Start Ballast (0.75 < BF < 0.85) ","F","L","T8","RS/PRS","(0.75 < BF < 0.85)",null,"Fluorescent","Linear","T8",25,1,"Rapid/Program Start Ballast","R",3,1,null,23]
["FUT8-25W x 2'-IS(E) N","Fluorescent U Tube T8 (25W x 1L x 2') 1 Efficient Instant Start Ballast (0.85 < BF < 0.95) ","F","U","T8","IS(E)","(0.85 < BF < 0.95)",null,"Fluorescent","U Tube","T8",25,1,"Efficient Instant Start Ballast","N",2,1,null,23]
["FLT8CEE-28W x 4'-CEE RS/PRS CEE N","Fluorescent Linear T8 CEE  (28W x 1L x 4') 1 CEE Rapid/Program Start Ballast (0.85 < BF < 1.0) ","F","L","T8CEE","CEE RS/PRS","(0.85 < BF < 1.0)",null,"Fluorescent","Linear","T8 CEE ",28,1,"CEE Rapid/Program Start Ballast","CEE N",4,1,null,26]
["FLT8-28W x 4'-RS/PRS N","Fluorescent Linear T8 (28W x 1L x 4') 1 Rapid/Program Start Ballast (0.85 < BF < 0.95) ","F","L","T8","RS/PRS","(0.85 < BF < 0.95)",null,"Fluorescent","Linear","T8",28,1,"Rapid/Program Start Ballast","N",4,1,null,26]
["FUT8-28W x 2'-RS/PRS N","Fluorescent U Tube T8 (28W x 1L x 2') 1 Rapid/Program Start Ballast (0.85 < BF < 0.95) ","F","U","T8","RS/PRS","(0.85 < BF < 0.95)",null,"Fluorescent","U Tube","T8",28,1,"Rapid/Program Start Ballast","N",2,1,null,26]
["FLT8-30W x 4'-IS(E) N","Fluorescent Linear T8 (30W x 1L x 4') 1 Efficient Instant Start Ballast (0.85 < BF < 0.95) ","F","L","T8","IS(E)","(0.85 < BF < 0.95)",null,"Fluorescent","Linear","T8",30,1,"Efficient Instant Start Ballast","N",4,1,null,28]
["FLT8-30W x 4'-RS/PRS N","Fluorescent Linear T8 (30W x 1L x 4') 1 Rapid/Program Start Ballast (0.85 < BF < 0.95) ","F","L","T8","RS/PRS","(0.85 < BF < 0.95)",null,"Fluorescent","Linear","T8",30,1,"Rapid/Program Start Ballast","N",4,1,null,28]
["FLT8CEE-32W x 4'-CEE RS/PRS CEE N","Fluorescent Linear T8 CEE  (32W x 1L x 4') 1 CEE Rapid/Program Start Ballast (0.85 < BF < 1.0) ","F","L","T8CEE","CEE RS/PRS","(0.85 < BF < 1.0)",null,"Fluorescent","Linear","T8 CEE ",32,1,"CEE Rapid/Program Start Ballast","CEE N",4,1,null,30]
["FLT8-32W x 3L x 4'-IS(E) H","Fluorescent Linear T8 (32W x 3L x 4') 1 Efficient Instant Start Ballast (0.95 < BF < 1.10) ","F","L","T8","IS(E)","(0.95 < BF < 1.10)",null,"Fluorescent","Linear","T8",32,3,"Efficient Instant Start Ballast","H",4,1,null,90]
["FLT8-32W x 4'-RS/PRS(E) N","Fluorescent Linear T8 (32W x 1L x 4') 1 Efficient Rapid/Program Start Ballast (0.85 < BF < 0.95) ","F","L","T8","RS/PRS(E)","(0.85 < BF < 0.95)",null,"Fluorescent","Linear","T8",32,1,"Efficient Rapid/Program Start Ballast","N",4,1,null,30]
["FUT8-32W x 2'-RS/PRS(E) N","Fluorescent U Tube T8 (32W x 1L x 2') 1 Efficient Rapid/Program Start Ballast (0.85 < BF < 0.95) ","F","U","T8","RS/PRS(E)","(0.85 < BF < 0.95)",null,"Fluorescent","U Tube","T8",32,1,"Efficient Rapid/Program Start Ballast","N",2,1,null,30]
["FUT8-32W x 3L x 2'-IS H","Fluorescent U Tube T8 (32W x 3L x 2') 1 Instant start Ballast (0.95 < BF < 1.10) ","F","U","T8","IS","(0.95 < BF < 1.10)",null,"Fluorescent","U Tube","T8",32,3,"Instant start Ballast","H",2,1,null,90]
["FLT8-32W x 2L x 4'-RS/PRS N","Fluorescent Linear T8 (32W x 2L x 4') 1 Rapid/Program Start Ballast (0.85 < BF < 0.95) ","F","L","T8","RS/PRS","(0.85 < BF < 0.95)",null,"Fluorescent","Linear","T8",32,2,"Rapid/Program Start Ballast","N",4,1,null,60]
["FUT8-32W x 2L x 2'-RS/PRS N","Fluorescent U Tube T8 (32W x 2L x 2') 1 Rapid/Program Start Ballast (0.85 < BF < 0.95) ","F","U","T8","RS/PRS","(0.85 < BF < 0.95)",null,"Fluorescent","U Tube","T8",32,2,"Rapid/Program Start Ballast","N",2,1,null,60]
["FUT8-32W x 2'-RS/PRS N","Fluorescent U Tube T8 (32W x 1L x 2') 1 Rapid/Program Start Ballast (0.85 < BF < 0.95) ","F","U","T8","RS/PRS","(0.85 < BF < 0.95)",null,"Fluorescent","U Tube","T8",32,1,"Rapid/Program Start Ballast","N",2,1,null,30]
["FLT12-34W x 4'-IS N","Fluorescent Linear T12 (34W x 1L x 4') 1 Instant start Ballast (0.85 < BF < 0.95) ","F","L","T12","IS","(0.85 < BF < 0.95)",null,"Fluorescent","Linear","T12",34,1,"Instant start Ballast","N",4,1,null,32]
["FLT12-39W x 2L x 4'-IS N","Fluorescent Linear T12 (39W x 2L x 4') 1 Instant start Ballast (0.85 < BF < 0.95) ","F","L","T12","IS","(0.85 < BF < 0.95)",null,"Fluorescent","Linear","T12",39,2,"Instant start Ballast","N",4,1,null,74]
["FLT12-39W x 4L x 4'-IS N","Fluorescent Linear T12 (39W x 4L x 4') 1 Instant start Ballast (0.85 < BF < 0.95) ","F","L","T12","IS","(0.85 < BF < 0.95)",null,"Fluorescent","Linear","T12",39,4,"Instant start Ballast","N",4,1,null,148]
["FLT8-59W x 8'-IS R","Fluorescent Linear T8 (59W x 1L x 8') 1 Instant start Ballast (0.75 < BF < 0.85) ","F","L","T8","IS","(0.75 < BF < 0.85)",null,"Fluorescent","Linear","T8",59,1,"Instant start Ballast","R",8,1,null,57]
["FLT8-25W x 12L x 4'-3 RS/PRS VR","Fluorescent Linear T8 (25W x 12L x 4') 3 Rapid/Program Start Ballast (BF < 0.75) ","F","L","T8","RS/PRS","(BF < 0.75)",null,"Fluorescent","Linear","T8",25,12,"Rapid/Program Start Ballast","VR",4,3,null,229]
["FLT8-32W x 8L x 4'-2 RS/PRS N","Fluorescent Linear T8 (32W x 8L x 4') 2 Rapid/Program Start Ballast (0.85 < BF < 0.95) ","F","L","T8","RS/PRS","(0.85 < BF < 0.95)",null,"Fluorescent","Linear","T8",32,8,"Rapid/Program Start Ballast","N",4,2,null,225]
["FLT8-28W x 6L x 4'-2 RS/PRS N","Fluorescent Linear T8 (28W x 6L x 4') 2 Rapid/Program Start Ballast (0.85 < BF < 0.95) ","F","L","T8","RS/PRS","(0.85 < BF < 0.95)",null,"Fluorescent","Linear","T8",28,6,"Rapid/Program Start Ballast","N",4,2,null,146]
["FLT8-25W x 4L x 4'-2 IS(E) N","Fluorescent Linear T8 (25W x 4L x 4') 2 Efficient Instant Start Ballast (0.85 < BF < 0.95) ","F","L","T8","IS(E)","(0.85 < BF < 0.95)",null,"Fluorescent","Linear","T8",25,4,"Efficient Instant Start Ballast","N",4,2,null,86]
["FLT8-28W x 8L x 4'-2 RS/PRS N","Fluorescent Linear T8 (28W x 8L x 4') 2 Rapid/Program Start Ballast (0.85 < BF < 0.95) ","F","L","T8","RS/PRS","(0.85 < BF < 0.95)",null,"Fluorescent","Linear","T8",28,8,"Rapid/Program Start Ballast","N",4,2,null,196]
["FLT8-32W x 6L x 4'-2 RS/PRS N","Fluorescent Linear T8 (32W x 6L x 4') 2 Rapid/Program Start Ballast (0.85 < BF < 0.95) ","F","L","T8","RS/PRS","(0.85 < BF < 0.95)",null,"Fluorescent","Linear","T8",32,6,"Rapid/Program Start Ballast","N",4,2,null,171]
["FLT8-17W x 4L x 2'-RS/PRS(E) N","Fluorescent Linear T8 (17W x 4L x 2') 1 Efficient Rapid/Program Start Ballast (0.85 < BF < 0.95) ","F","L","T8","RS/PRS(E)","(0.85 < BF < 0.95)",null,"Fluorescent","Linear","T8",17,4,"Efficient Rapid/Program Start Ballast","N",2,1,null,61]
["FLT8-17W x 4L x 2'-IS N","Fluorescent Linear T8 (17W x 4L x 2') 1 Instant start Ballast (0.85 < BF < 0.95) ","F","L","T8","IS","(0.85 < BF < 0.95)",null,"Fluorescent","Linear","T8",17,4,"Instant start Ballast","N",2,1,null,61]
["FLT8-32W x 4L x 4'-IS H","Fluorescent Linear T8 (32W x 4L x 4') 1 Instant start Ballast (0.95 < BF < 1.10) ","F","L","T8","IS","(0.95 < BF < 1.10)",null,"Fluorescent","Linear","T8",32,4,"Instant start Ballast","H",4,1,null,121]
["FUT8-32W x 4L x 2'-IS H","Fluorescent U Tube T8 (32W x 4L x 2') 1 Instant start Ballast (0.95 < BF < 1.10) ","F","U","T8","IS","(0.95 < BF < 1.10)",null,"Fluorescent","U Tube","T8",32,4,"Instant start Ballast","H",2,1,null,121]
["FLT8-28W x 3L x 4'-IS H","Fluorescent Linear T8 (28W x 3L x 4') 1 Instant start Ballast (0.95 < BF < 1.10) ","F","L","T8","IS","(0.95 < BF < 1.10)",null,"Fluorescent","Linear","T8",28,3,"Instant start Ballast","H",4,1,null,79]
["FUT8-28W x 3L x 2'-IS H","Fluorescent U Tube T8 (28W x 3L x 2') 1 Instant start Ballast (0.95 < BF < 1.10) ","F","U","T8","IS","(0.95 < BF < 1.10)",null,"Fluorescent","U Tube","T8",28,3,"Instant start Ballast","H",2,1,null,79]
["FLT8CEE-32W x 3L x 4'-CEE PS/PRS DIM CEE N","Fluorescent Linear T8 CEE  (32W x 3L x 4') 1 CEE Dimmable PS/PRS Ballast (0.85 < BF < 1.0) ","F","L","T8CEE","CEE PS/PRS DIM","(0.85 < BF < 1.0)",null,"Fluorescent","Linear","T8 CEE ",32,3,"CEE Dimmable PS/PRS Ballast","CEE N",4,1,null,91]
["FLT8-32W x 3L x 4'-RS/PRS(E) H","Fluorescent Linear T8 (32W x 3L x 4') 1 Efficient Rapid/Program Start Ballast (0.95 < BF < 1.10) ","F","L","T8","RS/PRS(E)","(0.95 < BF < 1.10)",null,"Fluorescent","Linear","T8",32,3,"Efficient Rapid/Program Start Ballast","H",4,1,null,91]
["FLT8-25W x 3L x 4'-2 IS(E) N","Fluorescent Linear T8 (25W x 3L x 4') 2 Efficient Instant Start Ballast (0.85 < BF < 0.95) ","F","L","T8","IS(E)","(0.85 < BF < 0.95)",null,"Fluorescent","Linear","T8",25,3,"Efficient Instant Start Ballast","N",4,2,null,66]
["FLT8-30W x 4L x 4'-2 IS N","Fluorescent Linear T8 (30W x 4L x 4') 2 Instant start Ballast (0.85 < BF < 0.95) ","F","L","T8","IS","(0.85 < BF < 0.95)",null,"Fluorescent","Linear","T8",30,4,"Instant start Ballast","N",4,2,null,108]
["FLT8-30W x 6L x 4'-2 RS/PRS N","Fluorescent Linear T8 (30W x 6L x 4') 2 Rapid/Program Start Ballast (0.85 < BF < 0.95) ","F","L","T8","RS/PRS","(0.85 < BF < 0.95)",null,"Fluorescent","Linear","T8",30,6,"Rapid/Program Start Ballast","N",4,2,null,162]
["FLT8-32W x 6L x 4'-2 IS N","Fluorescent Linear T8 (32W x 6L x 4') 2 Instant start Ballast (0.85 < BF < 0.95) ","F","L","T8","IS","(0.85 < BF < 0.95)",null,"Fluorescent","Linear","T8",32,6,"Instant start Ballast","N",4,2,null,174]
["FLT12-34W x 6L x 4'-2 IS N","Fluorescent Linear T12 (34W x 6L x 4') 2 Instant start Ballast (0.85 < BF < 0.95) ","F","L","T12","IS","(0.85 < BF < 0.95)",null,"Fluorescent","Linear","T12",34,6,"Instant start Ballast","N",4,2,null,186]
["FLT8-17W x 2L x 2'-IS(E) N","Fluorescent Linear T8 (17W x 2L x 2') 1 Efficient Instant Start Ballast (0.85 < BF < 0.95) ","F","L","T8","IS(E)","(0.85 < BF < 0.95)",null,"Fluorescent","Linear","T8",17,2,"Efficient Instant Start Ballast","N",2,1,null,31]
["FLT8-17W x 2L x 2'-RS/PRS(E) N","Fluorescent Linear T8 (17W x 2L x 2') 1 Efficient Rapid/Program Start Ballast (0.85 < BF < 0.95) ","F","L","T8","RS/PRS(E)","(0.85 < BF < 0.95)",null,"Fluorescent","Linear","T8",17,2,"Efficient Rapid/Program Start Ballast","N",2,1,null,31]
["FLT8-28W x 2L x 4'-IS H","Fluorescent Linear T8 (28W x 2L x 4') 1 Instant start Ballast (0.95 < BF < 1.10) ","F","L","T8","IS","(0.95 < BF < 1.10)",null,"Fluorescent","Linear","T8",28,2,"Instant start Ballast","H",4,1,null,53]
["FUT8-30W x 2L x 2'-IS H","Fluorescent U Tube T8 (30W x 2L x 2') 1 Instant start Ballast (0.95 < BF < 1.10) ","F","U","T8","IS","(0.95 < BF < 1.10)",null,"Fluorescent","U Tube","T8",30,2,"Instant start Ballast","H",2,1,null,57]
["FLT12HO-85W x 2L x 6'-IS N","Fluorescent Linear T12 HO (85W x 2L x 6') 1 Instant start Ballast (0.85 < BF < 0.95) ","F","L","T12HO","IS","(0.85 < BF < 0.95)",null,"Fluorescent","Linear","T12 HO",85,2,"Instant start Ballast","N",6,1,null,167]
["FLT8-30W x 8L x 4'-2 RS/PRS N","Fluorescent Linear T8 (30W x 8L x 4') 2 Rapid/Program Start Ballast (0.85 < BF < 0.95) ","F","L","T8","RS/PRS","(0.85 < BF < 0.95)",null,"Fluorescent","Linear","T8",30,8,"Rapid/Program Start Ballast","N",4,2,null,217]
["FLT8-25W x 6L x 4'-2 RS/PRS N","Fluorescent Linear T8 (25W x 6L x 4') 2 Rapid/Program Start Ballast (0.85 < BF < 0.95) ","F","L","T8","RS/PRS","(0.85 < BF < 0.95)",null,"Fluorescent","Linear","T8",25,6,"Rapid/Program Start Ballast","N",4,2,null,133]
["FLT8-25W x 8L x 4'-2 RS/PRS N","Fluorescent Linear T8 (25W x 8L x 4') 2 Rapid/Program Start Ballast (0.85 < BF < 0.95) ","F","L","T8","RS/PRS","(0.85 < BF < 0.95)",null,"Fluorescent","Linear","T8",25,8,"Rapid/Program Start Ballast","N",4,2,null,178]
["FLT8-25W x 6L x 3'-2 IS N","Fluorescent Linear T8 (25W x 6L x 3') 2 Instant start Ballast (0.85 < BF < 0.95) ","F","L","T8","IS","(0.85 < BF < 0.95)",null,"Fluorescent","Linear","T8",25,6,"Instant start Ballast","N",3,2,null,134]
["FLT8-25W x 6L x 3'-2 IS R","Fluorescent Linear T8 (25W x 6L x 3') 2 Instant start Ballast (0.75 < BF < 0.85) ","F","L","T8","IS","(0.75 < BF < 0.85)",null,"Fluorescent","Linear","T8",25,6,"Instant start Ballast","R",3,2,null,134]
["FLT8-17W x 3L x 2'-RS/PRS(E) N","Fluorescent Linear T8 (17W x 3L x 2') 1 Efficient Rapid/Program Start Ballast (0.85 < BF < 0.95) ","F","L","T8","RS/PRS(E)","(0.85 < BF < 0.95)",null,"Fluorescent","Linear","T8",17,3,"Efficient Rapid/Program Start Ballast","N",2,1,null,47]
["FLT8-17W x 3L x 2'-IS N","Fluorescent Linear T8 (17W x 3L x 2') 1 Instant start Ballast (0.85 < BF < 0.95) ","F","L","T8","IS","(0.85 < BF < 0.95)",null,"Fluorescent","Linear","T8",17,3,"Instant start Ballast","N",2,1,null,47]
[{"$f":"C451&D451&E451&IF(L451=\"\",\"\",\"-\"&L451&\"W\")&IF(OR(M451=1,M451=\"\"),\"\",\" x \"&M451&\"L\")&IF(P451=\"\",\"\",\" x \"&P451&\"'\")&IF(F451=\"\",\"\",\"-\"&IF(Q451=1,\"\",Q451&\" \")&F451&IF(O451=\"\",\"\",\" \"&O451)&IF(H451=\"\",\"\",\" \"&H451))","v":"FLT8-25W x 3L x 4'-IS(E) H"},{"$f":"I451& IF(J451=\"\",\"\",\" \"&J451)&IF(K451=\"\",\"\",\" \"&K451)&\" (\"&L451&\"W\"&IF(M451=\"\",\"\",\" x \"&M451 & \"L\")&IF(P451=\"\",\"\",\" x \"&P451&\"'\")&\")\"&IF(N451=\"\",\"\",\" \"&Q451&\" \"&N451&\" \"&G451)&\" \"&R451","v":"Fluorescent Linear T8 (25W x 3L x 4') 1 Efficient Instant Start Ballast (0.95 < BF < 1.10) "},"F","L","T8","IS(E)","(0.95 < BF < 1.10)",null,"Fluorescent","Linear","T8",25,3,"Efficient Instant Start Ballast","H",4,1,null,71]
["FLT8-32W x 10L x 4'-3 RS/PRS N","Fluorescent Linear T8 (32W x 10L x 4') 3 Rapid/Program Start Ballast (0.85 < BF < 0.95) ","F","L","T8","RS/PRS","(0.85 < BF < 0.95)",null,"Fluorescent","Linear","T8",32,10,"Rapid/Program Start Ballast","N",4,3,null,281]
["FLT8-32W x 12L x 4'-3 RS/PRS N","Fluorescent Linear T8 (32W x 12L x 4') 3 Rapid/Program Start Ballast (0.85 < BF < 0.95) ","F","L","T8","RS/PRS","(0.85 < BF < 0.95)",null,"Fluorescent","Linear","T8",32,12,"Rapid/Program Start Ballast","N",4,3,null,338]
["FLT8-32W x 4L x 4'-2 IS N","Fluorescent Linear T8 (32W x 4L x 4') 2 Instant start Ballast (0.85 < BF < 0.95) ","F","L","T8","IS","(0.85 < BF < 0.95)",null,"Fluorescent","Linear","T8",32,4,"Instant start Ballast","N",4,2,null,118]
["FLT8-32W x 5L x 4'-2 IS N","Fluorescent Linear T8 (32W x 5L x 4') 2 Instant start Ballast (0.85 < BF < 0.95) ","F","L","T8","IS","(0.85 < BF < 0.95)",null,"Fluorescent","Linear","T8",32,5,"Instant start Ballast","N",4,2,null,148]
["FLT8-30W x 3L x 4'-2 IS N","Fluorescent Linear T8 (30W x 3L x 4') 2 Instant start Ballast (0.85 < BF < 0.95) ","F","L","T8","IS","(0.85 < BF < 0.95)",null,"Fluorescent","Linear","T8",30,3,"Instant start Ballast","N",4,2,null,83]
["FLT8-28W x 12L x 4'-3 RS/PRS N","Fluorescent Linear T8 (28W x 12L x 4') 3 Rapid/Program Start Ballast (0.85 < BF < 0.95) ","F","L","T8","RS/PRS","(0.85 < BF < 0.95)",null,"Fluorescent","Linear","T8",28,12,"Rapid/Program Start Ballast","N",4,3,null,295]
["FLT8-28W x 10L x 4'-3 RS/PRS N","Fluorescent Linear T8 (28W x 10L x 4') 3 Rapid/Program Start Ballast (0.85 < BF < 0.95) ","F","L","T8","RS/PRS","(0.85 < BF < 0.95)",null,"Fluorescent","Linear","T8",28,10,"Rapid/Program Start Ballast","N",4,3,null,247]
["FLT8-30W x 12L x 4'-3 RS/PRS N","Fluorescent Linear T8 (30W x 12L x 4') 3 Rapid/Program Start Ballast (0.85 < BF < 0.95) ","F","L","T8","RS/PRS","(0.85 < BF < 0.95)",null,"Fluorescent","Linear","T8",30,12,"Rapid/Program Start Ballast","N",4,3,null,323]
["FLT8-30W x 10L x 4'-3 RS/PRS N","Fluorescent Linear T8 (30W x 10L x 4') 3 Rapid/Program Start Ballast (0.85 < BF < 0.95) ","F","L","T8","RS/PRS","(0.85 < BF < 0.95)",null,"Fluorescent","Linear","T8",30,10,"Rapid/Program Start Ballast","N",4,3,null,270]
["FLT8-25W x 4L x 3'-2 IS R","Fluorescent Linear T8 (25W x 4L x 3') 2 Instant start Ballast (0.75 < BF < 0.85) ","F","L","T8","IS","(0.75 < BF < 0.85)",null,"Fluorescent","Linear","T8",25,4,"Instant start Ballast","R",3,2,null,92]
["FLT8-25W x 4L x 4'-2 IS N","Fluorescent Linear T8 (25W x 4L x 4') 2 Instant start Ballast (0.85 < BF < 0.95) ","F","L","T8","IS","(0.85 < BF < 0.95)",null,"Fluorescent","Linear","T8",25,4,"Instant start Ballast","N",4,2,null,92]
["FLT8-32W x 3L x 4'-2 IS N","Fluorescent Linear T8 (32W x 3L x 4') 2 Instant start Ballast (0.85 < BF < 0.95) ","F","L","T8","IS","(0.85 < BF < 0.95)",null,"Fluorescent","Linear","T8",32,3,"Instant start Ballast","N",4,2,null,90]
["FLT8-32W x 4L x 4'-2 RS/PRS N","Fluorescent Linear T8 (32W x 4L x 4') 2 Rapid/Program Start Ballast (0.85 < BF < 0.95) ","F","L","T8","RS/PRS","(0.85 < BF < 0.95)",null,"Fluorescent","Linear","T8",32,4,"Rapid/Program Start Ballast","N",4,2,null,120]
["FLT8-17W x 2'-RS/PRS N","Fluorescent Linear T8 (17W x 1L x 2') 1 Rapid/Program Start Ballast (0.85 < BF < 0.95) ","F","L","T8","RS/PRS","(0.85 < BF < 0.95)",null,"Fluorescent","Linear","T8",17,1,"Rapid/Program Start Ballast","N",2,1,null,16]
["FUT8-25W x 2'-RS/PRS(E) N","Fluorescent U Tube T8 (25W x 1L x 2') 1 Efficient Rapid/Program Start Ballast (0.85 < BF < 0.95) ","F","U","T8","RS/PRS(E)","(0.85 < BF < 0.95)",null,"Fluorescent","U Tube","T8",25,1,"Efficient Rapid/Program Start Ballast","N",2,1,null,24]
["FUT8-25W x 2'-IS N","Fluorescent U Tube T8 (25W x 1L x 2') 1 Instant start Ballast (0.85 < BF < 0.95) ","F","U","T8","IS","(0.85 < BF < 0.95)",null,"Fluorescent","U Tube","T8",25,1,"Instant start Ballast","N",2,1,null,24]
["FUT8-25W x 2'-RS/PRS N","Fluorescent U Tube T8 (25W x 1L x 2') 1 Rapid/Program Start Ballast (0.85 < BF < 0.95) ","F","U","T8","RS/PRS","(0.85 < BF < 0.95)",null,"Fluorescent","U Tube","T8",25,1,"Rapid/Program Start Ballast","N",2,1,null,24]
["FLT8-25W x 2L x 3'-IS H","Fluorescent Linear T8 (25W x 2L x 3') 1 Instant start Ballast (0.95 < BF < 1.10) ","F","L","T8","IS","(0.95 < BF < 1.10)",null,"Fluorescent","Linear","T8",25,2,"Instant start Ballast","H",3,1,null,48]
["FLT8-25W x 3L x 3'-RS/PRS N","Fluorescent Linear T8 (25W x 3L x 3') 1 Rapid/Program Start Ballast (0.85 < BF < 0.95) ","F","L","T8","RS/PRS","(0.85 < BF < 0.95)",null,"Fluorescent","Linear","T8",25,3,"Rapid/Program Start Ballast","N",3,1,null,72]
["FLT8-25W x 3'-RS/PRS N","Fluorescent Linear T8 (25W x 1L x 3') 1 Rapid/Program Start Ballast (0.85 < BF < 0.95) ","F","L","T8","RS/PRS","(0.85 < BF < 0.95)",null,"Fluorescent","Linear","T8",25,1,"Rapid/Program Start Ballast","N",3,1,null,24]
["FLT8-25W x 4'-RS/PRS N","Fluorescent Linear T8 (25W x 1L x 4') 1 Rapid/Program Start Ballast (0.85 < BF < 0.95) ","F","L","T8","RS/PRS","(0.85 < BF < 0.95)",null,"Fluorescent","Linear","T8",25,1,"Rapid/Program Start Ballast","N",4,1,null,24]
["FLT5-25W x 4'-RS/PRS L","Fluorescent Linear T5 (25W x 1L x 4') 1 Rapid/Program Start Ballast (BF < 0.85) ","F","L","T5","RS/PRS","(BF < 0.85)",null,"Fluorescent","Linear","T5",25,1,"Rapid/Program Start Ballast","L",4,1,null,24]
["FCP-26W x 2L-IS H","Fluorescent Compact Pin-Base (26W x 2L) 1 Instant start Ballast (0.95 < BF < 1.10) ","F","C","P","IS","(0.95 < BF < 1.10)",null,"Fluorescent","Compact","Pin-Base",26,2,"Instant start Ballast","H",null,1,null,50]
["FCP-26W x 6L-IS H","Fluorescent Compact Pin-Base (26W x 6L) 1 Instant start Ballast (0.95 < BF < 1.10) ","F","C","P","IS","(0.95 < BF < 1.10)",null,"Fluorescent","Compact","Pin-Base",26,6,"Instant start Ballast","H",null,1,null,150]
["FLT8-28W x 4'-IS N","Fluorescent Linear T8 (28W x 1L x 4') 1 Instant start Ballast (0.85 < BF < 0.95) ","F","L","T8","IS","(0.85 < BF < 0.95)",null,"Fluorescent","Linear","T8",28,1,"Instant start Ballast","N",4,1,null,27]
["FLT5-28W x 4'-RS/PRS N","Fluorescent Linear T5 (28W x 1L x 4') 1 Rapid/Program Start Ballast (0.85 < BF < 1.0) ","F","L","T5","RS/PRS","(0.85 < BF < 1.0)",null,"Fluorescent","Linear","T5",28,1,"Rapid/Program Start Ballast","N",4,1,null,27]
["FLT12-30W x 2L x 3'-IS N","Fluorescent Linear T12 (30W x 2L x 3') 1 Instant start Ballast (0.85 < BF < 0.95) ","F","L","T12","IS","(0.85 < BF < 0.95)",null,"Fluorescent","Linear","T12",30,2,"Instant start Ballast","N",3,1,null,58]
["FLT8-30W x 4'-IS N","Fluorescent Linear T8 (30W x 1L x 4') 1 Instant start Ballast (0.85 < BF < 0.95) ","F","L","T8","IS","(0.85 < BF < 0.95)",null,"Fluorescent","Linear","T8",30,1,"Instant start Ballast","N",4,1,null,29]
["FLT8CEE-32W x 2L x 4'-CEE PS/PRS DIM CEE N","Fluorescent Linear T8 CEE  (32W x 2L x 4') 1 CEE Dimmable PS/PRS Ballast (0.85 < BF < 1.0) ","F","L","T8CEE","CEE PS/PRS DIM","(0.85 < BF < 1.0)",null,"Fluorescent","Linear","T8 CEE ",32,2,"CEE Dimmable PS/PRS Ballast","CEE N",4,1,null,62]
["FUT8-32W x 2L x 2'-IS(E) H","Fluorescent U Tube T8 (32W x 2L x 2') 1 Efficient Instant Start Ballast (0.95 < BF < 1.10) ","F","U","T8","IS(E)","(0.95 < BF < 1.10)",null,"Fluorescent","U Tube","T8",32,2,"Efficient Instant Start Ballast","H",2,1,null,62]
["FCP-32W x 6L-IS N","Fluorescent Compact Pin-Base (32W x 6L) 1 Instant start Ballast (0.85 < BF < 0.95) ","F","C","P","IS","(0.85 < BF < 0.95)",null,"Fluorescent","Compact","Pin-Base",32,6,"Instant start Ballast","N",null,1,null,186]
["FLT8-32W x 4'-IS N","Fluorescent Linear T8 (32W x 1L x 4') 1 Instant start Ballast (0.85 < BF < 0.95) ","F","L","T8","IS","(0.85 < BF < 0.95)",null,"Fluorescent","Linear","T8",32,1,"Instant start Ballast","N",4,1,null,31]
["FCIT9-32W x 2L-MG","Fluorescent Circline T9 (32W x 2L) 1 Magnetic Ballast  ","F","CI","T9","MG",null,null,"Fluorescent","Circline","T9",32,2,"Magnetic Ballast",null,null,1,null,62]
["FCIT9-32W-MG","Fluorescent Circline T9 (32W x 1L) 1 Magnetic Ballast  ","F","CI","T9","MG",null,null,"Fluorescent","Circline","T9",32,1,"Magnetic Ballast",null,null,1,null,31]
["FLT8-32W x 3L x 4'-RS/PRS N","Fluorescent Linear T8 (32W x 3L x 4') 1 Rapid/Program Start Ballast (0.85 < BF < 0.95) ","F","L","T8","RS/PRS","(0.85 < BF < 0.95)",null,"Fluorescent","Linear","T8",32,3,"Rapid/Program Start Ballast","N",4,1,null,93]
["FLT12-55W x 2L x 6'-IS N","Fluorescent Linear T12 (55W x 2L x 6') 1 Instant start Ballast (0.85 < BF < 0.95) ","F","L","T12","IS","(0.85 < BF < 0.95)",null,"Fluorescent","Linear","T12",55,2,"Instant start Ballast","N",6,1,null,108]
["FLT12-55W x 4L x 6'-IS N","Fluorescent Linear T12 (55W x 4L x 6') 1 Instant start Ballast (0.85 < BF < 0.95) ","F","L","T12","IS","(0.85 < BF < 0.95)",null,"Fluorescent","Linear","T12",55,4,"Instant start Ballast","N",6,1,null,216]
["FLT12-55W x 2L x 6'-RS/PRS N","Fluorescent Linear T12 (55W x 2L x 6') 1 Rapid/Program Start Ballast (0.85 < BF < 0.95) ","F","L","T12","RS/PRS","(0.85 < BF < 0.95)",null,"Fluorescent","Linear","T12",55,2,"Rapid/Program Start Ballast","N",6,1,null,108]
["FLT8-59W x 8'-IS N","Fluorescent Linear T8 (59W x 1L x 8') 1 Instant start Ballast (0.85 < BF < 0.95) ","F","L","T8","IS","(0.85 < BF < 0.95)",null,"Fluorescent","Linear","T8",59,1,"Instant start Ballast","N",8,1,null,58]
["FLT8-25W x 10L x 4'-3 RS/PRS N","Fluorescent Linear T8 (25W x 10L x 4') 3 Rapid/Program Start Ballast (0.85 < BF < 0.95) ","F","L","T8","RS/PRS","(0.85 < BF < 0.95)",null,"Fluorescent","Linear","T8",25,10,"Rapid/Program Start Ballast","N",4,3,null,222]
["FLT8-25W x 12L x 4'-3 RS/PRS N","Fluorescent Linear T8 (25W x 12L x 4') 3 Rapid/Program Start Ballast (0.85 < BF < 0.95) ","F","L","T8","RS/PRS","(0.85 < BF < 0.95)",null,"Fluorescent","Linear","T8",25,12,"Rapid/Program Start Ballast","N",4,3,null,268]
["FLT12-40W x 3L x 4'-2 MG(E)","Fluorescent Linear T12 (40W x 3L x 4') 2 Efficient Magnetic Ballast  ","F","L","T12","MG(E)",null,null,"Fluorescent","Linear","T12",40,3,"Efficient Magnetic Ballast",null,4,2,null,115]
["FLT12-40W x 3L x 4'-2 MG","Fluorescent Linear T12 (40W x 3L x 4') 2 Magnetic Ballast  ","F","L","T12","MG",null,null,"Fluorescent","Linear","T12",40,3,"Magnetic Ballast",null,4,2,null,115]
["FLT10-40W x 3L x 4'-2 MG","Fluorescent Linear T10 (40W x 3L x 4') 2 Magnetic Ballast  ","F","L","T10","MG",null,null,"Fluorescent","Linear","T10",40,3,"Magnetic Ballast",null,4,2,null,115]
["FLT5-25W x 4L x 4'-2 RS/PRS L","Fluorescent Linear T5 (25W x 4L x 4') 2 Rapid/Program Start Ballast (BF < 0.85) ","F","L","T5","RS/PRS","(BF < 0.85)",null,"Fluorescent","Linear","T5",25,4,"Rapid/Program Start Ballast","L",4,2,null,94]
["FLT5-25W x 3L x 4'-2 RS/PRS L","Fluorescent Linear T5 (25W x 3L x 4') 2 Rapid/Program Start Ballast (BF < 0.85) ","F","L","T5","RS/PRS","(BF < 0.85)",null,"Fluorescent","Linear","T5",25,3,"Rapid/Program Start Ballast","L",4,2,null,71]
["FLT8-32W x 3L x 4'-2 RS/PRS N","Fluorescent Linear T8 (32W x 3L x 4') 2 Rapid/Program Start Ballast (0.85 < BF < 0.95) ","F","L","T8","RS/PRS","(0.85 < BF < 0.95)",null,"Fluorescent","Linear","T8",32,3,"Rapid/Program Start Ballast","N",4,2,null,92]
["FLT8-17W x 3L x 2'-IS H","Fluorescent Linear T8 (17W x 3L x 2') 1 Instant start Ballast (0.95 < BF < 1.10) ","F","L","T8","IS","(0.95 < BF < 1.10)",null,"Fluorescent","Linear","T8",17,3,"Instant start Ballast","H",2,1,null,49]
["FLT8-25W x 3L x 4'-2 IS N","Fluorescent Linear T8 (25W x 3L x 4') 2 Instant start Ballast (0.85 < BF < 0.95) ","F","L","T8","IS","(0.85 < BF < 0.95)",null,"Fluorescent","Linear","T8",25,3,"Instant start Ballast","N",4,2,null,72]
["FLT12-30W x 4L x 3'-2 IS N","Fluorescent Linear T12 (30W x 4L x 3') 2 Instant start Ballast (0.85 < BF < 0.95) ","F","L","T12","IS","(0.85 < BF < 0.95)",null,"Fluorescent","Linear","T12",30,4,"Instant start Ballast","N",3,2,null,116]
["FLT8-32W x 2L x 4'-2 IS N","Fluorescent Linear T8 (32W x 2L x 4') 2 Instant start Ballast (0.85 < BF < 0.95) ","F","L","T8","IS","(0.85 < BF < 0.95)",null,"Fluorescent","Linear","T8",32,2,"Instant start Ballast","N",4,2,null,62]
["FLT8-32W x 2L x 4'-2 IS R","Fluorescent Linear T8 (32W x 2L x 4') 2 Instant start Ballast (0.75 < BF < 0.85) ","F","L","T8","IS","(0.75 < BF < 0.85)",null,"Fluorescent","Linear","T8",32,2,"Instant start Ballast","R",4,2,null,62]
["FLT8-17W x 2L x 2'-IS N","Fluorescent Linear T8 (17W x 2L x 2') 1 Instant start Ballast (0.85 < BF < 0.95) ","F","L","T8","IS","(0.85 < BF < 0.95)",null,"Fluorescent","Linear","T8",17,2,"Instant start Ballast","N",2,1,null,33]
["FLT8-25W x 2L x 4'-IS(E) H","Fluorescent Linear T8 (25W x 2L x 4') 1 Efficient Instant Start Ballast (0.95 < BF < 1.10) ","F","L","T8","IS(E)","(0.95 < BF < 1.10)",null,"Fluorescent","Linear","T8",25,2,"Efficient Instant Start Ballast","H",4,1,null,49]
["FUT8-25W x 2L x 2'-RS/PRS H","Fluorescent U Tube T8 (25W x 2L x 2') 1 Rapid/Program Start Ballast (0.95 < BF < 1.10) ","F","U","T8","RS/PRS","(0.95 < BF < 1.10)",null,"Fluorescent","U Tube","T8",25,2,"Rapid/Program Start Ballast","H",2,1,null,49]
["FLT5-28W x 2L x 4'-RS/PRS N","Fluorescent Linear T5 (28W x 2L x 4') 1 Rapid/Program Start Ballast (0.85 < BF < 1.0) ","F","L","T5","RS/PRS","(0.85 < BF < 1.0)",null,"Fluorescent","Linear","T5",28,2,"Rapid/Program Start Ballast","N",4,1,null,55]
["FUT8-32W x 2L x 2'-RS/PRS H","Fluorescent U Tube T8 (32W x 2L x 2') 1 Rapid/Program Start Ballast (0.95 < BF < 1.10) ","F","U","T8","RS/PRS","(0.95 < BF < 1.10)",null,"Fluorescent","U Tube","T8",32,2,"Rapid/Program Start Ballast","H",2,1,null,63]
["FLT5-28W x 4L x 4'-2 RS/PRS N","Fluorescent Linear T5 (28W x 4L x 4') 2 Rapid/Program Start Ballast (0.85 < BF < 1.0) ","F","L","T5","RS/PRS","(0.85 < BF < 1.0)",null,"Fluorescent","Linear","T5",28,4,"Rapid/Program Start Ballast","N",4,2,null,109]
["FLT5-28W x 3L x 4'-2 RS/PRS N","Fluorescent Linear T5 (28W x 3L x 4') 2 Rapid/Program Start Ballast (0.85 < BF < 1.0) ","F","L","T5","RS/PRS","(0.85 < BF < 1.0)",null,"Fluorescent","Linear","T5",28,3,"Rapid/Program Start Ballast","N",4,2,null,82]
["FLT12-60W x 3L x 8'-IS N","Fluorescent Linear T12 (60W x 3L x 8') 1 Instant start Ballast (0.85 < BF < 0.95) ","F","L","T12","IS","(0.85 < BF < 0.95)",null,"Fluorescent","Linear","T12",60,3,"Instant start Ballast","N",8,1,null,179]
["FLT8-32W x 3L x 4'-CEE PS/PRS DIM H","Fluorescent Linear T8 (32W x 3L x 4') 1 CEE Dimmable PS/PRS Ballast (0.95 < BF < 1.10) ","F","L","T8","CEE PS/PRS DIM","(0.95 < BF < 1.10)",null,"Fluorescent","Linear","T8",32,3,"CEE Dimmable PS/PRS Ballast","H",4,1,null,96]
["MV-160W-CWA","HID Mercury Vapor Standard (160W x 1L) 1 CWA Ballast  ",null,"MV",null,"CWA",null,null,"HID","Mercury Vapor","Standard",160,1,"CWA Ballast",null,null,1,null,160]
["FLT8-17W x 2'-IS(E) N","Fluorescent Linear T8 (17W x 1L x 2') 1 Efficient Instant Start Ballast (0.85 < BF < 0.95) ","F","L","T8","IS(E)","(0.85 < BF < 0.95)",null,"Fluorescent","Linear","T8",17,1,"Efficient Instant Start Ballast","N",2,1,null,17]
[{"$f":"C515&D515&E515&IF(L515=\"\",\"\",\"-\"&L515&\"W\")&IF(OR(M515=1,M515=\"\"),\"\",\" x \"&M515&\"L\")&IF(P515=\"\",\"\",\" x \"&P515&\"'\")&IF(F515=\"\",\"\",\"-\"&IF(Q515=1,\"\",Q515&\" \")&F515&IF(O515=\"\",\"\",\" \"&O515)&IF(H515=\"\",\"\",\" \"&H515))","v":"FLT8-32W x 4'-IS(E) H"},{"$f":"I515& IF(J515=\"\",\"\",\" \"&J515)&IF(K515=\"\",\"\",\" \"&K515)&\" (\"&L515&\"W\"&IF(M515=\"\",\"\",\" x \"&M515 & \"L\")&IF(P515=\"\",\"\",\" x \"&P515&\"'\")&\")\"&IF(N515=\"\",\"\",\" \"&Q515&\" \"&N515&\" \"&G515)&\" \"&R515","v":"Fluorescent Linear T8 (32W x 1L x 4') 1 Efficient Instant Start Ballast (0.95 < BF < 1.10) "},"F","L","T8","IS(E)","(0.95 < BF < 1.10)",null,"Fluorescent","Linear","T8",32,1,"Efficient Instant Start Ballast","H",4,1,null,32]
["FLT8-32W x 6L x 4'-2 IS(E) H","Fluorescent Linear T8 (32W x 6L x 4') 2 Efficient Instant Start Ballast (0.95 < BF < 1.10) ","F","L","T8","IS(E)","(0.95 < BF < 1.10)",null,"Fluorescent","Linear","T8",32,6,"Efficient Instant Start Ballast","H",4,2,null,192]
["FCEPWP-120W x 2L-IS N","Fluorescent Compact Exterior Pin-Base Wall Pack  (120W x 2L) 1 Instant start Ballast (0.85 < BF < 0.95) ","F","CE","PWP","IS","(0.85 < BF < 0.95)",null,"Fluorescent","Compact Exterior","Pin-Base Wall Pack ",120,2,"Instant start Ballast","N",null,1,null,240]
["FCEPWP-120W-IS N","Fluorescent Compact Exterior Pin-Base Wall Pack  (120W x 1L) 1 Instant start Ballast (0.85 < BF < 0.95) ","F","CE","PWP","IS","(0.85 < BF < 0.95)",null,"Fluorescent","Compact Exterior","Pin-Base Wall Pack ",120,1,"Instant start Ballast","N",null,1,null,120]
["FCEPWP-26W-IS N","Fluorescent Compact Exterior Pin-Base Wall Pack  (26W x 1L) 1 Instant start Ballast (0.85 < BF < 0.95) ","F","CE","PWP","IS","(0.85 < BF < 0.95)",null,"Fluorescent","Compact Exterior","Pin-Base Wall Pack ",26,1,"Instant start Ballast","N",null,1,null,26]
["FCEPWP-36W x 2L-IS N","Fluorescent Compact Exterior Pin-Base Wall Pack  (36W x 2L) 1 Instant start Ballast (0.85 < BF < 0.95) ","F","CE","PWP","IS","(0.85 < BF < 0.95)",null,"Fluorescent","Compact Exterior","Pin-Base Wall Pack ",36,2,"Instant start Ballast","N",null,1,null,72]
["FCEPWP-42W x 2L-IS N","Fluorescent Compact Exterior Pin-Base Wall Pack  (42W x 2L) 1 Instant start Ballast (0.85 < BF < 0.95) ","F","CE","PWP","IS","(0.85 < BF < 0.95)",null,"Fluorescent","Compact Exterior","Pin-Base Wall Pack ",42,2,"Instant start Ballast","N",null,1,null,84]
["FCEPWP-57W x 2L-IS N","Fluorescent Compact Exterior Pin-Base Wall Pack  (57W x 2L) 1 Instant start Ballast (0.85 < BF < 0.95) ","F","CE","PWP","IS","(0.85 < BF < 0.95)",null,"Fluorescent","Compact Exterior","Pin-Base Wall Pack ",57,2,"Instant start Ballast","N",null,1,null,114]
["FCEPWP-57W-IS N","Fluorescent Compact Exterior Pin-Base Wall Pack  (57W x 1L) 1 Instant start Ballast (0.85 < BF < 0.95) ","F","CE","PWP","IS","(0.85 < BF < 0.95)",null,"Fluorescent","Compact Exterior","Pin-Base Wall Pack ",57,1,"Instant start Ballast","N",null,1,null,57]
["FCEPWP-60W x 2L-IS N","Fluorescent Compact Exterior Pin-Base Wall Pack  (60W x 2L) 1 Instant start Ballast (0.85 < BF < 0.95) ","F","CE","PWP","IS","(0.85 < BF < 0.95)",null,"Fluorescent","Compact Exterior","Pin-Base Wall Pack ",60,2,"Instant start Ballast","N",null,1,null,120]
["FCEPWP-60W-IS N","Fluorescent Compact Exterior Pin-Base Wall Pack  (60W x 1L) 1 Instant start Ballast (0.85 < BF < 0.95) ","F","CE","PWP","IS","(0.85 < BF < 0.95)",null,"Fluorescent","Compact Exterior","Pin-Base Wall Pack ",60,1,"Instant start Ballast","N",null,1,null,60]
["FCEPWP-70W x 2L-IS N","Fluorescent Compact Exterior Pin-Base Wall Pack  (70W x 2L) 1 Instant start Ballast (0.85 < BF < 0.95) ","F","CE","PWP","IS","(0.85 < BF < 0.95)",null,"Fluorescent","Compact Exterior","Pin-Base Wall Pack ",70,2,"Instant start Ballast","N",null,1,null,140]
["FCEPWP-70W-IS N","Fluorescent Compact Exterior Pin-Base Wall Pack  (70W x 1L) 1 Instant start Ballast (0.85 < BF < 0.95) ","F","CE","PWP","IS","(0.85 < BF < 0.95)",null,"Fluorescent","Compact Exterior","Pin-Base Wall Pack ",70,1,"Instant start Ballast","N",null,1,null,70]
["FCGU24-11W-IS H","Fluorescent Compact GU24 (11W x 1L) 1 Instant start Ballast (0.95 < BF < 1.10) ","F","C","GU24","IS","(0.95 < BF < 1.10)",null,"Fluorescent","Compact","GU24",11,1,"Instant start Ballast","H",null,1,null,11]
["FCGU24-13W-IS H","Fluorescent Compact GU24 (13W x 1L) 1 Instant start Ballast (0.95 < BF < 1.10) ","F","C","GU24","IS","(0.95 < BF < 1.10)",null,"Fluorescent","Compact","GU24",13,1,"Instant start Ballast","H",null,1,null,13]
["FCGU24-14W-IS H","Fluorescent Compact GU24 (14W x 1L) 1 Instant start Ballast (0.95 < BF < 1.10) ","F","C","GU24","IS","(0.95 < BF < 1.10)",null,"Fluorescent","Compact","GU24",14,1,"Instant start Ballast","H",null,1,null,14]
["FCGU24-15W-IS H","Fluorescent Compact GU24 (15W x 1L) 1 Instant start Ballast (0.95 < BF < 1.10) ","F","C","GU24","IS","(0.95 < BF < 1.10)",null,"Fluorescent","Compact","GU24",15,1,"Instant start Ballast","H",null,1,null,15]
["FCGU24-18W-IS H","Fluorescent Compact GU24 (18W x 1L) 1 Instant start Ballast (0.95 < BF < 1.10) ","F","C","GU24","IS","(0.95 < BF < 1.10)",null,"Fluorescent","Compact","GU24",18,1,"Instant start Ballast","H",null,1,null,18]
["FCGU24-19W-IS H","Fluorescent Compact GU24 (19W x 1L) 1 Instant start Ballast (0.95 < BF < 1.10) ","F","C","GU24","IS","(0.95 < BF < 1.10)",null,"Fluorescent","Compact","GU24",19,1,"Instant start Ballast","H",null,1,null,19]
["FCGU24-20W-IS H","Fluorescent Compact GU24 (20W x 1L) 1 Instant start Ballast (0.95 < BF < 1.10) ","F","C","GU24","IS","(0.95 < BF < 1.10)",null,"Fluorescent","Compact","GU24",20,1,"Instant start Ballast","H",null,1,null,20]
["FCGU24-23W-IS H","Fluorescent Compact GU24 (23W x 1L) 1 Instant start Ballast (0.95 < BF < 1.10) ","F","C","GU24","IS","(0.95 < BF < 1.10)",null,"Fluorescent","Compact","GU24",23,1,"Instant start Ballast","H",null,1,null,23]
["FCGU24-25W-IS H","Fluorescent Compact GU24 (25W x 1L) 1 Instant start Ballast (0.95 < BF < 1.10) ","F","C","GU24","IS","(0.95 < BF < 1.10)",null,"Fluorescent","Compact","GU24",25,1,"Instant start Ballast","H",null,1,null,25]
["FCGU24-26W-IS H","Fluorescent Compact GU24 (26W x 1L) 1 Instant start Ballast (0.95 < BF < 1.10) ","F","C","GU24","IS","(0.95 < BF < 1.10)",null,"Fluorescent","Compact","GU24",26,1,"Instant start Ballast","H",null,1,null,26]
["FCGU24-27W-IS H","Fluorescent Compact GU24 (27W x 1L) 1 Instant start Ballast (0.95 < BF < 1.10) ","F","C","GU24","IS","(0.95 < BF < 1.10)",null,"Fluorescent","Compact","GU24",27,1,"Instant start Ballast","H",null,1,null,27]
["FCGU24-32W-IS H","Fluorescent Compact GU24 (32W x 1L) 1 Instant start Ballast (0.95 < BF < 1.10) ","F","C","GU24","IS","(0.95 < BF < 1.10)",null,"Fluorescent","Compact","GU24",32,1,"Instant start Ballast","H",null,1,null,32]
["FCGU24-7W-IS H","Fluorescent Compact GU24 (7W x 1L) 1 Instant start Ballast (0.95 < BF < 1.10) ","F","C","GU24","IS","(0.95 < BF < 1.10)",null,"Fluorescent","Compact","GU24",7,1,"Instant start Ballast","H",null,1,null,7]
["FCGU24-9W-IS H","Fluorescent Compact GU24 (9W x 1L) 1 Instant start Ballast (0.95 < BF < 1.10) ","F","C","GU24","IS","(0.95 < BF < 1.10)",null,"Fluorescent","Compact","GU24",9,1,"Instant start Ballast","H",null,1,null,9]
["FCM-18W-IS N","Fluorescent Compact Medium Base (18W x 1L) 1 Instant start Ballast (0.85 < BF < 0.95) ","F","C","M","IS","(0.85 < BF < 0.95)",null,"Fluorescent","Compact","Medium Base",18,1,"Instant start Ballast","N",null,1,null,18]
["FCM-23W-IS N","Fluorescent Compact Medium Base (23W x 1L) 1 Instant start Ballast (0.85 < BF < 0.95) ","F","C","M","IS","(0.85 < BF < 0.95)",null,"Fluorescent","Compact","Medium Base",23,1,"Instant start Ballast","N",null,1,null,23]
["FCM-26W-IS N","Fluorescent Compact Medium Base (26W x 1L) 1 Instant start Ballast (0.85 < BF < 0.95) ","F","C","M","IS","(0.85 < BF < 0.95)",null,"Fluorescent","Compact","Medium Base",26,1,"Instant start Ballast","N",null,1,null,26]
["FCM-27W-IS N","Fluorescent Compact Medium Base (27W x 1L) 1 Instant start Ballast (0.85 < BF < 0.95) ","F","C","M","IS","(0.85 < BF < 0.95)",null,"Fluorescent","Compact","Medium Base",27,1,"Instant start Ballast","N",null,1,null,27]
["FCM-30W-IS N","Fluorescent Compact Medium Base (30W x 1L) 1 Instant start Ballast (0.85 < BF < 0.95) ","F","C","M","IS","(0.85 < BF < 0.95)",null,"Fluorescent","Compact","Medium Base",30,1,"Instant start Ballast","N",null,1,null,30]
["FCM-36W-IS N","Fluorescent Compact Medium Base (36W x 1L) 1 Instant start Ballast (0.85 < BF < 0.95) ","F","C","M","IS","(0.85 < BF < 0.95)",null,"Fluorescent","Compact","Medium Base",36,1,"Instant start Ballast","N",null,1,null,36]
["FCM-42W-IS N","Fluorescent Compact Medium Base (42W x 1L) 1 Instant start Ballast (0.85 < BF < 0.95) ","F","C","M","IS","(0.85 < BF < 0.95)",null,"Fluorescent","Compact","Medium Base",42,1,"Instant start Ballast","N",null,1,null,42]
["FCM-44W-IS N","Fluorescent Compact Medium Base (44W x 1L) 1 Instant start Ballast (0.85 < BF < 0.95) ","F","C","M","IS","(0.85 < BF < 0.95)",null,"Fluorescent","Compact","Medium Base",44,1,"Instant start Ballast","N",null,1,null,44]
["FCMG-105W-IS","Fluorescent Compact Mogul (105W x 1L) 1 Instant start Ballast  ","F","C","MG","IS",null,null,"Fluorescent","Compact","Mogul",105,1,"Instant start Ballast",null,null,1,null,105]
["FCMG-150W-IS","Fluorescent Compact Mogul (150W x 1L) 1 Instant start Ballast  ","F","C","MG","IS",null,null,"Fluorescent","Compact","Mogul",150,1,"Instant start Ballast",null,null,1,null,150]
["FCMG-65W-IS","Fluorescent Compact Mogul (65W x 1L) 1 Instant start Ballast  ","F","C","MG","IS",null,null,"Fluorescent","Compact","Mogul",65,1,"Instant start Ballast",null,null,1,null,65]
["FCMG-85W-IS","Fluorescent Compact Mogul (85W x 1L) 1 Instant start Ballast  ","F","C","MG","IS",null,null,"Fluorescent","Compact","Mogul",85,1,"Instant start Ballast",null,null,1,null,85]
["FCP-120W-IS","Fluorescent Compact Pin-Base (120W x 1L) 1 Instant start Ballast  ","F","C","P","IS",null,null,"Fluorescent","Compact","Pin-Base",120,1,"Instant start Ballast",null,null,1,null,120]
["FCP-55W x 2L-IS N","Fluorescent Compact Pin-Base (55W x 2L) 1 Instant start Ballast (0.85 < BF < 0.95) ","F","C","P","IS","(0.85 < BF < 0.95)",null,"Fluorescent","Compact","Pin-Base",55,2,"Instant start Ballast","N",null,1,null,110]
["FCP-55W x 4L-IS N","Fluorescent Compact Pin-Base (55W x 4L) 1 Instant start Ballast (0.85 < BF < 0.95) ","F","C","P","IS","(0.85 < BF < 0.95)",null,"Fluorescent","Compact","Pin-Base",55,4,"Instant start Ballast","N",null,1,null,220]
["FCP-57W-IS","Fluorescent Compact Pin-Base (57W x 1L) 1 Instant start Ballast  ","F","C","P","IS",null,null,"Fluorescent","Compact","Pin-Base",57,1,"Instant start Ballast",null,null,1,null,57]
["FCP-60W-IS","Fluorescent Compact Pin-Base (60W x 1L) 1 Instant start Ballast  ","F","C","P","IS",null,null,"Fluorescent","Compact","Pin-Base",60,1,"Instant start Ballast",null,null,1,null,60]
["FCP-70W-IS","Fluorescent Compact Pin-Base (70W x 1L) 1 Instant start Ballast  ","F","C","P","IS",null,null,"Fluorescent","Compact","Pin-Base",70,1,"Instant start Ballast",null,null,1,null,70]
["FLT12-25W x 2L x 3'-IS N","Fluorescent Linear T12 (25W x 2L x 3') 1 Instant start Ballast (0.85 < BF < 0.95) ","F","L","T12","IS","(0.85 < BF < 0.95)",null,"Fluorescent","Linear","T12",25,2,"Instant start Ballast","N",3,1,null,50]
["FLT12-25W x 4'-IS N","Fluorescent Linear T12 (25W x 1L x 4') 1 Instant start Ballast (0.85 < BF < 0.95) ","F","L","T12","IS","(0.85 < BF < 0.95)",null,"Fluorescent","Linear","T12",25,1,"Instant start Ballast","N",4,1,null,25]
["FLT8-17W x 2'-IS R","Fluorescent Linear T8 (17W x 1L x 2') 1 Instant start Ballast (0.75 < BF < 0.85) ","F","L","T8","IS","(0.75 < BF < 0.85)",null,"Fluorescent","Linear","T8",17,1,"Instant start Ballast","R",2,1,null,17]
["FLT8-28W x 4L x 4'-IS H","Fluorescent Linear T8 (28W x 4L x 4') 1 Instant start Ballast (0.95 < BF < 1.10) ","F","L","T8","IS","(0.95 < BF < 1.10)",null,"Fluorescent","Linear","T8",28,4,"Instant start Ballast","H",4,1,null,112]
["FLT8-40W x 2L x 5'-IS H","Fluorescent Linear T8 (40W x 2L x 5') 1 Instant start Ballast (0.95 < BF < 1.10) ","F","L","T8","IS","(0.95 < BF < 1.10)",null,"Fluorescent","Linear","T8",40,2,"Instant start Ballast","H",5,1,null,80]
["FUT8-28W x 2L x 2'-IS H","Fluorescent U Tube T8 (28W x 2L x 2') 1 Instant start Ballast (0.95 < BF < 1.10) ","F","U","T8","IS","(0.95 < BF < 1.10)",null,"Fluorescent","U Tube","T8",28,2,"Instant start Ballast","H",2,1,null,56]
["FUT8-28W x 4L x 2'-IS H","Fluorescent U Tube T8 (28W x 4L x 2') 1 Instant start Ballast (0.95 < BF < 1.10) ","F","U","T8","IS","(0.95 < BF < 1.10)",null,"Fluorescent","U Tube","T8",28,4,"Instant start Ballast","H",2,1,null,112]
["FUT8-30W x 2'-IS H","Fluorescent U Tube T8 (30W x 1L x 2') 1 Instant start Ballast (0.95 < BF < 1.10) ","F","U","T8","IS","(0.95 < BF < 1.10)",null,"Fluorescent","U Tube","T8",30,1,"Instant start Ballast","H",2,1,null,30]
["FCM-100W-MG","Fluorescent Compact Medium Base (100W x 1L) 1 Magnetic Ballast  ","F","C","M","MG",null,null,"Fluorescent","Compact","Medium Base",100,1,"Magnetic Ballast",null,null,1,null,100]
["FCM-10W-MG","Fluorescent Compact Medium Base (10W x 1L) 1 Magnetic Ballast  ","F","C","M","MG",null,null,"Fluorescent","Compact","Medium Base",10,1,"Magnetic Ballast",null,null,1,null,10]
["FCM-11W-MG","Fluorescent Compact Medium Base (11W x 1L) 1 Magnetic Ballast  ","F","C","M","MG",null,null,"Fluorescent","Compact","Medium Base",11,1,"Magnetic Ballast",null,null,1,null,11]
["FCM-125W-MG","Fluorescent Compact Medium Base (125W x 1L) 1 Magnetic Ballast  ","F","C","M","MG",null,null,"Fluorescent","Compact","Medium Base",125,1,"Magnetic Ballast",null,null,1,null,125]
["FCM-12W-MG","Fluorescent Compact Medium Base (12W x 1L) 1 Magnetic Ballast  ","F","C","M","MG",null,null,"Fluorescent","Compact","Medium Base",12,1,"Magnetic Ballast",null,null,1,null,12]
["FCM-13W-MG","Fluorescent Compact Medium Base (13W x 1L) 1 Magnetic Ballast  ","F","C","M","MG",null,null,"Fluorescent","Compact","Medium Base",13,1,"Magnetic Ballast",null,null,1,null,13]
["FCM-14W-MG","Fluorescent Compact Medium Base (14W x 1L) 1 Magnetic Ballast  ","F","C","M","MG",null,null,"Fluorescent","Compact","Medium Base",14,1,"Magnetic Ballast",null,null,1,null,14]
["FCM-150W-MG","Fluorescent Compact Medium Base (150W x 1L) 1 Magnetic Ballast  ","F","C","M","MG",null,null,"Fluorescent","Compact","Medium Base",150,1,"Magnetic Ballast",null,null,1,null,150]
["FCM-15W x 2L-MG","Fluorescent Compact Medium Base (15W x 2L) 1 Magnetic Ballast  ","F","C","M","MG",null,null,"Fluorescent","Compact","Medium Base",15,2,"Magnetic Ballast",null,null,1,null,30]
["FCM-15W x 3L-MG","Fluorescent Compact Medium Base (15W x 3L) 1 Magnetic Ballast  ","F","C","M","MG",null,null,"Fluorescent","Compact","Medium Base",15,3,"Magnetic Ballast",null,null,1,null,45]
["FCM-15W x 4L-MG","Fluorescent Compact Medium Base (15W x 4L) 1 Magnetic Ballast  ","F","C","M","MG",null,null,"Fluorescent","Compact","Medium Base",15,4,"Magnetic Ballast",null,null,1,null,60]
[{"$f":"C579&D579&E579&IF(L579=\"\",\"\",\"-\"&L579&\"W\")&IF(OR(M579=1,M579=\"\"),\"\",\" x \"&M579&\"L\")&IF(P579=\"\",\"\",\" x \"&P579&\"'\")&IF(F579=\"\",\"\",\"-\"&IF(Q579=1,\"\",Q579&\" \")&F579&IF(O579=\"\",\"\",\" \"&O579)&IF(H579=\"\",\"\",\" \"&H579))","v":"FCM-15W-MG"},{"$f":"I579& IF(J579=\"\",\"\",\" \"&J579)&IF(K579=\"\",\"\",\" \"&K579)&\" (\"&L579&\"W\"&IF(M579=\"\",\"\",\" x \"&M579 & \"L\")&IF(P579=\"\",\"\",\" x \"&P579&\"'\")&\")\"&IF(N579=\"\",\"\",\" \"&Q579&\" \"&N579&\" \"&G579)&\" \"&R579","v":"Fluorescent Compact Medium Base (15W x 1L) 1 Magnetic Ballast  "},"F","C","M","MG",null,null,"Fluorescent","Compact","Medium Base",15,1,"Magnetic Ballast",null,null,1,null,15]
["FCM-16W-MG","Fluorescent Compact Medium Base (16W x 1L) 1 Magnetic Ballast  ","F","C","M","MG",null,null,"Fluorescent","Compact","Medium Base",16,1,"Magnetic Ballast",null,null,1,null,16]
["FCM-17W-MG","Fluorescent Compact Medium Base (17W x 1L) 1 Magnetic Ballast  ","F","C","M","MG",null,null,"Fluorescent","Compact","Medium Base",17,1,"Magnetic Ballast",null,null,1,null,17]
["FCM-18W-MG","Fluorescent Compact Medium Base (18W x 1L) 1 Magnetic Ballast  ","F","C","M","MG",null,null,"Fluorescent","Compact","Medium Base",18,1,"Magnetic Ballast",null,null,1,null,18]
["FCM-19W-MG","Fluorescent Compact Medium Base (19W x 1L) 1 Magnetic Ballast  ","F","C","M","MG",null,null,"Fluorescent","Compact","Medium Base",19,1,"Magnetic Ballast",null,null,1,null,19]
["FCM-200W-MG","Fluorescent Compact Medium Base (200W x 1L) 1 Magnetic Ballast  ","F","C","M","MG",null,null,"Fluorescent","Compact","Medium Base",200,1,"Magnetic Ballast",null,null,1,null,200]
["FCM-20W x 2L-MG","Fluorescent Compact Medium Base (20W x 2L) 1 Magnetic Ballast  ","F","C","M","MG",null,null,"Fluorescent","Compact","Medium Base",20,2,"Magnetic Ballast",null,null,1,null,40]
["FCM-20W-MG","Fluorescent Compact Medium Base (20W x 1L) 1 Magnetic Ballast  ","F","C","M","MG",null,null,"Fluorescent","Compact","Medium Base",20,1,"Magnetic Ballast",null,null,1,null,20]
["FCM-22W-MG","Fluorescent Compact Medium Base (22W x 1L) 1 Magnetic Ballast  ","F","C","M","MG",null,null,"Fluorescent","Compact","Medium Base",22,1,"Magnetic Ballast",null,null,1,null,22]
["FCM-23W x 2L-MG","Fluorescent Compact Medium Base (23W x 2L) 1 Magnetic Ballast  ","F","C","M","MG",null,null,"Fluorescent","Compact","Medium Base",23,2,"Magnetic Ballast",null,null,1,null,46]
["FCM-23W-MG","Fluorescent Compact Medium Base (23W x 1L) 1 Magnetic Ballast  ","F","C","M","MG",null,null,"Fluorescent","Compact","Medium Base",23,1,"Magnetic Ballast",null,null,1,null,23]
["FCM-25W-MG","Fluorescent Compact Medium Base (25W x 1L) 1 Magnetic Ballast  ","F","C","M","MG",null,null,"Fluorescent","Compact","Medium Base",25,1,"Magnetic Ballast",null,null,1,null,25]
["FCM-26W-MG","Fluorescent Compact Medium Base (26W x 1L) 1 Magnetic Ballast  ","F","C","M","MG",null,null,"Fluorescent","Compact","Medium Base",26,1,"Magnetic Ballast",null,null,1,null,26]
["FCM-28W-MG","Fluorescent Compact Medium Base (28W x 1L) 1 Magnetic Ballast  ","F","C","M","MG",null,null,"Fluorescent","Compact","Medium Base",28,1,"Magnetic Ballast",null,null,1,null,28]
["FCM-2W-MG","Fluorescent Compact Medium Base (2W x 1L) 1 Magnetic Ballast  ","F","C","M","MG",null,null,"Fluorescent","Compact","Medium Base",2,1,"Magnetic Ballast",null,null,1,null,2]
["FCM-52W-MG","Fluorescent Compact Medium Base (52W x 1L) 1 Magnetic Ballast  ","F","C","M","MG",null,null,"Fluorescent","Compact","Medium Base",52,1,"Magnetic Ballast",null,null,1,null,52]
["FCM-5W-MG","Fluorescent Compact Medium Base (5W x 1L) 1 Magnetic Ballast  ","F","C","M","MG",null,null,"Fluorescent","Compact","Medium Base",5,1,"Magnetic Ballast",null,null,1,null,5]
["FCM-65W-MG","Fluorescent Compact Medium Base (65W x 1L) 1 Magnetic Ballast  ","F","C","M","MG",null,null,"Fluorescent","Compact","Medium Base",65,1,"Magnetic Ballast",null,null,1,null,65]
["FCM-7W-MG","Fluorescent Compact Medium Base (7W x 1L) 1 Magnetic Ballast  ","F","C","M","MG",null,null,"Fluorescent","Compact","Medium Base",7,1,"Magnetic Ballast",null,null,1,null,7]
["FCM-80W-MG","Fluorescent Compact Medium Base (80W x 1L) 1 Magnetic Ballast  ","F","C","M","MG",null,null,"Fluorescent","Compact","Medium Base",80,1,"Magnetic Ballast",null,null,1,null,80]
["FCM-85W-MG","Fluorescent Compact Medium Base (85W x 1L) 1 Magnetic Ballast  ","F","C","M","MG",null,null,"Fluorescent","Compact","Medium Base",85,1,"Magnetic Ballast",null,null,1,null,85]
["FCM-9W-MG","Fluorescent Compact Medium Base (9W x 1L) 1 Magnetic Ballast  ","F","C","M","MG",null,null,"Fluorescent","Compact","Medium Base",9,1,"Magnetic Ballast",null,null,1,null,9]
["FCMG-100W-MG","Fluorescent Compact Mogul (100W x 1L) 1 Magnetic Ballast  ","F","C","MG","MG",null,null,"Fluorescent","Compact","Mogul",100,1,"Magnetic Ballast",null,null,1,null,100]
["FCMG-150W-MG","Fluorescent Compact Mogul (150W x 1L) 1 Magnetic Ballast  ","F","C","MG","MG",null,null,"Fluorescent","Compact","Mogul",150,1,"Magnetic Ballast",null,null,1,null,150]
["FCMG-200W-MG","Fluorescent Compact Mogul (200W x 1L) 1 Magnetic Ballast  ","F","C","MG","MG",null,null,"Fluorescent","Compact","Mogul",200,1,"Magnetic Ballast",null,null,1,null,200]
["FCMG-40W-MG","Fluorescent Compact Mogul (40W x 1L) 1 Magnetic Ballast  ","F","C","MG","MG",null,null,"Fluorescent","Compact","Mogul",40,1,"Magnetic Ballast",null,null,1,null,40]
["FCMG-60W-MG","Fluorescent Compact Mogul (60W x 1L) 1 Magnetic Ballast  ","F","C","MG","MG",null,null,"Fluorescent","Compact","Mogul",60,1,"Magnetic Ballast",null,null,1,null,60]
["FCMG-80W-MG","Fluorescent Compact Mogul (80W x 1L) 1 Magnetic Ballast  ","F","C","MG","MG",null,null,"Fluorescent","Compact","Mogul",80,1,"Magnetic Ballast",null,null,1,null,80]
["FLT12VHO-195W x 2L x 8'-MG","Fluorescent Linear T12 VHO (195W x 2L x 8') 1 Magnetic Ballast  ","F","L","T12VHO","MG",null,null,"Fluorescent","Linear","T12 VHO",195,2,"Magnetic Ballast",null,8,1,null,390]
["FLT5-13W x 2L x 2'-MG","Fluorescent Linear T5 (13W x 2L x 2') 1 Magnetic Ballast  ","F","L","T5","MG",null,null,"Fluorescent","Linear","T5",13,2,"Magnetic Ballast",null,2,1,null,26]
["FCIT9-20W-MGPH","Fluorescent Circline T9 (20W x 1L) 1 Pre-Heated Ballast  ","F","CI","T9","MGPH",null,null,"Fluorescent","Circline","T9",20,1,"Pre-Heated Ballast",null,null,1,null,20]
["FLT8-15W x 2'-RS/PRS N","Fluorescent Linear T8 (15W x 1L x 2') 1 Rapid/Program Start Ballast (0.85 < BF < 0.95) ","F","L","T8","RS/PRS","(0.85 < BF < 0.95)",null,"Fluorescent","Linear","T8",15,1,"Rapid/Program Start Ballast","N",2,1,null,15]
["FLT8-17W x 3L x 2'-RS/PRS H","Fluorescent Linear T8 (17W x 3L x 2') 1 Rapid/Program Start Ballast (0.95 < BF < 1.10) ","F","L","T8","RS/PRS","(0.95 < BF < 1.10)",null,"Fluorescent","Linear","T8",17,3,"Rapid/Program Start Ballast","H",2,1,null,51]
["FLT8-17W x 4L x 2'-RS/PRS N","Fluorescent Linear T8 (17W x 4L x 2') 1 Rapid/Program Start Ballast (0.85 < BF < 0.95) ","F","L","T8","RS/PRS","(0.85 < BF < 0.95)",null,"Fluorescent","Linear","T8",17,4,"Rapid/Program Start Ballast","N",2,1,null,68]
["FLT8-25W x 2L x 3'-RS/PRS H","Fluorescent Linear T8 (25W x 2L x 3') 1 Rapid/Program Start Ballast (0.95 < BF < 1.10) ","F","L","T8","RS/PRS","(0.95 < BF < 1.10)",null,"Fluorescent","Linear","T8",25,2,"Rapid/Program Start Ballast","H",3,1,null,50]
["FLT8-28W x 3L x 3'-RS/PRS VH","Fluorescent Linear T8 (28W x 3L x 3') 1 Rapid/Program Start Ballast (BF > 1.10) ","F","L","T8","RS/PRS","(BF > 1.10)",null,"Fluorescent","Linear","T8",28,3,"Rapid/Program Start Ballast","VH",3,1,null,84]
["FLT8-32W x 2L x 4'-2 RS/PRS N","Fluorescent Linear T8 (32W x 2L x 4') 2 Rapid/Program Start Ballast (0.85 < BF < 0.95) ","F","L","T8","RS/PRS","(0.85 < BF < 0.95)",null,"Fluorescent","Linear","T8",32,2,"Rapid/Program Start Ballast","N",4,2,null,64]
["FLT8-32W x 4'-RS/PRS N","Fluorescent Linear T8 (32W x 1L x 4') 1 Rapid/Program Start Ballast (0.85 < BF < 0.95) ","F","L","T8","RS/PRS","(0.85 < BF < 0.95)",null,"Fluorescent","Linear","T8",32,1,"Rapid/Program Start Ballast","N",4,1,null,32]
["FUT8-30W x 2'-RS/PRS H","Fluorescent U Tube T8 (30W x 1L x 2') 1 Rapid/Program Start Ballast (0.95 < BF < 1.10) ","F","U","T8","RS/PRS","(0.95 < BF < 1.10)",null,"Fluorescent","U Tube","T8",30,1,"Rapid/Program Start Ballast","H",2,1,null,30]
["FUT8-32W x 2'-RS/PRS H","Fluorescent U Tube T8 (32W x 1L x 2') 1 Rapid/Program Start Ballast (0.95 < BF < 1.10) ","F","U","T8","RS/PRS","(0.95 < BF < 1.10)",null,"Fluorescent","U Tube","T8",32,1,"Rapid/Program Start Ballast","H",2,1,null,32]
["FCEPWP-26W x 2L-IS N","Fluorescent Compact Exterior Pin-Base Wall Pack  (26W x 2L) 1 Instant start Ballast (0.85 < BF < 0.95) ","F","CE","PWP","IS","(0.85 < BF < 0.95)",null,"Fluorescent","Compact Exterior","Pin-Base Wall Pack ",26,2,"Instant start Ballast","N",null,1,null,52]
["FCM-20W-MG (GIVE AWAY)","Fluorescent Compact Medium Base (20W x 1L) 1 Magnetic Ballast (GIVE AWAY)  ","F","C","M","MG (GIVE AWAY)",null,null,"Fluorescent","Compact","Medium Base",20,1,"Magnetic Ballast (GIVE AWAY)",null,null,1,null,20]
["FLT5-13W x 4L x 2'-MG","Fluorescent Linear T5 (13W x 4L x 2') 1 Magnetic Ballast  ","F","L","T5","MG",null,null,"Fluorescent","Linear","T5",13,4,"Magnetic Ballast",null,2,1,null,53]
["FLT8-17W x 3L x 2'-RS/PRS N","Fluorescent Linear T8 (17W x 3L x 2') 1 Rapid/Program Start Ballast (0.85 < BF < 0.95) ","F","L","T8","RS/PRS","(0.85 < BF < 0.95)",null,"Fluorescent","Linear","T8",17,3,"Rapid/Program Start Ballast","N",2,1,null,52]
["FLE-2W x 2L-IS N","Fluorescent Linear Exit (2W x 2L) 1 Instant start Ballast (0.85 < BF < 0.95) ","F","L","E","IS","(0.85 < BF < 0.95)",null,"Fluorescent","Linear","Exit",2,2,"Instant start Ballast","N",null,1,null,5]
["FLT8-17W x 2L x 2'-RS/PRS N","Fluorescent Linear T8 (17W x 2L x 2') 1 Rapid/Program Start Ballast (0.85 < BF < 0.95) ","F","L","T8","RS/PRS","(0.85 < BF < 0.95)",null,"Fluorescent","Linear","T8",17,2,"Rapid/Program Start Ballast","N",2,1,null,35]
["FUT8-25W x 2L x 2'-IS H","Fluorescent U Tube T8 (25W x 2L x 2') 1 Instant start Ballast (0.95 < BF < 1.10) ","F","U","T8","IS","(0.95 < BF < 1.10)",null,"Fluorescent","U Tube","T8",25,2,"Instant start Ballast","H",2,1,null,51]
["FUT8-32W x 2L x 2'-IS H","Fluorescent U Tube T8 (32W x 2L x 2') 1 Instant start Ballast (0.95 < BF < 1.10) ","F","U","T8","IS","(0.95 < BF < 1.10)",null,"Fluorescent","U Tube","T8",32,2,"Instant start Ballast","H",2,1,null,65]
["FLT12-20W x 3L x 2'-MG","Fluorescent Linear T12 (20W x 3L x 2') 1 Magnetic Ballast  ","F","L","T12","MG",null,null,"Fluorescent","Linear","T12",20,3,"Magnetic Ballast",null,2,1,null,62]
["FLT8-32W x 3L x 4'-RS/PRS H","Fluorescent Linear T8 (32W x 3L x 4') 1 Rapid/Program Start Ballast (0.95 < BF < 1.10) ","F","L","T8","RS/PRS","(0.95 < BF < 1.10)",null,"Fluorescent","Linear","T8",32,3,"Rapid/Program Start Ballast","H",4,1,null,98]
["FUT8-30W x 4L x 2'-IS VH","Fluorescent U Tube T8 (30W x 4L x 2') 1 Instant start Ballast (BF > 1.10) ","F","U","T8","IS","(BF > 1.10)",null,"Fluorescent","U Tube","T8",30,4,"Instant start Ballast","VH",2,1,null,123]
["FLT8CEEHB-25W x 10L x 4'-3 CEE IS H","Fluorescent Linear T8 CEE Highbay (25W x 10L x 4') 3 CEE Instant Start Ballast (BF > 1.0) ","F","L","T8CEEHB","CEE IS","(BF > 1.0)",null,"Fluorescent","Linear","T8 CEE Highbay",25,10,"CEE Instant Start Ballast","H",4,3,null,278]
["FLT8-25W x 12L x 4'-3 RS/PRS VH","Fluorescent Linear T8 (25W x 12L x 4') 3 Rapid/Program Start Ballast (BF > 1.10) ","F","L","T8","RS/PRS","(BF > 1.10)",null,"Fluorescent","Linear","T8",25,12,"Rapid/Program Start Ballast","VH",4,3,null,334]
["FLT8-28W x 12L x 4'-3 RS/PRS VH","Fluorescent Linear T8 (28W x 12L x 4') 3 Rapid/Program Start Ballast (BF > 1.10) ","F","L","T8","RS/PRS","(BF > 1.10)",null,"Fluorescent","Linear","T8",28,12,"Rapid/Program Start Ballast","VH",4,3,null,371]
["FCP-2W-MG","Fluorescent Compact Pin-Base (2W x 1L) 1 Magnetic Ballast  ","F","C","P","MG",null,null,"Fluorescent","Compact","Pin-Base",2,1,"Magnetic Ballast",null,null,1,null,3]
["FCE-9W x 2L-MG","Fluorescent Compact Exit (9W x 2L) 1 Magnetic Ballast  ","F","C","E","MG",null,null,"Fluorescent","Compact","Exit",9,2,"Magnetic Ballast",null,null,1,null,20]
["FCP-13W x 2L-IS H","Fluorescent Compact Pin-Base (13W x 2L) 1 Instant start Ballast (0.95 < BF < 1.10) ","F","C","P","IS","(0.95 < BF < 1.10)",null,"Fluorescent","Compact","Pin-Base",13,2,"Instant start Ballast","H",null,1,null,28]
["FLT8-17W x 2'-RS/PRS H","Fluorescent Linear T8 (17W x 1L x 2') 1 Rapid/Program Start Ballast (0.95 < BF < 1.10) ","F","L","T8","RS/PRS","(0.95 < BF < 1.10)",null,"Fluorescent","Linear","T8",17,1,"Rapid/Program Start Ballast","H",2,1,null,18]
["FCP-18W x 2L-IS H","Fluorescent Compact Pin-Base (18W x 2L) 1 Instant start Ballast (0.95 < BF < 1.10) ","F","C","P","IS","(0.95 < BF < 1.10)",null,"Fluorescent","Compact","Pin-Base",18,2,"Instant start Ballast","H",null,1,null,38]
["FCP-18W x 2L-IS N","Fluorescent Compact Pin-Base (18W x 2L) 1 Instant start Ballast (0.85 < BF < 0.95) ","F","C","P","IS","(0.85 < BF < 0.95)",null,"Fluorescent","Compact","Pin-Base",18,2,"Instant start Ballast","N",null,1,null,38]
["FLT8-25W x 4'-IS(E) H","Fluorescent Linear T8 (25W x 1L x 4') 1 Efficient Instant Start Ballast (0.95 < BF < 1.10) ","F","L","T8","IS(E)","(0.95 < BF < 1.10)",null,"Fluorescent","Linear","T8",25,1,"Efficient Instant Start Ballast","H",4,1,null,26]
["FLT12-25W x 3'-IS N","Fluorescent Linear T12 (25W x 1L x 3') 1 Instant start Ballast (0.85 < BF < 0.95) ","F","L","T12","IS","(0.85 < BF < 0.95)",null,"Fluorescent","Linear","T12",25,1,"Instant start Ballast","N",3,1,null,26]
["FLT8-25W x 3'-IS N","Fluorescent Linear T8 (25W x 1L x 3') 1 Instant start Ballast (0.85 < BF < 0.95) ","F","L","T8","IS","(0.85 < BF < 0.95)",null,"Fluorescent","Linear","T8",25,1,"Instant start Ballast","N",3,1,null,26]
["FLT8-25W x 4'-IS N","Fluorescent Linear T8 (25W x 1L x 4') 1 Instant start Ballast (0.85 < BF < 0.95) ","F","L","T8","IS","(0.85 < BF < 0.95)",null,"Fluorescent","Linear","T8",25,1,"Instant start Ballast","N",4,1,null,26]
[{"$f":"C643&D643&E643&IF(L643=\"\",\"\",\"-\"&L643&\"W\")&IF(OR(M643=1,M643=\"\"),\"\",\" x \"&M643&\"L\")&IF(P643=\"\",\"\",\" x \"&P643&\"'\")&IF(F643=\"\",\"\",\"-\"&IF(Q643=1,\"\",Q643&\" \")&F643&IF(O643=\"\",\"\",\" \"&O643)&IF(H643=\"\",\"\",\" \"&H643))","v":"FLT8-25W x 3'-RS/PRS H"},{"$f":"I643& IF(J643=\"\",\"\",\" \"&J643)&IF(K643=\"\",\"\",\" \"&K643)&\" (\"&L643&\"W\"&IF(M643=\"\",\"\",\" x \"&M643 & \"L\")&IF(P643=\"\",\"\",\" x \"&P643&\"'\")&\")\"&IF(N643=\"\",\"\",\" \"&Q643&\" \"&N643&\" \"&G643)&\" \"&R643","v":"Fluorescent Linear T8 (25W x 1L x 3') 1 Rapid/Program Start Ballast (0.95 < BF < 1.10) "},"F","L","T8","RS/PRS","(0.95 < BF < 1.10)",null,"Fluorescent","Linear","T8",25,1,"Rapid/Program Start Ballast","H",3,1,null,26]
["FCP-26W x 2L-IS N","Fluorescent Compact Pin-Base (26W x 2L) 1 Instant start Ballast (0.85 < BF < 0.95) ","F","C","P","IS","(0.85 < BF < 0.95)",null,"Fluorescent","Compact","Pin-Base",26,2,"Instant start Ballast","N",null,1,null,54]
["FCP-26W-IS H","Fluorescent Compact Pin-Base (26W x 1L) 1 Instant start Ballast (0.95 < BF < 1.10) ","F","C","P","IS","(0.95 < BF < 1.10)",null,"Fluorescent","Compact","Pin-Base",26,1,"Instant start Ballast","H",null,1,null,27]
["FLT8-28W x 4'-IS H","Fluorescent Linear T8 (28W x 1L x 4') 1 Instant start Ballast (0.95 < BF < 1.10) ","F","L","T8","IS","(0.95 < BF < 1.10)",null,"Fluorescent","Linear","T8",28,1,"Instant start Ballast","H",4,1,null,29]
["FLT8-28W x 2L x 3'-RS/PRS VH","Fluorescent Linear T8 (28W x 2L x 3') 1 Rapid/Program Start Ballast (BF > 1.10) ","F","L","T8","RS/PRS","(BF > 1.10)",null,"Fluorescent","Linear","T8",28,2,"Rapid/Program Start Ballast","VH",3,1,null,58]
["FLT12-30W x 3'-IS N","Fluorescent Linear T12 (30W x 1L x 3') 1 Instant start Ballast (0.85 < BF < 0.95) ","F","L","T12","IS","(0.85 < BF < 0.95)",null,"Fluorescent","Linear","T12",30,1,"Instant start Ballast","N",3,1,null,31]
["FUT8-30W x 2L x 2'-IS VH","Fluorescent U Tube T8 (30W x 2L x 2') 1 Instant start Ballast (BF > 1.10) ","F","U","T8","IS","(BF > 1.10)",null,"Fluorescent","U Tube","T8",30,2,"Instant start Ballast","VH",2,1,null,62]
["FLT8CEE-32W x 4'-CEE PS/PRS DIM CEE L","Fluorescent Linear T8 CEE  (32W x 1L x 4') 1 CEE Dimmable PS/PRS Ballast (0.85 < BF < 1.0) ","F","L","T8CEE","CEE PS/PRS DIM","(0.85 < BF < 1.0)",null,"Fluorescent","Linear","T8 CEE ",32,1,"CEE Dimmable PS/PRS Ballast","CEE L",4,1,null,33]
["FLT8-32W x 2L x 4'-IS(E) H","Fluorescent Linear T8 (32W x 2L x 4') 1 Efficient Instant Start Ballast (0.95 < BF < 1.10) ","F","L","T8","IS(E)","(0.95 < BF < 1.10)",null,"Fluorescent","Linear","T8",32,2,"Efficient Instant Start Ballast","H",4,1,null,66]
["FLT8-32W x 2L x 4'-RS/PRS(E) H","Fluorescent Linear T8 (32W x 2L x 4') 1 Efficient Rapid/Program Start Ballast (0.95 < BF < 1.10) ","F","L","T8","RS/PRS(E)","(0.95 < BF < 1.10)",null,"Fluorescent","Linear","T8",32,2,"Efficient Rapid/Program Start Ballast","H",4,1,null,66]
["FLT8-32W x 4'-RS/PRS(E) H","Fluorescent Linear T8 (32W x 1L x 4') 1 Efficient Rapid/Program Start Ballast (0.95 < BF < 1.10) ","F","L","T8","RS/PRS(E)","(0.95 < BF < 1.10)",null,"Fluorescent","Linear","T8",32,1,"Efficient Rapid/Program Start Ballast","H",4,1,null,33]
["FUT12-35W x 2L-MG(E)","Fluorescent U Tube T12 (35W x 2L) 1 Efficient Magnetic Ballast  ","F","U","T12","MG(E)",null,null,"Fluorescent","U Tube","T12",35,2,"Efficient Magnetic Ballast",null,null,1,null,72]
["FLT12-39W x 3L x 4'-IS N","Fluorescent Linear T12 (39W x 3L x 4') 1 Instant start Ballast (0.85 < BF < 0.95) ","F","L","T12","IS","(0.85 < BF < 0.95)",null,"Fluorescent","Linear","T12",39,3,"Instant start Ballast","N",4,1,null,120]
["FLT8-25W x 2L x 3'-2 IS R","Fluorescent Linear T8 (25W x 2L x 3') 2 Instant start Ballast (0.75 < BF < 0.85) ","F","L","T8","IS","(0.75 < BF < 0.85)",null,"Fluorescent","Linear","T8",25,2,"Instant start Ballast","R",3,2,null,54]
["FLT8-25W x 10L x 4'-3 RS/PRS VH","Fluorescent Linear T8 (25W x 10L x 4') 3 Rapid/Program Start Ballast (BF > 1.10) ","F","L","T8","RS/PRS","(BF > 1.10)",null,"Fluorescent","Linear","T8",25,10,"Rapid/Program Start Ballast","VH",4,3,null,280]
["FLT8CEEHB-28W x 10L x 4'-3 CEE IS CEE H","Fluorescent Linear T8 CEE Highbay (28W x 10L x 4') 3 CEE Instant Start Ballast (BF > 1.0) ","F","L","T8CEEHB","CEE IS","(BF > 1.0)",null,"Fluorescent","Linear","T8 CEE Highbay",28,10,"CEE Instant Start Ballast","CEE H",4,3,null,310]
["FLT8-28W x 10L x 4'-3 RS/PRS VH","Fluorescent Linear T8 (28W x 10L x 4') 3 Rapid/Program Start Ballast (BF > 1.10) ","F","L","T8","RS/PRS","(BF > 1.10)",null,"Fluorescent","Linear","T8",28,10,"Rapid/Program Start Ballast","VH",4,3,null,310]
["FLT5HOHB-51W x 12L x 4'-3 RS/PRS H","Fluorescent Linear T5 HO Highbay (51W x 12L x 4') 3 Rapid/Program Start Ballast (0.95 < BF < 1.10) ","F","L","T5HOHB","RS/PRS","(0.95 < BF < 1.10)",null,"Fluorescent","Linear","T5 HO Highbay",51,12,"Rapid/Program Start Ballast","H",4,3,null,648]
["FLT5HO-51W x 12L x 4'-3 RS/PRS H","Fluorescent Linear T5 HO (51W x 12L x 4') 3 Rapid/Program Start Ballast (0.95 < BF < 1.10) ","F","L","T5HO","RS/PRS","(0.95 < BF < 1.10)",null,"Fluorescent","Linear","T5 HO",51,12,"Rapid/Program Start Ballast","H",4,3,null,648]
["FLT5HO-44W x 4'-RS/PRS H","Fluorescent Linear T5 HO (44W x 1L x 4') 1 Rapid/Program Start Ballast (0.95 < BF < 1.10) ","F","L","T5HO","RS/PRS","(0.95 < BF < 1.10)",null,"Fluorescent","Linear","T5 HO",44,1,"Rapid/Program Start Ballast","H",4,1,null,45]
["FLT5HOHB-54W x 8L x 4'-3 RS/PRS H","Fluorescent Linear T5 HO Highbay (54W x 8L x 4') 3 Rapid/Program Start Ballast (0.95 < BF < 1.10) ","F","L","T5HOHB","RS/PRS","(0.95 < BF < 1.10)",null,"Fluorescent","Linear","T5 HO Highbay",54,8,"Rapid/Program Start Ballast","H",4,3,null,458]
["FLT5HO-54W x 8L x 4'-3 RS/PRS H","Fluorescent Linear T5 HO (54W x 8L x 4') 3 Rapid/Program Start Ballast (0.95 < BF < 1.10) ","F","L","T5HO","RS/PRS","(0.95 < BF < 1.10)",null,"Fluorescent","Linear","T5 HO",54,8,"Rapid/Program Start Ballast","H",4,3,null,458]
["FLT5HOHB-51W x 10L x 4'-3 RS/PRS H","Fluorescent Linear T5 HO Highbay (51W x 10L x 4') 3 Rapid/Program Start Ballast (0.95 < BF < 1.10) ","F","L","T5HOHB","RS/PRS","(0.95 < BF < 1.10)",null,"Fluorescent","Linear","T5 HO Highbay",51,10,"Rapid/Program Start Ballast","H",4,3,null,543]
["FLT5HOHB-54W x 10L x 4'-3 RS/PRS H","Fluorescent Linear T5 HO Highbay (54W x 10L x 4') 3 Rapid/Program Start Ballast (0.95 < BF < 1.10) ","F","L","T5HOHB","RS/PRS","(0.95 < BF < 1.10)",null,"Fluorescent","Linear","T5 HO Highbay",54,10,"Rapid/Program Start Ballast","H",4,3,null,573]
["FLT5HO-51W x 10L x 4'-3 RS/PRS H","Fluorescent Linear T5 HO (51W x 10L x 4') 3 Rapid/Program Start Ballast (0.95 < BF < 1.10) ","F","L","T5HO","RS/PRS","(0.95 < BF < 1.10)",null,"Fluorescent","Linear","T5 HO",51,10,"Rapid/Program Start Ballast","H",4,3,null,543]
["FLT5HO-54W x 10L x 4'-3 RS/PRS H","Fluorescent Linear T5 HO (54W x 10L x 4') 3 Rapid/Program Start Ballast (0.95 < BF < 1.10) ","F","L","T5HO","RS/PRS","(0.95 < BF < 1.10)",null,"Fluorescent","Linear","T5 HO",54,10,"Rapid/Program Start Ballast","H",4,3,null,573]
["FLT5-24W x 4L x 2'-2 RS/PRS H","Fluorescent Linear T5 (24W x 4L x 2') 2 Rapid/Program Start Ballast (0.95 < BF < 1.10) ","F","L","T5","RS/PRS","(0.95 < BF < 1.10)",null,"Fluorescent","Linear","T5",24,4,"Rapid/Program Start Ballast","H",2,2,null,105]
["FLT5-25W x 4L x 4'-2 RS/PRS N","Fluorescent Linear T5 (25W x 4L x 4') 2 Rapid/Program Start Ballast (0.85 < BF < 1.0) ","F","L","T5","RS/PRS","(0.85 < BF < 1.0)",null,"Fluorescent","Linear","T5",25,4,"Rapid/Program Start Ballast","N",4,2,null,109]
["FLT5-25W x 3L x 4'-2 RS/PRS N","Fluorescent Linear T5 (25W x 3L x 4') 2 Rapid/Program Start Ballast (0.85 < BF < 1.0) ","F","L","T5","RS/PRS","(0.85 < BF < 1.0)",null,"Fluorescent","Linear","T5",25,3,"Rapid/Program Start Ballast","N",4,2,null,82]
["FLT8-30W x 12L x 4'-3 RS/PRS VH","Fluorescent Linear T8 (30W x 12L x 4') 3 Rapid/Program Start Ballast (BF > 1.10) ","F","L","T8","RS/PRS","(BF > 1.10)",null,"Fluorescent","Linear","T8",30,12,"Rapid/Program Start Ballast","VH",4,3,null,403]
["FLT5HOHB-51W x 10L x 4'-2 RS/PRS H","Fluorescent Linear T5 HO Highbay (51W x 10L x 4') 2 Rapid/Program Start Ballast (0.95 < BF < 1.10) ","F","L","T5HOHB","RS/PRS","(0.95 < BF < 1.10)",null,"Fluorescent","Linear","T5 HO Highbay",51,10,"Rapid/Program Start Ballast","H",4,2,null,534]
["FLT8-30W x 10L x 4'-3 RS/PRS VH","Fluorescent Linear T8 (30W x 10L x 4') 3 Rapid/Program Start Ballast (BF > 1.10) ","F","L","T8","RS/PRS","(BF > 1.10)",null,"Fluorescent","Linear","T8",30,10,"Rapid/Program Start Ballast","VH",4,3,null,337]
["FLT8CEEHB-32W x 10L x 4'-3 CEE IS CEE H","Fluorescent Linear T8 CEE Highbay (32W x 10L x 4') 3 CEE Instant Start Ballast (BF > 1.0) ","F","L","T8CEEHB","CEE IS","(BF > 1.0)",null,"Fluorescent","Linear","T8 CEE Highbay",32,10,"CEE Instant Start Ballast","CEE H",4,3,null,357]
["FLT8-32W x 12L x 4'-3 RS/PRS VH","Fluorescent Linear T8 (32W x 12L x 4') 3 Rapid/Program Start Ballast (BF > 1.10) ","F","L","T8","RS/PRS","(BF > 1.10)",null,"Fluorescent","Linear","T8",32,12,"Rapid/Program Start Ballast","VH",4,3,null,431]
["FLT5HO-24W x 3L x 2'-2 RS/PRS H","Fluorescent Linear T5 HO (24W x 3L x 2') 2 Rapid/Program Start Ballast (0.95 < BF < 1.10) ","F","L","T5HO","RS/PRS","(0.95 < BF < 1.10)",null,"Fluorescent","Linear","T5 HO",24,3,"Rapid/Program Start Ballast","H",2,2,null,80]
["FLT8-32W x 10L x 4'-3 RS/PRS VH","Fluorescent Linear T8 (32W x 10L x 4') 3 Rapid/Program Start Ballast (BF > 1.10) ","F","L","T8","RS/PRS","(BF > 1.10)",null,"Fluorescent","Linear","T8",32,10,"Rapid/Program Start Ballast","VH",4,3,null,361]
["FLT5-14W x 4L x 2'-2 RS/PRS H","Fluorescent Linear T5 (14W x 4L x 2') 2 Rapid/Program Start Ballast (0.95 < BF < 1.10) ","F","L","T5","RS/PRS","(0.95 < BF < 1.10)",null,"Fluorescent","Linear","T5",14,4,"Rapid/Program Start Ballast","H",2,2,null,67]
["FLT8CEEHB-25W x 8L x 4'-2 CEE IS H","Fluorescent Linear T8 CEE Highbay (25W x 8L x 4') 2 CEE Instant Start Ballast (BF > 1.0) ","F","L","T8CEEHB","CEE IS","(BF > 1.0)",null,"Fluorescent","Linear","T8 CEE Highbay",25,8,"CEE Instant Start Ballast","H",4,2,null,222]
["FLT8-25W x 8L x 4'-2 RS/PRS VH","Fluorescent Linear T8 (25W x 8L x 4') 2 Rapid/Program Start Ballast (BF > 1.10) ","F","L","T8","RS/PRS","(BF > 1.10)",null,"Fluorescent","Linear","T8",25,8,"Rapid/Program Start Ballast","VH",4,2,null,223]
["FLT5HO-44W x 12L x 4'-3 RS/PRS H","Fluorescent Linear T5 HO (44W x 12L x 4') 3 Rapid/Program Start Ballast (0.95 < BF < 1.10) ","F","L","T5HO","RS/PRS","(0.95 < BF < 1.10)",null,"Fluorescent","Linear","T5 HO",44,12,"Rapid/Program Start Ballast","H",4,3,null,580]
["FLT5HO-44W x 10L x 4'-3 RS/PRS H","Fluorescent Linear T5 HO (44W x 10L x 4') 3 Rapid/Program Start Ballast (0.95 < BF < 1.10) ","F","L","T5HO","RS/PRS","(0.95 < BF < 1.10)",null,"Fluorescent","Linear","T5 HO",44,10,"Rapid/Program Start Ballast","H",4,3,null,484]
["FCE-6W x 2L-MG","Fluorescent Compact Exit (6W x 2L) 1 Magnetic Ballast  ","F","C","E","MG",null,null,"Fluorescent","Compact","Exit",6,2,"Magnetic Ballast",null,null,1,null,15]
["FLT8-32W x 2L x 4'-CEE PS/PRS DIM H","Fluorescent Linear T8 (32W x 2L x 4') 1 CEE Dimmable PS/PRS Ballast (0.95 < BF < 1.10) ","F","L","T8","CEE PS/PRS DIM","(0.95 < BF < 1.10)",null,"Fluorescent","Linear","T8",32,2,"CEE Dimmable PS/PRS Ballast","H",4,1,null,67]
["FLT12-60W x 2L x 8'-MG(E)","Fluorescent Linear T12 (60W x 2L x 8') 1 Efficient Magnetic Ballast  ","F","L","T12","MG(E)",null,null,"Fluorescent","Linear","T12",60,2,"Efficient Magnetic Ballast",null,8,1,null,123]
["FLT12-60W x 4L x 8'-MG(E)","Fluorescent Linear T12 (60W x 4L x 8') 1 Efficient Magnetic Ballast  ","F","L","T12","MG(E)",null,null,"Fluorescent","Linear","T12",60,4,"Efficient Magnetic Ballast",null,8,1,null,246]
["FLT12-60W x 6L x 8'-MG(E)","Fluorescent Linear T12 (60W x 6L x 8') 1 Efficient Magnetic Ballast  ","F","L","T12","MG(E)",null,null,"Fluorescent","Linear","T12",60,6,"Efficient Magnetic Ballast",null,8,1,null,369]
["FLT12-60W x 2L x 8'-MG","Fluorescent Linear T12 (60W x 2L x 8') 1 Magnetic Ballast  ","F","L","T12","MG",null,null,"Fluorescent","Linear","T12",60,2,"Magnetic Ballast",null,8,1,null,123]
["FLT12-60W x 4L x 8'-MG","Fluorescent Linear T12 (60W x 4L x 8') 1 Magnetic Ballast  ","F","L","T12","MG",null,null,"Fluorescent","Linear","T12",60,4,"Magnetic Ballast",null,8,1,null,246]
["FLT5-14W x 3L x 2'-2 RS/PRS H","Fluorescent Linear T5 (14W x 3L x 2') 2 Rapid/Program Start Ballast (0.95 < BF < 1.10) ","F","L","T5","RS/PRS","(0.95 < BF < 1.10)",null,"Fluorescent","Linear","T5",14,3,"Rapid/Program Start Ballast","H",2,2,null,51]
["FLT5-21W x 4L x 3'-2 RS/PRS H","Fluorescent Linear T5 (21W x 4L x 3') 2 Rapid/Program Start Ballast (0.95 < BF < 1.10) ","F","L","T5","RS/PRS","(0.95 < BF < 1.10)",null,"Fluorescent","Linear","T5",21,4,"Rapid/Program Start Ballast","H",3,2,null,96]
["FLT8CEEHB-25W x 6L x 4'-2 CEE IS H","Fluorescent Linear T8 CEE Highbay (25W x 6L x 4') 2 CEE Instant Start Ballast (BF > 1.0) ","F","L","T8CEEHB","CEE IS","(BF > 1.0)",null,"Fluorescent","Linear","T8 CEE Highbay",25,6,"CEE Instant Start Ballast","H",4,2,null,168]
["FLT8-28W x 6L x 4'-2 RS/PRS VH","Fluorescent Linear T8 (28W x 6L x 4') 2 Rapid/Program Start Ballast (BF > 1.10) ","F","L","T8","RS/PRS","(BF > 1.10)",null,"Fluorescent","Linear","T8",28,6,"Rapid/Program Start Ballast","VH",4,2,null,186]
["FLT8-28W x 8L x 4'-2 RS/PRS VH","Fluorescent Linear T8 (28W x 8L x 4') 2 Rapid/Program Start Ballast (BF > 1.10) ","F","L","T8","RS/PRS","(BF > 1.10)",null,"Fluorescent","Linear","T8",28,8,"Rapid/Program Start Ballast","VH",4,2,null,248]
["FLT8CEEHB-28W x 8L x 4'-2 CEE IS CEE H","Fluorescent Linear T8 CEE Highbay (28W x 8L x 4') 2 CEE Instant Start Ballast (BF > 1.0) ","F","L","T8CEEHB","CEE IS","(BF > 1.0)",null,"Fluorescent","Linear","T8 CEE Highbay",28,8,"CEE Instant Start Ballast","CEE H",4,2,null,248]
["FLT12-40W x 4L x 4'-2 MG(E)","Fluorescent Linear T12 (40W x 4L x 4') 2 Efficient Magnetic Ballast  ","F","L","T12","MG(E)",null,null,"Fluorescent","Linear","T12",40,4,"Efficient Magnetic Ballast",null,4,2,null,172]
["FLT12-40W x 4L x 4'-2 MG","Fluorescent Linear T12 (40W x 4L x 4') 2 Magnetic Ballast  ","F","L","T12","MG",null,null,"Fluorescent","Linear","T12",40,4,"Magnetic Ballast",null,4,2,null,172]
["FLT5HOHB-51W x 8L x 4'-2 RS/PRS H","Fluorescent Linear T5 HO Highbay (51W x 8L x 4') 2 Rapid/Program Start Ballast (0.95 < BF < 1.10) ","F","L","T5HOHB","RS/PRS","(0.95 < BF < 1.10)",null,"Fluorescent","Linear","T5 HO Highbay",51,8,"Rapid/Program Start Ballast","H",4,2,null,432]
["FLT5HOHB-54W x 6L x 4'-3 RS/PRS H","Fluorescent Linear T5 HO Highbay (54W x 6L x 4') 3 Rapid/Program Start Ballast (0.95 < BF < 1.10) ","F","L","T5HOHB","RS/PRS","(0.95 < BF < 1.10)",null,"Fluorescent","Linear","T5 HO Highbay",54,6,"Rapid/Program Start Ballast","H",4,3,null,351]
["FLT5HO-54W x 6L x 4'-3 RS/PRS H","Fluorescent Linear T5 HO (54W x 6L x 4') 3 Rapid/Program Start Ballast (0.95 < BF < 1.10) ","F","L","T5HO","RS/PRS","(0.95 < BF < 1.10)",null,"Fluorescent","Linear","T5 HO",54,6,"Rapid/Program Start Ballast","H",4,3,null,351]
["FLT5HO-51W x 8L x 4'-2 RS/PRS H","Fluorescent Linear T5 HO (51W x 8L x 4') 2 Rapid/Program Start Ballast (0.95 < BF < 1.10) ","F","L","T5HO","RS/PRS","(0.95 < BF < 1.10)",null,"Fluorescent","Linear","T5 HO",51,8,"Rapid/Program Start Ballast","H",4,2,null,432]
["FCP-55W x 3L-IS N","Fluorescent Compact Pin-Base (55W x 3L) 1 Instant start Ballast (0.85 < BF < 0.95) ","F","C","P","IS","(0.85 < BF < 0.95)",null,"Fluorescent","Compact","Pin-Base",55,3,"Instant start Ballast","N",null,1,null,170]
["FLT5-21W x 3L x 3'-2 RS/PRS H","Fluorescent Linear T5 (21W x 3L x 3') 2 Rapid/Program Start Ballast (0.95 < BF < 1.10) ","F","L","T5","RS/PRS","(0.95 < BF < 1.10)",null,"Fluorescent","Linear","T5",21,3,"Rapid/Program Start Ballast","H",3,2,null,73]
["FLT8-25W x 6L x 4'-2 RS/PRS VH","Fluorescent Linear T8 (25W x 6L x 4') 2 Rapid/Program Start Ballast (BF > 1.10) ","F","L","T8","RS/PRS","(BF > 1.10)",null,"Fluorescent","Linear","T8",25,6,"Rapid/Program Start Ballast","VH",4,2,null,170]
["FLT5HOHB-49W x 12L x 4'-3 RS/PRS H","Fluorescent Linear T5 HO Highbay (49W x 12L x 4') 3 Rapid/Program Start Ballast (0.95 < BF < 1.10) ","F","L","T5HOHB","RS/PRS","(0.95 < BF < 1.10)",null,"Fluorescent","Linear","T5 HO Highbay",49,12,"Rapid/Program Start Ballast","H",4,3,null,648]
[{"$f":"C707&D707&E707&IF(L707=\"\",\"\",\"-\"&L707&\"W\")&IF(OR(M707=1,M707=\"\"),\"\",\" x \"&M707&\"L\")&IF(P707=\"\",\"\",\" x \"&P707&\"'\")&IF(F707=\"\",\"\",\"-\"&IF(Q707=1,\"\",Q707&\" \")&F707&IF(O707=\"\",\"\",\" \"&O707)&IF(H707=\"\",\"\",\" \"&H707))","v":"FLT5HO-49W x 12L x 4'-3 RS/PRS H"},{"$f":"I707& IF(J707=\"\",\"\",\" \"&J707)&IF(K707=\"\",\"\",\" \"&K707)&\" (\"&L707&\"W\"&IF(M707=\"\",\"\",\" x \"&M707 & \"L\")&IF(P707=\"\",\"\",\" x \"&P707&\"'\")&\")\"&IF(N707=\"\",\"\",\" \"&Q707&\" \"&N707&\" \"&G707)&\" \"&R707","v":"Fluorescent Linear T5 HO (49W x 12L x 4') 3 Rapid/Program Start Ballast (0.95 < BF < 1.10) "},"F","L","T5HO","RS/PRS","(0.95 < BF < 1.10)",null,"Fluorescent","Linear","T5 HO",49,12,"Rapid/Program Start Ballast","H",4,3,null,648]
["FLT5HOHB-49W x 10L x 4'-3 RS/PRS H","Fluorescent Linear T5 HO Highbay (49W x 10L x 4') 3 Rapid/Program Start Ballast (0.95 < BF < 1.10) ","F","L","T5HOHB","RS/PRS","(0.95 < BF < 1.10)",null,"Fluorescent","Linear","T5 HO Highbay",49,10,"Rapid/Program Start Ballast","H",4,3,null,541]
["FLT5HO-49W x 10L x 4'-3 RS/PRS H","Fluorescent Linear T5 HO (49W x 10L x 4') 3 Rapid/Program Start Ballast (0.95 < BF < 1.10) ","F","L","T5HO","RS/PRS","(0.95 < BF < 1.10)",null,"Fluorescent","Linear","T5 HO",49,10,"Rapid/Program Start Ballast","H",4,3,null,541]
["FLT8CEEHB-32W x 8L x 4'-2 CEE IS CEE H","Fluorescent Linear T8 CEE Highbay (32W x 8L x 4') 2 CEE Instant Start Ballast (BF > 1.0) ","F","L","T8CEEHB","CEE IS","(BF > 1.0)",null,"Fluorescent","Linear","T8 CEE Highbay",32,8,"CEE Instant Start Ballast","CEE H",4,2,null,284]
["FLT8-30W x 8L x 4'-2 RS/PRS VH","Fluorescent Linear T8 (30W x 8L x 4') 2 Rapid/Program Start Ballast (BF > 1.10) ","F","L","T8","RS/PRS","(BF > 1.10)",null,"Fluorescent","Linear","T8",30,8,"Rapid/Program Start Ballast","VH",4,2,null,269]
["FCP-13W x 2L-IS N","Fluorescent Compact Pin-Base (13W x 2L) 1 Instant start Ballast (0.85 < BF < 0.95) ","F","C","P","IS","(0.85 < BF < 0.95)",null,"Fluorescent","Compact","Pin-Base",13,2,"Instant start Ballast","N",null,1,null,30]
["FCP-13W-IS H","Fluorescent Compact Pin-Base (13W x 1L) 1 Instant start Ballast (0.95 < BF < 1.10) ","F","C","P","IS","(0.95 < BF < 1.10)",null,"Fluorescent","Compact","Pin-Base",13,1,"Instant start Ballast","H",null,1,null,15]
["FCP-18W-IS H","Fluorescent Compact Pin-Base (18W x 1L) 1 Instant start Ballast (0.95 < BF < 1.10) ","F","C","P","IS","(0.95 < BF < 1.10)",null,"Fluorescent","Compact","Pin-Base",18,1,"Instant start Ballast","H",null,1,null,20]
["FCP-18W-IS N","Fluorescent Compact Pin-Base (18W x 1L) 1 Instant start Ballast (0.85 < BF < 0.95) ","F","C","P","IS","(0.85 < BF < 0.95)",null,"Fluorescent","Compact","Pin-Base",18,1,"Instant start Ballast","N",null,1,null,20]
["FCP-22W x 2L-MG","Fluorescent Compact Pin-Base (22W x 2L) 1 Magnetic Ballast  ","F","C","P","MG",null,null,"Fluorescent","Compact","Pin-Base",22,2,"Magnetic Ballast",null,null,1,null,48]
["FCP-22W x 3L-MG","Fluorescent Compact Pin-Base (22W x 3L) 1 Magnetic Ballast  ","F","C","P","MG",null,null,"Fluorescent","Compact","Pin-Base",22,3,"Magnetic Ballast",null,null,1,null,72]
["FLT8-25W x 3'-IS R","Fluorescent Linear T8 (25W x 1L x 3') 1 Instant start Ballast (0.75 < BF < 0.85) ","F","L","T8","IS","(0.75 < BF < 0.85)",null,"Fluorescent","Linear","T8",25,1,"Instant start Ballast","R",3,1,null,27]
["FUT8-25W x 3L x 2'-IS(E) VH","Fluorescent U Tube T8 (25W x 3L x 2') 1 Efficient Instant Start Ballast (BF > 1.10) ","F","U","T8","IS(E)","(BF > 1.10)",null,"Fluorescent","U Tube","T8",25,3,"Efficient Instant Start Ballast","VH",2,1,null,81]
["FCP-26W-IS N","Fluorescent Compact Pin-Base (26W x 1L) 1 Instant start Ballast (0.85 < BF < 0.95) ","F","C","P","IS","(0.85 < BF < 0.95)",null,"Fluorescent","Compact","Pin-Base",26,1,"Instant start Ballast","N",null,1,null,28]
["FCP-28W x 2L-IS N","Fluorescent Compact Pin-Base (28W x 2L) 1 Instant start Ballast (0.85 < BF < 0.95) ","F","C","P","IS","(0.85 < BF < 0.95)",null,"Fluorescent","Compact","Pin-Base",28,2,"Instant start Ballast","N",null,1,null,60]
["FLT8-28W x 3'-RS/PRS VH","Fluorescent Linear T8 (28W x 1L x 3') 1 Rapid/Program Start Ballast (BF > 1.10) ","F","L","T8","RS/PRS","(BF > 1.10)",null,"Fluorescent","Linear","T8",28,1,"Rapid/Program Start Ballast","VH",3,1,null,30]
["FLT8-30W x 4'-IS(E) H","Fluorescent Linear T8 (30W x 1L x 4') 1 Efficient Instant Start Ballast (0.95 < BF < 1.10) ","F","L","T8","IS(E)","(0.95 < BF < 1.10)",null,"Fluorescent","Linear","T8",30,1,"Efficient Instant Start Ballast","H",4,1,null,32]
["FUT8-32W x 2'-IS(E) H","Fluorescent U Tube T8 (32W x 1L x 2') 1 Efficient Instant Start Ballast (0.95 < BF < 1.10) ","F","U","T8","IS(E)","(0.95 < BF < 1.10)",null,"Fluorescent","U Tube","T8",32,1,"Efficient Instant Start Ballast","H",2,1,null,34]
["FLT12-34W x 2L x 4'-MG(E)","Fluorescent Linear T12 (34W x 2L x 4') 1 Efficient Magnetic Ballast  ","F","L","T12","MG(E)",null,null,"Fluorescent","Linear","T12",34,2,"Efficient Magnetic Ballast",null,4,1,null,72]
["FLT12-34W x 6L x 4'-MG(E)","Fluorescent Linear T12 (34W x 6L x 4') 1 Efficient Magnetic Ballast  ","F","L","T12","MG(E)",null,null,"Fluorescent","Linear","T12",34,6,"Efficient Magnetic Ballast",null,4,1,null,216]
["FLT12-34W x 8L x 4'-MG(E)","Fluorescent Linear T12 (34W x 8L x 4') 1 Efficient Magnetic Ballast  ","F","L","T12","MG(E)",null,null,"Fluorescent","Linear","T12",34,8,"Efficient Magnetic Ballast",null,4,1,null,288]
["FLT12-34W x 2L x 4'-IS N","Fluorescent Linear T12 (34W x 2L x 4') 1 Instant start Ballast (0.85 < BF < 0.95) ","F","L","T12","IS","(0.85 < BF < 0.95)",null,"Fluorescent","Linear","T12",34,2,"Instant start Ballast","N",4,1,null,72]
["FLT12-34W x 6L x 4'-MG","Fluorescent Linear T12 (34W x 6L x 4') 1 Magnetic Ballast  ","F","L","T12","MG",null,null,"Fluorescent","Linear","T12",34,6,"Magnetic Ballast",null,4,1,null,216]
["FLT12-34W x 2L x 4'-MG","Fluorescent Linear T12 (34W x 2L x 4') 1 Magnetic Ballast  ","F","L","T12","MG",null,null,"Fluorescent","Linear","T12",34,2,"Magnetic Ballast",null,4,1,null,72]
["FCIT9-40W-MGPH","Fluorescent Circline T9 (40W x 1L) 1 Pre-Heated Ballast  ","F","CI","T9","MGPH",null,null,"Fluorescent","Circline","T9",40,1,"Pre-Heated Ballast",null,null,1,null,42]
["FLT8-30W x 6L x 4'-2 RS/PRS VH","Fluorescent Linear T8 (30W x 6L x 4') 2 Rapid/Program Start Ballast (BF > 1.10) ","F","L","T8","RS/PRS","(BF > 1.10)",null,"Fluorescent","Linear","T8",30,6,"Rapid/Program Start Ballast","VH",4,2,null,204]
["FLT8-32W x 8L x 4'-2 RS/PRS VH","Fluorescent Linear T8 (32W x 8L x 4') 2 Rapid/Program Start Ballast (BF > 1.10) ","F","L","T8","RS/PRS","(BF > 1.10)",null,"Fluorescent","Linear","T8",32,8,"Rapid/Program Start Ballast","VH",4,2,null,288]
["FLT5HO-39W x 4L x 3'-2 RS/PRS H","Fluorescent Linear T5 HO (39W x 4L x 3') 2 Rapid/Program Start Ballast (0.95 < BF < 1.10) ","F","L","T5HO","RS/PRS","(0.95 < BF < 1.10)",null,"Fluorescent","Linear","T5 HO",39,4,"Rapid/Program Start Ballast","H",3,2,null,172]
["FLT5HO-24W x 2L x 2'-RS/PRS H","Fluorescent Linear T5 HO (24W x 2L x 2') 1 Rapid/Program Start Ballast (0.95 < BF < 1.10) ","F","L","T5HO","RS/PRS","(0.95 < BF < 1.10)",null,"Fluorescent","Linear","T5 HO",24,2,"Rapid/Program Start Ballast","H",2,1,null,52]
["FLT5-35W x 4L x 5'-2 RS/PRS H","Fluorescent Linear T5 (35W x 4L x 5') 2 Rapid/Program Start Ballast (0.95 < BF < 1.10) ","F","L","T5","RS/PRS","(0.95 < BF < 1.10)",null,"Fluorescent","Linear","T5",35,4,"Rapid/Program Start Ballast","H",5,2,null,157]
["FLT8-32W x 6L x 4'-2 RS/PRS VH","Fluorescent Linear T8 (32W x 6L x 4') 2 Rapid/Program Start Ballast (BF > 1.10) ","F","L","T8","RS/PRS","(BF > 1.10)",null,"Fluorescent","Linear","T8",32,6,"Rapid/Program Start Ballast","VH",4,2,null,218]
["FLT12-34W x 3L x 4'-2 MG(E)","Fluorescent Linear T12 (34W x 3L x 4') 2 Efficient Magnetic Ballast  ","F","L","T12","MG(E)",null,null,"Fluorescent","Linear","T12",34,3,"Efficient Magnetic Ballast",null,4,2,null,115]
["FLT12-34W x 3L x 4'-2 MG","Fluorescent Linear T12 (34W x 3L x 4') 2 Magnetic Ballast  ","F","L","T12","MG",null,null,"Fluorescent","Linear","T12",34,3,"Magnetic Ballast",null,4,2,null,115]
["FLT5HO-39W x 3L x 3'-2 RS/PRS H","Fluorescent Linear T5 HO (39W x 3L x 3') 2 Rapid/Program Start Ballast (0.95 < BF < 1.10) ","F","L","T5HO","RS/PRS","(0.95 < BF < 1.10)",null,"Fluorescent","Linear","T5 HO",39,3,"Rapid/Program Start Ballast","H",3,2,null,130]
["FLT5HO-44W x 6L x 4'-2 RS/PRS H","Fluorescent Linear T5 HO (44W x 6L x 4') 2 Rapid/Program Start Ballast (0.95 < BF < 1.10) ","F","L","T5HO","RS/PRS","(0.95 < BF < 1.10)",null,"Fluorescent","Linear","T5 HO",44,6,"Rapid/Program Start Ballast","H",4,2,null,290]
["FLT5HO-44W x 8L x 4'-2 RS/PRS H","Fluorescent Linear T5 HO (44W x 8L x 4') 2 Rapid/Program Start Ballast (0.95 < BF < 1.10) ","F","L","T5HO","RS/PRS","(0.95 < BF < 1.10)",null,"Fluorescent","Linear","T5 HO",44,8,"Rapid/Program Start Ballast","H",4,2,null,387]
["FLT5-25W x 4L x 4'-2 RS/PRS H","Fluorescent Linear T5 (25W x 4L x 4') 2 Rapid/Program Start Ballast (0.95 < BF < 1.10) ","F","L","T5","RS/PRS","(0.95 < BF < 1.10)",null,"Fluorescent","Linear","T5",25,4,"Rapid/Program Start Ballast","H",4,2,null,118]
["FLT8CEEHB-28W x 6L x 4'-2 CEE IS CEE H","Fluorescent Linear T8 CEE Highbay (28W x 6L x 4') 2 CEE Instant Start Ballast (BF > 1.0) ","F","L","T8CEEHB","CEE IS","(BF > 1.0)",null,"Fluorescent","Linear","T8 CEE Highbay",28,6,"CEE Instant Start Ballast","CEE H",4,2,null,195]
["FLT8-32W x 8L x 4'-2 IS VH","Fluorescent Linear T8 (32W x 8L x 4') 2 Instant start Ballast (BF > 1.10) ","F","L","T8","IS","(BF > 1.10)",null,"Fluorescent","Linear","T8",32,8,"Instant start Ballast","VH",4,2,null,292]
["FLT5HOHB-54W x 4L x 4'-2 RS/PRS H","Fluorescent Linear T5 HO Highbay (54W x 4L x 4') 2 Rapid/Program Start Ballast (0.95 < BF < 1.10) ","F","L","T5HOHB","RS/PRS","(0.95 < BF < 1.10)",null,"Fluorescent","Linear","T5 HO Highbay",54,4,"Rapid/Program Start Ballast","H",4,2,null,234]
["FLT5HO-54W x 4L x 4'-2 RS/PRS H","Fluorescent Linear T5 HO (54W x 4L x 4') 2 Rapid/Program Start Ballast (0.95 < BF < 1.10) ","F","L","T5HO","RS/PRS","(0.95 < BF < 1.10)",null,"Fluorescent","Linear","T5 HO",54,4,"Rapid/Program Start Ballast","H",4,2,null,234]
["FLT5HO-35W x 3L x 5'-2 RS/PRS H","Fluorescent Linear T5 HO (35W x 3L x 5') 2 Rapid/Program Start Ballast (0.95 < BF < 1.10) ","F","L","T5HO","RS/PRS","(0.95 < BF < 1.10)",null,"Fluorescent","Linear","T5 HO",35,3,"Rapid/Program Start Ballast","H",5,2,null,119]
["FCP-9W x 3L-MG","Fluorescent Compact Pin-Base (9W x 3L) 1 Magnetic Ballast  ","F","C","P","MG",null,null,"Fluorescent","Compact","Pin-Base",9,3,"Magnetic Ballast",null,null,1,null,34]
["FUT8-28W x 3L x 2'-RS/PRS VH","Fluorescent U Tube T8 (28W x 3L x 2') 1 Rapid/Program Start Ballast (BF > 1.10) ","F","U","T8","RS/PRS","(BF > 1.10)",null,"Fluorescent","U Tube","T8",28,3,"Rapid/Program Start Ballast","VH",2,1,null,91]
["FLT5-25W x 3L x 4'-2 RS/PRS H","Fluorescent Linear T5 (25W x 3L x 4') 2 Rapid/Program Start Ballast (0.95 < BF < 1.10) ","F","L","T5","RS/PRS","(0.95 < BF < 1.10)",null,"Fluorescent","Linear","T5",25,3,"Rapid/Program Start Ballast","H",4,2,null,89]
["FCE-5W x 2L-MG","Fluorescent Compact Exit (5W x 2L) 1 Magnetic Ballast  ","F","C","E","MG",null,null,"Fluorescent","Compact","Exit",5,2,"Magnetic Ballast",null,null,1,null,15]
["FCP-9W x 2L-MG","Fluorescent Compact Pin-Base (9W x 2L) 1 Magnetic Ballast  ","F","C","P","MG",null,null,"Fluorescent","Compact","Pin-Base",9,2,"Magnetic Ballast",null,null,1,null,23]
["FCP-13W x 2L-MG","Fluorescent Compact Pin-Base (13W x 2L) 1 Magnetic Ballast  ","F","C","P","MG",null,null,"Fluorescent","Compact","Pin-Base",13,2,"Magnetic Ballast",null,null,1,null,31]
["FLT5-14W x 2L x 2'-RS/PRS H","Fluorescent Linear T5 (14W x 2L x 2') 1 Rapid/Program Start Ballast (0.95 < BF < 1.10) ","F","L","T5","RS/PRS","(0.95 < BF < 1.10)",null,"Fluorescent","Linear","T5",14,2,"Rapid/Program Start Ballast","H",2,1,null,33]
["FLT5-25W x 2L x 4'-RS/PRS N","Fluorescent Linear T5 (25W x 2L x 4') 1 Rapid/Program Start Ballast (0.85 < BF < 1.0) ","F","L","T5","RS/PRS","(0.85 < BF < 1.0)",null,"Fluorescent","Linear","T5",25,2,"Rapid/Program Start Ballast","N",4,1,null,55]
["FCP-32W x 2L-IS N","Fluorescent Compact Pin-Base (32W x 2L) 1 Instant start Ballast (0.85 < BF < 0.95) ","F","C","P","IS","(0.85 < BF < 0.95)",null,"Fluorescent","Compact","Pin-Base",32,2,"Instant start Ballast","N",null,1,null,69]
["FCP-40W x 2L-MG","Fluorescent Compact Pin-Base (40W x 2L) 1 Magnetic Ballast  ","F","C","P","MG",null,null,"Fluorescent","Compact","Pin-Base",40,2,"Magnetic Ballast",null,null,1,null,85]
["FLT8-32W x 6L x 4'-2 IS H","Fluorescent Linear T8 (32W x 6L x 4') 2 Instant start Ballast (0.95 < BF < 1.10) ","F","L","T8","IS","(0.95 < BF < 1.10)",null,"Fluorescent","Linear","T8",32,6,"Instant start Ballast","H",4,2,null,222]
["FLT5HOHB-49W x 8L x 4'-2 RS/PRS H","Fluorescent Linear T5 HO Highbay (49W x 8L x 4') 2 Rapid/Program Start Ballast (0.95 < BF < 1.10) ","F","L","T5HOHB","RS/PRS","(0.95 < BF < 1.10)",null,"Fluorescent","Linear","T5 HO Highbay",49,8,"Rapid/Program Start Ballast","H",4,2,null,432]
["FLT5HO-49W x 8L x 4'-2 RS/PRS H","Fluorescent Linear T5 HO (49W x 8L x 4') 2 Rapid/Program Start Ballast (0.95 < BF < 1.10) ","F","L","T5HO","RS/PRS","(0.95 < BF < 1.10)",null,"Fluorescent","Linear","T5 HO",49,8,"Rapid/Program Start Ballast","H",4,2,null,432]
["FLT8-17W x 3L x 2'-RS/PRS VH","Fluorescent Linear T8 (17W x 3L x 2') 1 Rapid/Program Start Ballast (BF > 1.10) ","F","L","T8","RS/PRS","(BF > 1.10)",null,"Fluorescent","Linear","T8",17,3,"Rapid/Program Start Ballast","VH",2,1,null,59]
["FLT8-28W x 6L x 4'-IS VH","Fluorescent Linear T8 (28W x 6L x 4') 1 Instant start Ballast (BF > 1.10) ","F","L","T8","IS","(BF > 1.10)",null,"Fluorescent","Linear","T8",28,6,"Instant start Ballast","VH",4,1,null,184]
["FLT8CEE-25W x 4L x 4'-CEE IS H","Fluorescent Linear T8 CEE  (25W x 4L x 4') 1 CEE Instant Start Ballast (BF > 1.0) ","F","L","T8CEE","CEE IS","(BF > 1.0)",null,"Fluorescent","Linear","T8 CEE ",25,4,"CEE Instant Start Ballast","H",4,1,null,111]
["FLT8CEEHB-25W x 4L x 4'-CEE IS H","Fluorescent Linear T8 CEE Highbay (25W x 4L x 4') 1 CEE Instant Start Ballast (BF > 1.0) ","F","L","T8CEEHB","CEE IS","(BF > 1.0)",null,"Fluorescent","Linear","T8 CEE Highbay",25,4,"CEE Instant Start Ballast","H",4,1,null,111]
["FLT8-25W x 4L x 4'-IS VH","Fluorescent Linear T8 (25W x 4L x 4') 1 Instant start Ballast (BF > 1.10) ","F","L","T8","IS","(BF > 1.10)",null,"Fluorescent","Linear","T8",25,4,"Instant start Ballast","VH",4,1,null,111]
["FLT8-25W x 4L x 4'-RS/PRS VH","Fluorescent Linear T8 (25W x 4L x 4') 1 Rapid/Program Start Ballast (BF > 1.10) ","F","L","T8","RS/PRS","(BF > 1.10)",null,"Fluorescent","Linear","T8",25,4,"Rapid/Program Start Ballast","VH",4,1,null,111]
["FLT8CEE-28W x 4L x 4'-CEE IS CEE H","Fluorescent Linear T8 CEE  (28W x 4L x 4') 1 CEE Instant Start Ballast (BF > 1.0) ","F","L","T8CEE","CEE IS","(BF > 1.0)",null,"Fluorescent","Linear","T8 CEE ",28,4,"CEE Instant Start Ballast","CEE H",4,1,null,123]
["FLT8CEEHB-28W x 4L x 4'-CEE IS CEE H","Fluorescent Linear T8 CEE Highbay (28W x 4L x 4') 1 CEE Instant Start Ballast (BF > 1.0) ","F","L","T8CEEHB","CEE IS","(BF > 1.0)",null,"Fluorescent","Linear","T8 CEE Highbay",28,4,"CEE Instant Start Ballast","CEE H",4,1,null,123]
["FLT8-28W x 4L x 4'-IS VH","Fluorescent Linear T8 (28W x 4L x 4') 1 Instant start Ballast (BF > 1.10) ","F","L","T8","IS","(BF > 1.10)",null,"Fluorescent","Linear","T8",28,4,"Instant start Ballast","VH",4,1,null,123]
[{"$f":"C771&D771&E771&IF(L771=\"\",\"\",\"-\"&L771&\"W\")&IF(OR(M771=1,M771=\"\"),\"\",\" x \"&M771&\"L\")&IF(P771=\"\",\"\",\" x \"&P771&\"'\")&IF(F771=\"\",\"\",\"-\"&IF(Q771=1,\"\",Q771&\" \")&F771&IF(O771=\"\",\"\",\" \"&O771)&IF(H771=\"\",\"\",\" \"&H771))","v":"FUT8-28W x 4L x 2'-RS/PRS VH"},{"$f":"I771& IF(J771=\"\",\"\",\" \"&J771)&IF(K771=\"\",\"\",\" \"&K771)&\" (\"&L771&\"W\"&IF(M771=\"\",\"\",\" x \"&M771 & \"L\")&IF(P771=\"\",\"\",\" x \"&P771&\"'\")&\")\"&IF(N771=\"\",\"\",\" \"&Q771&\" \"&N771&\" \"&G771)&\" \"&R771","v":"Fluorescent U Tube T8 (28W x 4L x 2') 1 Rapid/Program Start Ballast (BF > 1.10) "},"F","U","T8","RS/PRS","(BF > 1.10)",null,"Fluorescent","U Tube","T8",28,4,"Rapid/Program Start Ballast","VH",2,1,null,123]
["FLT8-32W x 6L x 4'-2 IS VH","Fluorescent Linear T8 (32W x 6L x 4') 2 Instant start Ballast (BF > 1.10) ","F","L","T8","IS","(BF > 1.10)",null,"Fluorescent","Linear","T8",32,6,"Instant start Ballast","VH",4,2,null,226]
["FLT5HOHB-54W x 3L x 4'-2 RS/PRS H","Fluorescent Linear T5 HO Highbay (54W x 3L x 4') 2 Rapid/Program Start Ballast (0.95 < BF < 1.10) ","F","L","T5HOHB","RS/PRS","(0.95 < BF < 1.10)",null,"Fluorescent","Linear","T5 HO Highbay",54,3,"Rapid/Program Start Ballast","H",4,2,null,179]
["FLT5HO-54W x 3L x 4'-2 RS/PRS H","Fluorescent Linear T5 HO (54W x 3L x 4') 2 Rapid/Program Start Ballast (0.95 < BF < 1.10) ","F","L","T5HO","RS/PRS","(0.95 < BF < 1.10)",null,"Fluorescent","Linear","T5 HO",54,3,"Rapid/Program Start Ballast","H",4,2,null,179]
["FLT5HO-24W x 2L x 2'-RS/PRS VH","Fluorescent Linear T5 HO (24W x 2L x 2') 1 Rapid/Program Start Ballast (BF > 1.10) ","F","L","T5HO","RS/PRS","(BF > 1.10)",null,"Fluorescent","Linear","T5 HO",24,2,"Rapid/Program Start Ballast","VH",2,1,null,54]
["FLT5HO-24W x 2'-RS/PRS H","Fluorescent Linear T5 HO (24W x 1L x 2') 1 Rapid/Program Start Ballast (0.95 < BF < 1.10) ","F","L","T5HO","RS/PRS","(0.95 < BF < 1.10)",null,"Fluorescent","Linear","T5 HO",24,1,"Rapid/Program Start Ballast","H",2,1,null,27]
["FLT5HO-49W x 6L x 4'-2 RS/PRS H","Fluorescent Linear T5 HO (49W x 6L x 4') 2 Rapid/Program Start Ballast (0.95 < BF < 1.10) ","F","L","T5HO","RS/PRS","(0.95 < BF < 1.10)",null,"Fluorescent","Linear","T5 HO",49,6,"Rapid/Program Start Ballast","H",4,2,null,330]
["FLE-6W x 2L-MG","Fluorescent Linear Exit (6W x 2L) 1 Magnetic Ballast  ","F","L","E","MG",null,null,"Fluorescent","Linear","Exit",6,2,"Magnetic Ballast",null,null,1,null,18]
["FLE-6W-MG","Fluorescent Linear Exit (6W x 1L) 1 Magnetic Ballast  ","F","L","E","MG",null,null,"Fluorescent","Linear","Exit",6,1,"Magnetic Ballast",null,null,1,null,9]
["FCE-6W-MG","Fluorescent Compact Exit (6W x 1L) 1 Magnetic Ballast  ","F","C","E","MG",null,null,"Fluorescent","Compact","Exit",6,1,"Magnetic Ballast",null,null,1,null,9]
["FCE-7W-MG","Fluorescent Compact Exit (7W x 1L) 1 Magnetic Ballast  ","F","C","E","MG",null,null,"Fluorescent","Compact","Exit",7,1,"Magnetic Ballast",null,null,1,null,10]
["FCE-9W-MG","Fluorescent Compact Exit (9W x 1L) 1 Magnetic Ballast  ","F","C","E","MG",null,null,"Fluorescent","Compact","Exit",9,1,"Magnetic Ballast",null,null,1,null,12]
["FCP-9W-MG","Fluorescent Compact Pin-Base (9W x 1L) 1 Magnetic Ballast  ","F","C","P","MG",null,null,"Fluorescent","Compact","Pin-Base",9,1,"Magnetic Ballast",null,null,1,null,12]
["FCP-13W-IS N","Fluorescent Compact Pin-Base (13W x 1L) 1 Instant start Ballast (0.85 < BF < 0.95) ","F","C","P","IS","(0.85 < BF < 0.95)",null,"Fluorescent","Compact","Pin-Base",13,1,"Instant start Ballast","N",null,1,null,16]
["FCP-13W x 3L-MG","Fluorescent Compact Pin-Base (13W x 3L) 1 Magnetic Ballast  ","F","C","P","MG",null,null,"Fluorescent","Compact","Pin-Base",13,3,"Magnetic Ballast",null,null,1,null,48]
["FLT12-15W x 2L x 1.5'-MG","Fluorescent Linear T12 (15W x 2L x 1.5') 1 Magnetic Ballast  ","F","L","T12","MG",null,null,"Fluorescent","Linear","T12",15,2,"Magnetic Ballast",null,1.5,1,null,36]
["FLT8-15W x 2L x 1.5'-MG","Fluorescent Linear T8 (15W x 2L x 1.5') 1 Magnetic Ballast  ","F","L","T8","MG",null,null,"Fluorescent","Linear","T8",15,2,"Magnetic Ballast",null,1.5,1,null,36]
["FLT8-15W x 2'-RS/PRS H","Fluorescent Linear T8 (15W x 1L x 2') 1 Rapid/Program Start Ballast (0.95 < BF < 1.10) ","F","L","T8","RS/PRS","(0.95 < BF < 1.10)",null,"Fluorescent","Linear","T8",15,1,"Rapid/Program Start Ballast","H",2,1,null,18]
["FLT8-17W x 2'-IS N","Fluorescent Linear T8 (17W x 1L x 2') 1 Instant start Ballast (0.85 < BF < 0.95) ","F","L","T8","IS","(0.85 < BF < 0.95)",null,"Fluorescent","Linear","T8",17,1,"Instant start Ballast","N",2,1,null,20]
["FCP-20W x 2L-MG","Fluorescent Compact Pin-Base (20W x 2L) 1 Magnetic Ballast  ","F","C","P","MG",null,null,"Fluorescent","Compact","Pin-Base",20,2,"Magnetic Ballast",null,null,1,null,46]
["FLT5-21W x 2L x 3'-RS/PRS H","Fluorescent Linear T5 (21W x 2L x 3') 1 Rapid/Program Start Ballast (0.95 < BF < 1.10) ","F","L","T5","RS/PRS","(0.95 < BF < 1.10)",null,"Fluorescent","Linear","T5",21,2,"Rapid/Program Start Ballast","H",3,1,null,48]
["FLT8CEE-25W x 2L x 4'-CEE IS H","Fluorescent Linear T8 CEE  (25W x 2L x 4') 1 CEE Instant Start Ballast (BF > 1.0) ","F","L","T8CEE","CEE IS","(BF > 1.0)",null,"Fluorescent","Linear","T8 CEE ",25,2,"CEE Instant Start Ballast","H",4,1,null,56]
["FLT8CEEHB-25W x 2L x 4'-CEE IS H","Fluorescent Linear T8 CEE Highbay (25W x 2L x 4') 1 CEE Instant Start Ballast (BF > 1.0) ","F","L","T8CEEHB","CEE IS","(BF > 1.0)",null,"Fluorescent","Linear","T8 CEE Highbay",25,2,"CEE Instant Start Ballast","H",4,1,null,56]
["FLT8CEEHB-25W x 2L x 4'-CEE IS H T2","Fluorescent Linear T8 CEE Highbay (25W x 2L x 4') 1 CEE Instant Start Ballast (BF > 1.0) ","F","L","T8CEEHB","CEE IS","(BF > 1.0)","T2","Fluorescent","Linear","T8 CEE Highbay",25,2,"CEE Instant Start Ballast","H",4,1,null,56]
["FLT8CEE-25W x 4L x 4'-CEE RS/PRS CEE H","Fluorescent Linear T8 CEE  (25W x 4L x 4') 1 CEE Rapid/Program Start Ballast (BF > 1.0) ","F","L","T8CEE","CEE RS/PRS","(BF > 1.0)",null,"Fluorescent","Linear","T8 CEE ",25,4,"CEE Rapid/Program Start Ballast","CEE H",4,1,null,112]
["FLT8-25W x 3'-IS H","Fluorescent Linear T8 (25W x 1L x 3') 1 Instant start Ballast (0.95 < BF < 1.10) ","F","L","T8","IS","(0.95 < BF < 1.10)",null,"Fluorescent","Linear","T8",25,1,"Instant start Ballast","H",3,1,null,28]
["FUT8-25W x 2'-RS/PRS H","Fluorescent U Tube T8 (25W x 1L x 2') 1 Rapid/Program Start Ballast (0.95 < BF < 1.10) ","F","U","T8","RS/PRS","(0.95 < BF < 1.10)",null,"Fluorescent","U Tube","T8",25,1,"Rapid/Program Start Ballast","H",2,1,null,28]
["FUT8-25W x 2'-IS H","Fluorescent U Tube T8 (25W x 1L x 2') 1 Instant start Ballast (0.95 < BF < 1.10) ","F","U","T8","IS","(0.95 < BF < 1.10)",null,"Fluorescent","U Tube","T8",25,1,"Instant start Ballast","H",2,1,null,28]
["FLT8CEEHB-28W x 2L x 4'-CEE IS H T2","Fluorescent Linear T8 CEE Highbay (28W x 2L x 4') 1 CEE Instant Start Ballast (BF > 1.0) ","F","L","T8CEEHB","CEE IS","(BF > 1.0)","T2","Fluorescent","Linear","T8 CEE Highbay",28,2,"CEE Instant Start Ballast","H",4,1,null,62]
["FCP-28W-IS N","Fluorescent Compact Pin-Base (28W x 1L) 1 Instant start Ballast (0.85 < BF < 0.95) ","F","C","P","IS","(0.85 < BF < 0.95)",null,"Fluorescent","Compact","Pin-Base",28,1,"Instant start Ballast","N",null,1,null,31]
["FLT8-28W x 4L x 4'-RS/PRS VH","Fluorescent Linear T8 (28W x 4L x 4') 1 Rapid/Program Start Ballast (BF > 1.10) ","F","L","T8","RS/PRS","(BF > 1.10)",null,"Fluorescent","Linear","T8",28,4,"Rapid/Program Start Ballast","VH",4,1,null,124]
["FLT8-28W x 6L x 4'-RS/PRS VH","Fluorescent Linear T8 (28W x 6L x 4') 1 Rapid/Program Start Ballast (BF > 1.10) ","F","L","T8","RS/PRS","(BF > 1.10)",null,"Fluorescent","Linear","T8",28,6,"Rapid/Program Start Ballast","VH",4,1,null,186]
["FUT8-28W x 2L x 2'-RS/PRS VH","Fluorescent U Tube T8 (28W x 2L x 2') 1 Rapid/Program Start Ballast (BF > 1.10) ","F","U","T8","RS/PRS","(BF > 1.10)",null,"Fluorescent","U Tube","T8",28,2,"Rapid/Program Start Ballast","VH",2,1,null,62]
["FLT12-30W x 6L x 3'-MG(E)","Fluorescent Linear T12 (30W x 6L x 3') 1 Efficient Magnetic Ballast  ","F","L","T12","MG(E)",null,null,"Fluorescent","Linear","T12",30,6,"Efficient Magnetic Ballast",null,3,1,null,198]
["FLT12-30W x 6L x 3'-MG","Fluorescent Linear T12 (30W x 6L x 3') 1 Magnetic Ballast  ","F","L","T12","MG",null,null,"Fluorescent","Linear","T12",30,6,"Magnetic Ballast",null,3,1,null,198]
["FLT8-32W x 4'-CEE PS/PRS DIM H","Fluorescent Linear T8 (32W x 1L x 4') 1 CEE Dimmable PS/PRS Ballast (0.95 < BF < 1.10) ","F","L","T8","CEE PS/PRS DIM","(0.95 < BF < 1.10)",null,"Fluorescent","Linear","T8",32,1,"CEE Dimmable PS/PRS Ballast","H",4,1,null,35]
["FCP-32W-IS N","Fluorescent Compact Pin-Base (32W x 1L) 1 Instant start Ballast (0.85 < BF < 0.95) ","F","C","P","IS","(0.85 < BF < 0.95)",null,"Fluorescent","Compact","Pin-Base",32,1,"Instant start Ballast","N",null,1,null,35]
["FUT8-32W x 2'-IS H","Fluorescent U Tube T8 (32W x 1L x 2') 1 Instant start Ballast (0.95 < BF < 1.10) ","F","U","T8","IS","(0.95 < BF < 1.10)",null,"Fluorescent","U Tube","T8",32,1,"Instant start Ballast","H",2,1,null,35]
["FLT8-32W x 4'-MG","Fluorescent Linear T8 (32W x 1L x 4') 1 Magnetic Ballast  ","F","L","T8","MG",null,null,"Fluorescent","Linear","T8",32,1,"Magnetic Ballast",null,4,1,null,35]
["FLT8-32W x 2L x 4'-RS/PRS H","Fluorescent Linear T8 (32W x 2L x 4') 1 Rapid/Program Start Ballast (0.95 < BF < 1.10) ","F","L","T8","RS/PRS","(0.95 < BF < 1.10)",null,"Fluorescent","Linear","T8",32,2,"Rapid/Program Start Ballast","H",4,1,null,70]
["FLT12-40W x 2L x 4'-MG(E)","Fluorescent Linear T12 (40W x 2L x 4') 1 Efficient Magnetic Ballast  ","F","L","T12","MG(E)",null,null,"Fluorescent","Linear","T12",40,2,"Efficient Magnetic Ballast",null,4,1,null,86]
["FLT12-40W x 8L x 4'-MG(E)","Fluorescent Linear T12 (40W x 8L x 4') 1 Efficient Magnetic Ballast  ","F","L","T12","MG(E)",null,null,"Fluorescent","Linear","T12",40,8,"Efficient Magnetic Ballast",null,4,1,null,344]
["FCP-40W-IS N","Fluorescent Compact Pin-Base (40W x 1L) 1 Instant start Ballast (0.85 < BF < 0.95) ","F","C","P","IS","(0.85 < BF < 0.95)",null,"Fluorescent","Compact","Pin-Base",40,1,"Instant start Ballast","N",null,1,null,43]
["FLT8-40W x 5'-IS H","Fluorescent Linear T8 (40W x 1L x 5') 1 Instant start Ballast (0.95 < BF < 1.10) ","F","L","T8","IS","(0.95 < BF < 1.10)",null,"Fluorescent","Linear","T8",40,1,"Instant start Ballast","H",5,1,null,43]
["FLT8-40W x 5'-IS R","Fluorescent Linear T8 (40W x 1L x 5') 1 Instant start Ballast (0.75 < BF < 0.85) ","F","L","T8","IS","(0.75 < BF < 0.85)",null,"Fluorescent","Linear","T8",40,1,"Instant start Ballast","R",5,1,null,43]
["FLT12-40W x 2L x 4'-MG","Fluorescent Linear T12 (40W x 2L x 4') 1 Magnetic Ballast  ","F","L","T12","MG",null,null,"Fluorescent","Linear","T12",40,2,"Magnetic Ballast",null,4,1,null,86]
["FLT12-40W x 8L x 4'-MG","Fluorescent Linear T12 (40W x 8L x 4') 1 Magnetic Ballast  ","F","L","T12","MG",null,null,"Fluorescent","Linear","T12",40,8,"Magnetic Ballast",null,4,1,null,344]
["FLT10-40W x 2L x 4'-MG","Fluorescent Linear T10 (40W x 2L x 4') 1 Magnetic Ballast  ","F","L","T10","MG",null,null,"Fluorescent","Linear","T10",40,2,"Magnetic Ballast",null,4,1,null,86]
["FCP-42W-IS N","Fluorescent Compact Pin-Base (42W x 1L) 1 Instant start Ballast (0.85 < BF < 0.95) ","F","C","P","IS","(0.85 < BF < 0.95)",null,"Fluorescent","Compact","Pin-Base",42,1,"Instant start Ballast","N",null,1,null,45]
["FCEPWP-42W-IS N","Fluorescent Compact Exterior Pin-Base Wall Pack  (42W x 1L) 1 Instant start Ballast (0.85 < BF < 0.95) ","F","CE","PWP","IS","(0.85 < BF < 0.95)",null,"Fluorescent","Compact Exterior","Pin-Base Wall Pack ",42,1,"Instant start Ballast","N",null,1,null,45]
["FLT5HOHB-51W x 4L x 4'-RS/PRS H","Fluorescent Linear T5 HO Highbay (51W x 4L x 4') 1 Rapid/Program Start Ballast (0.95 < BF < 1.10) ","F","L","T5HOHB","RS/PRS","(0.95 < BF < 1.10)",null,"Fluorescent","Linear","T5 HO Highbay",51,4,"Rapid/Program Start Ballast","H",4,1,null,216]
["FLT8-30W x 4L x 4'-2 IS H","Fluorescent Linear T8 (30W x 4L x 4') 2 Instant start Ballast (0.95 < BF < 1.10) ","F","L","T8","IS","(0.95 < BF < 1.10)",null,"Fluorescent","Linear","T8",30,4,"Instant start Ballast","H",4,2,null,144]
["FLT5HOHB-49W x 6L x 4'-2 RS/PRS H","Fluorescent Linear T5 HO Highbay (49W x 6L x 4') 2 Rapid/Program Start Ballast (0.95 < BF < 1.10) ","F","L","T5HOHB","RS/PRS","(0.95 < BF < 1.10)",null,"Fluorescent","Linear","T5 HO Highbay",49,6,"Rapid/Program Start Ballast","H",4,2,null,330]
["FLT5HO-39W x 3'-RS/PRS VH","Fluorescent Linear T5 HO (39W x 1L x 3') 1 Rapid/Program Start Ballast (BF > 1.10) ","F","L","T5HO","RS/PRS","(BF > 1.10)",null,"Fluorescent","Linear","T5 HO",39,1,"Rapid/Program Start Ballast","VH",3,1,null,42]
["FLT5HO-51W x 4L x 4'-RS/PRS H","Fluorescent Linear T5 HO (51W x 4L x 4') 1 Rapid/Program Start Ballast (0.95 < BF < 1.10) ","F","L","T5HO","RS/PRS","(0.95 < BF < 1.10)",null,"Fluorescent","Linear","T5 HO",51,4,"Rapid/Program Start Ballast","H",4,1,null,216]
["FLT8-17W x 4L x 2'-RS/PRS VH","Fluorescent Linear T8 (17W x 4L x 2') 1 Rapid/Program Start Ballast (BF > 1.10) ","F","L","T8","RS/PRS","(BF > 1.10)",null,"Fluorescent","Linear","T8",17,4,"Rapid/Program Start Ballast","VH",2,1,null,81]
["FLT8CEE-28W x 4L x 4'-CEE RS/PRS CEE H","Fluorescent Linear T8 CEE  (28W x 4L x 4') 1 CEE Rapid/Program Start Ballast (BF > 1.0) ","F","L","T8CEE","CEE RS/PRS","(BF > 1.0)",null,"Fluorescent","Linear","T8 CEE ",28,4,"CEE Rapid/Program Start Ballast","CEE H",4,1,null,125]
["FUT8-28W x 4L x 2'-IS VH","Fluorescent U Tube T8 (28W x 4L x 2') 1 Instant start Ballast (BF > 1.10) ","F","U","T8","IS","(BF > 1.10)",null,"Fluorescent","U Tube","T8",28,4,"Instant start Ballast","VH",2,1,null,125]
["FLT5HOHB-54W x 4L x 4'-RS/PRS H","Fluorescent Linear T5 HO Highbay (54W x 4L x 4') 1 Rapid/Program Start Ballast (0.95 < BF < 1.10) ","F","L","T5HOHB","RS/PRS","(0.95 < BF < 1.10)",null,"Fluorescent","Linear","T5 HO Highbay",54,4,"Rapid/Program Start Ballast","H",4,1,null,229]
["FLT8-32W x 4L x 4'-2 IS H","Fluorescent Linear T8 (32W x 4L x 4') 2 Instant start Ballast (0.95 < BF < 1.10) ","F","L","T8","IS","(0.95 < BF < 1.10)",null,"Fluorescent","Linear","T8",32,4,"Instant start Ballast","H",4,2,null,154]
["FLT8-32W x 8L x 4'-2 IS H","Fluorescent Linear T8 (32W x 8L x 4') 2 Instant start Ballast (0.95 < BF < 1.10) ","F","L","T8","IS","(0.95 < BF < 1.10)",null,"Fluorescent","Linear","T8",32,8,"Instant start Ballast","H",4,2,null,308]
["FLT5HO-54W x 4L x 4'-RS/PRS H","Fluorescent Linear T5 HO (54W x 4L x 4') 1 Rapid/Program Start Ballast (0.95 < BF < 1.10) ","F","L","T5HO","RS/PRS","(0.95 < BF < 1.10)",null,"Fluorescent","Linear","T5 HO",54,4,"Rapid/Program Start Ballast","H",4,1,null,229]
["FUT8-25W x 3L x 2'-RS/PRS VH","Fluorescent U Tube T8 (25W x 3L x 2') 1 Rapid/Program Start Ballast (BF > 1.10) ","F","U","T8","RS/PRS","(BF > 1.10)",null,"Fluorescent","U Tube","T8",25,3,"Rapid/Program Start Ballast","VH",2,1,null,85]
["FLT8CEE-25W x 3L x 4'-CEE RS/PRS CEE H","Fluorescent Linear T8 CEE  (25W x 3L x 4') 1 CEE Rapid/Program Start Ballast (BF > 1.0) ","F","L","T8CEE","CEE RS/PRS","(BF > 1.0)",null,"Fluorescent","Linear","T8 CEE ",25,3,"CEE Rapid/Program Start Ballast","CEE H",4,1,null,85]
[{"$f":"C835&D835&E835&IF(L835=\"\",\"\",\"-\"&L835&\"W\")&IF(OR(M835=1,M835=\"\"),\"\",\" x \"&M835&\"L\")&IF(P835=\"\",\"\",\" x \"&P835&\"'\")&IF(F835=\"\",\"\",\"-\"&IF(Q835=1,\"\",Q835&\" \")&F835&IF(O835=\"\",\"\",\" \"&O835)&IF(H835=\"\",\"\",\" \"&H835))","v":"FLT8-25W x 3L x 4'-RS/PRS VH"},{"$f":"I835& IF(J835=\"\",\"\",\" \"&J835)&IF(K835=\"\",\"\",\" \"&K835)&\" (\"&L835&\"W\"&IF(M835=\"\",\"\",\" x \"&M835 & \"L\")&IF(P835=\"\",\"\",\" x \"&P835&\"'\")&\")\"&IF(N835=\"\",\"\",\" \"&Q835&\" \"&N835&\" \"&G835)&\" \"&R835","v":"Fluorescent Linear T8 (25W x 3L x 4') 1 Rapid/Program Start Ballast (BF > 1.10) "},"F","L","T8","RS/PRS","(BF > 1.10)",null,"Fluorescent","Linear","T8",25,3,"Rapid/Program Start Ballast","VH",4,1,null,85]
["FLT8-25W x 6L x 4'-RS/PRS VH","Fluorescent Linear T8 (25W x 6L x 4') 1 Rapid/Program Start Ballast (BF > 1.10) ","F","L","T8","RS/PRS","(BF > 1.10)",null,"Fluorescent","Linear","T8",25,6,"Rapid/Program Start Ballast","VH",4,1,null,170]
["FUT8-28W x 3L x 2'-IS VH","Fluorescent U Tube T8 (28W x 3L x 2') 1 Instant start Ballast (BF > 1.10) ","F","U","T8","IS","(BF > 1.10)",null,"Fluorescent","U Tube","T8",28,3,"Instant start Ballast","VH",2,1,null,94]
["FLT8-30W x 6L x 4'-IS VH","Fluorescent Linear T8 (30W x 6L x 4') 1 Instant start Ballast (BF > 1.10) ","F","L","T8","IS","(BF > 1.10)",null,"Fluorescent","Linear","T8",30,6,"Instant start Ballast","VH",4,1,null,200]
["FUT12-35W x 3L-MG(E)","Fluorescent U Tube T12 (35W x 3L) 1 Efficient Magnetic Ballast  ","F","U","T12","MG(E)",null,null,"Fluorescent","U Tube","T12",35,3,"Efficient Magnetic Ballast",null,null,1,null,115]
["FLT5HO-39W x 3L x 3'-RS/PRS VH","Fluorescent Linear T5 HO (39W x 3L x 3') 1 Rapid/Program Start Ballast (BF > 1.10) ","F","L","T5HO","RS/PRS","(BF > 1.10)",null,"Fluorescent","Linear","T5 HO",39,3,"Rapid/Program Start Ballast","VH",3,1,null,127]
["FLT5HO-51W x 6L x 4'-2 RS/PRS H","Fluorescent Linear T5 HO (51W x 6L x 4') 2 Rapid/Program Start Ballast (0.95 < BF < 1.10) ","F","L","T5HO","RS/PRS","(0.95 < BF < 1.10)",null,"Fluorescent","Linear","T5 HO",51,6,"Rapid/Program Start Ballast","H",4,2,null,348]
["FCE-7W x 2L-MG","Fluorescent Compact Exit (7W x 2L) 1 Magnetic Ballast  ","F","C","E","MG",null,null,"Fluorescent","Compact","Exit",7,2,"Magnetic Ballast",null,null,1,null,21]
["FCP-7W x 2L-MG","Fluorescent Compact Pin-Base (7W x 2L) 1 Magnetic Ballast  ","F","C","P","MG",null,null,"Fluorescent","Compact","Pin-Base",7,2,"Magnetic Ballast",null,null,1,null,21]
["FLT8-17W x 2L x 2'-RS/PRS VH","Fluorescent Linear T8 (17W x 2L x 2') 1 Rapid/Program Start Ballast (BF > 1.10) ","F","L","T8","RS/PRS","(BF > 1.10)",null,"Fluorescent","Linear","T8",17,2,"Rapid/Program Start Ballast","VH",2,1,null,41]
["FUT8-25W x 2L x 2'-IS(E) VH","Fluorescent U Tube T8 (25W x 2L x 2') 1 Efficient Instant Start Ballast (BF > 1.10) ","F","U","T8","IS(E)","(BF > 1.10)",null,"Fluorescent","U Tube","T8",25,2,"Efficient Instant Start Ballast","VH",2,1,null,57]
["FUT8-25W x 4L x 2'-IS(E) VH","Fluorescent U Tube T8 (25W x 4L x 2') 1 Efficient Instant Start Ballast (BF > 1.10) ","F","U","T8","IS(E)","(BF > 1.10)",null,"Fluorescent","U Tube","T8",25,4,"Efficient Instant Start Ballast","VH",2,1,null,114]
["FLT8-28W x 2L x 4'-RS/PRS H","Fluorescent Linear T8 (28W x 2L x 4') 1 Rapid/Program Start Ballast (0.95 < BF < 1.10) ","F","L","T8","RS/PRS","(0.95 < BF < 1.10)",null,"Fluorescent","Linear","T8",28,2,"Rapid/Program Start Ballast","H",4,1,null,63]
["FLT8-30W x 4L x 4'-RS/PRS VH","Fluorescent Linear T8 (30W x 4L x 4') 1 Rapid/Program Start Ballast (BF > 1.10) ","F","L","T8","RS/PRS","(BF > 1.10)",null,"Fluorescent","Linear","T8",30,4,"Rapid/Program Start Ballast","VH",4,1,null,134]
["FLT8CEE-32W x 4L x 4'-CEE IS CEE H","Fluorescent Linear T8 CEE  (32W x 4L x 4') 1 CEE Instant Start Ballast (BF > 1.0) ","F","L","T8CEE","CEE IS","(BF > 1.0)",null,"Fluorescent","Linear","T8 CEE ",32,4,"CEE Instant Start Ballast","CEE H",4,1,null,142]
["FLT8CEEHB-32W x 2L x 4'-CEE IS CEE H T2","Fluorescent Linear T8 CEE Highbay (32W x 2L x 4') 1 CEE Instant Start Ballast (BF > 1.0) ","F","L","T8CEEHB","CEE IS","(BF > 1.0)","T2","Fluorescent","Linear","T8 CEE Highbay",32,2,"CEE Instant Start Ballast","CEE H",4,1,null,71]
["FLT8CEEHB-32W x 4L x 4'-CEE IS CEE H","Fluorescent Linear T8 CEE Highbay (32W x 4L x 4') 1 CEE Instant Start Ballast (BF > 1.0) ","F","L","T8CEEHB","CEE IS","(BF > 1.0)",null,"Fluorescent","Linear","T8 CEE Highbay",32,4,"CEE Instant Start Ballast","CEE H",4,1,null,142]
["FLT8CEEHB-32W x 6L x 4'-CEE IS CEE H","Fluorescent Linear T8 CEE Highbay (32W x 6L x 4') 1 CEE Instant Start Ballast (BF > 1.0) ","F","L","T8CEEHB","CEE IS","(BF > 1.0)",null,"Fluorescent","Linear","T8 CEE Highbay",32,6,"CEE Instant Start Ballast","CEE H",4,1,null,213]
["FLT8-32W x 4L x 4'-IS(E) VH","Fluorescent Linear T8 (32W x 4L x 4') 1 Efficient Instant Start Ballast (BF > 1.10) ","F","L","T8","IS(E)","(BF > 1.10)",null,"Fluorescent","Linear","T8",32,4,"Efficient Instant Start Ballast","VH",4,1,null,142]
["FLT8-32W x 2L x 4'-MG","Fluorescent Linear T8 (32W x 2L x 4') 1 Magnetic Ballast  ","F","L","T8","MG",null,null,"Fluorescent","Linear","T8",32,2,"Magnetic Ballast",null,4,1,null,71]
["FLT8-32W x 4L x 4'-MG","Fluorescent Linear T8 (32W x 4L x 4') 1 Magnetic Ballast  ","F","L","T8","MG",null,null,"Fluorescent","Linear","T8",32,4,"Magnetic Ballast",null,4,1,null,142]
["FLT12HO-110W x 2L x 8'-MG(E)","Fluorescent Linear T12 HO (110W x 2L x 8') 1 Efficient Magnetic Ballast  ","F","L","T12HO","MG(E)",null,null,"Fluorescent","Linear","T12 HO",110,2,"Efficient Magnetic Ballast",null,8,1,null,227]
["FLT12HO-110W x 2L x 8'-MG","Fluorescent Linear T12 HO (110W x 2L x 8') 1 Magnetic Ballast  ","F","L","T12HO","MG",null,null,"Fluorescent","Linear","T12 HO",110,2,"Magnetic Ballast",null,8,1,null,227]
["FLT8-30W x 3L x 4'-2 IS H","Fluorescent Linear T8 (30W x 3L x 4') 2 Instant start Ballast (0.95 < BF < 1.10) ","F","L","T8","IS","(0.95 < BF < 1.10)",null,"Fluorescent","Linear","T8",30,3,"Instant start Ballast","H",4,2,null,111]
["FLT5HOHB-51W x 6L x 4'-2 RS/PRS H","Fluorescent Linear T5 HO Highbay (51W x 6L x 4') 2 Rapid/Program Start Ballast (0.95 < BF < 1.10) ","F","L","T5HOHB","RS/PRS","(0.95 < BF < 1.10)",null,"Fluorescent","Linear","T5 HO Highbay",51,6,"Rapid/Program Start Ballast","H",4,2,null,348]
["FLT5HO-39W x 2L x 3'-RS/PRS VH","Fluorescent Linear T5 HO (39W x 2L x 3') 1 Rapid/Program Start Ballast (BF > 1.10) ","F","L","T5HO","RS/PRS","(BF > 1.10)",null,"Fluorescent","Linear","T5 HO",39,2,"Rapid/Program Start Ballast","VH",3,1,null,85]
["FLT5HO-39W x 4L x 3'-RS/PRS VH","Fluorescent Linear T5 HO (39W x 4L x 3') 1 Rapid/Program Start Ballast (BF > 1.10) ","F","L","T5HO","RS/PRS","(BF > 1.10)",null,"Fluorescent","Linear","T5 HO",39,4,"Rapid/Program Start Ballast","VH",3,1,null,170]
["FLT8CEE-25W x 3L x 4'-CEE IS H","Fluorescent Linear T8 CEE  (25W x 3L x 4') 1 CEE Instant Start Ballast (BF > 1.0) ","F","L","T8CEE","CEE IS","(BF > 1.0)",null,"Fluorescent","Linear","T8 CEE ",25,3,"CEE Instant Start Ballast","H",4,1,null,86]
["FLT8CEEHB-25W x 3L x 4'-CEE IS H","Fluorescent Linear T8 CEE Highbay (25W x 3L x 4') 1 CEE Instant Start Ballast (BF > 1.0) ","F","L","T8CEEHB","CEE IS","(BF > 1.0)",null,"Fluorescent","Linear","T8 CEE Highbay",25,3,"CEE Instant Start Ballast","H",4,1,null,86]
["FLT8-25W x 3L x 4'-IS VH","Fluorescent Linear T8 (25W x 3L x 4') 1 Instant start Ballast (BF > 1.10) ","F","L","T8","IS","(BF > 1.10)",null,"Fluorescent","Linear","T8",25,3,"Instant start Ballast","VH",4,1,null,86]
["FLT8-28W x 3L x 4'-IS VH","Fluorescent Linear T8 (28W x 3L x 4') 1 Instant start Ballast (BF > 1.10) ","F","L","T8","IS","(BF > 1.10)",null,"Fluorescent","Linear","T8",28,3,"Instant start Ballast","VH",4,1,null,95]
["FLT12-55W x 3L x 6'-IS N","Fluorescent Linear T12 (55W x 3L x 6') 1 Instant start Ballast (0.85 < BF < 0.95) ","F","L","T12","IS","(0.85 < BF < 0.95)",null,"Fluorescent","Linear","T12",55,3,"Instant start Ballast","N",6,1,null,176]
["FLT8-32W x 3L x 4'-2 IS H","Fluorescent Linear T8 (32W x 3L x 4') 2 Instant start Ballast (0.95 < BF < 1.10) ","F","L","T8","IS","(0.95 < BF < 1.10)",null,"Fluorescent","Linear","T8",32,3,"Instant start Ballast","H",4,2,null,118]
["FUT8-25W x 4L x 2'-RS/PRS VH","Fluorescent U Tube T8 (25W x 4L x 2') 1 Rapid/Program Start Ballast (BF > 1.10) ","F","U","T8","RS/PRS","(BF > 1.10)",null,"Fluorescent","U Tube","T8",25,4,"Rapid/Program Start Ballast","VH",2,1,null,115]
["FLT8CEE-32W x 4L x 4'-CEE RS/PRS CEE H","Fluorescent Linear T8 CEE  (32W x 4L x 4') 1 CEE Rapid/Program Start Ballast (BF > 1.0) ","F","L","T8CEE","CEE RS/PRS","(BF > 1.0)",null,"Fluorescent","Linear","T8 CEE ",32,4,"CEE Rapid/Program Start Ballast","CEE H",4,1,null,143]
["FLT8CEEHB-32W x 4L x 4'-CEE RS/PRS CEE H","Fluorescent Linear T8 CEE Highbay (32W x 4L x 4') 1 CEE Rapid/Program Start Ballast (BF > 1.0) ","F","L","T8CEEHB","CEE RS/PRS","(BF > 1.0)",null,"Fluorescent","Linear","T8 CEE Highbay",32,4,"CEE Rapid/Program Start Ballast","CEE H",4,1,null,143]
["FLT8-32W x 4L x 4'-RS/PRS VH","Fluorescent Linear T8 (32W x 4L x 4') 1 Rapid/Program Start Ballast (BF > 1.10) ","F","L","T8","RS/PRS","(BF > 1.10)",null,"Fluorescent","Linear","T8",32,4,"Rapid/Program Start Ballast","VH",4,1,null,143]
["FLT8-25W x 4L x 4'-2 IS H","Fluorescent Linear T8 (25W x 4L x 4') 2 Instant start Ballast (0.95 < BF < 1.10) ","F","L","T8","IS","(0.95 < BF < 1.10)",null,"Fluorescent","Linear","T8",25,4,"Instant start Ballast","H",4,2,null,130]
["FLT8-32W x 4L x 4'-2 IS VH","Fluorescent Linear T8 (32W x 4L x 4') 2 Instant start Ballast (BF > 1.10) ","F","L","T8","IS","(BF > 1.10)",null,"Fluorescent","Linear","T8",32,4,"Instant start Ballast","VH",4,2,null,158]
["FLT8CEE-32W x 6L x 4'-CEE IS CEE H","Fluorescent Linear T8 CEE  (32W x 6L x 4') 1 CEE Instant Start Ballast (BF > 1.0) ","F","L","T8CEE","CEE IS","(BF > 1.0)",null,"Fluorescent","Linear","T8 CEE ",32,6,"CEE Instant Start Ballast","CEE H",4,1,null,215]
["FLT8CEE-32W x 6L x 4'-CEE ISDIM CEE H","Fluorescent Linear T8 CEE  (32W x 6L x 4') 1 CEE Dimmable Instant Start Ballast (BF > 1.0) ","F","L","T8CEE","CEE ISDIM","(BF > 1.0)",null,"Fluorescent","Linear","T8 CEE ",32,6,"CEE Dimmable Instant Start Ballast","CEE H",4,1,null,215]
["FLT8CEEHB-32W x 6L x 4'-CEE ISDIM CEE H","Fluorescent Linear T8 CEE Highbay (32W x 6L x 4') 1 CEE Dimmable Instant Start Ballast (BF > 1.0) ","F","L","T8CEEHB","CEE ISDIM","(BF > 1.0)",null,"Fluorescent","Linear","T8 CEE Highbay",32,6,"CEE Dimmable Instant Start Ballast","CEE H",4,1,null,215]
["FLT8-32W x 6L x 4'-IS VH","Fluorescent Linear T8 (32W x 6L x 4') 1 Instant start Ballast (BF > 1.10) ","F","L","T8","IS","(BF > 1.10)",null,"Fluorescent","Linear","T8",32,6,"Instant start Ballast","VH",4,1,null,215]
["FLT5HO-39W x 2L x 3'-RS/PRS H","Fluorescent Linear T5 HO (39W x 2L x 3') 1 Rapid/Program Start Ballast (0.95 < BF < 1.10) ","F","L","T5HO","RS/PRS","(0.95 < BF < 1.10)",null,"Fluorescent","Linear","T5 HO",39,2,"Rapid/Program Start Ballast","H",3,1,null,86]
["FCE-5W-MG","Fluorescent Compact Exit (5W x 1L) 1 Magnetic Ballast  ","F","C","E","MG",null,null,"Fluorescent","Compact","Exit",5,1,"Magnetic Ballast",null,null,1,null,9]
["FCP-5W x 2L-MG","Fluorescent Compact Pin-Base (5W x 2L) 1 Magnetic Ballast  ","F","C","P","MG",null,null,"Fluorescent","Compact","Pin-Base",5,2,"Magnetic Ballast",null,null,1,null,18]
["FCP-5W-MG","Fluorescent Compact Pin-Base (5W x 1L) 1 Magnetic Ballast  ","F","C","P","MG",null,null,"Fluorescent","Compact","Pin-Base",5,1,"Magnetic Ballast",null,null,1,null,9]
["FCP-7W-MG","Fluorescent Compact Pin-Base (7W x 1L) 1 Magnetic Ballast  ","F","C","P","MG",null,null,"Fluorescent","Compact","Pin-Base",7,1,"Magnetic Ballast",null,null,1,null,11]
["FLE-8W x 2L-MG","Fluorescent Linear Exit (8W x 2L) 1 Magnetic Ballast  ","F","L","E","MG",null,null,"Fluorescent","Linear","Exit",8,2,"Magnetic Ballast",null,null,1,null,24]
["FLE-8W-MG","Fluorescent Linear Exit (8W x 1L) 1 Magnetic Ballast  ","F","L","E","MG",null,null,"Fluorescent","Linear","Exit",8,1,"Magnetic Ballast",null,null,1,null,12]
["FCP-12W-MG","Fluorescent Compact Pin-Base (12W x 1L) 1 Magnetic Ballast  ","F","C","P","MG",null,null,"Fluorescent","Compact","Pin-Base",12,1,"Magnetic Ballast",null,null,1,null,16]
["FCP-13W-MG","Fluorescent Compact Pin-Base (13W x 1L) 1 Magnetic Ballast  ","F","C","P","MG",null,null,"Fluorescent","Compact","Pin-Base",13,1,"Magnetic Ballast",null,null,1,null,17]
["FCP-14W-MG","Fluorescent Compact Pin-Base (14W x 1L) 1 Magnetic Ballast  ","F","C","P","MG",null,null,"Fluorescent","Compact","Pin-Base",14,1,"Magnetic Ballast",null,null,1,null,18]
["FLT5-14W x 2'-RS/PRS H","Fluorescent Linear T5 (14W x 1L x 2') 1 Rapid/Program Start Ballast (0.95 < BF < 1.10) ","F","L","T5","RS/PRS","(0.95 < BF < 1.10)",null,"Fluorescent","Linear","T5",14,1,"Rapid/Program Start Ballast","H",2,1,null,18]
["FCP-15W-MG","Fluorescent Compact Pin-Base (15W x 1L) 1 Magnetic Ballast  ","F","C","P","MG",null,null,"Fluorescent","Compact","Pin-Base",15,1,"Magnetic Ballast",null,null,1,null,19]
["FLT12-15W x 1.5'-MG","Fluorescent Linear T12 (15W x 1L x 1.5') 1 Magnetic Ballast  ","F","L","T12","MG",null,null,"Fluorescent","Linear","T12",15,1,"Magnetic Ballast",null,1.5,1,null,19]
["FLT8-15W x 1.5'-MG","Fluorescent Linear T8 (15W x 1L x 1.5') 1 Magnetic Ballast  ","F","L","T8","MG",null,null,"Fluorescent","Linear","T8",15,1,"Magnetic Ballast",null,1.5,1,null,19]
["FCP-17W-MG","Fluorescent Compact Pin-Base (17W x 1L) 1 Magnetic Ballast  ","F","C","P","MG",null,null,"Fluorescent","Compact","Pin-Base",17,1,"Magnetic Ballast",null,null,1,null,21]
["FLT5-21W x 3'-RS/PRS H","Fluorescent Linear T5 (21W x 1L x 3') 1 Rapid/Program Start Ballast (0.95 < BF < 1.10) ","F","L","T5","RS/PRS","(0.95 < BF < 1.10)",null,"Fluorescent","Linear","T5",21,1,"Rapid/Program Start Ballast","H",3,1,null,25]
["FCIT9-22W x 2L-MG","Fluorescent Circline T9 (22W x 2L) 1 Magnetic Ballast  ","F","CI","T9","MG",null,null,"Fluorescent","Circline","T9",22,2,"Magnetic Ballast",null,null,1,null,52]
["FCIT9-22W-MG","Fluorescent Circline T9 (22W x 1L) 1 Magnetic Ballast  ","F","CI","T9","MG",null,null,"Fluorescent","Circline","T9",22,1,"Magnetic Ballast",null,null,1,null,26]
["FCP-22W-MG","Fluorescent Compact Pin-Base (22W x 1L) 1 Magnetic Ballast  ","F","C","P","MG",null,null,"Fluorescent","Compact","Pin-Base",22,1,"Magnetic Ballast",null,null,1,null,26]
["FCP-23W-MG","Fluorescent Compact Pin-Base (23W x 1L) 1 Magnetic Ballast  ","F","C","P","MG",null,null,"Fluorescent","Compact","Pin-Base",23,1,"Magnetic Ballast",null,null,1,null,27]
["FCP-25W-MG","Fluorescent Compact Pin-Base (25W x 1L) 1 Magnetic Ballast  ","F","C","P","MG",null,null,"Fluorescent","Compact","Pin-Base",25,1,"Magnetic Ballast",null,null,1,null,29]
[{"$f":"C899&D899&E899&IF(L899=\"\",\"\",\"-\"&L899&\"W\")&IF(OR(M899=1,M899=\"\"),\"\",\" x \"&M899&\"L\")&IF(P899=\"\",\"\",\" x \"&P899&\"'\")&IF(F899=\"\",\"\",\"-\"&IF(Q899=1,\"\",Q899&\" \")&F899&IF(O899=\"\",\"\",\" \"&O899)&IF(H899=\"\",\"\",\" \"&H899))","v":"FLT8-25W x 2L x 4'-RS/PRS VH"},{"$f":"I899& IF(J899=\"\",\"\",\" \"&J899)&IF(K899=\"\",\"\",\" \"&K899)&\" (\"&L899&\"W\"&IF(M899=\"\",\"\",\" x \"&M899 & \"L\")&IF(P899=\"\",\"\",\" x \"&P899&\"'\")&\")\"&IF(N899=\"\",\"\",\" \"&Q899&\" \"&N899&\" \"&G899)&\" \"&R899","v":"Fluorescent Linear T8 (25W x 2L x 4') 1 Rapid/Program Start Ballast (BF > 1.10) "},"F","L","T8","RS/PRS","(BF > 1.10)",null,"Fluorescent","Linear","T8",25,2,"Rapid/Program Start Ballast","VH",4,1,null,58]
["FCP-26W-MG","Fluorescent Compact Pin-Base (26W x 1L) 1 Magnetic Ballast  ","F","C","P","MG",null,null,"Fluorescent","Compact","Pin-Base",26,1,"Magnetic Ballast",null,null,1,null,30]
["FCP-27W-MG","Fluorescent Compact Pin-Base (27W x 1L) 1 Magnetic Ballast  ","F","C","P","MG",null,null,"Fluorescent","Compact","Pin-Base",27,1,"Magnetic Ballast",null,null,1,null,31]
["FLT8CEE-28W x 3L x 4'-CEE IS CEE H","Fluorescent Linear T8 CEE  (28W x 3L x 4') 1 CEE Instant Start Ballast (BF > 1.0) ","F","L","T8CEE","CEE IS","(BF > 1.0)",null,"Fluorescent","Linear","T8 CEE ",28,3,"CEE Instant Start Ballast","CEE H",4,1,null,96]
["FLT8CEEHB-28W x 3L x 4'-CEE IS CEE H","Fluorescent Linear T8 CEE Highbay (28W x 3L x 4') 1 CEE Instant Start Ballast (BF > 1.0) ","F","L","T8CEEHB","CEE IS","(BF > 1.0)",null,"Fluorescent","Linear","T8 CEE Highbay",28,3,"CEE Instant Start Ballast","CEE H",4,1,null,96]
["FLT8CEE-28W x 3L x 4'-CEE RS/PRS CEE H","Fluorescent Linear T8 CEE  (28W x 3L x 4') 1 CEE Rapid/Program Start Ballast (BF > 1.0) ","F","L","T8CEE","CEE RS/PRS","(BF > 1.0)",null,"Fluorescent","Linear","T8 CEE ",28,3,"CEE Rapid/Program Start Ballast","CEE H",4,1,null,96]
["FUT8-28W x 2'-IS H","Fluorescent U Tube T8 (28W x 1L x 2') 1 Instant start Ballast (0.95 < BF < 1.10) ","F","U","T8","IS","(0.95 < BF < 1.10)",null,"Fluorescent","U Tube","T8",28,1,"Instant start Ballast","H",2,1,null,32]
["FCP-30W-MG","Fluorescent Compact Pin-Base (30W x 1L) 1 Magnetic Ballast  ","F","C","P","MG",null,null,"Fluorescent","Compact","Pin-Base",30,1,"Magnetic Ballast",null,null,1,null,34]
["FLT8-30W x 3L x 4'-RS/PRS VH","Fluorescent Linear T8 (30W x 3L x 4') 1 Rapid/Program Start Ballast (BF > 1.10) ","F","L","T8","RS/PRS","(BF > 1.10)",null,"Fluorescent","Linear","T8",30,3,"Rapid/Program Start Ballast","VH",4,1,null,102]
["FLT8-30W x 6L x 4'-RS/PRS VH","Fluorescent Linear T8 (30W x 6L x 4') 1 Rapid/Program Start Ballast (BF > 1.10) ","F","L","T8","RS/PRS","(BF > 1.10)",null,"Fluorescent","Linear","T8",30,6,"Rapid/Program Start Ballast","VH",4,1,null,204]
["FLT8CEEHB-32W x 4'-CEE ISDIM CEE H T3","Fluorescent Linear T8 CEE Highbay (32W x 1L x 4') 1 CEE Dimmable Instant Start Ballast (BF > 1.0) ","F","L","T8CEEHB","CEE ISDIM","(BF > 1.0)","T3","Fluorescent","Linear","T8 CEE Highbay",32,1,"CEE Dimmable Instant Start Ballast","CEE H",4,1,null,36]
["FLT8CEEHB-32W x 4'-CEE ISDIM CEE H T4","Fluorescent Linear T8 CEE Highbay (32W x 1L x 4') 1 CEE Dimmable Instant Start Ballast (BF > 1.0) ","F","L","T8CEEHB","CEE ISDIM","(BF > 1.0)","T4","Fluorescent","Linear","T8 CEE Highbay",32,1,"CEE Dimmable Instant Start Ballast","CEE H",4,1,null,36]
["FLT8CEEHB-32W x 4'-CEE PS/PRS DIM CEE H T4","Fluorescent Linear T8 CEE Highbay (32W x 1L x 4') 1 CEE Dimmable PS/PRS Ballast (BF > 1.0) ","F","L","T8CEEHB","CEE PS/PRS DIM","(BF > 1.0)","T4","Fluorescent","Linear","T8 CEE Highbay",32,1,"CEE Dimmable PS/PRS Ballast","CEE H",4,1,null,36]
["FLT8CEEHB-32W x 2L x 4'-CEE RS/PRS CEE H T2","Fluorescent Linear T8 CEE Highbay (32W x 2L x 4') 1 CEE Rapid/Program Start Ballast (BF > 1.0) ","F","L","T8CEEHB","CEE RS/PRS","(BF > 1.0)","T2","Fluorescent","Linear","T8 CEE Highbay",32,2,"CEE Rapid/Program Start Ballast","CEE H",4,1,null,72]
["FLT8-32W x 4'-IS(E) VH","Fluorescent Linear T8 (32W x 1L x 4') 1 Efficient Instant Start Ballast (BF > 1.10) ","F","L","T8","IS(E)","(BF > 1.10)",null,"Fluorescent","Linear","T8",32,1,"Efficient Instant Start Ballast","VH",4,1,null,36]
["FUT8-32W x 4L x 2'-RS/PRS VH","Fluorescent U Tube T8 (32W x 4L x 2') 1 Rapid/Program Start Ballast (BF > 1.10) ","F","U","T8","RS/PRS","(BF > 1.10)",null,"Fluorescent","U Tube","T8",32,4,"Rapid/Program Start Ballast","VH",2,1,null,144]
["FLT5-35W x 2L x 5'-RS/PRS H","Fluorescent Linear T5 (35W x 2L x 5') 1 Rapid/Program Start Ballast (0.95 < BF < 1.10) ","F","L","T5","RS/PRS","(0.95 < BF < 1.10)",null,"Fluorescent","Linear","T5",35,2,"Rapid/Program Start Ballast","H",5,1,null,78]
["FCP-36W-MG","Fluorescent Compact Pin-Base (36W x 1L) 1 Magnetic Ballast  ","F","C","P","MG",null,null,"Fluorescent","Compact","Pin-Base",36,1,"Magnetic Ballast",null,null,1,null,40]
["FCEPWP-36W-IS N","Fluorescent Compact Exterior Pin-Base Wall Pack  (36W x 1L) 1 Instant start Ballast (0.85 < BF < 0.95) ","F","CE","PWP","IS","(0.85 < BF < 0.95)",null,"Fluorescent","Compact Exterior","Pin-Base Wall Pack ",36,1,"Instant start Ballast","N",null,1,null,40]
["MHPS-39W-HIDLF","HID Metal Halide Pulse-Start (39W x 1L) 1 HID Low Freq Ballast  ",null,"MH","PS","HIDLF",null,null,"HID","Metal Halide","Pulse-Start",39,1,"HID Low Freq Ballast",null,null,1,null,43]
["FCP-42W-MG","Fluorescent Compact Pin-Base (42W x 1L) 1 Magnetic Ballast  ","F","C","P","MG",null,null,"Fluorescent","Compact","Pin-Base",42,1,"Magnetic Ballast",null,null,1,null,46]
["FLT12-75W x 2L x 8'-MG(E)","Fluorescent Linear T12 (75W x 2L x 8') 1 Efficient Magnetic Ballast  ","F","L","T12","MG(E)",null,null,"Fluorescent","Linear","T12",75,2,"Efficient Magnetic Ballast",null,8,1,null,158]
["FLT12-75W x 4L x 8'-MG(E)","Fluorescent Linear T12 (75W x 4L x 8') 1 Efficient Magnetic Ballast  ","F","L","T12","MG(E)",null,null,"Fluorescent","Linear","T12",75,4,"Efficient Magnetic Ballast",null,8,1,null,316]
["FLT12-75W x 6L x 8'-MG(E)","Fluorescent Linear T12 (75W x 6L x 8') 1 Efficient Magnetic Ballast  ","F","L","T12","MG(E)",null,null,"Fluorescent","Linear","T12",75,6,"Efficient Magnetic Ballast",null,8,1,null,474]
["FLT12-75W x 2L x 8'-MG","Fluorescent Linear T12 (75W x 2L x 8') 1 Magnetic Ballast  ","F","L","T12","MG",null,null,"Fluorescent","Linear","T12",75,2,"Magnetic Ballast",null,8,1,null,158]
["FLT12-75W x 6L x 8'-MG","Fluorescent Linear T12 (75W x 6L x 8') 1 Magnetic Ballast  ","F","L","T12","MG",null,null,"Fluorescent","Linear","T12",75,6,"Magnetic Ballast",null,8,1,null,474]
["FLT5HO-44W x 4'-RS/PRS VH","Fluorescent Linear T5 HO (44W x 1L x 4') 1 Rapid/Program Start Ballast (BF > 1.10) ","F","L","T5HO","RS/PRS","(BF > 1.10)",null,"Fluorescent","Linear","T5 HO",44,1,"Rapid/Program Start Ballast","VH",4,1,null,48]
["FLT8-25W x 3L x 4'-2 IS H","Fluorescent Linear T8 (25W x 3L x 4') 2 Instant start Ballast (0.95 < BF < 1.10) ","F","L","T8","IS","(0.95 < BF < 1.10)",null,"Fluorescent","Linear","T8",25,3,"Instant start Ballast","H",4,2,null,100]
["FLT8-17W x 4L x 3'-RS/PRS N","Fluorescent Linear T8 (17W x 4L x 3') 1 Rapid/Program Start Ballast (0.85 < BF < 0.95) ","F","L","T8","RS/PRS","(0.85 < BF < 0.95)",null,"Fluorescent","Linear","T8",17,4,"Rapid/Program Start Ballast","N",3,1,null,85]
["FUT8-32W x 4L x 2'-IS VH","Fluorescent U Tube T8 (32W x 4L x 2') 1 Instant start Ballast (BF > 1.10) ","F","U","T8","IS","(BF > 1.10)",null,"Fluorescent","U Tube","T8",32,4,"Instant start Ballast","VH",2,1,null,145]
["FLT12-20W x 6L x 2'-MG","Fluorescent Linear T12 (20W x 6L x 2') 1 Magnetic Ballast  ","F","L","T12","MG",null,null,"Fluorescent","Linear","T12",20,6,"Magnetic Ballast",null,2,1,null,146]
["FLT8-25W x 6L x 4'-IS VH","Fluorescent Linear T8 (25W x 6L x 4') 1 Instant start Ballast (BF > 1.10) ","F","L","T8","IS","(BF > 1.10)",null,"Fluorescent","Linear","T8",25,6,"Instant start Ballast","VH",4,1,null,176]
["FLT8CEE-32W x 3L x 4'-CEE IS CEE H","Fluorescent Linear T8 CEE  (32W x 3L x 4') 1 CEE Instant Start Ballast (BF > 1.0) ","F","L","T8CEE","CEE IS","(BF > 1.0)",null,"Fluorescent","Linear","T8 CEE ",32,3,"CEE Instant Start Ballast","CEE H",4,1,null,109]
["FLT8CEEHB-32W x 3L x 4'-CEE IS CEE H","Fluorescent Linear T8 CEE Highbay (32W x 3L x 4') 1 CEE Instant Start Ballast (BF > 1.0) ","F","L","T8CEEHB","CEE IS","(BF > 1.0)",null,"Fluorescent","Linear","T8 CEE Highbay",32,3,"CEE Instant Start Ballast","CEE H",4,1,null,109]
["FLT8-32W x 3L x 4'-IS(E) VH","Fluorescent Linear T8 (32W x 3L x 4') 1 Efficient Instant Start Ballast (BF > 1.10) ","F","L","T8","IS(E)","(BF > 1.10)",null,"Fluorescent","Linear","T8",32,3,"Efficient Instant Start Ballast","VH",4,1,null,109]
["FUT8-32W x 3L x 2'-IS VH","Fluorescent U Tube T8 (32W x 3L x 2') 1 Instant start Ballast (BF > 1.10) ","F","U","T8","IS","(BF > 1.10)",null,"Fluorescent","U Tube","T8",32,3,"Instant start Ballast","VH",2,1,null,109]
["FLT8-32W x 6L x 4'-RS/PRS VH","Fluorescent Linear T8 (32W x 6L x 4') 1 Rapid/Program Start Ballast (BF > 1.10) ","F","L","T8","RS/PRS","(BF > 1.10)",null,"Fluorescent","Linear","T8",32,6,"Rapid/Program Start Ballast","VH",4,1,null,218]
["FLT12-34W x 3L x 4'-MG(E)","Fluorescent Linear T12 (34W x 3L x 4') 1 Efficient Magnetic Ballast  ","F","L","T12","MG(E)",null,null,"Fluorescent","Linear","T12",34,3,"Efficient Magnetic Ballast",null,4,1,null,115]
["FLT12-34W x 3L x 4'-MG","Fluorescent Linear T12 (34W x 3L x 4') 1 Magnetic Ballast  ","F","L","T12","MG",null,null,"Fluorescent","Linear","T12",34,3,"Magnetic Ballast",null,4,1,null,115]
["FCP-40W x 3L-MG","Fluorescent Compact Pin-Base (40W x 3L) 1 Magnetic Ballast  ","F","C","P","MG",null,null,"Fluorescent","Compact","Pin-Base",40,3,"Magnetic Ballast",null,null,1,null,133]
["FLT5HO-44W x 12L x 4'-RS/PRS VH","Fluorescent Linear T5 HO (44W x 12L x 4') 1 Rapid/Program Start Ballast (BF > 1.10) ","F","L","T5HO","RS/PRS","(BF > 1.10)",null,"Fluorescent","Linear","T5 HO",44,12,"Rapid/Program Start Ballast","VH",4,1,null,580]
["FLT5HO-44W x 3L x 4'-RS/PRS H","Fluorescent Linear T5 HO (44W x 3L x 4') 1 Rapid/Program Start Ballast (0.95 < BF < 1.10) ","F","L","T5HO","RS/PRS","(0.95 < BF < 1.10)",null,"Fluorescent","Linear","T5 HO",44,3,"Rapid/Program Start Ballast","H",4,1,null,145]
["FLT5HO-44W x 6L x 4'-RS/PRS VH","Fluorescent Linear T5 HO (44W x 6L x 4') 1 Rapid/Program Start Ballast (BF > 1.10) ","F","L","T5HO","RS/PRS","(BF > 1.10)",null,"Fluorescent","Linear","T5 HO",44,6,"Rapid/Program Start Ballast","VH",4,1,null,290]
["FLT5HO-44W x 8L x 4'-RS/PRS VH","Fluorescent Linear T5 HO (44W x 8L x 4') 1 Rapid/Program Start Ballast (BF > 1.10) ","F","L","T5HO","RS/PRS","(BF > 1.10)",null,"Fluorescent","Linear","T5 HO",44,8,"Rapid/Program Start Ballast","VH",4,1,null,387]
["FLT5HO-44W x 10L x 4'-RS/PRS VH","Fluorescent Linear T5 HO (44W x 10L x 4') 1 Rapid/Program Start Ballast (BF > 1.10) ","F","L","T5HO","RS/PRS","(BF > 1.10)",null,"Fluorescent","Linear","T5 HO",44,10,"Rapid/Program Start Ballast","VH",4,1,null,484]
["FLT5HO-44W x 2L x 4'-RS/PRS H","Fluorescent Linear T5 HO (44W x 2L x 4') 1 Rapid/Program Start Ballast (0.95 < BF < 1.10) ","F","L","T5HO","RS/PRS","(0.95 < BF < 1.10)",null,"Fluorescent","Linear","T5 HO",44,2,"Rapid/Program Start Ballast","H",4,1,null,97]
["FLT5HO-44W x 2L x 4'-RS/PRS VH","Fluorescent Linear T5 HO (44W x 2L x 4') 1 Rapid/Program Start Ballast (BF > 1.10) ","F","L","T5HO","RS/PRS","(BF > 1.10)",null,"Fluorescent","Linear","T5 HO",44,2,"Rapid/Program Start Ballast","VH",4,1,null,97]
["FLT5HO-44W x 4L x 4'-RS/PRS H","Fluorescent Linear T5 HO (44W x 4L x 4') 1 Rapid/Program Start Ballast (0.95 < BF < 1.10) ","F","L","T5HO","RS/PRS","(0.95 < BF < 1.10)",null,"Fluorescent","Linear","T5 HO",44,4,"Rapid/Program Start Ballast","H",4,1,null,194]
["FCP-18W x 2L-MG","Fluorescent Compact Pin-Base (18W x 2L) 1 Magnetic Ballast  ","F","C","P","MG",null,null,"Fluorescent","Compact","Pin-Base",18,2,"Magnetic Ballast",null,null,1,null,45]
["FCP-18W x 4L-MG","Fluorescent Compact Pin-Base (18W x 4L) 1 Magnetic Ballast  ","F","C","P","MG",null,null,"Fluorescent","Compact","Pin-Base",18,4,"Magnetic Ballast",null,null,1,null,90]
["FUT8-25W x 2L x 2'-RS/PRS VH","Fluorescent U Tube T8 (25W x 2L x 2') 1 Rapid/Program Start Ballast (BF > 1.10) ","F","U","T8","RS/PRS","(BF > 1.10)",null,"Fluorescent","U Tube","T8",25,2,"Rapid/Program Start Ballast","VH",2,1,null,59]
["FLT8-25W x 2L x 4'-IS VH","Fluorescent Linear T8 (25W x 2L x 4') 1 Instant start Ballast (BF > 1.10) ","F","L","T8","IS","(BF > 1.10)",null,"Fluorescent","Linear","T8",25,2,"Instant start Ballast","VH",4,1,null,59]
["FLT5-25W x 2L x 4'-RS/PRS H","Fluorescent Linear T5 (25W x 2L x 4') 1 Rapid/Program Start Ballast (0.95 < BF < 1.10) ","F","L","T5","RS/PRS","(0.95 < BF < 1.10)",null,"Fluorescent","Linear","T5",25,2,"Rapid/Program Start Ballast","H",4,1,null,59]
["FLT8CEE-28W x 2L x 4'-CEE IS H","Fluorescent Linear T8 CEE  (28W x 2L x 4') 1 CEE Instant Start Ballast (BF > 1.0) ","F","L","T8CEE","CEE IS","(BF > 1.0)",null,"Fluorescent","Linear","T8 CEE ",28,2,"CEE Instant Start Ballast","H",4,1,null,65]
["FLT8CEEHB-28W x 2L x 4'-CEE IS H","Fluorescent Linear T8 CEE Highbay (28W x 2L x 4') 1 CEE Instant Start Ballast (BF > 1.0) ","F","L","T8CEEHB","CEE IS","(BF > 1.0)",null,"Fluorescent","Linear","T8 CEE Highbay",28,2,"CEE Instant Start Ballast","H",4,1,null,65]
["FLT8-28W x 2L x 4'-IS VH","Fluorescent Linear T8 (28W x 2L x 4') 1 Instant start Ballast (BF > 1.10) ","F","L","T8","IS","(BF > 1.10)",null,"Fluorescent","Linear","T8",28,2,"Instant start Ballast","VH",4,1,null,65]
["FLT8-30W x 2L x 4'-RS/PRS H","Fluorescent Linear T8 (30W x 2L x 4') 1 Rapid/Program Start Ballast (0.95 < BF < 1.10) ","F","L","T8","RS/PRS","(0.95 < BF < 1.10)",null,"Fluorescent","Linear","T8",30,2,"Rapid/Program Start Ballast","H",4,1,null,69]
["FLT8CEE-32W x 2L x 4'-CEE PS/PRS DIM CEE H","Fluorescent Linear T8 CEE  (32W x 2L x 4') 1 CEE Dimmable PS/PRS Ballast (BF > 1.0) ","F","L","T8CEE","CEE PS/PRS DIM","(BF > 1.0)",null,"Fluorescent","Linear","T8 CEE ",32,2,"CEE Dimmable PS/PRS Ballast","CEE H",4,1,null,73]
["FLT8CEEHB-32W x 2L x 4'-CEE PS/PRS DIM CEE H","Fluorescent Linear T8 CEE Highbay (32W x 2L x 4') 1 CEE Dimmable PS/PRS Ballast (BF > 1.0) ","F","L","T8CEEHB","CEE PS/PRS DIM","(BF > 1.0)",null,"Fluorescent","Linear","T8 CEE Highbay",32,2,"CEE Dimmable PS/PRS Ballast","CEE H",4,1,null,73]
["FLT8CEE-32W x 2L x 4'-CEE IS CEE H","Fluorescent Linear T8 CEE  (32W x 2L x 4') 1 CEE Instant Start Ballast (BF > 1.0) ","F","L","T8CEE","CEE IS","(BF > 1.0)",null,"Fluorescent","Linear","T8 CEE ",32,2,"CEE Instant Start Ballast","CEE H",4,1,null,73]
["FLT8CEEHB-32W x 2L x 4'-CEE IS CEE H","Fluorescent Linear T8 CEE Highbay (32W x 2L x 4') 1 CEE Instant Start Ballast (BF > 1.0) ","F","L","T8CEEHB","CEE IS","(BF > 1.0)",null,"Fluorescent","Linear","T8 CEE Highbay",32,2,"CEE Instant Start Ballast","CEE H",4,1,null,73]
["FLT8CEE-32W x 2L x 4'-CEE RS/PRS CEE H","Fluorescent Linear T8 CEE  (32W x 2L x 4') 1 CEE Rapid/Program Start Ballast (BF > 1.0) ","F","L","T8CEE","CEE RS/PRS","(BF > 1.0)",null,"Fluorescent","Linear","T8 CEE ",32,2,"CEE Rapid/Program Start Ballast","CEE H",4,1,null,73]
["FLT8CEEHB-32W x 2L x 4'-CEE RS/PRS CEE H","Fluorescent Linear T8 CEE Highbay (32W x 2L x 4') 1 CEE Rapid/Program Start Ballast (BF > 1.0) ","F","L","T8CEEHB","CEE RS/PRS","(BF > 1.0)",null,"Fluorescent","Linear","T8 CEE Highbay",32,2,"CEE Rapid/Program Start Ballast","CEE H",4,1,null,73]
["FLT8-32W x 2L x 4'-RS/PRS(E) VH","Fluorescent Linear T8 (32W x 2L x 4') 1 Efficient Rapid/Program Start Ballast (BF > 1.10) ","F","L","T8","RS/PRS(E)","(BF > 1.10)",null,"Fluorescent","Linear","T8",32,2,"Efficient Rapid/Program Start Ballast","VH",4,1,null,73]
[{"$f":"C963&D963&E963&IF(L963=\"\",\"\",\"-\"&L963&\"W\")&IF(OR(M963=1,M963=\"\"),\"\",\" x \"&M963&\"L\")&IF(P963=\"\",\"\",\" x \"&P963&\"'\")&IF(F963=\"\",\"\",\"-\"&IF(Q963=1,\"\",Q963&\" \")&F963&IF(O963=\"\",\"\",\" \"&O963)&IF(H963=\"\",\"\",\" \"&H963))","v":"FUT8-32W x 2L x 2'-IS VH"},{"$f":"I963& IF(J963=\"\",\"\",\" \"&J963)&IF(K963=\"\",\"\",\" \"&K963)&\" (\"&L963&\"W\"&IF(M963=\"\",\"\",\" x \"&M963 & \"L\")&IF(P963=\"\",\"\",\" x \"&P963&\"'\")&\")\"&IF(N963=\"\",\"\",\" \"&Q963&\" \"&N963&\" \"&G963)&\" \"&R963","v":"Fluorescent U Tube T8 (32W x 2L x 2') 1 Instant start Ballast (BF > 1.10) "},"F","U","T8","IS","(BF > 1.10)",null,"Fluorescent","U Tube","T8",32,2,"Instant start Ballast","VH",2,1,null,73]
["FLT5HOHB-51W x 2L x 4'-RS/PRS H","Fluorescent Linear T5 HO Highbay (51W x 2L x 4') 1 Rapid/Program Start Ballast (0.95 < BF < 1.10) ","F","L","T5HOHB","RS/PRS","(0.95 < BF < 1.10)",null,"Fluorescent","Linear","T5 HO Highbay",51,2,"Rapid/Program Start Ballast","H",4,1,null,111]
["FLT5HOHB-54W x 2L x 4'-RS/PRS H","Fluorescent Linear T5 HO Highbay (54W x 2L x 4') 1 Rapid/Program Start Ballast (0.95 < BF < 1.10) ","F","L","T5HOHB","RS/PRS","(0.95 < BF < 1.10)",null,"Fluorescent","Linear","T5 HO Highbay",54,2,"Rapid/Program Start Ballast","H",4,1,null,117]
["FLT12-34W x 4L x 4'-2 MG(E)","Fluorescent Linear T12 (34W x 4L x 4') 2 Efficient Magnetic Ballast  ","F","L","T12","MG(E)",null,null,"Fluorescent","Linear","T12",34,4,"Efficient Magnetic Ballast",null,4,2,null,172]
["FLT12-34W x 2L x 4'-2 MG(E)","Fluorescent Linear T12 (34W x 2L x 4') 2 Efficient Magnetic Ballast  ","F","L","T12","MG(E)",null,null,"Fluorescent","Linear","T12",34,2,"Efficient Magnetic Ballast",null,4,2,null,86]
["FLT5HO-51W x 2L x 4'-RS/PRS H","Fluorescent Linear T5 HO (51W x 2L x 4') 1 Rapid/Program Start Ballast (0.95 < BF < 1.10) ","F","L","T5HO","RS/PRS","(0.95 < BF < 1.10)",null,"Fluorescent","Linear","T5 HO",51,2,"Rapid/Program Start Ballast","H",4,1,null,111]
["FLT5HO-54W x 2L x 4'-RS/PRS H","Fluorescent Linear T5 HO (54W x 2L x 4') 1 Rapid/Program Start Ballast (0.95 < BF < 1.10) ","F","L","T5HO","RS/PRS","(0.95 < BF < 1.10)",null,"Fluorescent","Linear","T5 HO",54,2,"Rapid/Program Start Ballast","H",4,1,null,117]
["FLT8-28W x 3L x 4'-RS/PRS VH","Fluorescent Linear T8 (28W x 3L x 4') 1 Rapid/Program Start Ballast (BF > 1.10) ","F","L","T8","RS/PRS","(BF > 1.10)",null,"Fluorescent","Linear","T8",28,3,"Rapid/Program Start Ballast","VH",4,1,null,98]
["FLT8-32W x 3L x 4'-CEE PS/PRS DIM VH","Fluorescent Linear T8 (32W x 3L x 4') 1 CEE Dimmable PS/PRS Ballast (BF > 1.10) ","F","L","T8","CEE PS/PRS DIM","(BF > 1.10)",null,"Fluorescent","Linear","T8",32,3,"CEE Dimmable PS/PRS Ballast","VH",4,1,null,110]
["FLT8CEE-32W x 3L x 4'-CEE PS/PRS DIM CEE H","Fluorescent Linear T8 CEE  (32W x 3L x 4') 1 CEE Dimmable PS/PRS Ballast (BF > 1.0) ","F","L","T8CEE","CEE PS/PRS DIM","(BF > 1.0)",null,"Fluorescent","Linear","T8 CEE ",32,3,"CEE Dimmable PS/PRS Ballast","CEE H",4,1,null,110]
["FLT8CEEHB-32W x 3L x 4'-CEE PS/PRS DIM CEE H","Fluorescent Linear T8 CEE Highbay (32W x 3L x 4') 1 CEE Dimmable PS/PRS Ballast (BF > 1.0) ","F","L","T8CEEHB","CEE PS/PRS DIM","(BF > 1.0)",null,"Fluorescent","Linear","T8 CEE Highbay",32,3,"CEE Dimmable PS/PRS Ballast","CEE H",4,1,null,110]
["FLT8CEE-32W x 3L x 4'-CEE RS/PRS CEE H","Fluorescent Linear T8 CEE  (32W x 3L x 4') 1 CEE Rapid/Program Start Ballast (BF > 1.0) ","F","L","T8CEE","CEE RS/PRS","(BF > 1.0)",null,"Fluorescent","Linear","T8 CEE ",32,3,"CEE Rapid/Program Start Ballast","CEE H",4,1,null,110]
["FLT8CEEHB-32W x 3L x 4'-CEE RS/PRS CEE H","Fluorescent Linear T8 CEE Highbay (32W x 3L x 4') 1 CEE Rapid/Program Start Ballast (BF > 1.0) ","F","L","T8CEEHB","CEE RS/PRS","(BF > 1.0)",null,"Fluorescent","Linear","T8 CEE Highbay",32,3,"CEE Rapid/Program Start Ballast","CEE H",4,1,null,110]
["FLT8-32W x 3L x 4'-MG","Fluorescent Linear T8 (32W x 3L x 4') 1 Magnetic Ballast  ","F","L","T8","MG",null,null,"Fluorescent","Linear","T8",32,3,"Magnetic Ballast",null,4,1,null,110]
["FLT8-32W x 3L x 4'-RS/PRS VH","Fluorescent Linear T8 (32W x 3L x 4') 1 Rapid/Program Start Ballast (BF > 1.10) ","F","L","T8","RS/PRS","(BF > 1.10)",null,"Fluorescent","Linear","T8",32,3,"Rapid/Program Start Ballast","VH",4,1,null,110]
["FLT5HO-80W x 2L x 5'-2 RS/PRS H","Fluorescent Linear T5 HO (80W x 2L x 5') 2 Rapid/Program Start Ballast (0.95 < BF < 1.10) ","F","L","T5HO","RS/PRS","(0.95 < BF < 1.10)",null,"Fluorescent","Linear","T5 HO",80,2,"Rapid/Program Start Ballast","H",5,2,null,179]
["FLT8-32W x 4L x 4'-CEE ISDIM VH","Fluorescent Linear T8 (32W x 4L x 4') 1 CEE Dimmable Instant Start Ballast (BF > 1.10) ","F","L","T8","CEE ISDIM","(BF > 1.10)",null,"Fluorescent","Linear","T8",32,4,"CEE Dimmable Instant Start Ballast","VH",4,1,null,147]
["FLT5HO-39W x 3'-RS/PRS H","Fluorescent Linear T5 HO (39W x 1L x 3') 1 Rapid/Program Start Ballast (0.95 < BF < 1.10) ","F","L","T5HO","RS/PRS","(0.95 < BF < 1.10)",null,"Fluorescent","Linear","T5 HO",39,1,"Rapid/Program Start Ballast","H",3,1,null,44]
["FLT5HO-49W x 12L x 4'-RS/PRS VH","Fluorescent Linear T5 HO (49W x 12L x 4') 1 Rapid/Program Start Ballast (BF > 1.10) ","F","L","T5HO","RS/PRS","(BF > 1.10)",null,"Fluorescent","Linear","T5 HO",49,12,"Rapid/Program Start Ballast","VH",4,1,null,648]
["FLT5HO-49W x 8L x 4'-RS/PRS VH","Fluorescent Linear T5 HO (49W x 8L x 4') 1 Rapid/Program Start Ballast (BF > 1.10) ","F","L","T5HO","RS/PRS","(BF > 1.10)",null,"Fluorescent","Linear","T5 HO",49,8,"Rapid/Program Start Ballast","VH",4,1,null,432]
["FLT5HO-49W x 4L x 4'-RS/PRS H","Fluorescent Linear T5 HO (49W x 4L x 4') 1 Rapid/Program Start Ballast (0.95 < BF < 1.10) ","F","L","T5HO","RS/PRS","(0.95 < BF < 1.10)",null,"Fluorescent","Linear","T5 HO",49,4,"Rapid/Program Start Ballast","H",4,1,null,216]
["FLT5HO-49W x 4L x 4'-RS/PRS VH","Fluorescent Linear T5 HO (49W x 4L x 4') 1 Rapid/Program Start Ballast (BF > 1.10) ","F","L","T5HO","RS/PRS","(BF > 1.10)",null,"Fluorescent","Linear","T5 HO",49,4,"Rapid/Program Start Ballast","VH",4,1,null,216]
["FCP-10W-MG","Fluorescent Compact Pin-Base (10W x 1L) 1 Magnetic Ballast  ","F","C","P","MG",null,null,"Fluorescent","Compact","Pin-Base",10,1,"Magnetic Ballast",null,null,1,null,15]
["FLT8-17W x 2'-RS/PRS VH","Fluorescent Linear T8 (17W x 1L x 2') 1 Rapid/Program Start Ballast (BF > 1.10) ","F","L","T8","RS/PRS","(BF > 1.10)",null,"Fluorescent","Linear","T8",17,1,"Rapid/Program Start Ballast","VH",2,1,null,22]
["FCP-19W-MG","Fluorescent Compact Pin-Base (19W x 1L) 1 Magnetic Ballast  ","F","C","P","MG",null,null,"Fluorescent","Compact","Pin-Base",19,1,"Magnetic Ballast",null,null,1,null,24]
["FCIT9-20W-MG","Fluorescent Circline T9 (20W x 1L) 1 Magnetic Ballast  ","F","CI","T9","MG",null,null,"Fluorescent","Circline","T9",20,1,"Magnetic Ballast",null,null,1,null,25]
["FCP-20W-MG","Fluorescent Compact Pin-Base (20W x 1L) 1 Magnetic Ballast  ","F","C","P","MG",null,null,"Fluorescent","Compact","Pin-Base",20,1,"Magnetic Ballast",null,null,1,null,25]
["FLT12-20W x 2L x 2'-MG","Fluorescent Linear T12 (20W x 2L x 2') 1 Magnetic Ballast  ","F","L","T12","MG",null,null,"Fluorescent","Linear","T12",20,2,"Magnetic Ballast",null,2,1,null,50]
["FLT12-20W x 2'-MG","Fluorescent Linear T12 (20W x 1L x 2') 1 Magnetic Ballast  ","F","L","T12","MG",null,null,"Fluorescent","Linear","T12",20,1,"Magnetic Ballast",null,2,1,null,25]
["FLT12-20W x 4L x 2'-MG","Fluorescent Linear T12 (20W x 4L x 2') 1 Magnetic Ballast  ","F","L","T12","MG",null,null,"Fluorescent","Linear","T12",20,4,"Magnetic Ballast",null,2,1,null,100]
["FCP-21W-MG","Fluorescent Compact Pin-Base (21W x 1L) 1 Magnetic Ballast  ","F","C","P","MG",null,null,"Fluorescent","Compact","Pin-Base",21,1,"Magnetic Ballast",null,null,1,null,26]
["FCP-22W x 4L-MG","Fluorescent Compact Pin-Base (22W x 4L) 1 Magnetic Ballast  ","F","C","P","MG",null,null,"Fluorescent","Compact","Pin-Base",22,4,"Magnetic Ballast",null,null,1,null,108]
["FLT8CEE-25W x 4'-CEE IS H","Fluorescent Linear T8 CEE  (25W x 1L x 4') 1 CEE Instant Start Ballast (BF > 1.0) ","F","L","T8CEE","CEE IS","(BF > 1.0)",null,"Fluorescent","Linear","T8 CEE ",25,1,"CEE Instant Start Ballast","H",4,1,null,30]
["FLT8CEE-25W x 2L x 4'-CEE IS CEE H","Fluorescent Linear T8 CEE  (25W x 2L x 4') 1 CEE Instant Start Ballast (BF > 1.0) ","F","L","T8CEE","CEE IS","(BF > 1.0)",null,"Fluorescent","Linear","T8 CEE ",25,2,"CEE Instant Start Ballast","CEE H",4,1,null,60]
["FLT8CEEHB-25W x 4'-CEE IS H","Fluorescent Linear T8 CEE Highbay (25W x 1L x 4') 1 CEE Instant Start Ballast (BF > 1.0) ","F","L","T8CEEHB","CEE IS","(BF > 1.0)",null,"Fluorescent","Linear","T8 CEE Highbay",25,1,"CEE Instant Start Ballast","H",4,1,null,30]
["FLT8CEE-25W x 4'-CEE RS/PRS CEE H","Fluorescent Linear T8 CEE  (25W x 1L x 4') 1 CEE Rapid/Program Start Ballast (BF > 1.0) ","F","L","T8CEE","CEE RS/PRS","(BF > 1.0)",null,"Fluorescent","Linear","T8 CEE ",25,1,"CEE Rapid/Program Start Ballast","CEE H",4,1,null,30]
["FUT8-25W x 2L x 2'-IS VH","Fluorescent U Tube T8 (25W x 2L x 2') 1 Instant start Ballast (BF > 1.10) ","F","U","T8","IS","(BF > 1.10)",null,"Fluorescent","U Tube","T8",25,2,"Instant start Ballast","VH",2,1,null,60]
["FUT8-25W x 3L x 2'-IS VH","Fluorescent U Tube T8 (25W x 3L x 2') 1 Instant start Ballast (BF > 1.10) ","F","U","T8","IS","(BF > 1.10)",null,"Fluorescent","U Tube","T8",25,3,"Instant start Ballast","VH",2,1,null,90]
["FLT5-25W x 4'-RS/PRS N","Fluorescent Linear T5 (25W x 1L x 4') 1 Rapid/Program Start Ballast (0.95 < BF < 1.10) ","F","L","T5","RS/PRS","(0.95 < BF < 1.10)",null,"Fluorescent","Linear","T5",25,1,"Rapid/Program Start Ballast","N",4,1,null,30]
["FLT5-25W x 4'-RS/PRS H","Fluorescent Linear T5 (25W x 1L x 4') 1 Rapid/Program Start Ballast (0.95 < BF < 1.10) ","F","L","T5","RS/PRS","(0.95 < BF < 1.10)",null,"Fluorescent","Linear","T5",25,1,"Rapid/Program Start Ballast","H",4,1,null,30]
["FLT8CEE-28W x 4'-CEE IS CEE H","Fluorescent Linear T8 CEE  (28W x 1L x 4') 1 CEE Instant Start Ballast (BF > 1.0) ","F","L","T8CEE","CEE IS","(BF > 1.0)",null,"Fluorescent","Linear","T8 CEE ",28,1,"CEE Instant Start Ballast","CEE H",4,1,null,33]
["FLT8CEEHB-28W x 4'-CEE IS CEE H","Fluorescent Linear T8 CEE Highbay (28W x 1L x 4') 1 CEE Instant Start Ballast (BF > 1.0) ","F","L","T8CEEHB","CEE IS","(BF > 1.0)",null,"Fluorescent","Linear","T8 CEE Highbay",28,1,"CEE Instant Start Ballast","CEE H",4,1,null,33]
["FCP-28W x 2L-MG","Fluorescent Compact Pin-Base (28W x 2L) 1 Magnetic Ballast  ","F","C","P","MG",null,null,"Fluorescent","Compact","Pin-Base",28,2,"Magnetic Ballast",null,null,1,null,66]
["FLT8-28W x 4'-RS/PRS VH","Fluorescent Linear T8 (28W x 1L x 4') 1 Rapid/Program Start Ballast (BF > 1.10) ","F","L","T8","RS/PRS","(BF > 1.10)",null,"Fluorescent","Linear","T8",28,1,"Rapid/Program Start Ballast","VH",4,1,null,33]
["FUT8-28W x 2'-RS/PRS VH","Fluorescent U Tube T8 (28W x 1L x 2') 1 Rapid/Program Start Ballast (BF > 1.10) ","F","U","T8","RS/PRS","(BF > 1.10)",null,"Fluorescent","U Tube","T8",28,1,"Rapid/Program Start Ballast","VH",2,1,null,33]
["FLT8-30W x 3L x 4'-IS H","Fluorescent Linear T8 (30W x 3L x 4') 1 Instant start Ballast (0.95 < BF < 1.10) ","F","L","T8","IS","(0.95 < BF < 1.10)",null,"Fluorescent","Linear","T8",30,3,"Instant start Ballast","H",4,1,null,105]
["FLT8CEEHB-32W x 4'-CEE ISDIM CEE H T2","Fluorescent Linear T8 CEE Highbay (32W x 1L x 4') 1 CEE Dimmable Instant Start Ballast (BF > 1.0) ","F","L","T8CEEHB","CEE ISDIM","(BF > 1.0)","T2","Fluorescent","Linear","T8 CEE Highbay",32,1,"CEE Dimmable Instant Start Ballast","CEE H",4,1,null,37]
["FLT8-32W x 4L x 4'-CEE PS/PRS DIM VH","Fluorescent Linear T8 (32W x 4L x 4') 1 CEE Dimmable PS/PRS Ballast (BF > 1.10) ","F","L","T8","CEE PS/PRS DIM","(BF > 1.10)",null,"Fluorescent","Linear","T8",32,4,"CEE Dimmable PS/PRS Ballast","VH",4,1,null,148]
["FLT8CEE-32W x 4L x 4'-CEE PS/PRS DIM CEE H","Fluorescent Linear T8 CEE  (32W x 4L x 4') 1 CEE Dimmable PS/PRS Ballast (BF > 1.0) ","F","L","T8CEE","CEE PS/PRS DIM","(BF > 1.0)",null,"Fluorescent","Linear","T8 CEE ",32,4,"CEE Dimmable PS/PRS Ballast","CEE H",4,1,null,148]
["FLT8CEEHB-32W x 4'-CEE PS/PRS DIM CEE H T2","Fluorescent Linear T8 CEE Highbay (32W x 1L x 4') 1 CEE Dimmable PS/PRS Ballast (BF > 1.0) ","F","L","T8CEEHB","CEE PS/PRS DIM","(BF > 1.0)","T2","Fluorescent","Linear","T8 CEE Highbay",32,1,"CEE Dimmable PS/PRS Ballast","CEE H",4,1,null,37]
["FLT8CEEHB-32W x 4'-CEE PS/PRS DIM CEE H T3","Fluorescent Linear T8 CEE Highbay (32W x 1L x 4') 1 CEE Dimmable PS/PRS Ballast (BF > 1.0) ","F","L","T8CEEHB","CEE PS/PRS DIM","(BF > 1.0)","T3","Fluorescent","Linear","T8 CEE Highbay",32,1,"CEE Dimmable PS/PRS Ballast","CEE H",4,1,null,37]
["FLT8CEEHB-32W x 4L x 4'-CEE PS/PRS DIM CEE H","Fluorescent Linear T8 CEE Highbay (32W x 4L x 4') 1 CEE Dimmable PS/PRS Ballast (BF > 1.0) ","F","L","T8CEEHB","CEE PS/PRS DIM","(BF > 1.0)",null,"Fluorescent","Linear","T8 CEE Highbay",32,4,"CEE Dimmable PS/PRS Ballast","CEE H",4,1,null,148]
["FLT8-32W x 3L x 4'-IS H","Fluorescent Linear T8 (32W x 3L x 4') 1 Instant start Ballast (0.95 < BF < 1.10) ","F","L","T8","IS","(0.95 < BF < 1.10)",null,"Fluorescent","Linear","T8",32,3,"Instant start Ballast","H",4,1,null,111]
["FUT8-32W x 2L x 2'-RS/PRS VH","Fluorescent U Tube T8 (32W x 2L x 2') 1 Rapid/Program Start Ballast (BF > 1.10) ","F","U","T8","RS/PRS","(BF > 1.10)",null,"Fluorescent","U Tube","T8",32,2,"Rapid/Program Start Ballast","VH",2,1,null,74]
["FLT5-35W x 5'-RS/PRS H","Fluorescent Linear T5 (35W x 1L x 5') 1 Rapid/Program Start Ballast (0.95 < BF < 1.10) ","F","L","T5","RS/PRS","(0.95 < BF < 1.10)",null,"Fluorescent","Linear","T5",35,1,"Rapid/Program Start Ballast","H",5,1,null,40]
["FUT12-40W x 2L-MG(E)","Fluorescent U Tube T12 (40W x 2L) 1 Efficient Magnetic Ballast  ","F","U","T12","MG(E)",null,null,"Fluorescent","U Tube","T12",40,2,"Efficient Magnetic Ballast",null,null,1,null,90]
["INERB-40W-INDN H","Induction Exterior Remote Ballasted (40W x 1L) 1 Induction (Non Integral) Ballast (0.95 < BF < 1.10) ","IN","E","RB","INDN","(0.95 < BF < 1.10)",null,"Induction","Exterior","Remote Ballasted",40,1,"Induction (Non Integral) Ballast","H",null,1,null,45]
["FUT12-40W x 2L-MG","Fluorescent U Tube T12 (40W x 2L) 1 Magnetic Ballast  ","F","U","T12","MG",null,null,"Fluorescent","U Tube","T12",40,2,"Magnetic Ballast",null,null,1,null,90]
["INIRB-40W-INDN H","Induction Interior Remote Ballasted (40W x 1L) 1 Induction (Non Integral) Ballast (0.95 < BF < 1.10) ","IN","I","RB","INDN","(0.95 < BF < 1.10)",null,"Induction","Interior","Remote Ballasted",40,1,"Induction (Non Integral) Ballast","H",null,1,null,45]
["FCP-42W x 2L-IS N","Fluorescent Compact Pin-Base (42W x 2L) 1 Instant start Ballast (0.85 < BF < 0.95) ","F","C","P","IS","(0.85 < BF < 0.95)",null,"Fluorescent","Compact","Pin-Base",42,2,"Instant start Ballast","N",null,1,null,94]
["FLT5HOHB-49W x 4L x 4'-RS/PRS H","Fluorescent Linear T5 HO Highbay (49W x 4L x 4') 1 Rapid/Program Start Ballast (0.95 < BF < 1.10) ","F","L","T5HOHB","RS/PRS","(0.95 < BF < 1.10)",null,"Fluorescent","Linear","T5 HO Highbay",49,4,"Rapid/Program Start Ballast","H",4,1,null,216]
["FLT5HOHB-49W x 4L x 4'-RS/PRS VH","Fluorescent Linear T5 HO Highbay (49W x 4L x 4') 1 Rapid/Program Start Ballast (BF > 1.10) ","F","L","T5HOHB","RS/PRS","(BF > 1.10)",null,"Fluorescent","Linear","T5 HO Highbay",49,4,"Rapid/Program Start Ballast","VH",4,1,null,216]
["MH-50W-HIDLF","HID Metal Halide Standard (50W x 1L) 1 HID Low Freq Ballast  ",null,"MH",null,"HIDLF",null,null,"HID","Metal Halide","Standard",50,1,"HID Low Freq Ballast",null,null,1,null,55]
["INERB-50W-INDN H","Induction Exterior Remote Ballasted (50W x 1L) 1 Induction (Non Integral) Ballast (0.95 < BF < 1.10) ","IN","E","RB","INDN","(0.95 < BF < 1.10)",null,"Induction","Exterior","Remote Ballasted",50,1,"Induction (Non Integral) Ballast","H",null,1,null,55]
[{"$f":"C1027&D1027&E1027&IF(L1027=\"\",\"\",\"-\"&L1027&\"W\")&IF(OR(M1027=1,M1027=\"\"),\"\",\" x \"&M1027&\"L\")&IF(P1027=\"\",\"\",\" x \"&P1027&\"'\")&IF(F1027=\"\",\"\",\"-\"&IF(Q1027=1,\"\",Q1027&\" \")&F1027&IF(O1027=\"\",\"\",\" \"&O1027)&IF(H1027=\"\",\"\",\" \"&H1027))","v":"INIRB-50W-INDN H"},{"$f":"I1027& IF(J1027=\"\",\"\",\" \"&J1027)&IF(K1027=\"\",\"\",\" \"&K1027)&\" (\"&L1027&\"W\"&IF(M1027=\"\",\"\",\" x \"&M1027 & \"L\")&IF(P1027=\"\",\"\",\" x \"&P1027&\"'\")&\")\"&IF(N1027=\"\",\"\",\" \"&Q1027&\" \"&N1027&\" \"&G1027)&\" \"&R1027","v":"Induction Interior Remote Ballasted (50W x 1L) 1 Induction (Non Integral) Ballast (0.95 < BF < 1.10) "},"IN","I","RB","INDN","(0.95 < BF < 1.10)",null,"Induction","Interior","Remote Ballasted",50,1,"Induction (Non Integral) Ballast","H",null,1,null,55]
["FCP-55W-IS N","Fluorescent Compact Pin-Base (55W x 1L) 1 Instant start Ballast (0.85 < BF < 0.95) ","F","C","P","IS","(0.85 < BF < 0.95)",null,"Fluorescent","Compact","Pin-Base",55,1,"Instant start Ballast","N",null,1,null,60]
["FLT12-56W x 4L x 6'-MG","Fluorescent Linear T12 (56W x 4L x 6') 1 Magnetic Ballast  ","F","L","T12","MG",null,null,"Fluorescent","Linear","T12",56,4,"Magnetic Ballast",null,6,1,null,244]
["FLT12VHO-160W x 2L x 6'-MG","Fluorescent Linear T12 VHO (160W x 2L x 6') 1 Magnetic Ballast  ","F","L","T12VHO","MG",null,null,"Fluorescent","Linear","T12 VHO",160,2,"Magnetic Ballast",null,6,1,null,330]
["FLT12VHO-185W x 4L x 8'-MG","Fluorescent Linear T12 VHO (185W x 4L x 8') 1 Magnetic Ballast  ","F","L","T12VHO","MG",null,null,"Fluorescent","Linear","T12 VHO",185,4,"Magnetic Ballast",null,8,1,null,760]
["FLT12VHO-215W x 4L x 8'-MG","Fluorescent Linear T12 VHO (215W x 4L x 8') 1 Magnetic Ballast  ","F","L","T12VHO","MG",null,null,"Fluorescent","Linear","T12 VHO",215,4,"Magnetic Ballast",null,8,1,null,880]
["FLT5HO-49W x 10L x 4'-RS/PRS VH","Fluorescent Linear T5 HO (49W x 10L x 4') 1 Rapid/Program Start Ballast (BF > 1.10) ","F","L","T5HO","RS/PRS","(BF > 1.10)",null,"Fluorescent","Linear","T5 HO",49,10,"Rapid/Program Start Ballast","VH",4,1,null,541]
["FUT8-25W x 4L x 2'-IS VH","Fluorescent U Tube T8 (25W x 4L x 2') 1 Instant start Ballast (BF > 1.10) ","F","U","T8","IS","(BF > 1.10)",null,"Fluorescent","U Tube","T8",25,4,"Instant start Ballast","VH",2,1,null,121]
["FLT5HO-49W x 2L x 4'-RS/PRS H","Fluorescent Linear T5 HO (49W x 2L x 4') 1 Rapid/Program Start Ballast (0.95 < BF < 1.10) ","F","L","T5HO","RS/PRS","(0.95 < BF < 1.10)",null,"Fluorescent","Linear","T5 HO",49,2,"Rapid/Program Start Ballast","H",4,1,null,109]
["FLT5HO-49W x 2L x 4'-RS/PRS VH","Fluorescent Linear T5 HO (49W x 2L x 4') 1 Rapid/Program Start Ballast (BF > 1.10) ","F","L","T5HO","RS/PRS","(BF > 1.10)",null,"Fluorescent","Linear","T5 HO",49,2,"Rapid/Program Start Ballast","VH",4,1,null,109]
["FLT8CEE-28W x 2L x 4'-CEE RS/PRS CEE H","Fluorescent Linear T8 CEE  (28W x 2L x 4') 1 CEE Rapid/Program Start Ballast (BF > 1.0) ","F","L","T8CEE","CEE RS/PRS","(BF > 1.0)",null,"Fluorescent","Linear","T8 CEE ",28,2,"CEE Rapid/Program Start Ballast","CEE H",4,1,null,67]
["FLT8-32W x 2L x 4'-CEE PS/PRS DIM VH","Fluorescent Linear T8 (32W x 2L x 4') 1 CEE Dimmable PS/PRS Ballast (BF > 1.10) ","F","L","T8","CEE PS/PRS DIM","(BF > 1.10)",null,"Fluorescent","Linear","T8",32,2,"CEE Dimmable PS/PRS Ballast","VH",4,1,null,75]
["FLT8-32W x 2L x 4'-IS(E) VH","Fluorescent Linear T8 (32W x 2L x 4') 1 Efficient Instant Start Ballast (BF > 1.10) ","F","L","T8","IS(E)","(BF > 1.10)",null,"Fluorescent","Linear","T8",32,2,"Efficient Instant Start Ballast","VH",4,1,null,75]
["FLT5HOHB-49W x 2L x 4'-RS/PRS H","Fluorescent Linear T5 HO Highbay (49W x 2L x 4') 1 Rapid/Program Start Ballast (0.95 < BF < 1.10) ","F","L","T5HOHB","RS/PRS","(0.95 < BF < 1.10)",null,"Fluorescent","Linear","T5 HO Highbay",49,2,"Rapid/Program Start Ballast","H",4,1,null,109]
["FLT5HOHB-49W x 2L x 4'-RS/PRS VH","Fluorescent Linear T5 HO Highbay (49W x 2L x 4') 1 Rapid/Program Start Ballast (BF > 1.10) ","F","L","T5HOHB","RS/PRS","(BF > 1.10)",null,"Fluorescent","Linear","T5 HO Highbay",49,2,"Rapid/Program Start Ballast","VH",4,1,null,109]
["FLT12-30W x 4L x 4'-2 MG","Fluorescent Linear T12 (30W x 4L x 4') 2 Magnetic Ballast  ","F","L","T12","MG",null,null,"Fluorescent","Linear","T12",30,4,"Magnetic Ballast",null,4,2,null,164]
["FLT12VHO-94W x 4L x 4'-2 MG","Fluorescent Linear T12 VHO (94W x 4L x 4') 2 Magnetic Ballast  ","F","L","T12VHO","MG",null,null,"Fluorescent","Linear","T12 VHO",94,4,"Magnetic Ballast",null,4,2,null,420]
["FLT12VHO-110W x 4L x 4'-2 MG","Fluorescent Linear T12 VHO (110W x 4L x 4') 2 Magnetic Ballast  ","F","L","T12VHO","MG",null,null,"Fluorescent","Linear","T12 VHO",110,4,"Magnetic Ballast",null,4,2,null,484]
["FLT5HO-44W x 3L x 4'-RS/PRS VH","Fluorescent Linear T5 HO (44W x 3L x 4') 1 Rapid/Program Start Ballast (BF > 1.10) ","F","L","T5HO","RS/PRS","(BF > 1.10)",null,"Fluorescent","Linear","T5 HO",44,3,"Rapid/Program Start Ballast","VH",4,1,null,149]
["FLT8-25W x 3L x 4'-IS H","Fluorescent Linear T8 (25W x 3L x 4') 1 Instant start Ballast (0.95 < BF < 1.10) ","F","L","T8","IS","(0.95 < BF < 1.10)",null,"Fluorescent","Linear","T8",25,3,"Instant start Ballast","H",4,1,null,92]
["FLT8-32W x 3L x 4'-IS VH","Fluorescent Linear T8 (32W x 3L x 4') 1 Instant start Ballast (BF > 1.10) ","F","L","T8","IS","(BF > 1.10)",null,"Fluorescent","Linear","T8",32,3,"Instant start Ballast","VH",4,1,null,113]
["FLT8-32W x 4L x 4'-IS VH","Fluorescent Linear T8 (32W x 4L x 4') 1 Instant start Ballast (BF > 1.10) ","F","L","T8","IS","(BF > 1.10)",null,"Fluorescent","Linear","T8",32,4,"Instant start Ballast","VH",4,1,null,151]
["FLT5HO-44W x 4L x 4'-RS/PRS VH","Fluorescent Linear T5 HO (44W x 4L x 4') 1 Rapid/Program Start Ballast (BF > 1.10) ","F","L","T5HO","RS/PRS","(BF > 1.10)",null,"Fluorescent","Linear","T5 HO",44,4,"Rapid/Program Start Ballast","VH",4,1,null,200]
["FLT5HO-49W x 6L x 4'-RS/PRS VH","Fluorescent Linear T5 HO (49W x 6L x 4') 1 Rapid/Program Start Ballast (BF > 1.10) ","F","L","T5HO","RS/PRS","(BF > 1.10)",null,"Fluorescent","Linear","T5 HO",49,6,"Rapid/Program Start Ballast","VH",4,1,null,330]
["FLT5HO-49W x 3L x 4'-RS/PRS H","Fluorescent Linear T5 HO (49W x 3L x 4') 1 Rapid/Program Start Ballast (0.95 < BF < 1.10) ","F","L","T5HO","RS/PRS","(0.95 < BF < 1.10)",null,"Fluorescent","Linear","T5 HO",49,3,"Rapid/Program Start Ballast","H",4,1,null,165]
["FLT5HO-49W x 3L x 4'-RS/PRS VH","Fluorescent Linear T5 HO (49W x 3L x 4') 1 Rapid/Program Start Ballast (BF > 1.10) ","F","L","T5HO","RS/PRS","(BF > 1.10)",null,"Fluorescent","Linear","T5 HO",49,3,"Rapid/Program Start Ballast","VH",4,1,null,165]
["FLT8-17W x 3'-RS/PRS VH","Fluorescent Linear T8 (17W x 1L x 3') 1 Rapid/Program Start Ballast (BF > 1.10) ","F","L","T8","RS/PRS","(BF > 1.10)",null,"Fluorescent","Linear","T8",17,1,"Rapid/Program Start Ballast","VH",3,1,null,23]
["MHPS-20W-HIDLF","HID Metal Halide Pulse-Start (20W x 1L) 1 HID Low Freq Ballast  ",null,"MH","PS","HIDLF",null,null,"HID","Metal Halide","Pulse-Start",20,1,"HID Low Freq Ballast",null,null,1,null,26]
["CMH-20W-HIDLF","HID Ceramic Metal Halide Standard (20W x 1L) 1 HID Low Freq Ballast  ",null,"CMH",null,"HIDLF",null,null,"HID","Ceramic Metal Halide","Standard",20,1,"HID Low Freq Ballast",null,null,1,null,26]
["FUT8-25W x 2'-RS/PRS VH","Fluorescent U Tube T8 (25W x 1L x 2') 1 Rapid/Program Start Ballast (BF > 1.10) ","F","U","T8","RS/PRS","(BF > 1.10)",null,"Fluorescent","U Tube","T8",25,1,"Rapid/Program Start Ballast","VH",2,1,null,31]
["FLT8-25W x 4'-RS/PRS VH","Fluorescent Linear T8 (25W x 1L x 4') 1 Rapid/Program Start Ballast (BF > 1.10) ","F","L","T8","RS/PRS","(BF > 1.10)",null,"Fluorescent","Linear","T8",25,1,"Rapid/Program Start Ballast","VH",4,1,null,31]
["FLT8CEE-28W x 4'-CEE RS/PRS CEE H","Fluorescent Linear T8 CEE  (28W x 1L x 4') 1 CEE Rapid/Program Start Ballast (BF > 1.0) ","F","L","T8CEE","CEE RS/PRS","(BF > 1.0)",null,"Fluorescent","Linear","T8 CEE ",28,1,"CEE Rapid/Program Start Ballast","CEE H",4,1,null,34]
["FLT8-30W x 2L x 4'-IS H","Fluorescent Linear T8 (30W x 2L x 4') 1 Instant start Ballast (0.95 < BF < 1.10) ","F","L","T8","IS","(0.95 < BF < 1.10)",null,"Fluorescent","Linear","T8",30,2,"Instant start Ballast","H",4,1,null,72]
["FLT8-30W x 4'-RS/PRS VH","Fluorescent Linear T8 (30W x 1L x 4') 1 Rapid/Program Start Ballast (BF > 1.10) ","F","L","T8","RS/PRS","(BF > 1.10)",null,"Fluorescent","Linear","T8",30,1,"Rapid/Program Start Ballast","VH",4,1,null,36]
["FLT8CEE-32W x 4'-CEE IS CEE H","Fluorescent Linear T8 CEE  (32W x 1L x 4') 1 CEE Instant Start Ballast (BF > 1.0) ","F","L","T8CEE","CEE IS","(BF > 1.0)",null,"Fluorescent","Linear","T8 CEE ",32,1,"CEE Instant Start Ballast","CEE H",4,1,null,38]
["FLT8CEEHB-32W x 4'-CEE IS CEE H","Fluorescent Linear T8 CEE Highbay (32W x 1L x 4') 1 CEE Instant Start Ballast (BF > 1.0) ","F","L","T8CEEHB","CEE IS","(BF > 1.0)",null,"Fluorescent","Linear","T8 CEE Highbay",32,1,"CEE Instant Start Ballast","CEE H",4,1,null,38]
["CMH-39W-HIDLF","HID Ceramic Metal Halide Standard (39W x 1L) 1 HID Low Freq Ballast  ",null,"CMH",null,"HIDLF",null,null,"HID","Ceramic Metal Halide","Standard",39,1,"HID Low Freq Ballast",null,null,1,null,45]
["CMH-39W-SCWA","HID Ceramic Metal Halide Standard (39W x 1L) 1 Super CWA Ballast  ",null,"CMH",null,"SCWA",null,null,"HID","Ceramic Metal Halide","Standard",39,1,"Super CWA Ballast",null,null,1,null,45]
["FCP-40W-MG","Fluorescent Compact Pin-Base (40W x 1L) 1 Magnetic Ballast  ","F","C","P","MG",null,null,"Fluorescent","Compact","Pin-Base",40,1,"Magnetic Ballast",null,null,1,null,46]
["FLT5HOHB-49W x 3L x 4'-RS/PRS H","Fluorescent Linear T5 HO Highbay (49W x 3L x 4') 1 Rapid/Program Start Ballast (0.95 < BF < 1.10) ","F","L","T5HOHB","RS/PRS","(0.95 < BF < 1.10)",null,"Fluorescent","Linear","T5 HO Highbay",49,3,"Rapid/Program Start Ballast","H",4,1,null,165]
["FLT5HOHB-49W x 3L x 4'-RS/PRS VH","Fluorescent Linear T5 HO Highbay (49W x 3L x 4') 1 Rapid/Program Start Ballast (BF > 1.10) ","F","L","T5HOHB","RS/PRS","(BF > 1.10)",null,"Fluorescent","Linear","T5 HO Highbay",49,3,"Rapid/Program Start Ballast","VH",4,1,null,165]
["CMH-50W-HIDLF","HID Ceramic Metal Halide Standard (50W x 1L) 1 HID Low Freq Ballast  ",null,"CMH",null,"HIDLF",null,null,"HID","Ceramic Metal Halide","Standard",50,1,"HID Low Freq Ballast",null,null,1,null,56]
["FLT12-55W x 2L x 6'-MG(E)","Fluorescent Linear T12 (55W x 2L x 6') 1 Efficient Magnetic Ballast  ","F","L","T12","MG(E)",null,null,"Fluorescent","Linear","T12",55,2,"Efficient Magnetic Ballast",null,6,1,null,122]
["FLT12-55W x 4L x 6'-MG(E)","Fluorescent Linear T12 (55W x 4L x 6') 1 Efficient Magnetic Ballast  ","F","L","T12","MG(E)",null,null,"Fluorescent","Linear","T12",55,4,"Efficient Magnetic Ballast",null,6,1,null,244]
["INERB-55W-INDN H","Induction Exterior Remote Ballasted (55W x 1L) 1 Induction (Non Integral) Ballast (0.95 < BF < 1.10) ","IN","E","RB","INDN","(0.95 < BF < 1.10)",null,"Induction","Exterior","Remote Ballasted",55,1,"Induction (Non Integral) Ballast","H",null,1,null,61]
["FLT12-55W x 2L x 6'-MG","Fluorescent Linear T12 (55W x 2L x 6') 1 Magnetic Ballast  ","F","L","T12","MG",null,null,"Fluorescent","Linear","T12",55,2,"Magnetic Ballast",null,6,1,null,122]
["INIRB-55W-INDN H","Induction Interior Remote Ballasted (55W x 1L) 1 Induction (Non Integral) Ballast (0.95 < BF < 1.10) ","IN","I","RB","INDN","(0.95 < BF < 1.10)",null,"Induction","Interior","Remote Ballasted",55,1,"Induction (Non Integral) Ballast","H",null,1,null,61]
["FLT12-60W x 3L x 8'-MG(E)","Fluorescent Linear T12 (60W x 3L x 8') 1 Efficient Magnetic Ballast  ","F","L","T12","MG(E)",null,null,"Fluorescent","Linear","T12",60,3,"Efficient Magnetic Ballast",null,8,1,null,198]
["FLT12-60W x 3L x 8'-MG","Fluorescent Linear T12 (60W x 3L x 8') 1 Magnetic Ballast  ","F","L","T12","MG",null,null,"Fluorescent","Linear","T12",60,3,"Magnetic Ballast",null,8,1,null,198]
["INERB-80W-INDN H","Induction Exterior Remote Ballasted (80W x 1L) 1 Induction (Non Integral) Ballast (0.95 < BF < 1.10) ","IN","E","RB","INDN","(0.95 < BF < 1.10)",null,"Induction","Exterior","Remote Ballasted",80,1,"Induction (Non Integral) Ballast","H",null,1,null,86]
["INIRB-80W-INDN H","Induction Interior Remote Ballasted (80W x 1L) 1 Induction (Non Integral) Ballast (0.95 < BF < 1.10) ","IN","I","RB","INDN","(0.95 < BF < 1.10)",null,"Induction","Interior","Remote Ballasted",80,1,"Induction (Non Integral) Ballast","H",null,1,null,86]
["FLT10-40W x 4L x 4'-2 MG","Fluorescent Linear T10 (40W x 4L x 4') 2 Magnetic Ballast  ","F","L","T10","MG",null,null,"Fluorescent","Linear","T10",40,4,"Magnetic Ballast",null,4,2,null,210]
["FLT12HO-55W x 4L x 4'-2 MG","Fluorescent Linear T12 HO (55W x 4L x 4') 2 Magnetic Ballast  ","F","L","T12HO","MG",null,null,"Fluorescent","Linear","T12 HO",55,4,"Magnetic Ballast",null,4,2,null,270]
["FLT12HO-60W x 4L x 4'-2 MG","Fluorescent Linear T12 HO (60W x 4L x 4') 2 Magnetic Ballast  ","F","L","T12HO","MG",null,null,"Fluorescent","Linear","T12 HO",60,4,"Magnetic Ballast",null,4,2,null,290]
["FLT8-32W x 2L x 4'-IS H","Fluorescent Linear T8 (32W x 2L x 4') 1 Instant start Ballast (0.95 < BF < 1.10) ","F","L","T8","IS","(0.95 < BF < 1.10)",null,"Fluorescent","Linear","T8",32,2,"Instant start Ballast","H",4,1,null,77]
["FLT8-59W x 4L x 8'-2 IS(E) VH","Fluorescent Linear T8 (59W x 4L x 8') 2 Efficient Instant Start Ballast (BF > 1.10) ","F","L","T8","IS(E)","(BF > 1.10)",null,"Fluorescent","Linear","T8",59,4,"Efficient Instant Start Ballast","VH",8,2,null,288]
["FLT8-59W x 3L x 8'-2 IS VH","Fluorescent Linear T8 (59W x 3L x 8') 2 Instant start Ballast (BF > 1.10) ","F","L","T8","IS","(BF > 1.10)",null,"Fluorescent","Linear","T8",59,3,"Instant start Ballast","VH",8,2,null,216]
["FLT12-40W x 3L x 4'-MG(E)","Fluorescent Linear T12 (40W x 3L x 4') 1 Efficient Magnetic Ballast  ","F","L","T12","MG(E)",null,null,"Fluorescent","Linear","T12",40,3,"Efficient Magnetic Ballast",null,4,1,null,140]
["FUT12-40W x 3L-MG(E)","Fluorescent U Tube T12 (40W x 3L) 1 Efficient Magnetic Ballast  ","F","U","T12","MG(E)",null,null,"Fluorescent","U Tube","T12",40,3,"Efficient Magnetic Ballast",null,null,1,null,140]
["FLT12-40W x 3L x 4'-MG","Fluorescent Linear T12 (40W x 3L x 4') 1 Magnetic Ballast  ","F","L","T12","MG",null,null,"Fluorescent","Linear","T12",40,3,"Magnetic Ballast",null,4,1,null,140]
["FLT5HO-51W x 3L x 4'-RS/PRS H","Fluorescent Linear T5 HO (51W x 3L x 4') 1 Rapid/Program Start Ballast (0.95 < BF < 1.10) ","F","L","T5HO","RS/PRS","(0.95 < BF < 1.10)",null,"Fluorescent","Linear","T5 HO",51,3,"Rapid/Program Start Ballast","H",4,1,null,174]
["FLT8-15W x 2'-RS/PRS VH","Fluorescent Linear T8 (15W x 1L x 2') 1 Rapid/Program Start Ballast (BF > 1.10) ","F","L","T8","RS/PRS","(BF > 1.10)",null,"Fluorescent","Linear","T8",15,1,"Rapid/Program Start Ballast","VH",2,1,null,22]
["FCP-17W x 2L-MG","Fluorescent Compact Pin-Base (17W x 2L) 1 Magnetic Ballast  ","F","C","P","MG",null,null,"Fluorescent","Compact","Pin-Base",17,2,"Magnetic Ballast",null,null,1,null,48]
["FLT8-17W x 2'-MG","Fluorescent Linear T8 (17W x 1L x 2') 1 Magnetic Ballast  ","F","L","T8","MG",null,null,"Fluorescent","Linear","T8",17,1,"Magnetic Ballast",null,2,1,null,24]
[{"$f":"C1091&D1091&E1091&IF(L1091=\"\",\"\",\"-\"&L1091&\"W\")&IF(OR(M1091=1,M1091=\"\"),\"\",\" x \"&M1091&\"L\")&IF(P1091=\"\",\"\",\" x \"&P1091&\"'\")&IF(F1091=\"\",\"\",\"-\"&IF(Q1091=1,\"\",Q1091&\" \")&F1091&IF(O1091=\"\",\"\",\" \"&O1091)&IF(H1091=\"\",\"\",\" \"&H1091))","v":"FLT8-25W x 4'-IS VH"},{"$f":"I1091& IF(J1091=\"\",\"\",\" \"&J1091)&IF(K1091=\"\",\"\",\" \"&K1091)&\" (\"&L1091&\"W\"&IF(M1091=\"\",\"\",\" x \"&M1091 & \"L\")&IF(P1091=\"\",\"\",\" x \"&P1091&\"'\")&\")\"&IF(N1091=\"\",\"\",\" \"&Q1091&\" \"&N1091&\" \"&G1091)&\" \"&R1091","v":"Fluorescent Linear T8 (25W x 1L x 4') 1 Instant start Ballast (BF > 1.10) "},"F","L","T8","IS","(BF > 1.10)",null,"Fluorescent","Linear","T8",25,1,"Instant start Ballast","VH",4,1,null,32]
["FCP-26W x 2L-MG","Fluorescent Compact Pin-Base (26W x 2L) 1 Magnetic Ballast  ","F","C","P","MG",null,null,"Fluorescent","Compact","Pin-Base",26,2,"Magnetic Ballast",null,null,1,null,66]
["FCP-26W x 3L-MG","Fluorescent Compact Pin-Base (26W x 3L) 1 Magnetic Ballast  ","F","C","P","MG",null,null,"Fluorescent","Compact","Pin-Base",26,3,"Magnetic Ballast",null,null,1,null,99]
["FCP-28W-MG","Fluorescent Compact Pin-Base (28W x 1L) 1 Magnetic Ballast  ","F","C","P","MG",null,null,"Fluorescent","Compact","Pin-Base",28,1,"Magnetic Ballast",null,null,1,null,35]
["FLT12-30W x 2L x 3'-MG(E)","Fluorescent Linear T12 (30W x 2L x 3') 1 Efficient Magnetic Ballast  ","F","L","T12","MG(E)",null,null,"Fluorescent","Linear","T12",30,2,"Efficient Magnetic Ballast",null,3,1,null,74]
["FLT12-30W x 4L x 3'-MG(E)","Fluorescent Linear T12 (30W x 4L x 3') 1 Efficient Magnetic Ballast  ","F","L","T12","MG(E)",null,null,"Fluorescent","Linear","T12",30,4,"Efficient Magnetic Ballast",null,3,1,null,148]
["FLT12-30W x 2L x 3'-MG","Fluorescent Linear T12 (30W x 2L x 3') 1 Magnetic Ballast  ","F","L","T12","MG",null,null,"Fluorescent","Linear","T12",30,2,"Magnetic Ballast",null,3,1,null,74]
["FLT12-30W x 4L x 3'-MG","Fluorescent Linear T12 (30W x 4L x 3') 1 Magnetic Ballast  ","F","L","T12","MG",null,null,"Fluorescent","Linear","T12",30,4,"Magnetic Ballast",null,3,1,null,148]
["FLT8-32W x 4'-CEE PS/PRS DIM VH","Fluorescent Linear T8 (32W x 1L x 4') 1 CEE Dimmable PS/PRS Ballast (BF > 1.10) ","F","L","T8","CEE PS/PRS DIM","(BF > 1.10)",null,"Fluorescent","Linear","T8",32,1,"CEE Dimmable PS/PRS Ballast","VH",4,1,null,39]
["FLT8CEE-32W x 4'-CEE PS/PRS DIM CEE N","Fluorescent Linear T8 CEE  (32W x 1L x 4') 1 CEE Dimmable PS/PRS Ballast (BF > 1.0) ","F","L","T8CEE","CEE PS/PRS DIM","(BF > 1.0)",null,"Fluorescent","Linear","T8 CEE ",32,1,"CEE Dimmable PS/PRS Ballast","CEE N",4,1,null,39]
["FLT8CEEHB-32W x 4'-CEE PS/PRS DIM CEE N","Fluorescent Linear T8 CEE Highbay (32W x 1L x 4') 1 CEE Dimmable PS/PRS Ballast (BF > 1.0) ","F","L","T8CEEHB","CEE PS/PRS DIM","(BF > 1.0)",null,"Fluorescent","Linear","T8 CEE Highbay",32,1,"CEE Dimmable PS/PRS Ballast","CEE N",4,1,null,39]
["FLT8CEE-32W x 4'-CEE RS/PRS CEE H","Fluorescent Linear T8 CEE  (32W x 1L x 4') 1 CEE Rapid/Program Start Ballast (BF > 1.0) ","F","L","T8CEE","CEE RS/PRS","(BF > 1.0)",null,"Fluorescent","Linear","T8 CEE ",32,1,"CEE Rapid/Program Start Ballast","CEE H",4,1,null,39]
["FLT8CEEHB-32W x 4'-CEE RS/PRS CEE H","Fluorescent Linear T8 CEE Highbay (32W x 1L x 4') 1 CEE Rapid/Program Start Ballast (BF > 1.0) ","F","L","T8CEEHB","CEE RS/PRS","(BF > 1.0)",null,"Fluorescent","Linear","T8 CEE Highbay",32,1,"CEE Rapid/Program Start Ballast","CEE H",4,1,null,39]
["FLT8-32W x 4'-RS/PRS H","Fluorescent Linear T8 (32W x 1L x 4') 1 Rapid/Program Start Ballast (0.95 < BF < 1.10) ","F","L","T8","RS/PRS","(0.95 < BF < 1.10)",null,"Fluorescent","Linear","T8",32,1,"Rapid/Program Start Ballast","H",4,1,null,39]
["FLT8-32W x 4'-RS/PRS VH","Fluorescent Linear T8 (32W x 1L x 4') 1 Rapid/Program Start Ballast (BF > 1.10) ","F","L","T8","RS/PRS","(BF > 1.10)",null,"Fluorescent","Linear","T8",32,1,"Rapid/Program Start Ballast","VH",4,1,null,39]
["FUT8-32W x 2'-RS/PRS VH","Fluorescent U Tube T8 (32W x 1L x 2') 1 Rapid/Program Start Ballast (BF > 1.10) ","F","U","T8","RS/PRS","(BF > 1.10)",null,"Fluorescent","U Tube","T8",32,1,"Rapid/Program Start Ballast","VH",2,1,null,39]
["FLT12-39W x 4'-IS N","Fluorescent Linear T12 (39W x 1L x 4') 1 Instant start Ballast (0.85 < BF < 0.95) ","F","L","T12","IS","(0.85 < BF < 0.95)",null,"Fluorescent","Linear","T12",39,1,"Instant start Ballast","N",4,1,null,46]
["FLT12HO-50W x 2L x 3'-MG","Fluorescent Linear T12 HO (50W x 2L x 3') 1 Magnetic Ballast  ","F","L","T12HO","MG",null,null,"Fluorescent","Linear","T12 HO",50,2,"Magnetic Ballast",null,3,1,null,114]
["FLT5HOHB-51W x 3L x 4'-RS/PRS H","Fluorescent Linear T5 HO Highbay (51W x 3L x 4') 1 Rapid/Program Start Ballast (0.95 < BF < 1.10) ","F","L","T5HOHB","RS/PRS","(0.95 < BF < 1.10)",null,"Fluorescent","Linear","T5 HO Highbay",51,3,"Rapid/Program Start Ballast","H",4,1,null,174]
["CMH-60W-HIDLF","HID Ceramic Metal Halide Standard (60W x 1L) 1 HID Low Freq Ballast  ",null,"CMH",null,"HIDLF",null,null,"HID","Ceramic Metal Halide","Standard",60,1,"HID Low Freq Ballast",null,null,1,null,67]
["INERB-70W-INDN H","Induction Exterior Remote Ballasted (70W x 1L) 1 Induction (Non Integral) Ballast (0.95 < BF < 1.10) ","IN","E","RB","INDN","(0.95 < BF < 1.10)",null,"Induction","Exterior","Remote Ballasted",70,1,"Induction (Non Integral) Ballast","H",null,1,null,77]
["MHPS-70W-HIDLF","HID Metal Halide Pulse-Start (70W x 1L) 1 HID Low Freq Ballast  ",null,"MH","PS","HIDLF",null,null,"HID","Metal Halide","Pulse-Start",70,1,"HID Low Freq Ballast",null,null,1,null,77]
["INIRB-70W-INDN H","Induction Interior Remote Ballasted (70W x 1L) 1 Induction (Non Integral) Ballast (0.95 < BF < 1.10) ","IN","I","RB","INDN","(0.95 < BF < 1.10)",null,"Induction","Interior","Remote Ballasted",70,1,"Induction (Non Integral) Ballast","H",null,1,null,77]
["INERB-100W-INDN H","Induction Exterior Remote Ballasted (100W x 1L) 1 Induction (Non Integral) Ballast (0.95 < BF < 1.10) ","IN","E","RB","INDN","(0.95 < BF < 1.10)",null,"Induction","Exterior","Remote Ballasted",100,1,"Induction (Non Integral) Ballast","H",null,1,null,107]
["INIRB-100W-INDN H","Induction Interior Remote Ballasted (100W x 1L) 1 Induction (Non Integral) Ballast (0.95 < BF < 1.10) ","IN","I","RB","INDN","(0.95 < BF < 1.10)",null,"Induction","Interior","Remote Ballasted",100,1,"Induction (Non Integral) Ballast","H",null,1,null,107]
["INERB-120W-INDN H","Induction Exterior Remote Ballasted (120W x 1L) 1 Induction (Non Integral) Ballast (0.95 < BF < 1.10) ","IN","E","RB","INDN","(0.95 < BF < 1.10)",null,"Induction","Exterior","Remote Ballasted",120,1,"Induction (Non Integral) Ballast","H",null,1,null,127]
["INIRB-120W-INDN H","Induction Interior Remote Ballasted (120W x 1L) 1 Induction (Non Integral) Ballast (0.95 < BF < 1.10) ","IN","I","RB","INDN","(0.95 < BF < 1.10)",null,"Induction","Interior","Remote Ballasted",120,1,"Induction (Non Integral) Ballast","H",null,1,null,127]
["FLT12-34W x 4L x 4'-2 MG","Fluorescent Linear T12 (34W x 4L x 4') 2 Magnetic Ballast  ","F","L","T12","MG",null,null,"Fluorescent","Linear","T12",34,4,"Magnetic Ballast",null,4,2,null,192]
["FLT12-30W x 3L x 4'-2 MG","Fluorescent Linear T12 (30W x 3L x 4') 2 Magnetic Ballast  ","F","L","T12","MG",null,null,"Fluorescent","Linear","T12",30,3,"Magnetic Ballast",null,4,2,null,133]
["FLT8-40W x 3L x 5'-IS VH","Fluorescent Linear T8 (40W x 3L x 5') 1 Instant start Ballast (BF > 1.10) ","F","L","T8","IS","(BF > 1.10)",null,"Fluorescent","Linear","T8",40,3,"Instant start Ballast","VH",5,1,null,142]
["FLT8-25W x 2L x 4'-IS H","Fluorescent Linear T8 (25W x 2L x 4') 1 Instant start Ballast (0.95 < BF < 1.10) ","F","L","T8","IS","(0.95 < BF < 1.10)",null,"Fluorescent","Linear","T8",25,2,"Instant start Ballast","H",4,1,null,65]
["FLT8-32W x 2L x 4'-IS VH","Fluorescent Linear T8 (32W x 2L x 4') 1 Instant start Ballast (BF > 1.10) ","F","L","T8","IS","(BF > 1.10)",null,"Fluorescent","Linear","T8",32,2,"Instant start Ballast","VH",4,1,null,79]
["FLT8-59W x 4L x 8'-2 IS VH","Fluorescent Linear T8 (59W x 4L x 8') 2 Instant start Ballast (BF > 1.10) ","F","L","T8","IS","(BF > 1.10)",null,"Fluorescent","Linear","T8",59,4,"Instant start Ballast","VH",8,2,null,298]
["FLT5HO-54W x 4'-RS/PRS H","Fluorescent Linear T5 HO (54W x 1L x 4') 1 Rapid/Program Start Ballast (0.95 < BF < 1.10) ","F","L","T5HO","RS/PRS","(0.95 < BF < 1.10)",null,"Fluorescent","Linear","T5 HO",54,1,"Rapid/Program Start Ballast","H",4,1,null,62]
["FCP-18W-MG","Fluorescent Compact Pin-Base (18W x 1L) 1 Magnetic Ballast  ","F","C","P","MG",null,null,"Fluorescent","Compact","Pin-Base",18,1,"Magnetic Ballast",null,null,1,null,26]
["FCP-24W-MG","Fluorescent Compact Pin-Base (24W x 1L) 1 Magnetic Ballast  ","F","C","P","MG",null,null,"Fluorescent","Compact","Pin-Base",24,1,"Magnetic Ballast",null,null,1,null,32]
["FLT12-25W x 2L x 3'-MG(E)","Fluorescent Linear T12 (25W x 2L x 3') 1 Efficient Magnetic Ballast  ","F","L","T12","MG(E)",null,null,"Fluorescent","Linear","T12",25,2,"Efficient Magnetic Ballast",null,3,1,null,66]
["FLT12-25W x 4L x 3'-MG(E)","Fluorescent Linear T12 (25W x 4L x 3') 1 Efficient Magnetic Ballast  ","F","L","T12","MG(E)",null,null,"Fluorescent","Linear","T12",25,4,"Efficient Magnetic Ballast",null,3,1,null,132]
["FCP-25W x 2L-MG","Fluorescent Compact Pin-Base (25W x 2L) 1 Magnetic Ballast  ","F","C","P","MG",null,null,"Fluorescent","Compact","Pin-Base",25,2,"Magnetic Ballast",null,null,1,null,66]
["FLT12-25W x 2L x 3'-MG","Fluorescent Linear T12 (25W x 2L x 3') 1 Magnetic Ballast  ","F","L","T12","MG",null,null,"Fluorescent","Linear","T12",25,2,"Magnetic Ballast",null,3,1,null,66]
["FLT8-28W x 4'-IS VH","Fluorescent Linear T8 (28W x 1L x 4') 1 Instant start Ballast (BF > 1.10) ","F","L","T8","IS","(BF > 1.10)",null,"Fluorescent","Linear","T8",28,1,"Instant start Ballast","VH",4,1,null,36]
["FCIT9-32W-MGPH","Fluorescent Circline T9 (32W x 1L) 1 Pre-Heated Ballast  ","F","CI","T9","MGPH",null,null,"Fluorescent","Circline","T9",32,1,"Pre-Heated Ballast",null,null,1,null,40]
["FUT12-35W-MG(E)","Fluorescent U Tube T12 (35W x 1L) 1 Efficient Magnetic Ballast  ","F","U","T12","MG(E)",null,null,"Fluorescent","U Tube","T12",35,1,"Efficient Magnetic Ballast",null,null,1,null,43]
["FUT12-35W-MG","Fluorescent U Tube T12 (35W x 1L) 1 Magnetic Ballast  ","F","U","T12","MG",null,null,"Fluorescent","U Tube","T12",35,1,"Magnetic Ballast",null,null,1,null,43]
["FCP-38W-MG","Fluorescent Compact Pin-Base (38W x 1L) 1 Magnetic Ballast  ","F","C","P","MG",null,null,"Fluorescent","Compact","Pin-Base",38,1,"Magnetic Ballast",null,null,1,null,46]
["FLT5HOHB-54W x 4'-RS/PRS H","Fluorescent Linear T5 HO Highbay (54W x 1L x 4') 1 Rapid/Program Start Ballast (0.95 < BF < 1.10) ","F","L","T5HOHB","RS/PRS","(0.95 < BF < 1.10)",null,"Fluorescent","Linear","T5 HO Highbay",54,1,"Rapid/Program Start Ballast","H",4,1,null,62]
["INERB-165W-INDN H","Induction Exterior Remote Ballasted (165W x 1L) 1 Induction (Non Integral) Ballast (0.95 < BF < 1.10) ","IN","E","RB","INDN","(0.95 < BF < 1.10)",null,"Induction","Exterior","Remote Ballasted",165,1,"Induction (Non Integral) Ballast","H",null,1,null,173]
["INIRB-165W-INDN H","Induction Interior Remote Ballasted (165W x 1L) 1 Induction (Non Integral) Ballast (0.95 < BF < 1.10) ","IN","I","RB","INDN","(0.95 < BF < 1.10)",null,"Induction","Interior","Remote Ballasted",165,1,"Induction (Non Integral) Ballast","H",null,1,null,173]
["FLT12HO-95W x 4L x 8'-MG(E)","Fluorescent Linear T12 HO (95W x 4L x 8') 1 Efficient Magnetic Ballast  ","F","L","T12HO","MG(E)",null,null,"Fluorescent","Linear","T12 HO",95,4,"Efficient Magnetic Ballast",null,8,1,null,414]
["FLT12HO-95W x 8L x 8'-MG(E)","Fluorescent Linear T12 HO (95W x 8L x 8') 1 Efficient Magnetic Ballast  ","F","L","T12HO","MG(E)",null,null,"Fluorescent","Linear","T12 HO",95,8,"Efficient Magnetic Ballast",null,8,1,null,828]
["FLT12HO-95W x 4L x 8'-MG","Fluorescent Linear T12 HO (95W x 4L x 8') 1 Magnetic Ballast  ","F","L","T12HO","MG",null,null,"Fluorescent","Linear","T12 HO",95,4,"Magnetic Ballast",null,8,1,null,414]
["FLT12HO-110W x 4L x 8'-MG(E)","Fluorescent Linear T12 HO (110W x 4L x 8') 1 Efficient Magnetic Ballast  ","F","L","T12HO","MG(E)",null,null,"Fluorescent","Linear","T12 HO",110,4,"Efficient Magnetic Ballast",null,8,1,null,474]
["FLT12HO-110W x 4L x 8'-MG","Fluorescent Linear T12 HO (110W x 4L x 8') 1 Magnetic Ballast  ","F","L","T12HO","MG",null,null,"Fluorescent","Linear","T12 HO",110,4,"Magnetic Ballast",null,8,1,null,474]
["FLT5HO-49W x 4'-RS/PRS H","Fluorescent Linear T5 HO (49W x 1L x 4') 1 Rapid/Program Start Ballast (0.95 < BF < 1.10) ","F","L","T5HO","RS/PRS","(0.95 < BF < 1.10)",null,"Fluorescent","Linear","T5 HO",49,1,"Rapid/Program Start Ballast","H",4,1,null,58]
["FLT5HO-49W x 4'-RS/PRS VH","Fluorescent Linear T5 HO (49W x 1L x 4') 1 Rapid/Program Start Ballast (BF > 1.10) ","F","L","T5HO","RS/PRS","(BF > 1.10)",null,"Fluorescent","Linear","T5 HO",49,1,"Rapid/Program Start Ballast","VH",4,1,null,58]
["FLT5HO-80W x 5'-RS/PRS VH","Fluorescent Linear T5 HO (80W x 1L x 5') 1 Rapid/Program Start Ballast (BF > 1.10) ","F","L","T5HO","RS/PRS","(BF > 1.10)",null,"Fluorescent","Linear","T5 HO",80,1,"Rapid/Program Start Ballast","VH",5,1,null,89]
["FLT8-30W x 4'-IS H","Fluorescent Linear T8 (30W x 1L x 4') 1 Instant start Ballast (0.95 < BF < 1.10) ","F","L","T8","IS","(0.95 < BF < 1.10)",null,"Fluorescent","Linear","T8",30,1,"Instant start Ballast","H",4,1,null,39]
["FLT8-32W x 4'-IS H","Fluorescent Linear T8 (32W x 1L x 4') 1 Instant start Ballast (0.95 < BF < 1.10) ","F","L","T8","IS","(0.95 < BF < 1.10)",null,"Fluorescent","Linear","T8",32,1,"Instant start Ballast","H",4,1,null,41]
["FLT8-32W x 4'-IS VH","Fluorescent Linear T8 (32W x 1L x 4') 1 Instant start Ballast (BF > 1.10) ","F","L","T8","IS","(BF > 1.10)",null,"Fluorescent","Linear","T8",32,1,"Instant start Ballast","VH",4,1,null,41]
["FUT8-32W x 2'-IS VH","Fluorescent U Tube T8 (32W x 1L x 2') 1 Instant start Ballast (BF > 1.10) ","F","U","T8","IS","(BF > 1.10)",null,"Fluorescent","U Tube","T8",32,1,"Instant start Ballast","VH",2,1,null,41]
["FLT12-34W x 4'-MG(E)","Fluorescent Linear T12 (34W x 1L x 4') 1 Efficient Magnetic Ballast  ","F","L","T12","MG(E)",null,null,"Fluorescent","Linear","T12",34,1,"Efficient Magnetic Ballast",null,4,1,null,43]
["FLT12-34W x 8L x 4'-MG","Fluorescent Linear T12 (34W x 8L x 4') 1 Magnetic Ballast  ","F","L","T12","MG",null,null,"Fluorescent","Linear","T12",34,8,"Magnetic Ballast",null,4,1,null,344]
["FUT12-34W-MG","Fluorescent U Tube T12 (34W x 1L) 1 Magnetic Ballast  ","F","U","T12","MG",null,null,"Fluorescent","U Tube","T12",34,1,"Magnetic Ballast",null,null,1,null,43]
["FLT12-34W x 4'-MG","Fluorescent Linear T12 (34W x 1L x 4') 1 Magnetic Ballast  ","F","L","T12","MG",null,null,"Fluorescent","Linear","T12",34,1,"Magnetic Ballast",null,4,1,null,43]
[{"$f":"C1155&D1155&E1155&IF(L1155=\"\",\"\",\"-\"&L1155&\"W\")&IF(OR(M1155=1,M1155=\"\"),\"\",\" x \"&M1155&\"L\")&IF(P1155=\"\",\"\",\" x \"&P1155&\"'\")&IF(F1155=\"\",\"\",\"-\"&IF(Q1155=1,\"\",Q1155&\" \")&F1155&IF(O1155=\"\",\"\",\" \"&O1155)&IF(H1155=\"\",\"\",\" \"&H1155))","v":"FLT5HOHB-49W x 4'-RS/PRS H"},{"$f":"I1155& IF(J1155=\"\",\"\",\" \"&J1155)&IF(K1155=\"\",\"\",\" \"&K1155)&\" (\"&L1155&\"W\"&IF(M1155=\"\",\"\",\" x \"&M1155 & \"L\")&IF(P1155=\"\",\"\",\" x \"&P1155&\"'\")&\")\"&IF(N1155=\"\",\"\",\" \"&Q1155&\" \"&N1155&\" \"&G1155)&\" \"&R1155","v":"Fluorescent Linear T5 HO Highbay (49W x 1L x 4') 1 Rapid/Program Start Ballast (0.95 < BF < 1.10) "},"F","L","T5HOHB","RS/PRS","(0.95 < BF < 1.10)",null,"Fluorescent","Linear","T5 HO Highbay",49,1,"Rapid/Program Start Ballast","H",4,1,null,58]
["FLT5HOHB-49W x 4'-RS/PRS VH","Fluorescent Linear T5 HO Highbay (49W x 1L x 4') 1 Rapid/Program Start Ballast (BF > 1.10) ","F","L","T5HOHB","RS/PRS","(BF > 1.10)",null,"Fluorescent","Linear","T5 HO Highbay",49,1,"Rapid/Program Start Ballast","VH",4,1,null,58]
["FLT8-59W x 8'-IS H","Fluorescent Linear T8 (59W x 1L x 8') 1 Instant start Ballast (0.95 < BF < 1.10) ","F","L","T8","IS","(0.95 < BF < 1.10)",null,"Fluorescent","Linear","T8",59,1,"Instant start Ballast","H",8,1,null,68]
["FLT12-60W x 8'-IS N","Fluorescent Linear T12 (60W x 1L x 8') 1 Instant start Ballast (0.85 < BF < 0.95) ","F","L","T12","IS","(0.85 < BF < 0.95)",null,"Fluorescent","Linear","T12",60,1,"Instant start Ballast","N",8,1,null,69]
["CMH-70W-HIDLF","HID Ceramic Metal Halide Standard (70W x 1L) 1 HID Low Freq Ballast  ",null,"CMH",null,"HIDLF",null,null,"HID","Ceramic Metal Halide","Standard",70,1,"HID Low Freq Ballast",null,null,1,null,79]
["CMH-90W-HIDLF","HID Ceramic Metal Halide Standard (90W x 1L) 1 HID Low Freq Ballast  ",null,"CMH",null,"HIDLF",null,null,"HID","Ceramic Metal Halide","Standard",90,1,"HID Low Freq Ballast",null,null,1,null,99]
["CMH-100W-HIDLF","HID Ceramic Metal Halide Standard (100W x 1L) 1 HID Low Freq Ballast  ",null,"CMH",null,"HIDLF",null,null,"HID","Ceramic Metal Halide","Standard",100,1,"HID Low Freq Ballast",null,null,1,null,109]
["FLT5HO-80W x 5'-RS/PRS H","Fluorescent Linear T5 HO (80W x 1L x 5') 1 Rapid/Program Start Ballast (0.95 < BF < 1.10) ","F","L","T5HO","RS/PRS","(0.95 < BF < 1.10)",null,"Fluorescent","Linear","T5 HO",80,1,"Rapid/Program Start Ballast","H",5,1,null,90]
["FCP-16W-MG","Fluorescent Compact Pin-Base (16W x 1L) 1 Magnetic Ballast  ","F","C","P","MG",null,null,"Fluorescent","Compact","Pin-Base",16,1,"Magnetic Ballast",null,null,1,null,26]
["FLT8-25W x 4'-IS H","Fluorescent Linear T8 (25W x 1L x 4') 1 Instant start Ballast (0.95 < BF < 1.10) ","F","L","T8","IS","(0.95 < BF < 1.10)",null,"Fluorescent","Linear","T8",25,1,"Instant start Ballast","H",4,1,null,35]
["FLT8-25W x 2L x 3'-RS/PRS VH","Fluorescent Linear T8 (25W x 2L x 3') 1 Rapid/Program Start Ballast (BF > 1.10) ","F","L","T8","RS/PRS","(BF > 1.10)",null,"Fluorescent","Linear","T8",25,2,"Rapid/Program Start Ballast","VH",3,1,null,70]
["FLT12-30W x 3L x 3'-MG(E)","Fluorescent Linear T12 (30W x 3L x 3') 1 Efficient Magnetic Ballast  ","F","L","T12","MG(E)",null,null,"Fluorescent","Linear","T12",30,3,"Efficient Magnetic Ballast",null,3,1,null,120]
["FLT12-30W x 3L x 3'-MG","Fluorescent Linear T12 (30W x 3L x 3') 1 Magnetic Ballast  ","F","L","T12","MG",null,null,"Fluorescent","Linear","T12",30,3,"Magnetic Ballast",null,3,1,null,120]
["FLT12HO-35W x 2L x 2'-MG","Fluorescent Linear T12 HO (35W x 2L x 2') 1 Magnetic Ballast  ","F","L","T12HO","MG",null,null,"Fluorescent","Linear","T12 HO",35,2,"Magnetic Ballast",null,2,1,null,90]
["MV-40W-CWA","HID Mercury Vapor Standard (40W x 1L) 1 CWA Ballast  ",null,"MV",null,"CWA",null,null,"HID","Mercury Vapor","Standard",40,1,"CWA Ballast",null,null,1,null,50]
["FLT12-40W x 4'-MG(E)","Fluorescent Linear T12 (40W x 1L x 4') 1 Efficient Magnetic Ballast  ","F","L","T12","MG(E)",null,null,"Fluorescent","Linear","T12",40,1,"Efficient Magnetic Ballast",null,4,1,null,50]
["FUT12-40W-MG(E)","Fluorescent U Tube T12 (40W x 1L) 1 Efficient Magnetic Ballast  ","F","U","T12","MG(E)",null,null,"Fluorescent","U Tube","T12",40,1,"Efficient Magnetic Ballast",null,null,1,null,50]
["FLT8-40W x 2L x 5'-IS VH","Fluorescent Linear T8 (40W x 2L x 5') 1 Instant start Ballast (BF > 1.10) ","F","L","T8","IS","(BF > 1.10)",null,"Fluorescent","Linear","T8",40,2,"Instant start Ballast","VH",5,1,null,100]
["FLT12-40W x 4'-MG","Fluorescent Linear T12 (40W x 1L x 4') 1 Magnetic Ballast  ","F","L","T12","MG",null,null,"Fluorescent","Linear","T12",40,1,"Magnetic Ballast",null,4,1,null,50]
["FUT12-40W-MG","Fluorescent U Tube T12 (40W x 1L) 1 Magnetic Ballast  ","F","U","T12","MG",null,null,"Fluorescent","U Tube","T12",40,1,"Magnetic Ballast",null,null,1,null,50]
["MH-70W-HIDLF","HID Metal Halide Standard (70W x 1L) 1 HID Low Freq Ballast  ",null,"MH",null,"HIDLF",null,null,"HID","Metal Halide","Standard",70,1,"HID Low Freq Ballast",null,null,1,null,80]
["MHPS-100W-HIDLF","HID Metal Halide Pulse-Start (100W x 1L) 1 HID Low Freq Ballast  ",null,"MH","PS","HIDLF",null,null,"HID","Metal Halide","Pulse-Start",100,1,"HID Low Freq Ballast",null,null,1,null,110]
["INERB-150W-INDN H","Induction Exterior Remote Ballasted (150W x 1L) 1 Induction (Non Integral) Ballast (0.95 < BF < 1.10) ","IN","E","RB","INDN","(0.95 < BF < 1.10)",null,"Induction","Exterior","Remote Ballasted",150,1,"Induction (Non Integral) Ballast","H",null,1,null,160]
["INIRB-150W-INDN H","Induction Interior Remote Ballasted (150W x 1L) 1 Induction (Non Integral) Ballast (0.95 < BF < 1.10) ","IN","I","RB","INDN","(0.95 < BF < 1.10)",null,"Induction","Interior","Remote Ballasted",150,1,"Induction (Non Integral) Ballast","H",null,1,null,160]
["FLT12VHO-185W x 3L x 8'-MG","Fluorescent Linear T12 VHO (185W x 3L x 8') 1 Magnetic Ballast  ","F","L","T12VHO","MG",null,null,"Fluorescent","Linear","T12 VHO",185,3,"Magnetic Ballast",null,8,1,null,585]
["INERB-200W-INDN H","Induction Exterior Remote Ballasted (200W x 1L) 1 Induction (Non Integral) Ballast (0.95 < BF < 1.10) ","IN","E","RB","INDN","(0.95 < BF < 1.10)",null,"Induction","Exterior","Remote Ballasted",200,1,"Induction (Non Integral) Ballast","H",null,1,null,210]
["INIRB-200W-INDN H","Induction Interior Remote Ballasted (200W x 1L) 1 Induction (Non Integral) Ballast (0.95 < BF < 1.10) ","IN","I","RB","INDN","(0.95 < BF < 1.10)",null,"Induction","Interior","Remote Ballasted",200,1,"Induction (Non Integral) Ballast","H",null,1,null,210]
["FLT8-32W x 2L x 4'-RS/PRS VH","Fluorescent Linear T8 (32W x 2L x 4') 1 Rapid/Program Start Ballast (BF > 1.10) ","F","L","T8","RS/PRS","(BF > 1.10)",null,"Fluorescent","Linear","T8",32,2,"Rapid/Program Start Ballast","VH",4,1,null,85]
["FLT8-59W x 3L x 8'-2 IS H","Fluorescent Linear T8 (59W x 3L x 8') 2 Instant start Ballast (0.95 < BF < 1.10) ","F","L","T8","IS","(0.95 < BF < 1.10)",null,"Fluorescent","Linear","T8",59,3,"Instant start Ballast","H",8,2,null,240]
["FLT8-59W x 4L x 8'-2 IS H","Fluorescent Linear T8 (59W x 4L x 8') 2 Instant start Ballast (0.95 < BF < 1.10) ","F","L","T8","IS","(0.95 < BF < 1.10)",null,"Fluorescent","Linear","T8",59,4,"Instant start Ballast","H",8,2,null,320]
["FLT8-17W x 3L x 3'-RS/PRS VH","Fluorescent Linear T8 (17W x 3L x 3') 1 Rapid/Program Start Ballast (BF > 1.10) ","F","L","T8","RS/PRS","(BF > 1.10)",null,"Fluorescent","Linear","T8",17,3,"Rapid/Program Start Ballast","VH",3,1,null,83]
["FLT12-30W x 2L x 4'-MG","Fluorescent Linear T12 (30W x 2L x 4') 1 Magnetic Ballast  ","F","L","T12","MG",null,null,"Fluorescent","Linear","T12",30,2,"Magnetic Ballast",null,4,1,null,82]
["MH-32W-CWA","HID Metal Halide Standard (32W x 1L) 1 CWA Ballast  ",null,"MH",null,"CWA",null,null,"HID","Metal Halide","Standard",32,1,"CWA Ballast",null,null,1,null,43]
["FLT10-40W x 4'-MG","Fluorescent Linear T10 (40W x 1L x 4') 1 Magnetic Ballast  ","F","L","T10","MG",null,null,"Fluorescent","Linear","T10",40,1,"Magnetic Ballast",null,4,1,null,51]
["FLT12HO-95W x 8'-MG","Fluorescent Linear T12 HO (95W x 1L x 8') 1 Magnetic Ballast  ","F","L","T12HO","MG",null,null,"Fluorescent","Linear","T12 HO",95,1,"Magnetic Ballast",null,8,1,null,106]
["FLT12HO-110W x 8'-MG","Fluorescent Linear T12 HO (110W x 1L x 8') 1 Magnetic Ballast  ","F","L","T12HO","MG",null,null,"Fluorescent","Linear","T12 HO",110,1,"Magnetic Ballast",null,8,1,null,121]
["FLT8-17W x 2L x 3'-RS/PRS VH","Fluorescent Linear T8 (17W x 2L x 3') 1 Rapid/Program Start Ballast (BF > 1.10) ","F","L","T8","RS/PRS","(BF > 1.10)",null,"Fluorescent","Linear","T8",17,2,"Rapid/Program Start Ballast","VH",3,1,null,57]
["FUT8-25W x 2'-IS VH","Fluorescent U Tube T8 (25W x 1L x 2') 1 Instant start Ballast (BF > 1.10) ","F","U","T8","IS","(BF > 1.10)",null,"Fluorescent","U Tube","T8",25,1,"Instant start Ballast","VH",2,1,null,37]
["FUT8-25W x 2'-IS(E) VH","Fluorescent U Tube T8 (25W x 1L x 2') 1 Efficient Instant start Ballast (BF > 1.10) ","F","U","T8","IS(E)","(BF > 1.10)",null,"Fluorescent","U Tube","T8",25,1,"Efficient Instant start Ballast","VH",2,1,null,37]
["FLT8-59W x 8'-IS VH","Fluorescent Linear T8 (59W x 1L x 8') 1 Instant start Ballast (BF > 1.10) ","F","L","T8","IS","(BF > 1.10)",null,"Fluorescent","Linear","T8",59,1,"Instant start Ballast","VH",8,1,null,71]
["FLT12HO-85W x 2L x 6'-MG(E)","Fluorescent Linear T12 HO (85W x 2L x 6') 1 Efficient Magnetic Ballast  ","F","L","T12HO","MG(E)",null,null,"Fluorescent","Linear","T12 HO",85,2,"Efficient Magnetic Ballast",null,6,1,null,194]
["FLT12HO-85W x 4L x 6'-MG(E)","Fluorescent Linear T12 HO (85W x 4L x 6') 1 Efficient Magnetic Ballast  ","F","L","T12HO","MG(E)",null,null,"Fluorescent","Linear","T12 HO",85,4,"Efficient Magnetic Ballast",null,6,1,null,388]
["FLT12HO-85W x 2L x 6'-MG","Fluorescent Linear T12 HO (85W x 2L x 6') 1 Magnetic Ballast  ","F","L","T12HO","MG",null,null,"Fluorescent","Linear","T12 HO",85,2,"Magnetic Ballast",null,6,1,null,194]
["MH-100W-HIDLF","HID Metal Halide Standard (100W x 1L) 1 HID Low Freq Ballast  ",null,"MH",null,"HIDLF",null,null,"HID","Metal Halide","Standard",100,1,"HID Low Freq Ballast",null,null,1,null,112]
["FLT12-55W x 3L x 6'-MG","Fluorescent Linear T12 (55W x 3L x 6') 1 Magnetic Ballast  ","F","L","T12","MG",null,null,"Fluorescent","Linear","T12",55,3,"Magnetic Ballast",null,6,1,null,202]
["FLT12-39W x 2L x 4'-MG","Fluorescent Linear T12 (39W x 2L x 4') 1 Magnetic Ballast  ","F","L","T12","MG",null,null,"Fluorescent","Linear","T12",39,2,"Magnetic Ballast",null,4,1,null,103]
["FLT12HO-55W x 2L x 4'-MG","Fluorescent Linear T12 HO (55W x 2L x 4') 1 Magnetic Ballast  ","F","L","T12HO","MG",null,null,"Fluorescent","Linear","T12 HO",55,2,"Magnetic Ballast",null,4,1,null,135]
["FLT12HO-60W x 2L x 4'-MG","Fluorescent Linear T12 HO (60W x 2L x 4') 1 Magnetic Ballast  ","F","L","T12HO","MG",null,null,"Fluorescent","Linear","T12 HO",60,2,"Magnetic Ballast",null,4,1,null,145]
["FLT12-50W x 5'-MG","Fluorescent Linear T12 (50W x 1L x 5') 1 Magnetic Ballast  ","F","L","T12","MG",null,null,"Fluorescent","Linear","T12",50,1,"Magnetic Ballast",null,5,1,null,63]
["FLT12-55W x 6'-IS N","Fluorescent Linear T12 (55W x 1L x 6') 1 Instant start Ballast (0.85 < BF < 0.95) ","F","L","T12","IS","(0.85 < BF < 0.95)",null,"Fluorescent","Linear","T12",55,1,"Instant start Ballast","N",6,1,null,68]
["FLT12-75W x 3L x 8'-MG(E)","Fluorescent Linear T12 (75W x 3L x 8') 1 Efficient Magnetic Ballast  ","F","L","T12","MG(E)",null,null,"Fluorescent","Linear","T12",75,3,"Efficient Magnetic Ballast",null,8,1,null,264]
["FLT12HO-75W x 2L x 5'-MG(E)","Fluorescent Linear T12 HO (75W x 2L x 5') 1 Efficient Magnetic Ballast  ","F","L","T12HO","MG(E)",null,null,"Fluorescent","Linear","T12 HO",75,2,"Efficient Magnetic Ballast",null,5,1,null,176]
["FLT12HO-75W x 5'-MG(E)","Fluorescent Linear T12 HO (75W x 1L x 5') 1 Efficient Magnetic Ballast  ","F","L","T12HO","MG(E)",null,null,"Fluorescent","Linear","T12 HO",75,1,"Efficient Magnetic Ballast",null,5,1,null,88]
["FLT12HO-75W x 5'-MG","Fluorescent Linear T12 HO (75W x 1L x 5') 1 Magnetic Ballast  ","F","L","T12HO","MG",null,null,"Fluorescent","Linear","T12 HO",75,1,"Magnetic Ballast",null,5,1,null,88]
["FLT12HO-75W x 2L x 5'-MG","Fluorescent Linear T12 HO (75W x 2L x 5') 1 Magnetic Ballast  ","F","L","T12HO","MG",null,null,"Fluorescent","Linear","T12 HO",75,2,"Magnetic Ballast",null,5,1,null,176]
["INERB-250W-INDN H","Induction Exterior Remote Ballasted (250W x 1L) 1 Induction (Non Integral) Ballast (0.95 < BF < 1.10) ","IN","E","RB","INDN","(0.95 < BF < 1.10)",null,"Induction","Exterior","Remote Ballasted",250,1,"Induction (Non Integral) Ballast","H",null,1,null,263]
["INIRB-250W-INDN H","Induction Interior Remote Ballasted (250W x 1L) 1 Induction (Non Integral) Ballast (0.95 < BF < 1.10) ","IN","I","RB","INDN","(0.95 < BF < 1.10)",null,"Induction","Interior","Remote Ballasted",250,1,"Induction (Non Integral) Ballast","H",null,1,null,263]
["FLT12-25W x 3L x 3'-MG","Fluorescent Linear T12 (25W x 3L x 3') 1 Magnetic Ballast  ","F","L","T12","MG",null,null,"Fluorescent","Linear","T12",25,3,"Magnetic Ballast",null,3,1,null,115]
["FLT12-50W x 2L x 5'-MG","Fluorescent Linear T12 (50W x 2L x 5') 1 Magnetic Ballast  ","F","L","T12","MG",null,null,"Fluorescent","Linear","T12",50,2,"Magnetic Ballast",null,5,1,null,128]
["CMH-140W-HIDLF","HID Ceramic Metal Halide Standard (140W x 1L) 1 HID Low Freq Ballast  ",null,"CMH",null,"HIDLF",null,null,"HID","Ceramic Metal Halide","Standard",140,1,"HID Low Freq Ballast",null,null,1,null,154]
["CMH-200W-HIDLF","HID Ceramic Metal Halide Standard (200W x 1L) 1 HID Low Freq Ballast  ",null,"CMH",null,"HIDLF",null,null,"HID","Ceramic Metal Halide","Standard",200,1,"HID Low Freq Ballast",null,null,1,null,214]
["FLT12-30W x 3L x 4'-MG","Fluorescent Linear T12 (30W x 3L x 4') 1 Magnetic Ballast  ","F","L","T12","MG",null,null,"Fluorescent","Linear","T12",30,3,"Magnetic Ballast",null,4,1,null,133]
["FLT5HO-51W x 4'-RS/PRS VH","Fluorescent Linear T5 HO (51W x 1L x 4') 1 Rapid/Program Start Ballast (BF > 1.10) ","F","L","T5HO","RS/PRS","(BF > 1.10)",null,"Fluorescent","Linear","T5 HO",51,1,"Rapid/Program Start Ballast","VH",4,1,null,66]
["FLT5HOHB-51W x 4'-RS/PRS VH","Fluorescent Linear T5 HO Highbay (51W x 1L x 4') 1 Rapid/Program Start Ballast (BF > 1.10) ","F","L","T5HOHB","RS/PRS","(BF > 1.10)",null,"Fluorescent","Linear","T5 HO Highbay",51,1,"Rapid/Program Start Ballast","VH",4,1,null,66]
[{"$f":"C1219&D1219&E1219&IF(L1219=\"\",\"\",\"-\"&L1219&\"W\")&IF(OR(M1219=1,M1219=\"\"),\"\",\" x \"&M1219&\"L\")&IF(P1219=\"\",\"\",\" x \"&P1219&\"'\")&IF(F1219=\"\",\"\",\"-\"&IF(Q1219=1,\"\",Q1219&\" \")&F1219&IF(O1219=\"\",\"\",\" \"&O1219)&IF(H1219=\"\",\"\",\" \"&H1219))","v":"FLT12-60W x 8'-MG(E)"},{"$f":"I1219& IF(J1219=\"\",\"\",\" \"&J1219)&IF(K1219=\"\",\"\",\" \"&K1219)&\" (\"&L1219&\"W\"&IF(M1219=\"\",\"\",\" x \"&M1219 & \"L\")&IF(P1219=\"\",\"\",\" x \"&P1219&\"'\")&\")\"&IF(N1219=\"\",\"\",\" \"&Q1219&\" \"&N1219&\" \"&G1219)&\" \"&R1219","v":"Fluorescent Linear T12 (60W x 1L x 8') 1 Efficient Magnetic Ballast  "},"F","L","T12","MG(E)",null,null,"Fluorescent","Linear","T12",60,1,"Efficient Magnetic Ballast",null,8,1,null,75]
["FLT12-60W x 8'-MG","Fluorescent Linear T12 (60W x 1L x 8') 1 Magnetic Ballast  ","F","L","T12","MG",null,null,"Fluorescent","Linear","T12",60,1,"Magnetic Ballast",null,8,1,null,75]
["INERB-300W-INDN H","Induction Exterior Remote Ballasted (300W x 1L) 1 Induction (Non Integral) Ballast (0.95 < BF < 1.10) ","IN","E","RB","INDN","(0.95 < BF < 1.10)",null,"Induction","Exterior","Remote Ballasted",300,1,"Induction (Non Integral) Ballast","H",null,1,null,315]
["INIRB-300W-INDN H","Induction Interior Remote Ballasted (300W x 1L) 1 Induction (Non Integral) Ballast (0.95 < BF < 1.10) ","IN","I","RB","INDN","(0.95 < BF < 1.10)",null,"Induction","Interior","Remote Ballasted",300,1,"Induction (Non Integral) Ballast","H",null,1,null,315]
["FLT8-59W x 2L x 8'-IS VH","Fluorescent Linear T8 (59W x 2L x 8') 1 Instant start Ballast (BF > 1.10) ","F","L","T8","IS","(BF > 1.10)",null,"Fluorescent","Linear","T8",59,2,"Instant start Ballast","VH",8,1,null,149]
["FLT12VHO-110W x 3L x 4'-MG","Fluorescent Linear T12 VHO (110W x 3L x 4') 1 Magnetic Ballast  ","F","L","T12VHO","MG",null,null,"Fluorescent","Linear","T12 VHO",110,3,"Magnetic Ballast",null,4,1,null,377]
["FLT12-30W x 3'-MG","Fluorescent Linear T12 (30W x 1L x 3') 1 Magnetic Ballast  ","F","L","T12","MG",null,null,"Fluorescent","Linear","T12",30,1,"Magnetic Ballast",null,3,1,null,46]
["FLT12VHO-110W x 2L x 4'-MG","Fluorescent Linear T12 VHO (110W x 2L x 4') 1 Magnetic Ballast  ","F","L","T12VHO","MG",null,null,"Fluorescent","Linear","T12 VHO",110,2,"Magnetic Ballast",null,4,1,null,252]
["CMH-150W-HIDLF","HID Ceramic Metal Halide Standard (150W x 1L) 1 HID Low Freq Ballast  ",null,"CMH",null,"HIDLF",null,null,"HID","Ceramic Metal Halide","Standard",150,1,"HID Low Freq Ballast",null,null,1,null,166]
["MHPS-175W-HIDLF","HID Metal Halide Pulse-Start (175W x 1L) 1 HID Low Freq Ballast  ",null,"MH","PS","HIDLF",null,null,"HID","Metal Halide","Pulse-Start",175,1,"HID Low Freq Ballast",null,null,1,null,191]
["CMH-250W-HIDLF","HID Ceramic Metal Halide Standard (250W x 1L) 1 HID Low Freq Ballast  ",null,"CMH",null,"HIDLF",null,null,"HID","Ceramic Metal Halide","Standard",250,1,"HID Low Freq Ballast",null,null,1,null,266]
["FLT12HO-55W x 3L x 4'-MG","Fluorescent Linear T12 HO (55W x 3L x 4') 1 Magnetic Ballast  ","F","L","T12HO","MG",null,null,"Fluorescent","Linear","T12 HO",55,3,"Magnetic Ballast",null,4,1,null,215]
["FLT12HO-60W x 3L x 4'-MG","Fluorescent Linear T12 HO (60W x 3L x 4') 1 Magnetic Ballast  ","F","L","T12HO","MG",null,null,"Fluorescent","Linear","T12 HO",60,3,"Magnetic Ballast",null,4,1,null,230]
["FLT12-25W x 3'-MG","Fluorescent Linear T12 (25W x 1L x 3') 1 Magnetic Ballast  ","F","L","T12","MG",null,null,"Fluorescent","Linear","T12",25,1,"Magnetic Ballast",null,3,1,null,42]
["FLT8-40W x 5'-IS VH","Fluorescent Linear T8 (40W x 1L x 5') 1 Instant start Ballast (BF > 1.10) ","F","L","T8","IS","(BF > 1.10)",null,"Fluorescent","Linear","T8",40,1,"Instant start Ballast","VH",5,1,null,57]
["FLT12HO-110W x 3L x 8'-MG(E)","Fluorescent Linear T12 HO (110W x 3L x 8') 1 Efficient Magnetic Ballast  ","F","L","T12HO","MG(E)",null,null,"Fluorescent","Linear","T12 HO",110,3,"Efficient Magnetic Ballast",null,8,1,null,381]
["FLT12HO-110W x 3L x 8'-MG","Fluorescent Linear T12 HO (110W x 3L x 8') 1 Magnetic Ballast  ","F","L","T12HO","MG",null,null,"Fluorescent","Linear","T12 HO",110,3,"Magnetic Ballast",null,8,1,null,381]
["MHPS-150W-HIDLF","HID Metal Halide Pulse-Start (150W x 1L) 1 HID Low Freq Ballast  ",null,"MH","PS","HIDLF",null,null,"HID","Metal Halide","Pulse-Start",150,1,"HID Low Freq Ballast",null,null,1,null,167]
["CMH-50W-SCWA","HID Ceramic Metal Halide Standard (50W x 1L) 1 Super CWA Ballast  ",null,"CMH",null,"SCWA",null,null,"HID","Ceramic Metal Halide","Standard",50,1,"Super CWA Ballast",null,null,1,null,68]
["MHPS-50W-SCWA","HID Metal Halide Pulse-Start (50W x 1L) 1 Super CWA Ballast  ",null,"MH","PS","SCWA",null,null,"HID","Metal Halide","Pulse-Start",50,1,"Super CWA Ballast",null,null,1,null,68]
["MV-75W-CWA","HID Mercury Vapor Standard (75W x 1L) 1 CWA Ballast  ",null,"MV",null,"CWA",null,null,"HID","Mercury Vapor","Standard",75,1,"CWA Ballast",null,null,1,null,93]
["MH-150W-HIDLF","HID Metal Halide Standard (150W x 1L) 1 HID Low Freq Ballast  ",null,"MH",null,"HIDLF",null,null,"HID","Metal Halide","Standard",150,1,"HID Low Freq Ballast",null,null,1,null,168]
["MHPS-200W-LR","HID Metal Halide Pulse-Start (200W x 1L) 1 Linear Reactor Ballast  ",null,"MH","PS","LR",null,null,"HID","Metal Halide","Pulse-Start",200,1,"Linear Reactor Ballast",null,null,1,null,218]
["FLT12HO-110W x 8L x 8'-MG","Fluorescent Linear T12 HO (110W x 8L x 8') 1 Magnetic Ballast  ","F","L","T12HO","MG",null,null,"Fluorescent","Linear","T12 HO",110,8,"Magnetic Ballast",null,8,1,null,1028]
["MHPS-175W-LR","HID Metal Halide Pulse-Start (175W x 1L) 1 Linear Reactor Ballast  ",null,"MH","PS","LR",null,null,"HID","Metal Halide","Pulse-Start",175,1,"Linear Reactor Ballast",null,null,1,null,194]
["MHPS-200W-HIDLF","HID Metal Halide Pulse-Start (200W x 1L) 1 HID Low Freq Ballast  ",null,"MH","PS","HIDLF",null,null,"HID","Metal Halide","Pulse-Start",200,1,"HID Low Freq Ballast",null,null,1,null,219]
["FLT12HO-50W x 3'-MG","Fluorescent Linear T12 HO (50W x 1L x 3') 1 Magnetic Ballast  ","F","L","T12HO","MG",null,null,"Fluorescent","Linear","T12 HO",50,1,"Magnetic Ballast",null,3,1,null,70]
["CMH-70W-SCWA","HID Ceramic Metal Halide Standard (70W x 1L) 1 Super CWA Ballast  ",null,"CMH",null,"SCWA",null,null,"HID","Ceramic Metal Halide","Standard",70,1,"Super CWA Ballast",null,null,1,null,90]
["MHPS-70W-SCWA","HID Metal Halide Pulse-Start (70W x 1L) 1 Super CWA Ballast  ",null,"MH","PS","SCWA",null,null,"HID","Metal Halide","Pulse-Start",70,1,"Super CWA Ballast",null,null,1,null,90]
["FLT12VHO-135W x 2L x 5'-MG","Fluorescent Linear T12 VHO (135W x 2L x 5') 1 Magnetic Ballast  ","F","L","T12VHO","MG",null,null,"Fluorescent","Linear","T12 VHO",135,2,"Magnetic Ballast",null,5,1,null,310]
["FLT12VHO-160W x 6'-MG","Fluorescent Linear T12 VHO (160W x 1L x 6') 1 Magnetic Ballast  ","F","L","T12VHO","MG",null,null,"Fluorescent","Linear","T12 VHO",160,1,"Magnetic Ballast",null,6,1,null,180]
["FLT12VHO-185W x 8'-MG","Fluorescent Linear T12 VHO (185W x 1L x 8') 1 Magnetic Ballast  ","F","L","T12VHO","MG",null,null,"Fluorescent","Linear","T12 VHO",185,1,"Magnetic Ballast",null,8,1,null,205]
["FLT17-215W x 8'-MG","Fluorescent Linear T17 (215W x 1L x 8') 1 Magnetic Ballast  ","F","L","T17","MG",null,null,"Fluorescent","Linear","T17",215,1,"Magnetic Ballast",null,8,1,null,235]
["INERB-400W-INDN H","Induction Exterior Remote Ballasted (400W x 1L) 1 Induction (Non Integral) Ballast (0.95 < BF < 1.10) ","IN","E","RB","INDN","(0.95 < BF < 1.10)",null,"Induction","Exterior","Remote Ballasted",400,1,"Induction (Non Integral) Ballast","H",null,1,null,420]
["INIRB-400W-INDN H","Induction Interior Remote Ballasted (400W x 1L) 1 Induction (Non Integral) Ballast (0.95 < BF < 1.10) ","IN","I","RB","INDN","(0.95 < BF < 1.10)",null,"Induction","Interior","Remote Ballasted",400,1,"Induction (Non Integral) Ballast","H",null,1,null,420]
["FLT12-30W x 4'-MG","Fluorescent Linear T12 (30W x 1L x 4') 1 Magnetic Ballast  ","F","L","T12","MG",null,null,"Fluorescent","Linear","T12",30,1,"Magnetic Ballast",null,4,1,null,51]
["FLT12-39W x 4'-MG","Fluorescent Linear T12 (39W x 1L x 4') 1 Magnetic Ballast  ","F","L","T12","MG",null,null,"Fluorescent","Linear","T12",39,1,"Magnetic Ballast",null,4,1,null,60]
["FLT12-55W x 6'-MG","Fluorescent Linear T12 (55W x 1L x 6') 1 Magnetic Ballast  ","F","L","T12","MG",null,null,"Fluorescent","Linear","T12",55,1,"Magnetic Ballast",null,6,1,null,76]
["FLT12HO-85W x 6'-MG","Fluorescent Linear T12 HO (85W x 1L x 6') 1 Magnetic Ballast  ","F","L","T12HO","MG",null,null,"Fluorescent","Linear","T12 HO",85,1,"Magnetic Ballast",null,6,1,null,106]
["CMH-320W-HIDLF","HID Ceramic Metal Halide Standard (320W x 1L) 1 HID Low Freq Ballast  ",null,"CMH",null,"HIDLF",null,null,"HID","Ceramic Metal Halide","Standard",320,1,"HID Low Freq Ballast",null,null,1,null,341]
["MH-50W-CWA","HID Metal Halide Standard (50W x 1L) 1 CWA Ballast  ",null,"MH",null,"CWA",null,null,"HID","Metal Halide","Standard",50,1,"CWA Ballast",null,null,1,null,72]
["CMH-250W-LR","HID Ceramic Metal Halide Standard (250W x 1L) 1 Linear Reactor Ballast  ",null,"CMH",null,"LR",null,null,"HID","Ceramic Metal Halide","Standard",250,1,"Linear Reactor Ballast",null,null,1,null,272]
["MHPS-250W-LR","HID Metal Halide Pulse-Start (250W x 1L) 1 Linear Reactor Ballast  ",null,"MH","PS","LR",null,null,"HID","Metal Halide","Pulse-Start",250,1,"Linear Reactor Ballast",null,null,1,null,272]
["CMH-320W-LR","HID Ceramic Metal Halide Standard (320W x 1L) 1 Linear Reactor Ballast  ",null,"CMH",null,"LR",null,null,"HID","Ceramic Metal Halide","Standard",320,1,"Linear Reactor Ballast",null,null,1,null,342]
["MHPS-320W-LR","HID Metal Halide Pulse-Start (320W x 1L) 1 Linear Reactor Ballast  ",null,"MH","PS","LR",null,null,"HID","Metal Halide","Pulse-Start",320,1,"Linear Reactor Ballast",null,null,1,null,342]
["CMH-350W-HIDLF","HID Ceramic Metal Halide Standard (350W x 1L) 1 HID Low Freq Ballast  ",null,"CMH",null,"HIDLF",null,null,"HID","Ceramic Metal Halide","Standard",350,1,"HID Low Freq Ballast",null,null,1,null,372]
["FLT12-75W x 8'-MG(E)","Fluorescent Linear T12 (75W x 1L x 8') 1 Efficient Magnetic Ballast  ","F","L","T12","MG(E)",null,null,"Fluorescent","Linear","T12",75,1,"Efficient Magnetic Ballast",null,8,1,null,98]
["FLT12-75W x 8'-MG","Fluorescent Linear T12 (75W x 1L x 8') 1 Magnetic Ballast  ","F","L","T12","MG",null,null,"Fluorescent","Linear","T12",75,1,"Magnetic Ballast",null,8,1,null,98]
["MHPS-150W-LR","HID Metal Halide Pulse-Start (150W x 1L) 1 Linear Reactor Ballast  ",null,"MH","PS","LR",null,null,"HID","Metal Halide","Pulse-Start",150,1,"Linear Reactor Ballast",null,null,1,null,173]
["FLT12HO-95W x 2L x 8'-MG(E)","Fluorescent Linear T12 HO (95W x 2L x 8') 1 Efficient Magnetic Ballast  ","F","L","T12HO","MG(E)",null,null,"Fluorescent","Linear","T12 HO",95,2,"Efficient Magnetic Ballast",null,8,1,null,237]
["FLT12HO-95W x 2L x 8'-MG","Fluorescent Linear T12 HO (95W x 2L x 8') 1 Magnetic Ballast  ","F","L","T12HO","MG",null,null,"Fluorescent","Linear","T12 HO",95,2,"Magnetic Ballast",null,8,1,null,237]
["MV-50W-CWA","HID Mercury Vapor Standard (50W x 1L) 1 CWA Ballast  ",null,"MV",null,"CWA",null,null,"HID","Mercury Vapor","Standard",50,1,"CWA Ballast",null,null,1,null,74]
["CMH-300W-LR","HID Ceramic Metal Halide Standard (300W x 1L) 1 Linear Reactor Ballast  ",null,"CMH",null,"LR",null,null,"HID","Ceramic Metal Halide","Standard",300,1,"Linear Reactor Ballast",null,null,1,null,324]
["MHPS-300W-LR","HID Metal Halide Pulse-Start (300W x 1L) 1 Linear Reactor Ballast  ",null,"MH","PS","LR",null,null,"HID","Metal Halide","Pulse-Start",300,1,"Linear Reactor Ballast",null,null,1,null,324]
["FLT12HO-55W x 4'-MG","Fluorescent Linear T12 HO (55W x 1L x 4') 1 Magnetic Ballast  ","F","L","T12HO","MG",null,null,"Fluorescent","Linear","T12 HO",55,1,"Magnetic Ballast",null,4,1,null,80]
["FLT12HO-60W x 4'-MG","Fluorescent Linear T12 HO (60W x 1L x 4') 1 Magnetic Ballast  ","F","L","T12HO","MG",null,null,"Fluorescent","Linear","T12 HO",60,1,"Magnetic Ballast",null,4,1,null,85]
["MH-70W-CWA","HID Metal Halide Standard (70W x 1L) 1 CWA Ballast  ",null,"MH",null,"CWA",null,null,"HID","Metal Halide","Standard",70,1,"CWA Ballast",null,null,1,null,95]
["MV-100W-CWA","HID Mercury Vapor Standard (100W x 1L) 1 CWA Ballast  ",null,"MV",null,"CWA",null,null,"HID","Mercury Vapor","Standard",100,1,"CWA Ballast",null,null,1,null,125]
["CMH-100W-SCWA","HID Ceramic Metal Halide Standard (100W x 1L) 1 Super CWA Ballast  ",null,"CMH",null,"SCWA",null,null,"HID","Ceramic Metal Halide","Standard",100,1,"Super CWA Ballast",null,null,1,null,125]
["MHPS-100W-SCWA","HID Metal Halide Pulse-Start (100W x 1L) 1 Super CWA Ballast  ",null,"MH","PS","SCWA",null,null,"HID","Metal Halide","Pulse-Start",100,1,"Super CWA Ballast",null,null,1,null,125]
["MHPS-320W-HIDLF","HID Metal Halide Pulse-Start (320W x 1L) 1 HID Low Freq Ballast  ",null,"MH","PS","HIDLF",null,null,"HID","Metal Halide","Pulse-Start",320,1,"HID Low Freq Ballast",null,null,1,null,345]
["MHPS-350W-HIDLF","HID Metal Halide Pulse-Start (350W x 1L) 1 HID Low Freq Ballast  ",null,"MH","PS","HIDLF",null,null,"HID","Metal Halide","Pulse-Start",350,1,"HID Low Freq Ballast",null,null,1,null,375]
["MHPS-350W-LR","HID Metal Halide Pulse-Start (350W x 1L) 1 Linear Reactor Ballast  ",null,"MH","PS","LR",null,null,"HID","Metal Halide","Pulse-Start",350,1,"Linear Reactor Ballast",null,null,1,null,375]
["CMH-400W-LR","HID Ceramic Metal Halide Standard (400W x 1L) 1 Linear Reactor Ballast  ",null,"CMH",null,"LR",null,null,"HID","Ceramic Metal Halide","Standard",400,1,"Linear Reactor Ballast",null,null,1,null,425]
[{"$f":"C1283&D1283&E1283&IF(L1283=\"\",\"\",\"-\"&L1283&\"W\")&IF(OR(M1283=1,M1283=\"\"),\"\",\" x \"&M1283&\"L\")&IF(P1283=\"\",\"\",\" x \"&P1283&\"'\")&IF(F1283=\"\",\"\",\"-\"&IF(Q1283=1,\"\",Q1283&\" \")&F1283&IF(O1283=\"\",\"\",\" \"&O1283)&IF(H1283=\"\",\"\",\" \"&H1283))","v":"MHPS-400W-LR"},{"$f":"I1283& IF(J1283=\"\",\"\",\" \"&J1283)&IF(K1283=\"\",\"\",\" \"&K1283)&\" (\"&L1283&\"W\"&IF(M1283=\"\",\"\",\" x \"&M1283 & \"L\")&IF(P1283=\"\",\"\",\" x \"&P1283&\"'\")&\")\"&IF(N1283=\"\",\"\",\" \"&Q1283&\" \"&N1283&\" \"&G1283)&\" \"&R1283","v":"HID Metal Halide Pulse-Start (400W x 1L) 1 Linear Reactor Ballast  "},null,"MH","PS","LR",null,null,"HID","Metal Halide","Pulse-Start",400,1,"Linear Reactor Ballast",null,null,1,null,425]
["INERB-500W-INDN H","Induction Exterior Remote Ballasted (500W x 1L) 1 Induction (Non Integral) Ballast (0.95 < BF < 1.10) ","IN","E","RB","INDN","(0.95 < BF < 1.10)",null,"Induction","Exterior","Remote Ballasted",500,1,"Induction (Non Integral) Ballast","H",null,1,null,525]
["INIRB-500W-INDN H","Induction Interior Remote Ballasted (500W x 1L) 1 Induction (Non Integral) Ballast (0.95 < BF < 1.10) ","IN","I","RB","INDN","(0.95 < BF < 1.10)",null,"Induction","Interior","Remote Ballasted",500,1,"Induction (Non Integral) Ballast","H",null,1,null,525]
["FLT12HO-95W x 6L x 8'-MG","Fluorescent Linear T12 HO (95W x 6L x 8') 1 Magnetic Ballast  ","F","L","T12HO","MG",null,null,"Fluorescent","Linear","T12 HO",95,6,"Magnetic Ballast",null,8,1,null,721]
["CMH-400W-HIDLF","HID Ceramic Metal Halide Standard (400W x 1L) 1 HID Low Freq Ballast  ",null,"CMH",null,"HIDLF",null,null,"HID","Ceramic Metal Halide","Standard",400,1,"HID Low Freq Ballast",null,null,1,null,426]
["MH-100W-CWA","HID Metal Halide Standard (100W x 1L) 1 CWA Ballast  ",null,"MH",null,"CWA",null,null,"HID","Metal Halide","Standard",100,1,"CWA Ballast",null,null,1,null,128]
["MHPS-400W-HIDLF","HID Metal Halide Pulse-Start (400W x 1L) 1 HID Low Freq Ballast  ",null,"MH","PS","HIDLF",null,null,"HID","Metal Halide","Pulse-Start",400,1,"HID Low Freq Ballast",null,null,1,null,428]
["FLT12HO-35W x 2'-MG","Fluorescent Linear T12 HO (35W x 1L x 2') 1 Magnetic Ballast  ","F","L","T12HO","MG",null,null,"Fluorescent","Linear","T12 HO",35,1,"Magnetic Ballast",null,2,1,null,64]
["FLT12VHO-110W x 4'-MG","Fluorescent Linear T12 VHO (110W x 1L x 4') 1 Magnetic Ballast  ","F","L","T12VHO","MG",null,null,"Fluorescent","Linear","T12 VHO",110,1,"Magnetic Ballast",null,4,1,null,140]
["FLT12VHO-135W x 5'-MG","Fluorescent Linear T12 VHO (135W x 1L x 5') 1 Magnetic Ballast  ","F","L","T12VHO","MG",null,null,"Fluorescent","Linear","T12 VHO",135,1,"Magnetic Ballast",null,5,1,null,165]
["MV-175W-CWA","HID Mercury Vapor Standard (175W x 1L) 1 CWA Ballast  ",null,"MV",null,"CWA",null,null,"HID","Mercury Vapor","Standard",175,1,"CWA Ballast",null,null,1,null,205]
["FLT12HO-95W x 3L x 8'-MG","Fluorescent Linear T12 HO (95W x 3L x 8') 1 Magnetic Ballast  ","F","L","T12HO","MG",null,null,"Fluorescent","Linear","T12 HO",95,3,"Magnetic Ballast",null,8,1,null,380]
["MHPS-200W-SCWA","HID Metal Halide Pulse-Start (200W x 1L) 1 Super CWA Ballast  ",null,"MH","PS","SCWA",null,null,"HID","Metal Halide","Pulse-Start",200,1,"Super CWA Ballast",null,null,1,null,232]
["MHPS-175W-SCWA","HID Metal Halide Pulse-Start (175W x 1L) 1 Super CWA Ballast  ",null,"MH","PS","SCWA",null,null,"HID","Metal Halide","Pulse-Start",175,1,"Super CWA Ballast",null,null,1,null,208]
["MHPS-450W-LR","HID Metal Halide Pulse-Start (450W x 1L) 1 Linear Reactor Ballast  ",null,"MH","PS","LR",null,null,"HID","Metal Halide","Pulse-Start",450,1,"Linear Reactor Ballast",null,null,1,null,485]
["CMH-250W-SCWA","HID Ceramic Metal Halide Standard (250W x 1L) 1 Super CWA Ballast  ",null,"CMH",null,"SCWA",null,null,"HID","Ceramic Metal Halide","Standard",250,1,"Super CWA Ballast",null,null,1,null,288]
["MHPS-250W-SCWA","HID Metal Halide Pulse-Start (250W x 1L) 1 Super CWA Ballast  ",null,"MH","PS","SCWA",null,null,"HID","Metal Halide","Pulse-Start",250,1,"Super CWA Ballast",null,null,1,null,288]
["CMH-150W-SCWA","HID Ceramic Metal Halide Standard (150W x 1L) 1 Super CWA Ballast  ",null,"CMH",null,"SCWA",null,null,"HID","Ceramic Metal Halide","Standard",150,1,"Super CWA Ballast",null,null,1,null,189]
["MHPS-150W-SCWA","HID Metal Halide Pulse-Start (150W x 1L) 1 Super CWA Ballast  ",null,"MH","PS","SCWA",null,null,"HID","Metal Halide","Pulse-Start",150,1,"Super CWA Ballast",null,null,1,null,189]
["MH-150W-CWA","HID Metal Halide Standard (150W x 1L) 1 CWA Ballast  ",null,"MH",null,"CWA",null,null,"HID","Metal Halide","Standard",150,1,"CWA Ballast",null,null,1,null,190]
["MH-175W-CWA","HID Metal Halide Standard (175W x 1L) 1 CWA Ballast  ",null,"MH",null,"CWA",null,null,"HID","Metal Halide","Standard",175,1,"CWA Ballast",null,null,1,null,215]
["MV-250W-CWA","HID Mercury Vapor Standard (250W x 1L) 1 CWA Ballast  ",null,"MV",null,"CWA",null,null,"HID","Mercury Vapor","Standard",250,1,"CWA Ballast",null,null,1,null,290]
["CMH-300W-SCWA","HID Ceramic Metal Halide Standard (300W x 1L) 1 Super CWA Ballast  ",null,"CMH",null,"SCWA",null,null,"HID","Ceramic Metal Halide","Standard",300,1,"Super CWA Ballast",null,null,1,null,342]
["MHPS-300W-SCWA","HID Metal Halide Pulse-Start (300W x 1L) 1 Super CWA Ballast  ",null,"MH","PS","SCWA",null,null,"HID","Metal Halide","Pulse-Start",300,1,"Super CWA Ballast",null,null,1,null,342]
["MHPS-200W-RL","HID Metal Halide Pulse-Start (200W x 1L) 1 Regulated Lag Ballast  ",null,"MH","PS","RL",null,null,"HID","Metal Halide","Pulse-Start",200,1,"Regulated Lag Ballast",null,null,1,null,244]
["MH-250W-CWA","HID Metal Halide Standard (250W x 1L) 1 CWA Ballast  ",null,"MH",null,"CWA",null,null,"HID","Metal Halide","Standard",250,1,"CWA Ballast",null,null,1,null,295]
["MHPS-250W-RL","HID Metal Halide Pulse-Start (250W x 1L) 1 Regulated Lag Ballast  ",null,"MH","PS","RL",null,null,"HID","Metal Halide","Pulse-Start",250,1,"Regulated Lag Ballast",null,null,1,null,298]
["CMH-320W-SCWA","HID Ceramic Metal Halide Standard (320W x 1L) 1 Super CWA Ballast  ",null,"CMH",null,"SCWA",null,null,"HID","Ceramic Metal Halide","Standard",320,1,"Super CWA Ballast",null,null,1,null,370]
["MHPS-320W-SCWA","HID Metal Halide Pulse-Start (320W x 1L) 1 Super CWA Ballast  ",null,"MH","PS","SCWA",null,null,"HID","Metal Halide","Pulse-Start",320,1,"Super CWA Ballast",null,null,1,null,370]
["MHPS-350W-SCWA","HID Metal Halide Pulse-Start (350W x 1L) 1 Super CWA Ballast  ",null,"MH","PS","SCWA",null,null,"HID","Metal Halide","Pulse-Start",350,1,"Super CWA Ballast",null,null,1,null,400]
["MV-400W x 2L-CWA","HID Mercury Vapor Standard (400W x 2L) 1 CWA Ballast  ",null,"MV",null,"CWA",null,null,"HID","Mercury Vapor","Standard",400,2,"CWA Ballast",null,null,1,null,910]
["MV-400W-CWA","HID Mercury Vapor Standard (400W x 1L) 1 CWA Ballast  ",null,"MV",null,"CWA",null,null,"HID","Mercury Vapor","Standard",400,1,"CWA Ballast",null,null,1,null,455]
["CMH-400W-SCWA","HID Ceramic Metal Halide Standard (400W x 1L) 1 Super CWA Ballast  ",null,"CMH",null,"SCWA",null,null,"HID","Ceramic Metal Halide","Standard",400,1,"Super CWA Ballast",null,null,1,null,455]
["MHPS-400W-SCWA","HID Metal Halide Pulse-Start (400W x 1L) 1 Super CWA Ballast  ",null,"MH","PS","SCWA",null,null,"HID","Metal Halide","Pulse-Start",400,1,"Super CWA Ballast",null,null,1,null,455]
["MH-360W-CWA","HID Metal Halide Standard (360W x 1L) 1 CWA Ballast  ",null,"MH",null,"CWA",null,null,"HID","Metal Halide","Standard",360,1,"CWA Ballast",null,null,1,null,418]
["MH-400W x 2L-CWA","HID Metal Halide Standard (400W x 2L) 1 CWA Ballast  ",null,"MH",null,"CWA",null,null,"HID","Metal Halide","Standard",400,2,"CWA Ballast",null,null,1,null,916]
["MH-400W-CWA","HID Metal Halide Standard (400W x 1L) 1 CWA Ballast  ",null,"MH",null,"CWA",null,null,"HID","Metal Halide","Standard",400,1,"CWA Ballast",null,null,1,null,458]
["MHPS-450W-SCWA","HID Metal Halide Pulse-Start (450W x 1L) 1 Super CWA Ballast  ",null,"MH","PS","SCWA",null,null,"HID","Metal Halide","Pulse-Start",450,1,"Super CWA Ballast",null,null,1,null,514]
["MHPS-875W-SCWA","HID Metal Halide Pulse-Start (875W x 1L) 1 Super CWA Ballast  ",null,"MH","PS","SCWA",null,null,"HID","Metal Halide","Pulse-Start",875,1,"Super CWA Ballast",null,null,1,null,940]
["MHPS-400W-RL","HID Metal Halide Pulse-Start (400W x 1L) 1 Regulated Lag Ballast  ",null,"MH","PS","RL",null,null,"HID","Metal Halide","Pulse-Start",400,1,"Regulated Lag Ballast",null,null,1,null,467]
["MHPS-750W-SCWA","HID Metal Halide Pulse-Start (750W x 1L) 1 Super CWA Ballast  ",null,"MH","PS","SCWA",null,null,"HID","Metal Halide","Pulse-Start",750,1,"Super CWA Ballast",null,null,1,null,818]
["MHPS-450W-RL","HID Metal Halide Pulse-Start (450W x 1L) 1 Regulated Lag Ballast  ",null,"MH","PS","RL",null,null,"HID","Metal Halide","Pulse-Start",450,1,"Regulated Lag Ballast",null,null,1,null,530]
["MV-700W-CWA","HID Mercury Vapor Standard (700W x 1L) 1 CWA Ballast  ",null,"MV",null,"CWA",null,null,"HID","Mercury Vapor","Standard",700,1,"CWA Ballast",null,null,1,null,780]
["MH-1000W-CWA","HID Metal Halide Standard (1000W x 1L) 1 CWA Ballast  ",null,"MH",null,"CWA",null,null,"HID","Metal Halide","Standard",1000,1,"CWA Ballast",null,null,1,null,1080]
["MHPS-1000W-SCWA","HID Metal Halide Pulse-Start (1000W x 1L) 1 Super CWA Ballast  ",null,"MH","PS","SCWA",null,null,"HID","Metal Halide","Pulse-Start",1000,1,"Super CWA Ballast",null,null,1,null,1080]
["MH-750W-CWA","HID Metal Halide Standard (750W x 1L) 1 CWA Ballast  ",null,"MH",null,"CWA",null,null,"HID","Metal Halide","Standard",750,1,"CWA Ballast",null,null,1,null,850]
["MV-1000W-CWA","HID Mercury Vapor Standard (1000W x 1L) 1 CWA Ballast  ",null,"MV",null,"CWA",null,null,"HID","Mercury Vapor","Standard",1000,1,"CWA Ballast",null,null,1,null,1100]
["MH-1500W-CWA","HID Metal Halide Standard (1500W x 1L) 1 CWA Ballast  ",null,"MH",null,"CWA",null,null,"HID","Metal Halide","Standard",1500,1,"CWA Ballast",null,null,1,null,1610]
["MH-1650W-CWA","HID Metal Halide Standard (1650W x 1L) 1 CWA Ballast  ",null,"MH",null,"CWA",null,null,"HID","Metal Halide","Standard",1650,1,"CWA Ballast",null,null,1,null,1770]
["MH-2000W-CWA","HID Metal Halide Standard (2000W x 1L) 1 CWA Ballast  ",null,"MH",null,"CWA",null,null,"HID","Metal Halide","Standard",2000,1,"CWA Ballast",null,null,1,null,2140]
["FCCFL-13W","Fluorescent Cold Cathode Integral Screw-In (13W x 1L) ","F","CCFL",null,null,null,null,"Fluorescent","Cold Cathode","Integral Screw-In",13,1,null,null,null,null,null,13]
["FCCFL-18W","Fluorescent Cold Cathode Integral Screw-In (18W x 1L) ","F","CCFL",null,null,null,null,"Fluorescent","Cold Cathode","Integral Screw-In",18,1,null,null,null,null,null,18]
["FCCFL-3W","Fluorescent Cold Cathode Integral Screw-In (3W x 1L) ","F","CCFL",null,null,null,null,"Fluorescent","Cold Cathode","Integral Screw-In",3,1,null,null,null,null,null,3]
["FCCFL-5W","Fluorescent Cold Cathode Integral Screw-In (5W x 1L) ","F","CCFL",null,null,null,null,"Fluorescent","Cold Cathode","Integral Screw-In",5,1,null,null,null,null,null,5]
["FCCFL-8W","Fluorescent Cold Cathode Integral Screw-In (8W x 1L) ","F","CCFL",null,null,null,null,"Fluorescent","Cold Cathode","Integral Screw-In",8,1,null,null,null,null,null,8]
["ICHLV-50W","Incandescent Halogen Low Voltage (50W x 1L) ","IC","H","LV",null,null,null,"Incandescent","Halogen","Low Voltage",50,1,null,null,null,null,null,50,{"$f":"S1338=L1338*M1338","v":true}]
["ICMB-100W","Incandescent Non-Halogen Medium Base (100W x 1L) ","IC",null,"MB",null,null,null,"Incandescent","Non-Halogen","Medium Base",100,1,null,null,null,null,null,100,{"$f":"S1339=L1339*M1339","v":true}]
["ICMB-100W x 2L","Incandescent Non-Halogen Medium Base (100W x 2L) ","IC",null,"MB",null,null,null,"Incandescent","Non-Halogen","Medium Base",100,2,null,null,null,null,null,200,true]
["ICMB-110W","Incandescent Non-Halogen Medium Base (110W x 1L) ","IC",null,"MB",null,null,null,"Incandescent","Non-Halogen","Medium Base",110,1,null,null,null,null,null,110,true]
["ICMB-116W","Incandescent Non-Halogen Medium Base (116W x 1L) ","IC",null,"MB",null,null,null,"Incandescent","Non-Halogen","Medium Base",116,1,null,null,null,null,null,116,true]
["ICMB-120W","Incandescent Non-Halogen Medium Base (120W x 1L) ","IC",null,"MB",null,null,null,"Incandescent","Non-Halogen","Medium Base",120,1,null,null,null,null,null,120,true]
["ICMB-125W","Incandescent Non-Halogen Medium Base (125W x 1L) ","IC",null,"MB",null,null,null,"Incandescent","Non-Halogen","Medium Base",125,1,null,null,null,null,null,125,true]
["ICMB-130W","Incandescent Non-Halogen Medium Base (130W x 1L) ","IC",null,"MB",null,null,null,"Incandescent","Non-Halogen","Medium Base",130,1,null,null,null,null,null,130,true]
["ICMB-135W","Incandescent Non-Halogen Medium Base (135W x 1L) ","IC",null,"MB",null,null,null,"Incandescent","Non-Halogen","Medium Base",135,1,null,null,null,null,null,135,true]
[{"$f":"C1347&D1347&E1347&IF(L1347=\"\",\"\",\"-\"&L1347&\"W\")&IF(OR(M1347=1,M1347=\"\"),\"\",\" x \"&M1347&\"L\")&IF(P1347=\"\",\"\",\" x \"&P1347&\"'\")&IF(F1347=\"\",\"\",\"-\"&IF(Q1347=1,\"\",Q1347&\" \")&F1347&IF(O1347=\"\",\"\",\" \"&O1347)&IF(H1347=\"\",\"\",\" \"&H1347))","v":"ICMB-150W"},{"$f":"I1347& IF(J1347=\"\",\"\",\" \"&J1347)&IF(K1347=\"\",\"\",\" \"&K1347)&\" (\"&L1347&\"W\"&IF(M1347=\"\",\"\",\" x \"&M1347 & \"L\")&IF(P1347=\"\",\"\",\" x \"&P1347&\"'\")&\")\"&IF(N1347=\"\",\"\",\" \"&Q1347&\" \"&N1347&\" \"&G1347)&\" \"&R1347","v":"Incandescent Non-Halogen Medium Base (150W x 1L) "},"IC",null,"MB",null,null,null,"Incandescent","Non-Halogen","Medium Base",150,1,null,null,null,null,null,150,true]
["ICMB-15W","Incandescent Non-Halogen Medium Base (15W x 1L) ","IC",null,"MB",null,null,null,"Incandescent","Non-Halogen","Medium Base",15,1,null,null,null,null,null,15,true]
["ICMB-15W x 2L","Incandescent Non-Halogen Medium Base (15W x 2L) ","IC",null,"MB",null,null,null,"Incandescent","Non-Halogen","Medium Base",15,2,null,null,null,null,null,30,true]
["ICMB-160W","Incandescent Non-Halogen Medium Base (160W x 1L) ","IC",null,"MB",null,null,null,"Incandescent","Non-Halogen","Medium Base",160,1,null,null,null,null,null,160,true]
["ICMB-170W","Incandescent Non-Halogen Medium Base (170W x 1L) ","IC",null,"MB",null,null,null,"Incandescent","Non-Halogen","Medium Base",170,1,null,null,null,null,null,170,true]
["ICMB-200W","Incandescent Non-Halogen Medium Base (200W x 1L) ","IC",null,"MB",null,null,null,"Incandescent","Non-Halogen","Medium Base",200,1,null,null,null,null,null,200,true]
["ICMB-20W","Incandescent Non-Halogen Medium Base (20W x 1L) ","IC",null,"MB",null,null,null,"Incandescent","Non-Halogen","Medium Base",20,1,null,null,null,null,null,20,true]
["ICMB-20W x 2L","Incandescent Non-Halogen Medium Base (20W x 2L) ","IC",null,"MB",null,null,null,"Incandescent","Non-Halogen","Medium Base",20,2,null,null,null,null,null,40,true]
["ICMB-25W","Incandescent Non-Halogen Medium Base (25W x 1L) ","IC",null,"MB",null,null,null,"Incandescent","Non-Halogen","Medium Base",25,1,null,null,null,null,null,25,true]
["ICMB-25W x 2L","Incandescent Non-Halogen Medium Base (25W x 2L) ","IC",null,"MB",null,null,null,"Incandescent","Non-Halogen","Medium Base",25,2,null,null,null,null,null,50,true]
["ICMB-25W x 4L","Incandescent Non-Halogen Medium Base (25W x 4L) ","IC",null,"MB",null,null,null,"Incandescent","Non-Halogen","Medium Base",25,4,null,null,null,null,null,100,true]
["ICMB-25W x 6L","Incandescent Non-Halogen Medium Base (25W x 6L) ","IC",null,"MB",null,null,null,"Incandescent","Non-Halogen","Medium Base",25,6,null,null,null,null,null,150,true]
["ICMB-30W","Incandescent Non-Halogen Medium Base (30W x 1L) ","IC",null,"MB",null,null,null,"Incandescent","Non-Halogen","Medium Base",30,1,null,null,null,null,null,30,true]
["ICMB-34W","Incandescent Non-Halogen Medium Base (34W x 1L) ","IC",null,"MB",null,null,null,"Incandescent","Non-Halogen","Medium Base",34,1,null,null,null,null,null,34,true]
["ICMB-34W x 2L","Incandescent Non-Halogen Medium Base (34W x 2L) ","IC",null,"MB",null,null,null,"Incandescent","Non-Halogen","Medium Base",34,2,null,null,null,null,null,68,true]
["ICMB-36W","Incandescent Non-Halogen Medium Base (36W x 1L) ","IC",null,"MB",null,null,null,"Incandescent","Non-Halogen","Medium Base",36,1,null,null,null,null,null,36,true]
["ICMB-40W","Incandescent Non-Halogen Medium Base (40W x 1L) ","IC",null,"MB",null,null,null,"Incandescent","Non-Halogen","Medium Base",40,1,null,null,null,null,null,40,true]
["ICMB-40W x 2L","Incandescent Non-Halogen Medium Base (40W x 2L) ","IC",null,"MB",null,null,null,"Incandescent","Non-Halogen","Medium Base",40,2,null,null,null,null,null,80,true]
["ICMB-42W","Incandescent Non-Halogen Medium Base (42W x 1L) ","IC",null,"MB",null,null,null,"Incandescent","Non-Halogen","Medium Base",42,1,null,null,null,null,null,42,true]
["ICMB-45W","Incandescent Non-Halogen Medium Base (45W x 1L) ","IC",null,"MB",null,null,null,"Incandescent","Non-Halogen","Medium Base",45,1,null,null,null,null,null,45,true]
["ICMB-50W","Incandescent Non-Halogen Medium Base (50W x 1L) ","IC",null,"MB",null,null,null,"Incandescent","Non-Halogen","Medium Base",50,1,null,null,null,null,null,50,true]
["ICMB-50W x 2L","Incandescent Non-Halogen Medium Base (50W x 2L) ","IC",null,"MB",null,null,null,"Incandescent","Non-Halogen","Medium Base",50,2,null,null,null,null,null,100,true]
["ICMB-52W","Incandescent Non-Halogen Medium Base (52W x 1L) ","IC",null,"MB",null,null,null,"Incandescent","Non-Halogen","Medium Base",52,1,null,null,null,null,null,52,true]
["ICMB-52W x 2L","Incandescent Non-Halogen Medium Base (52W x 2L) ","IC",null,"MB",null,null,null,"Incandescent","Non-Halogen","Medium Base",52,2,null,null,null,null,null,104,true]
["ICMB-54W","Incandescent Non-Halogen Medium Base (54W x 1L) ","IC",null,"MB",null,null,null,"Incandescent","Non-Halogen","Medium Base",54,1,null,null,null,null,null,54,true]
["ICMB-54W x 2L","Incandescent Non-Halogen Medium Base (54W x 2L) ","IC",null,"MB",null,null,null,"Incandescent","Non-Halogen","Medium Base",54,2,null,null,null,null,null,108,true]
["ICMB-55W","Incandescent Non-Halogen Medium Base (55W x 1L) ","IC",null,"MB",null,null,null,"Incandescent","Non-Halogen","Medium Base",55,1,null,null,null,null,null,55,true]
["ICMB-55W x 2L","Incandescent Non-Halogen Medium Base (55W x 2L) ","IC",null,"MB",null,null,null,"Incandescent","Non-Halogen","Medium Base",55,2,null,null,null,null,null,110,true]
["ICMB-60W","Incandescent Non-Halogen Medium Base (60W x 1L) ","IC",null,"MB",null,null,null,"Incandescent","Non-Halogen","Medium Base",60,1,null,null,null,null,null,60,true]
["ICMB-60W x 2L","Incandescent Non-Halogen Medium Base (60W x 2L) ","IC",null,"MB",null,null,null,"Incandescent","Non-Halogen","Medium Base",60,2,null,null,null,null,null,120,true]
["ICMB-60W x 3L","Incandescent Non-Halogen Medium Base (60W x 3L) ","IC",null,"MB",null,null,null,"Incandescent","Non-Halogen","Medium Base",60,3,null,null,null,null,null,180,true]
["ICMB-65W","Incandescent Non-Halogen Medium Base (65W x 1L) ","IC",null,"MB",null,null,null,"Incandescent","Non-Halogen","Medium Base",65,1,null,null,null,null,null,65,true]
["ICMB-65W x 2L","Incandescent Non-Halogen Medium Base (65W x 2L) ","IC",null,"MB",null,null,null,"Incandescent","Non-Halogen","Medium Base",65,2,null,null,null,null,null,130,true]
["ICMB-67W","Incandescent Non-Halogen Medium Base (67W x 1L) ","IC",null,"MB",null,null,null,"Incandescent","Non-Halogen","Medium Base",67,1,null,null,null,null,null,67,true]
["ICMB-67W x 2L","Incandescent Non-Halogen Medium Base (67W x 2L) ","IC",null,"MB",null,null,null,"Incandescent","Non-Halogen","Medium Base",67,2,null,null,null,null,null,134,true]
["ICMB-72W","Incandescent Non-Halogen Medium Base (72W x 1L) ","IC",null,"MB",null,null,null,"Incandescent","Non-Halogen","Medium Base",72,1,null,null,null,null,null,72,true]
["ICMB-75W","Incandescent Non-Halogen Medium Base (75W x 1L) ","IC",null,"MB",null,null,null,"Incandescent","Non-Halogen","Medium Base",75,1,null,null,null,null,null,75,true]
["ICMB-75W x 2L","Incandescent Non-Halogen Medium Base (75W x 2L) ","IC",null,"MB",null,null,null,"Incandescent","Non-Halogen","Medium Base",75,2,null,null,null,null,null,150,true]
["ICMB-80W","Incandescent Non-Halogen Medium Base (80W x 1L) ","IC",null,"MB",null,null,null,"Incandescent","Non-Halogen","Medium Base",80,1,null,null,null,null,null,80,true]
["ICMB-85W","Incandescent Non-Halogen Medium Base (85W x 1L) ","IC",null,"MB",null,null,null,"Incandescent","Non-Halogen","Medium Base",85,1,null,null,null,null,null,85,true]
["ICMB-8W","Incandescent Non-Halogen Medium Base (8W x 1L) ","IC",null,"MB",null,null,null,"Incandescent","Non-Halogen","Medium Base",8,1,null,null,null,null,null,8,true]
["ICMB-90W","Incandescent Non-Halogen Medium Base (90W x 1L) ","IC",null,"MB",null,null,null,"Incandescent","Non-Halogen","Medium Base",90,1,null,null,null,null,null,90,true]
["ICMB-90W x 2L","Incandescent Non-Halogen Medium Base (90W x 2L) ","IC",null,"MB",null,null,null,"Incandescent","Non-Halogen","Medium Base",90,2,null,null,null,null,null,180,true]
["ICMB-93W","Incandescent Non-Halogen Medium Base (93W x 1L) ","IC",null,"MB",null,null,null,"Incandescent","Non-Halogen","Medium Base",93,1,null,null,null,null,null,93,true]
["ICMB-95W","Incandescent Non-Halogen Medium Base (95W x 1L) ","IC",null,"MB",null,null,null,"Incandescent","Non-Halogen","Medium Base",95,1,null,null,null,null,null,95,true]
["ICMB-95W x 2L","Incandescent Non-Halogen Medium Base (95W x 2L) ","IC",null,"MB",null,null,null,"Incandescent","Non-Halogen","Medium Base",95,2,null,null,null,null,null,190,true]
["ICMG-1000W","Incandescent Non-Halogen Mogul (1000W x 1L) ","IC",null,"MG",null,null,null,"Incandescent","Non-Halogen","Mogul",1000,1,null,null,null,null,null,1000,true]
["ICMG-100W x 3L","Incandescent Non-Halogen Mogul (100W x 3L) ","IC",null,"MG",null,null,null,"Incandescent","Non-Halogen","Mogul",100,3,null,null,null,null,null,300,true]
["ICMG-100W x 4L","Incandescent Non-Halogen Mogul (100W x 4L) ","IC",null,"MG",null,null,null,"Incandescent","Non-Halogen","Mogul",100,4,null,null,null,null,null,400,true]
["ICMG-100W x 5L","Incandescent Non-Halogen Mogul (100W x 5L) ","IC",null,"MG",null,null,null,"Incandescent","Non-Halogen","Mogul",100,5,null,null,null,null,null,500,true]
["ICMG-120W x 2L","Incandescent Non-Halogen Mogul (120W x 2L) ","IC",null,"MG",null,null,null,"Incandescent","Non-Halogen","Mogul",120,2,null,null,null,null,null,240,true]
["ICMG-135W x 2L","Incandescent Non-Halogen Mogul (135W x 2L) ","IC",null,"MG",null,null,null,"Incandescent","Non-Halogen","Mogul",135,2,null,null,null,null,null,270,true]
["ICMG-1500W","Incandescent Non-Halogen Mogul (1500W x 1L) ","IC",null,"MG",null,null,null,"Incandescent","Non-Halogen","Mogul",1500,1,null,null,null,null,null,1500,true]
["ICMG-150W x 2L","Incandescent Non-Halogen Mogul (150W x 2L) ","IC",null,"MG",null,null,null,"Incandescent","Non-Halogen","Mogul",150,2,null,null,null,null,null,300,true]
["ICMG-150W x 3L","Incandescent Non-Halogen Mogul (150W x 3L) ","IC",null,"MG",null,null,null,"Incandescent","Non-Halogen","Mogul",150,3,null,null,null,null,null,450,true]
["ICMG-2000W","Incandescent Non-Halogen Mogul (2000W x 1L) ","IC",null,"MG",null,null,null,"Incandescent","Non-Halogen","Mogul",2000,1,null,null,null,null,null,2000,true]
["ICMG-200W x 2L","Incandescent Non-Halogen Mogul (200W x 2L) ","IC",null,"MG",null,null,null,"Incandescent","Non-Halogen","Mogul",200,2,null,null,null,null,null,400,{"$f":"S1403=L1403*M1403","v":true}]
["ICMG-250W","Incandescent Non-Halogen Mogul (250W x 1L) ","IC",null,"MG",null,null,null,"Incandescent","Non-Halogen","Mogul",250,1,null,null,null,null,null,250,true]
["ICMG-300W","Incandescent Non-Halogen Mogul (300W x 1L) ","IC",null,"MG",null,null,null,"Incandescent","Non-Halogen","Mogul",300,1,null,null,null,null,null,300,true]
["ICMG-300W x 4L","Incandescent Non-Halogen Mogul (300W x 4L) ","IC",null,"MG",null,null,null,"Incandescent","Non-Halogen","Mogul",300,4,null,null,null,null,null,1200,true]
["ICMG-400W","Incandescent Non-Halogen Mogul (400W x 1L) ","IC",null,"MG",null,null,null,"Incandescent","Non-Halogen","Mogul",400,1,null,null,null,null,null,400,true]
["ICMG-448W","Incandescent Non-Halogen Mogul (448W x 1L) ","IC",null,"MG",null,null,null,"Incandescent","Non-Halogen","Mogul",448,1,null,null,null,null,null,448,true]
["ICMG-500W","Incandescent Non-Halogen Mogul (500W x 1L) ","IC",null,"MG",null,null,null,"Incandescent","Non-Halogen","Mogul",500,1,null,null,null,null,null,500,true]
["ICMG-60W x 4L","Incandescent Non-Halogen Mogul (60W x 4L) ","IC",null,"MG",null,null,null,"Incandescent","Non-Halogen","Mogul",60,4,null,null,null,null,null,240,true]
[{"$f":"C1411&D1411&E1411&IF(L1411=\"\",\"\",\"-\"&L1411&\"W\")&IF(OR(M1411=1,M1411=\"\"),\"\",\" x \"&M1411&\"L\")&IF(P1411=\"\",\"\",\" x \"&P1411&\"'\")&IF(F1411=\"\",\"\",\"-\"&IF(Q1411=1,\"\",Q1411&\" \")&F1411&IF(O1411=\"\",\"\",\" \"&O1411)&IF(H1411=\"\",\"\",\" \"&H1411))","v":"ICMG-60W x 5L"},{"$f":"I1411& IF(J1411=\"\",\"\",\" \"&J1411)&IF(K1411=\"\",\"\",\" \"&K1411)&\" (\"&L1411&\"W\"&IF(M1411=\"\",\"\",\" x \"&M1411 & \"L\")&IF(P1411=\"\",\"\",\" x \"&P1411&\"'\")&\")\"&IF(N1411=\"\",\"\",\" \"&Q1411&\" \"&N1411&\" \"&G1411)&\" \"&R1411","v":"Incandescent Non-Halogen Mogul (60W x 5L) "},"IC",null,"MG",null,null,null,"Incandescent","Non-Halogen","Mogul",60,5,null,null,null,null,null,300,true]
["ICMG-67W x 3L","Incandescent Non-Halogen Mogul (67W x 3L) ","IC",null,"MG",null,null,null,"Incandescent","Non-Halogen","Mogul",67,3,null,null,null,null,null,201,true]
["ICMG-750W","Incandescent Non-Halogen Mogul (750W x 1L) ","IC",null,"MG",null,null,null,"Incandescent","Non-Halogen","Mogul",750,1,null,null,null,null,null,750,true]
["ICMG-75W x 3L","Incandescent Non-Halogen Mogul (75W x 3L) ","IC",null,"MG",null,null,null,"Incandescent","Non-Halogen","Mogul",75,3,null,null,null,null,null,225,true]
["ICMG-75W x 4L","Incandescent Non-Halogen Mogul (75W x 4L) ","IC",null,"MG",null,null,null,"Incandescent","Non-Halogen","Mogul",75,4,null,null,null,null,null,300,true]
["ICMG-90W x 3L","Incandescent Non-Halogen Mogul (90W x 3L) ","IC",null,"MG",null,null,null,"Incandescent","Non-Halogen","Mogul",90,3,null,null,null,null,null,270,true]
["INESB-15W","Induction Exterior Self Ballasted (15W x 1L) ","IN","E","SB",null,null,null,"Induction","Exterior","Self Ballasted",15,1,null,null,null,null,null,15]
["INESB-23W","Induction Exterior Self Ballasted (23W x 1L) ","IN","E","SB",null,null,null,"Induction","Exterior","Self Ballasted",23,1,null,null,null,null,null,23]
["INESB-40W","Induction Exterior Self Ballasted (40W x 1L) ","IN","E","SB",null,null,null,"Induction","Exterior","Self Ballasted",40,1,null,null,null,null,null,40]
["INESB-50W","Induction Exterior Self Ballasted (50W x 1L) ","IN","E","SB",null,null,null,"Induction","Exterior","Self Ballasted",50,1,null,null,null,null,null,50]
["INISB-15W","Induction Interior Self Ballasted (15W x 1L) ","IN","I","SB",null,null,null,"Induction","Interior","Self Ballasted",15,1,null,null,null,null,null,15]
["INISB-23W","Induction Interior Self Ballasted (23W x 1L) ","IN","I","SB",null,null,null,"Induction","Interior","Self Ballasted",23,1,null,null,null,null,null,23]
["INISB-40W","Induction Interior Self Ballasted (40W x 1L) ","IN","I","SB",null,null,null,"Induction","Interior","Self Ballasted",40,1,null,null,null,null,null,40]
["INISB-50W","Induction Interior Self Ballasted (50W x 1L) ","IN","I","SB",null,null,null,"Induction","Interior","Self Ballasted",50,1,null,null,null,null,null,50]
["LEDEPG-177W","LED Exterior Parking Garage (177W x 1L) ","LED","E","PG",null,null,null,"LED","Exterior","Parking Garage",177,1,null,null,null,null,null,177]
["LEDEPG-26W","LED Exterior Parking Garage (26W x 1L) ","LED","E","PG",null,null,null,"LED","Exterior","Parking Garage",26,1,null,null,null,null,null,26]
["LEDEPG-53W","LED Exterior Parking Garage (53W x 1L) ","LED","E","PG",null,null,null,"LED","Exterior","Parking Garage",53,1,null,null,null,null,null,53]
["LEDEPM-101W","LED Exterior Pole Mount (101W x 1L) ","LED","E","PM",null,null,null,"LED","Exterior","Pole Mount",101,1,null,null,null,null,null,101]
["LEDEPM-102W","LED Exterior Pole Mount (102W x 1L) ","LED","E","PM",null,null,null,"LED","Exterior","Pole Mount",102,1,null,null,null,null,null,102]
["LEDEPM-108W","LED Exterior Pole Mount (108W x 1L) ","LED","E","PM",null,null,null,"LED","Exterior","Pole Mount",108,1,null,null,null,null,null,108]
["LEDEPM-112W","LED Exterior Pole Mount (112W x 1L) ","LED","E","PM",null,null,null,"LED","Exterior","Pole Mount",112,1,null,null,null,null,null,112]
["LEDEPM-138W","LED Exterior Pole Mount (138W x 1L) ","LED","E","PM",null,null,null,"LED","Exterior","Pole Mount",138,1,null,null,null,null,null,138]
["LEDEPM-139W","LED Exterior Pole Mount (139W x 1L) ","LED","E","PM",null,null,null,"LED","Exterior","Pole Mount",139,1,null,null,null,null,null,139]
["LEDEPM-146W","LED Exterior Pole Mount (146W x 1L) ","LED","E","PM",null,null,null,"LED","Exterior","Pole Mount",146,1,null,null,null,null,null,146]
["LEDEPM-15W","LED Exterior Pole Mount (15W x 1L) ","LED","E","PM",null,null,null,"LED","Exterior","Pole Mount",15,1,null,null,null,null,null,15]
["LEDEPM-164W","LED Exterior Pole Mount (164W x 1L) ","LED","E","PM",null,null,null,"LED","Exterior","Pole Mount",164,1,null,null,null,null,null,164]
["LEDEPM-180W","LED Exterior Pole Mount (180W x 1L) ","LED","E","PM",null,null,null,"LED","Exterior","Pole Mount",180,1,null,null,null,null,null,180]
["LEDEPM-186W","LED Exterior Pole Mount (186W x 1L) ","LED","E","PM",null,null,null,"LED","Exterior","Pole Mount",186,1,null,null,null,null,null,186]
["LEDEPM-199W","LED Exterior Pole Mount (199W x 1L) ","LED","E","PM",null,null,null,"LED","Exterior","Pole Mount",199,1,null,null,null,null,null,199]
["LEDEPM-201W","LED Exterior Pole Mount (201W x 1L) ","LED","E","PM",null,null,null,"LED","Exterior","Pole Mount",201,1,null,null,null,null,null,201]
["LEDEPM-205W","LED Exterior Pole Mount (205W x 1L) ","LED","E","PM",null,null,null,"LED","Exterior","Pole Mount",205,1,null,null,null,null,null,205]
["LEDEPM-22W","LED Exterior Pole Mount (22W x 1L) ","LED","E","PM",null,null,null,"LED","Exterior","Pole Mount",22,1,null,null,null,null,null,22]
["LEDEPM-24W","LED Exterior Pole Mount (24W x 1L) ","LED","E","PM",null,null,null,"LED","Exterior","Pole Mount",24,1,null,null,null,null,null,24]
["LEDEPM-50W","LED Exterior Pole Mount (50W x 1L) ","LED","E","PM",null,null,null,"LED","Exterior","Pole Mount",50,1,null,null,null,null,null,50]
["LEDEPM-70W","LED Exterior Pole Mount (70W x 1L) ","LED","E","PM",null,null,null,"LED","Exterior","Pole Mount",70,1,null,null,null,null,null,70]
["LEDEPM-71W","LED Exterior Pole Mount (71W x 1L) ","LED","E","PM",null,null,null,"LED","Exterior","Pole Mount",71,1,null,null,null,null,null,71]
["LEDEPM-72W","LED Exterior Pole Mount (72W x 1L) ","LED","E","PM",null,null,null,"LED","Exterior","Pole Mount",72,1,null,null,null,null,null,72]
["LEDEPM-85W","LED Exterior Pole Mount (85W x 1L) ","LED","E","PM",null,null,null,"LED","Exterior","Pole Mount",85,1,null,null,null,null,null,85]
["LEDEPM-91W","LED Exterior Pole Mount (91W x 1L) ","LED","E","PM",null,null,null,"LED","Exterior","Pole Mount",91,1,null,null,null,null,null,91]
["LEDESMC-193W","LED Exterior Canopy (193W x 1L) ","LED","E","SMC",null,null,null,"LED","Exterior","Canopy",193,1,null,null,null,null,null,193]
["LEDESMC-73W","LED Exterior Canopy (73W x 1L) ","LED","E","SMC",null,null,null,"LED","Exterior","Canopy",73,1,null,null,null,null,null,73]
["LEDEWP-15W","LED Exterior Wall Pack (15W x 1L) ","LED","E","WP",null,null,null,"LED","Exterior","Wall Pack",15,1,null,null,null,null,null,15]
["LEDEWP-22W","LED Exterior Wall Pack (22W x 1L) ","LED","E","WP",null,null,null,"LED","Exterior","Wall Pack",22,1,null,null,null,null,null,22]
["LEDEWP-53W","LED Exterior Wall Pack (53W x 1L) ","LED","E","WP",null,null,null,"LED","Exterior","Wall Pack",53,1,null,null,null,null,null,53]
["LEDIDL-107W","LED Interior Recessed Downlight (107W x 1L) ","LED","I","DL",null,null,null,"LED","Interior","Recessed Downlight",107,1,null,null,null,null,null,107]
["LEDIDL-10W","LED Interior Recessed Downlight (10W x 1L) ","LED","I","DL",null,null,null,"LED","Interior","Recessed Downlight",10,1,null,null,null,null,null,10]
["LEDIDL-11W","LED Interior Recessed Downlight (11W x 1L) ","LED","I","DL",null,null,null,"LED","Interior","Recessed Downlight",11,1,null,null,null,null,null,11]
["LEDIDL-12W","LED Interior Recessed Downlight (12W x 1L) ","LED","I","DL",null,null,null,"LED","Interior","Recessed Downlight",12,1,null,null,null,null,null,12]
["LEDIDL-13W","LED Interior Recessed Downlight (13W x 1L) ","LED","I","DL",null,null,null,"LED","Interior","Recessed Downlight",13,1,null,null,null,null,null,13]
["LEDIDL-14W","LED Interior Recessed Downlight (14W x 1L) ","LED","I","DL",null,null,null,"LED","Interior","Recessed Downlight",14,1,null,null,null,null,null,14]
["LEDIDL-15W","LED Interior Recessed Downlight (15W x 1L) ","LED","I","DL",null,null,null,"LED","Interior","Recessed Downlight",15,1,null,null,null,null,null,15]
["LEDIDL-16W","LED Interior Recessed Downlight (16W x 1L) ","LED","I","DL",null,null,null,"LED","Interior","Recessed Downlight",16,1,null,null,null,null,null,16]
["LEDIDL-17W","LED Interior Recessed Downlight (17W x 1L) ","LED","I","DL",null,null,null,"LED","Interior","Recessed Downlight",17,1,null,null,null,null,null,17]
["LEDIDL-18W","LED Interior Recessed Downlight (18W x 1L) ","LED","I","DL",null,null,null,"LED","Interior","Recessed Downlight",18,1,null,null,null,null,null,18]
["LEDIDL-19W","LED Interior Recessed Downlight (19W x 1L) ","LED","I","DL",null,null,null,"LED","Interior","Recessed Downlight",19,1,null,null,null,null,null,19]
["LEDIDL-20W","LED Interior Recessed Downlight (20W x 1L) ","LED","I","DL",null,null,null,"LED","Interior","Recessed Downlight",20,1,null,null,null,null,null,20]
["LEDIDL-21W","LED Interior Recessed Downlight (21W x 1L) ","LED","I","DL",null,null,null,"LED","Interior","Recessed Downlight",21,1,null,null,null,null,null,21]
["LEDIDL-22W","LED Interior Recessed Downlight (22W x 1L) ","LED","I","DL",null,null,null,"LED","Interior","Recessed Downlight",22,1,null,null,null,null,null,22]
["LEDIDL-23W","LED Interior Recessed Downlight (23W x 1L) ","LED","I","DL",null,null,null,"LED","Interior","Recessed Downlight",23,1,null,null,null,null,null,23]
["LEDIDL-24W","LED Interior Recessed Downlight (24W x 1L) ","LED","I","DL",null,null,null,"LED","Interior","Recessed Downlight",24,1,null,null,null,null,null,24]
["LEDIDL-25W","LED Interior Recessed Downlight (25W x 1L) ","LED","I","DL",null,null,null,"LED","Interior","Recessed Downlight",25,1,null,null,null,null,null,25]
["LEDIDL-26W","LED Interior Recessed Downlight (26W x 1L) ","LED","I","DL",null,null,null,"LED","Interior","Recessed Downlight",26,1,null,null,null,null,null,26]
["LEDIDL-28W","LED Interior Recessed Downlight (28W x 1L) ","LED","I","DL",null,null,null,"LED","Interior","Recessed Downlight",28,1,null,null,null,null,null,28]
["LEDIDL-29W","LED Interior Recessed Downlight (29W x 1L) ","LED","I","DL",null,null,null,"LED","Interior","Recessed Downlight",29,1,null,null,null,null,null,29]
[{"$f":"C1475&D1475&E1475&IF(L1475=\"\",\"\",\"-\"&L1475&\"W\")&IF(OR(M1475=1,M1475=\"\"),\"\",\" x \"&M1475&\"L\")&IF(P1475=\"\",\"\",\" x \"&P1475&\"'\")&IF(F1475=\"\",\"\",\"-\"&IF(Q1475=1,\"\",Q1475&\" \")&F1475&IF(O1475=\"\",\"\",\" \"&O1475)&IF(H1475=\"\",\"\",\" \"&H1475))","v":"LEDIDL-30W"},{"$f":"I1475& IF(J1475=\"\",\"\",\" \"&J1475)&IF(K1475=\"\",\"\",\" \"&K1475)&\" (\"&L1475&\"W\"&IF(M1475=\"\",\"\",\" x \"&M1475 & \"L\")&IF(P1475=\"\",\"\",\" x \"&P1475&\"'\")&\")\"&IF(N1475=\"\",\"\",\" \"&Q1475&\" \"&N1475&\" \"&G1475)&\" \"&R1475","v":"LED Interior Recessed Downlight (30W x 1L) "},"LED","I","DL",null,null,null,"LED","Interior","Recessed Downlight",30,1,null,null,null,null,null,30]
["LEDIDL-33W","LED Interior Recessed Downlight (33W x 1L) ","LED","I","DL",null,null,null,"LED","Interior","Recessed Downlight",33,1,null,null,null,null,null,33]
["LEDIDL-35W","LED Interior Recessed Downlight (35W x 1L) ","LED","I","DL",null,null,null,"LED","Interior","Recessed Downlight",35,1,null,null,null,null,null,35]
["LEDIDL-36W","LED Interior Recessed Downlight (36W x 1L) ","LED","I","DL",null,null,null,"LED","Interior","Recessed Downlight",36,1,null,null,null,null,null,36]
["LEDIDL-40W","LED Interior Recessed Downlight (40W x 1L) ","LED","I","DL",null,null,null,"LED","Interior","Recessed Downlight",40,1,null,null,null,null,null,40]
["LEDIDL-43W","LED Interior Recessed Downlight (43W x 1L) ","LED","I","DL",null,null,null,"LED","Interior","Recessed Downlight",43,1,null,null,null,null,null,43]
["LEDIDL-53W","LED Interior Recessed Downlight (53W x 1L) ","LED","I","DL",null,null,null,"LED","Interior","Recessed Downlight",53,1,null,null,null,null,null,53]
["LEDIDL-54W","LED Interior Recessed Downlight (54W x 1L) ","LED","I","DL",null,null,null,"LED","Interior","Recessed Downlight",54,1,null,null,null,null,null,54]
["LEDIDL-6W","LED Interior Recessed Downlight (6W x 1L) ","LED","I","DL",null,null,null,"LED","Interior","Recessed Downlight",6,1,null,null,null,null,null,6]
["LEDIDL-8W","LED Interior Recessed Downlight (8W x 1L) ","LED","I","DL",null,null,null,"LED","Interior","Recessed Downlight",8,1,null,null,null,null,null,8]
["LEDIDL-9W","LED Interior Recessed Downlight (9W x 1L) ","LED","I","DL",null,null,null,"LED","Interior","Recessed Downlight",9,1,null,null,null,null,null,9]
["LEDIE-2W","LED Interior Exit (2W x 1L) ","LED","I","E",null,null,null,"LED","Interior","Exit",2,1,null,null,null,null,null,2]
["LEDIE-3W","LED Interior Exit (3W x 1L) ","LED","I","E",null,null,null,"LED","Interior","Exit",3,1,null,null,null,null,null,3]
["LEDIHB-160W","LED Interior Highbay/Lowbay (160W x 1L) ","LED","I","HB",null,null,null,"LED","Interior","Highbay/Lowbay",160,1,null,null,null,null,null,160]
["LEDIPG-177W","LED Interior Parking Garage (177W x 1L) ","LED","I","PG",null,null,null,"LED","Interior","Parking Garage",177,1,null,null,null,null,null,177]
["LEDIPG-26W","LED Interior Parking Garage (26W x 1L) ","LED","I","PG",null,null,null,"LED","Interior","Parking Garage",26,1,null,null,null,null,null,26]
["LEDIPG-53W","LED Interior Parking Garage (53W x 1L) ","LED","I","PG",null,null,null,"LED","Interior","Parking Garage",53,1,null,null,null,null,null,53]
["LEDISI-13W","LED Interior Integral Screw-In (13W x 1L) ","LED","I","SI",null,null,null,"LED","Interior","Integral Screw-In",13,1,null,null,null,null,null,13]
["LEDISI-15W","LED Interior Integral Screw-In (15W x 1L) ","LED","I","SI",null,null,null,"LED","Interior","Integral Screw-In",15,1,null,null,null,null,null,15]
["LEDISI-18W","LED Interior Integral Screw-In (18W x 1L) ","LED","I","SI",null,null,null,"LED","Interior","Integral Screw-In",18,1,null,null,null,null,null,18]
["LEDISI-19W","LED Interior Integral Screw-In (19W x 1L) ","LED","I","SI",null,null,null,"LED","Interior","Integral Screw-In",19,1,null,null,null,null,null,19]
["LEDISI-3W","LED Interior Integral Screw-In (3W x 1L) ","LED","I","SI",null,null,null,"LED","Interior","Integral Screw-In",3,1,null,null,null,null,null,3]
["LEDISI-4W","LED Interior Integral Screw-In (4W x 1L) ","LED","I","SI",null,null,null,"LED","Interior","Integral Screw-In",4,1,null,null,null,null,null,4]
["LEDISI-6W","LED Interior Integral Screw-In (6W x 1L) ","LED","I","SI",null,null,null,"LED","Interior","Integral Screw-In",6,1,null,null,null,null,null,6]
["LEDISI-8W","LED Interior Integral Screw-In (8W x 1L) ","LED","I","SI",null,null,null,"LED","Interior","Integral Screw-In",8,1,null,null,null,null,null,8]
["LEDIWP-15W","LED Interior Wall Pack (15W x 1L) ","LED","I","WP",null,null,null,"LED","Interior","Wall Pack",15,1,null,null,null,null,null,15]
["LEDIWP-22W","LED Interior Wall Pack (22W x 1L) ","LED","I","WP",null,null,null,"LED","Interior","Wall Pack",22,1,null,null,null,null,null,22]
["LEDIWP-53W","LED Interior Wall Pack (53W x 1L) ","LED","I","WP",null,null,null,"LED","Interior","Wall Pack",53,1,null,null,null,null,null,53]
["LEDEPM-204W","LED Exterior Pole Mount (204W x 1L) ","LED","E","PM",null,null,null,"LED","Exterior","Pole Mount",204,1,null,null,null,null,null,204]
["LEDESMC-156W","LED Exterior Canopy (156W x 1L) ","LED","E","SMC",null,null,null,"LED","Exterior","Canopy",156,1,null,null,null,null,null,156]
["LEDEPM-232W","LED Exterior Pole Mount (232W x 1L) ","LED","E","PM",null,null,null,"LED","Exterior","Pole Mount",232,1,null,null,null,null,null,232]
["LEDEPM-74W","LED Exterior Pole Mount (74W x 1L) ","LED","E","PM",null,null,null,"LED","Exterior","Pole Mount",74,1,null,null,null,null,null,74]
["LEDEPM-65W","LED Exterior Pole Mount (65W x 1L) ","LED","E","PM",null,null,null,"LED","Exterior","Pole Mount",65,1,null,null,null,null,null,65]
["LEDEPM-59W","LED Exterior Pole Mount (59W x 1L) ","LED","E","PM",null,null,null,"LED","Exterior","Pole Mount",59,1,null,null,null,null,null,59]
["LEDEPG-54W","LED Exterior Parking Garage (54W x 1L) ","LED","E","PG",null,null,null,"LED","Exterior","Parking Garage",54,1,null,null,null,null,null,54]
["LEDIPG-54W","LED Interior Parking Garage (54W x 1L) ","LED","I","PG",null,null,null,"LED","Interior","Parking Garage",54,1,null,null,null,null,null,54]
["LEDEPM-38W","LED Exterior Pole Mount (38W x 1L) ","LED","E","PM",null,null,null,"LED","Exterior","Pole Mount",38,1,null,null,null,null,null,38]
["LEDEWP-71W","LED Exterior Wall Pack (71W x 1L) ","LED","E","WP",null,null,null,"LED","Exterior","Wall Pack",71,1,null,null,null,null,null,71]
["LEDIWP-71W","LED Interior Wall Pack (71W x 1L) ","LED","I","WP",null,null,null,"LED","Interior","Wall Pack",71,1,null,null,null,null,null,71]
["LEDEPG-102W","LED Exterior Parking Garage (102W x 1L) ","LED","E","PG",null,null,null,"LED","Exterior","Parking Garage",102,1,null,null,null,null,null,102]
["LEDIPG-102W","LED Interior Parking Garage (102W x 1L) ","LED","I","PG",null,null,null,"LED","Interior","Parking Garage",102,1,null,null,null,null,null,102]
["LEDEPM-124W","LED Exterior Pole Mount (124W x 1L) ","LED","E","PM",null,null,null,"LED","Exterior","Pole Mount",124,1,null,null,null,null,null,124]
["LEDEPM-217W","LED Exterior Pole Mount (217W x 1L) ","LED","E","PM",null,null,null,"LED","Exterior","Pole Mount",217,1,null,null,null,null,null,217]
["LEDEPM-88W","LED Exterior Pole Mount (88W x 1L) ","LED","E","PM",null,null,null,"LED","Exterior","Pole Mount",88,1,null,null,null,null,null,88]
["LEDEWP-88W","LED Exterior Wall Pack (88W x 1L) ","LED","E","WP",null,null,null,"LED","Exterior","Wall Pack",88,1,null,null,null,null,null,88]
["LEDIWP-88W","LED Interior Wall Pack (88W x 1L) ","LED","I","WP",null,null,null,"LED","Interior","Wall Pack",88,1,null,null,null,null,null,88]
["LEDEPM-54W","LED Exterior Pole Mount (54W x 1L) ","LED","E","PM",null,null,null,"LED","Exterior","Pole Mount",54,1,null,null,null,null,null,54]
["LEDIHB-150W","LED Interior Highbay/Lowbay (150W x 1L) ","LED","I","HB",null,null,null,"LED","Interior","Highbay/Lowbay",150,1,null,null,null,null,null,150]
["LEDEPM-60W","LED Exterior Pole Mount (60W x 1L) ","LED","E","PM",null,null,null,"LED","Exterior","Pole Mount",60,1,null,null,null,null,null,60]
["LEDEPM-106W","LED Exterior Pole Mount (106W x 1L) ","LED","E","PM",null,null,null,"LED","Exterior","Pole Mount",106,1,null,null,null,null,null,106]
["ICMB-8W x 2L","Incandescent Non-Halogen Medium Base (8W x 2L) ","IC",null,"MB",null,null,null,"Incandescent","Non-Halogen","Medium Base",8,2,null,null,null,null,null,16,{"$f":"S1525=L1525*M1525","v":true}]
["LEDEPG-80W","LED Exterior Parking Garage (80W x 1L) ","LED","E","PG",null,null,null,"LED","Exterior","Parking Garage",80,1,null,null,null,null,null,80]
["LEDIPG-80W","LED Interior Parking Garage (80W x 1L) ","LED","I","PG",null,null,null,"LED","Interior","Parking Garage",80,1,null,null,null,null,null,80]
["LEDEPM-87W","LED Exterior Pole Mount (87W x 1L) ","LED","E","PM",null,null,null,"LED","Exterior","Pole Mount",87,1,null,null,null,null,null,87]
["LEDEPM-131W","LED Exterior Pole Mount (131W x 1L) ","LED","E","PM",null,null,null,"LED","Exterior","Pole Mount",131,1,null,null,null,null,null,131]
["LEDEWP-20W","LED Exterior Wall Pack (20W x 1L) ","LED","E","WP",null,null,null,"LED","Exterior","Wall Pack",20,1,null,null,null,null,null,20]
["LEDIWP-20W","LED Interior Wall Pack (20W x 1L) ","LED","I","WP",null,null,null,"LED","Interior","Wall Pack",20,1,null,null,null,null,null,20]
["LEDEPG-103W","LED Exterior Parking Garage (103W x 1L) ","LED","E","PG",null,null,null,"LED","Exterior","Parking Garage",103,1,null,null,null,null,null,103]
["LEDIPG-103W","LED Interior Parking Garage (103W x 1L) ","LED","I","PG",null,null,null,"LED","Interior","Parking Garage",103,1,null,null,null,null,null,103]
["LEDEPG-72W","LED Exterior Parking Garage (72W x 1L) ","LED","E","PG",null,null,null,"LED","Exterior","Parking Garage",72,1,null,null,null,null,null,72]
["LEDIPG-72W","LED Interior Parking Garage (72W x 1L) ","LED","I","PG",null,null,null,"LED","Interior","Parking Garage",72,1,null,null,null,null,null,72]
["LEDEPM-151W","LED Exterior Pole Mount (151W x 1L) ","LED","E","PM",null,null,null,"LED","Exterior","Pole Mount",151,1,null,null,null,null,null,151]
["LEDEPM-143W","LED Exterior Pole Mount (143W x 1L) ","LED","E","PM",null,null,null,"LED","Exterior","Pole Mount",143,1,null,null,null,null,null,143]
["ICH-100W","Incandescent Halogen Standard (100W x 1L) ","IC","H",null,null,null,null,"Incandescent","Halogen","Standard",100,1,null,null,null,null,null,100,{"$f":"S1538=L1538*M1538","v":true}]
[{"$f":"C1539&D1539&E1539&IF(L1539=\"\",\"\",\"-\"&L1539&\"W\")&IF(OR(M1539=1,M1539=\"\"),\"\",\" x \"&M1539&\"L\")&IF(P1539=\"\",\"\",\" x \"&P1539&\"'\")&IF(F1539=\"\",\"\",\"-\"&IF(Q1539=1,\"\",Q1539&\" \")&F1539&IF(O1539=\"\",\"\",\" \"&O1539)&IF(H1539=\"\",\"\",\" \"&H1539))","v":"ICH-150W"},{"$f":"I1539& IF(J1539=\"\",\"\",\" \"&J1539)&IF(K1539=\"\",\"\",\" \"&K1539)&\" (\"&L1539&\"W\"&IF(M1539=\"\",\"\",\" x \"&M1539 & \"L\")&IF(P1539=\"\",\"\",\" x \"&P1539&\"'\")&\")\"&IF(N1539=\"\",\"\",\" \"&Q1539&\" \"&N1539&\" \"&G1539)&\" \"&R1539","v":"Incandescent Halogen Standard (150W x 1L) "},"IC","H",null,null,null,null,"Incandescent","Halogen","Standard",150,1,null,null,null,null,null,150,true]
["ICH-150W x 2L","Incandescent Halogen Mogul (150W x 2L) ","IC","H",null,null,null,null,"Incandescent","Halogen","Mogul",150,2,null,null,null,null,null,300,true]
["ICH-250W","Incandescent Halogen Mogul (250W x 1L) ","IC","H",null,null,null,null,"Incandescent","Halogen","Mogul",250,1,null,null,null,null,null,250,true]
["ICH-300W","Incandescent Halogen Mogul (300W x 1L) ","IC","H",null,null,null,null,"Incandescent","Halogen","Mogul",300,1,null,null,null,null,null,300,true]
["ICH-35W","Incandescent Halogen Standard (35W x 1L) ","IC","H",null,null,null,null,"Incandescent","Halogen","Standard",35,1,null,null,null,null,null,35,true]
["ICH-42W","Incandescent Halogen Standard (42W x 1L) ","IC","H",null,null,null,null,"Incandescent","Halogen","Standard",42,1,null,null,null,null,null,42,true]
["ICH-45W","Incandescent Halogen Standard (45W x 1L) ","IC","H",null,null,null,null,"Incandescent","Halogen","Standard",45,1,null,null,null,null,null,45,true]
["ICH-45W x 2L","Incandescent Halogen Standard (45W x 2L) ","IC","H",null,null,null,null,"Incandescent","Halogen","Standard",45,2,null,null,null,null,null,90,true]
["ICH-500W","Incandescent Halogen Mogul (500W x 1L) ","IC","H",null,null,null,null,"Incandescent","Halogen","Mogul",500,1,null,null,null,null,null,500,true]
["ICH-50W","Incandescent Halogen Standard (50W x 1L) ","IC","H",null,null,null,null,"Incandescent","Halogen","Standard",50,1,null,null,null,null,null,50,true]
["ICH-50W x 2L","Incandescent Halogen Standard (50W x 2L) ","IC","H",null,null,null,null,"Incandescent","Halogen","Standard",50,2,null,null,null,null,null,100,true]
["ICH-52W","Incandescent Halogen Standard (52W x 1L) ","IC","H",null,null,null,null,"Incandescent","Halogen","Standard",52,1,null,null,null,null,null,52,true]
["ICH-55W","Incandescent Halogen Standard (55W x 1L) ","IC","H",null,null,null,null,"Incandescent","Halogen","Standard",55,1,null,null,null,null,null,55,true]
["ICH-55W x 2L","Incandescent Halogen Standard (55W x 2L) ","IC","H",null,null,null,null,"Incandescent","Halogen","Standard",55,2,null,null,null,null,null,110,true]
["ICH-60W","Incandescent Halogen Standard (60W x 1L) ","IC","H",null,null,null,null,"Incandescent","Halogen","Standard",60,1,null,null,null,null,null,60,true]
["ICH-72W","Incandescent Halogen Standard (72W x 1L) ","IC","H",null,null,null,null,"Incandescent","Halogen","Standard",72,1,null,null,null,null,null,72,true]
["ICH-75W","Incandescent Halogen Standard (75W x 1L) ","IC","H",null,null,null,null,"Incandescent","Halogen","Standard",75,1,null,null,null,null,null,75,true]
["ICH-75W x 2L","Incandescent Halogen Standard (75W x 2L) ","IC","H",null,null,null,null,"Incandescent","Halogen","Standard",75,2,null,null,null,null,null,150,true]
["ICH-90W","Incandescent Halogen Standard (90W x 1L) ","IC","H",null,null,null,null,"Incandescent","Halogen","Standard",90,1,null,null,null,null,null,90,true]
["ICH-90W x 2L","Incandescent Halogen Standard (90W x 2L) ","IC","H",null,null,null,null,"Incandescent","Halogen","Standard",90,2,null,null,null,null,null,180,true]
["ICMB-69W","Incandescent Non-Halogen Medium Base (69W x 1L) ","IC",null,"MB",null,null,null,"Incandescent","Non-Halogen","Medium Base",69,1,null,null,null,null,null,69,true]
["INE-10W x 2L","Incandescent Non-Halogen Exit (10W x 2L) ","IN",null,"E",null,null,null,"Incandescent","Non-Halogen","Exit",10,2,null,null,null,null,null,20,true]
["INE-15W","Incandescent Non-Halogen Exit (15W x 1L) ","IN",null,"E",null,null,null,"Incandescent","Non-Halogen","Exit",15,1,null,null,null,null,null,15,true]
["INE-15W x 2L","Incandescent Non-Halogen Exit (15W x 2L) ","IN",null,"E",null,null,null,"Incandescent","Non-Halogen","Exit",15,2,null,null,null,null,null,30,true]
["INE-20W","Incandescent Non-Halogen Exit (20W x 1L) ","IN",null,"E",null,null,null,"Incandescent","Non-Halogen","Exit",20,1,null,null,null,null,null,20,true]
["INE-20W x 2L","Incandescent Non-Halogen Exit (20W x 2L) ","IN",null,"E",null,null,null,"Incandescent","Non-Halogen","Exit",20,2,null,null,null,null,null,40,true]
["INE-25W","Incandescent Non-Halogen Exit (25W x 1L) ","IN",null,"E",null,null,null,"Incandescent","Non-Halogen","Exit",25,1,null,null,null,null,null,25,true]
["INE-25W x 2L","Incandescent Non-Halogen Exit (25W x 2L) ","IN",null,"E",null,null,null,"Incandescent","Non-Halogen","Exit",25,2,null,null,null,null,null,50,true]
["INE-34W","Incandescent Non-Halogen Exit (34W x 1L) ","IN",null,"E",null,null,null,"Incandescent","Non-Halogen","Exit",34,1,null,null,null,null,null,34,true]
["INE-34W x 2L","Incandescent Non-Halogen Exit (34W x 2L) ","IN",null,"E",null,null,null,"Incandescent","Non-Halogen","Exit",34,2,null,null,null,null,null,68,true]
["INE-40W","Incandescent Non-Halogen Exit (40W x 1L) ","IN",null,"E",null,null,null,"Incandescent","Non-Halogen","Exit",40,1,null,null,null,null,null,40,true]
["INE-40W x 2L","Incandescent Non-Halogen Exit (40W x 2L) ","IN",null,"E",null,null,null,"Incandescent","Non-Halogen","Exit",40,2,null,null,null,null,null,80,true]
["INE-50W x 2L","Incandescent Non-Halogen Exit (50W x 2L) ","IN",null,"E",null,null,null,"Incandescent","Non-Halogen","Exit",50,2,null,null,null,null,null,100,true]
["INE-5W","Incandescent Non-Halogen Exit (5W x 1L) ","IN",null,"E",null,null,null,"Incandescent","Non-Halogen","Exit",5,1,null,null,null,null,null,5,true]
["INE-5W x 2L","Incandescent Non-Halogen Exit (5W x 2L) ","IN",null,"E",null,null,null,"Incandescent","Non-Halogen","Exit",5,2,null,null,null,null,null,10,true]
["INE-6W","Incandescent Non-Halogen Exit (6W x 1L) ","IN",null,"E",null,null,null,"Incandescent","Non-Halogen","Exit",6,1,null,null,null,null,null,6,true]
["INE-6W x 2L","Incandescent Non-Halogen Exit (6W x 2L) ","IN",null,"E",null,null,null,"Incandescent","Non-Halogen","Exit",6,2,null,null,null,null,null,12,true]
["INE-8W","Incandescent Non-Halogen Exit (8W x 1L) ","IN",null,"E",null,null,null,"Incandescent","Non-Halogen","Exit",8,1,null,null,null,null,null,8,true]
["INE-8W x 2L","Incandescent Non-Halogen Exit (8W x 2L) ","IN",null,"E",null,null,null,"Incandescent","Non-Halogen","Exit",8,2,null,null,null,null,null,16,true]
["LEDEPM-175W","LED Exterior Pole Mount (175W x 1L) ","LED","E","PM",null,null,null,"LED","Exterior","Pole Mount",175,1,null,null,null,null,null,175]
["LEDIGU24-13W","LED Interior Integral GU24 (13W x 1L) ","LED","I","GU24",null,null,null,"LED","Interior","Integral GU24",13,1,null,null,null,null,null,13]
["LEDIGU24-15W","LED Interior Integral GU24 (15W x 1L) ","LED","I","GU24",null,null,null,"LED","Interior","Integral GU24",15,1,null,null,null,null,null,15]
["LEDIGU24-18W","LED Interior Integral GU24 (18W x 1L) ","LED","I","GU24",null,null,null,"LED","Interior","Integral GU24",18,1,null,null,null,null,null,18]
["LEDEPL-10W","LED Exterior Pool Light (10W x 1L) ","LED","E","PL",null,null,null,"LED","Exterior","Pool Light",10,1,null,null,null,null,null,10]
["LEDEPL-13W","LED Exterior Pool Light (13W x 1L) ","LED","E","PL",null,null,null,"LED","Exterior","Pool Light",13,1,null,null,null,null,null,13]
["LEDEPL-18W","LED Exterior Pool Light (18W x 1L) ","LED","E","PL",null,null,null,"LED","Exterior","Pool Light",18,1,null,null,null,null,null,18]
["LEDEPL-23W","LED Exterior Pool Light (23W x 1L) ","LED","E","PL",null,null,null,"LED","Exterior","Pool Light",23,1,null,null,null,null,null,23]
["LEDEPL-37W","LED Exterior Pool Light (37W x 1L) ","LED","E","PL",null,null,null,"LED","Exterior","Pool Light",37,1,null,null,null,null,null,37]
["LEDIGU24-19W","LED Interior Integral GU24 (19W x 1L) ","LED","I","GU24",null,null,null,"LED","Interior","Integral GU24",19,1,null,null,null,null,null,19]
["LEDIGU24-3W","LED Interior Integral GU24 (3W x 1L) ","LED","I","GU24",null,null,null,"LED","Interior","Integral GU24",3,1,null,null,null,null,null,3]
["LEDIGU24-4W","LED Interior Integral GU24 (4W x 1L) ","LED","I","GU24",null,null,null,"LED","Interior","Integral GU24",4,1,null,null,null,null,null,4]
["LEDIGU24-6W","LED Interior Integral GU24 (6W x 1L) ","LED","I","GU24",null,null,null,"LED","Interior","Integral GU24",6,1,null,null,null,null,null,6]
["LEDIGU24-8W","LED Interior Integral GU24 (8W x 1L) ","LED","I","GU24",null,null,null,"LED","Interior","Integral GU24",8,1,null,null,null,null,null,8]
["HPS-35W","HID High Pressure Sodium Standard (35W x 1L) ",null,"HPS",null,null,null,null,"HID","High Pressure Sodium","Standard",35,1,null,null,null,null,null,46]
["HPS-50W","HID High Pressure Sodium Standard (50W x 1L) ",null,"HPS",null,null,null,null,"HID","High Pressure Sodium","Standard",50,1,null,null,null,null,null,66]
["HPS-70W","HID High Pressure Sodium Standard (70W x 1L) ",null,"HPS",null,null,null,null,"HID","High Pressure Sodium","Standard",70,1,null,null,null,null,null,95]
["HPS-100W","HID High Pressure Sodium Standard (100W x 1L) ",null,"HPS",null,null,null,null,"HID","High Pressure Sodium","Standard",100,1,null,null,null,null,null,130]
["HPS-150W","HID High Pressure Sodium Standard (150W x 1L) ",null,"HPS",null,null,null,null,"HID","High Pressure Sodium","Standard",150,1,null,null,null,null,null,188]
["HPS-250W","HID High Pressure Sodium Standard (250W x 1L) ",null,"HPS",null,null,null,null,"HID","High Pressure Sodium","Standard",250,1,null,null,null,null,null,295]
["HPS-200W","HID High Pressure Sodium Standard (200W x 1L) ",null,"HPS",null,null,null,null,"HID","High Pressure Sodium","Standard",200,1,null,null,null,null,null,250]
["HPS-360W","HID High Pressure Sodium Standard (360W x 1L) ",null,"HPS",null,null,null,null,"HID","High Pressure Sodium","Standard",360,1,null,null,null,null,null,414]
["HPS-310W","HID High Pressure Sodium Standard (310W x 1L) ",null,"HPS",null,null,null,null,"HID","High Pressure Sodium","Standard",310,1,null,null,null,null,null,365]
["HPS-350W","HID High Pressure Sodium Standard (350W x 1L) ",null,"HPS",null,null,null,null,"HID","High Pressure Sodium","Standard",350,1,null,null,null,null,null,405]
["HPS-400W","HID High Pressure Sodium Standard (400W x 1L) ",null,"HPS",null,null,null,null,"HID","High Pressure Sodium","Standard",400,1,null,null,null,null,null,465]
["HPS-750W","HID High Pressure Sodium Standard (750W x 1L) ",null,"HPS",null,null,null,null,"HID","High Pressure Sodium","Standard",750,1,null,null,null,null,null,840]
["HPS-1000W","HID High Pressure Sodium Standard (1000W x 1L) ",null,"HPS",null,null,null,null,"HID","High Pressure Sodium","Standard",1000,1,null,null,null,null,null,1100]

{"sheet":"Tool Information","index":11,"n_rows":56,"n_cols":9,"rows_kept":56,"cut":false,"hidden":true,"merged":[[2,1,2,2],[0,4,0,5],[1,4,1,5],[1,6,1,8]]}
[]
[null,null,null,null,"Misc.",null,"RATES"]
[null,"LIGHTING TOOL",null,null,"AllStates","WeeksPerYr","Rate","$/kWh","$/kW"]
[null,"Designed by:","Glen Nicol",null,"AK",52,{"$f":"'Customer Information'!G15","v":0},{"$f":"IF($G$4=0,0,VLOOKUP($G$4,Rates,2,0))","v":0},{"$f":"IF(G4=0,0,VLOOKUP($G$4,Rates,3,0))","v":0}]
[null,"Current Version","10.02.2024",null,"AL",51,"GA",9.9199999999999997E-2,0]
[null,"Updated by:","Maura McGowan",null,"AR",50,"GB",4.0800000000000003E-2,22.94]
[null,null,"Mancel Fincher",null,"AZ",49,"GV",4.0800000000000003E-2,24.6]
[null,null,"Josh Beeber",null,"CA",48,"GT",3.85E-2,14.519399999999999]
[null,null,null,null,"CO",47,"GL",3.9800000000000002E-2,23.29]
[null,null,null,"IMPORT","CT",46,"TP",0.1273,0]
[null,null,null,null,"DE",45,"TA",6.8900000000000003E-2,9.75]
[null,null,null,null,"FL",44]
[null,null,null,null,"GA",43]
[null,null,null,null,"HI",42]
[null,null,null,null,"IA",41]
[null,null,null,null,"ID",40]
[null,null,null,null,"IL",39]
[null,null,null,null,"IN",38]
[null,null,null,null,"KS",37]
[null,null,null,null,"KY",36]
[null,null,null,null,"LA",35]
[null,null,null,null,"MA",34]
[null,null,null,null,"MD",33]
[null,null,null,null,"ME",32]
[null,null,null,null,"MI",31]
[null,null,null,null,"MN",30]
[null,null,null,null,"MO",29]
[null,null,null,null,"MS",28]
[null,null,null,null,"MT",27]
[null,null,null,null,"NC",26]
[null,null,null,null,"ND",25]
[null,null,null,null,"NE",24]
[null,null,null,null,"NH",23]
[null,null,null,null,"NJ",22]
[null,null,null,null,"NM",21]
[null,null,null,null,"NV",20]
[null,null,null,null,"NY",19]
[null,null,null,null,"OH",18]
[null,null,null,null,"OK",17]
[null,null,null,null,"OR",16]
[null,null,null,null,"PA",15]
[null,null,null,null,"RI",14]
[null,null,null,null,"SC",13]
[null,null,null,null,"SD",12]
[null,null,null,null,"TN",11]
[null,null,null,null,"TX",10]
[null,null,null,null,"UT",9]
[null,null,null,null,"VA",8]
[null,null,null,null,"VT",7]
[null,null,null,null,"WA",6]
[null,null,null,null,"WI",5]
[null,null,null,null,"WV",4]
[null,null,null,null,"WY",3]
[null,null,null,null,null,2]
[null,null,null,null,null,1]
[null,null,null,null,null,0]

{"sheet":"Log","index":12,"n_rows":11,"n_cols":4,"rows_kept":11,"cut":false,"hidden":true,"merged":[]}
["Date Changed","Admin","Version","Changes"]
["2015-02-19","GN","2015-02-19","-Reprotected macros.\n-Added Log tab to track changes.\nFrom email from Josh Beeber:\n-Pool Lighting LED will need to have their rebate changed from $0.30/Watt saved to $0.40/Watt saved. If you could do it the same way the Screw In CFL is done, that should be fine.\n-We are removing the T8 proposed wattage requirement. For 2015, we had originally said that T8’s would have to be 28W of less, but we are now allowing any kind of T8 bulbs in the proposed column."]
["2015-02-24","GN","2/24/215","-Updated Incentive macro to look at fixture code instead of fixture text to determine $/kWh saved"]
["2015-02-27","GN","2015-02-27","-Removed \"Ghost\" images on PI tab that would cause an error when opening a NC project"]
["2022-11-15","MF",{"$f":"A5","v":"2022-11-15"},"Included a work-around to exclude savings for General Service Lamps; update to VBA Code to add GSL type to ineligible fixtures; add GSL to Fixture Legend tab."]
["2023-01-16","MF",{"$f":"A6","v":"2023-01-16"},"Included Project Number and Coordinator to required inputs in Customer Information tab."]
["2023-01-27","MF","2023-01-27","Removed Project Number and Coordinator from required inputs in Customer Information tab and added new Conditional Formatting."]
["2023-03-30","MM","2023-03-30","Updated Calculations so that negative kW savings are not excluded from the overall kW savings calculation."]
["2023-12-01","JAB","2023-12-01","Updated dates"]
["2024-08-15","MF","2024-08-15","Used data validation to include notes on the Project Information tab since current cell notes were hidden. Verified the lighting power densities were based on ASHRAE 90.1-2007; however, LPDR is not used in this program, so no updates were made."]
["2024-10-02","MF","2024-10-02","Updated the Logo in the Customer Information, Project Information, and Project Summary tabs. Updated the version date. Unable to update Terms & Conditions and 3RD Party Release tabs since originates in a separate source."]